Workbook
Name AKK_Stage: '[1]AKK rate'!$T$2:$T$5
Name Oxidation: '[1]AKK rate'!$S$2:$S$5

Sheet Sheet2
A1: CHARTRE
A2: Stage | B2: NIVEAU | C2: ETAT | D2: Quarrtz | F2: Basalte | H2: Valeur
D3: $ Rate | E3: Volume | F3: $ Rate | G3: Volume | H3: Quartz | I3: Basalte
A4: CHA Stage32 | B4: 200 | C4: Terre arable | D4: {=SUMPRODUCT((DATA!$A$2:$A$34=$A4)*(DATA!$B$2:$B$34=$B4)*(DATA!$C$2:$C$34=$D$2)*(DATA!$D$2:$D$34=$C4)*(DATA!$F$2:$F$34))} -> 0 | F4: {=SUMPRODUCT((DATA!$A$2:$A$34=$A4)*(DATA!$B$2:$B$34=$B4)*(DATA!$C$2:$C$34=$F$2)*(DATA!$D$2:$D$34=$C4)*(DATA!$F$2:$F$34))} -> 3 | H4: =IF(B4<>"",D4*E4,"") -> 0 | I4: =IF(B4<>"",F4*G4,"") -> 0
A5: CHA Stage32 | B5: 196 | C5: Terre arable | D5: {=SUMPRODUCT((DATA!$A$2:$A$34=$A5)*(DATA!$B$2:$B$34=$B5)*(DATA!$C$2:$C$34=$D$2)*(DATA!$D$2:$D$34=$C5)*(DATA!$F$2:$F$34))} -> 0 | F5: {=SUMPRODUCT((DATA!$A$2:$A$34=$A5)*(DATA!$B$2:$B$34=$B5)*(DATA!$C$2:$C$34=$F$2)*(DATA!$D$2:$D$34=$C5)*(DATA!$F$2:$F$34))} -> 3.04 | H5: =IF(B5<>"",D5*E5,"") -> 0 | I5: =IF(B5<>"",F5*G5,"") -> 0
A6: CHA Stage223 | B6: 205 | C6: PWS | D6: {=SUMPRODUCT((DATA!$A$2:$A$34=$A6)*(DATA!$B$2:$B$34=$B6)*(DATA!$C$2:$C$34=$D$2)*(DATA!$D$2:$D$34=$C6)*(DATA!$F$2:$F$34))} -> 0 | F6: {=SUMPRODUCT((DATA!$A$2:$A$34=$A6)*(DATA!$B$2:$B$34=$B6)*(DATA!$C$2:$C$34=$F$2)*(DATA!$D$2:$D$34=$C6)*(DATA!$F$2:$F$34))} -> 3.12 | H6: =IF(B6<>"",D6*E6,"") -> 0 | I6: =IF(B6<>"",F6*G6,"") -> 0
A7: CHA Stage6 | B7: 212 | C7: Terre arable | D7: {=SUMPRODUCT((DATA!$A$2:$A$34=$A7)*(DATA!$B$2:$B$34=$B7)*(DATA!$C$2:$C$34=$D$2)*(DATA!$D$2:$D$34=$C7)*(DATA!$F$2:$F$34))} -> 3.46 | E7: 1 | F7: {=SUMPRODUCT((DATA!$A$2:$A$34=$A7)*(DATA!$B$2:$B$34=$B7)*(DATA!$C$2:$C$34=$F$2)*(DATA!$D$2:$D$34=$C7)*(DATA!$F$2:$F$34))} -> 3.1 | G7: 1 | H7: =IF(B7<>"",D7*E7,"") -> 3.46 | I7: =IF(B7<>"",F7*G7,"") -> 3.1
A8: CHA Stage342 | B8: 68 | C8: Roche | D8: {=SUMPRODUCT((DATA!$A$2:$A$34=$A8)*(DATA!$B$2:$B$34=$B8)*(DATA!$C$2:$C$34=$D$2)*(DATA!$D$2:$D$34=$C8)*(DATA!$F$2:$F$34))} -> 6.01 | F8: {=SUMPRODUCT((DATA!$A$2:$A$34=$A8)*(DATA!$B$2:$B$34=$B8)*(DATA!$C$2:$C$34=$F$2)*(DATA!$D$2:$D$34=$C8)*(DATA!$F$2:$F$34))} -> 0 | H8: =IF(B8<>"",D8*E8,"") -> 0 | I8: =IF(B8<>"",F8*G8,"") -> 0
D9: {=SUMPRODUCT((DATA!$A$2:$A$34=$A9)*(DATA!$B$2:$B$34=$B9)*(DATA!$C$2:$C$34=$D$2)*(DATA!$D$2:$D$34=$C9)*(DATA!$F$2:$F$34))} -> 0 | F9: {=SUMPRODUCT((DATA!$A$2:$A$34=$A9)*(DATA!$B$2:$B$34=$B9)*(DATA!$C$2:$C$34=$F$2)*(DATA!$D$2:$D$34=$C9)*(DATA!$F$2:$F$34))} -> 0 | H9: =IF(B9<>"",D9*E9,"") | I9: =IF(B9<>"",F9*G9,"")
D10: {=SUMPRODUCT((DATA!$A$2:$A$34=$A10)*(DATA!$B$2:$B$34=$B10)*(DATA!$C$2:$C$34=$D$2)*(DATA!$D$2:$D$34=$C10)*(DATA!$F$2:$F$34))} -> 0 | F10: {=SUMPRODUCT((DATA!$A$2:$A$34=$A10)*(DATA!$B$2:$B$34=$B10)*(DATA!$C$2:$C$34=$F$2)*(DATA!$D$2:$D$34=$C10)*(DATA!$F$2:$F$34))} -> 0 | H10: =IF(B10<>"",D10*E10,"") | I10: =IF(B10<>"",F10*G10,"")
D11: {=SUMPRODUCT((DATA!$A$2:$A$34=$A11)*(DATA!$B$2:$B$34=$B11)*(DATA!$C$2:$C$34=$D$2)*(DATA!$D$2:$D$34=$C11)*(DATA!$F$2:$F$34))} -> 0 | F11: {=SUMPRODUCT((DATA!$A$2:$A$34=$A11)*(DATA!$B$2:$B$34=$B11)*(DATA!$C$2:$C$34=$F$2)*(DATA!$D$2:$D$34=$C11)*(DATA!$F$2:$F$34))} -> 0 | H11: =IF(B11<>"",D11*E11,"") | I11: =IF(B11<>"",F11*G11,"")
D12: {=SUMPRODUCT((DATA!$A$2:$A$34=$A12)*(DATA!$B$2:$B$34=$B12)*(DATA!$C$2:$C$34=$D$2)*(DATA!$D$2:$D$34=$C12)*(DATA!$F$2:$F$34))} -> 0 | F12: {=SUMPRODUCT((DATA!$A$2:$A$34=$A12)*(DATA!$B$2:$B$34=$B12)*(DATA!$C$2:$C$34=$F$2)*(DATA!$D$2:$D$34=$C12)*(DATA!$F$2:$F$34))} -> 0 | H12: =IF(B12<>"",D12*E12,"") | I12: =IF(B12<>"",F12*G12,"")
D13: {=SUMPRODUCT((DATA!$A$2:$A$34=$A13)*(DATA!$B$2:$B$34=$B13)*(DATA!$C$2:$C$34=$D$2)*(DATA!$D$2:$D$34=$C13)*(DATA!$F$2:$F$34))} -> 0 | F13: {=SUMPRODUCT((DATA!$A$2:$A$34=$A13)*(DATA!$B$2:$B$34=$B13)*(DATA!$C$2:$C$34=$F$2)*(DATA!$D$2:$D$34=$C13)*(DATA!$F$2:$F$34))} -> 0 | H13: =IF(B13<>"",D13*E13,"") | I13: =IF(B13<>"",F13*G13,"")
D14: {=SUMPRODUCT((DATA!$A$2:$A$34=$A14)*(DATA!$B$2:$B$34=$B14)*(DATA!$C$2:$C$34=$D$2)*(DATA!$D$2:$D$34=$C14)*(DATA!$F$2:$F$34))} -> 0 | F14: {=SUMPRODUCT((DATA!$A$2:$A$34=$A14)*(DATA!$B$2:$B$34=$B14)*(DATA!$C$2:$C$34=$F$2)*(DATA!$D$2:$D$34=$C14)*(DATA!$F$2:$F$34))} -> 0 | H14: =IF(B14<>"",D14*E14,"") | I14: =IF(B14<>"",F14*G14,"")
D15: {=SUMPRODUCT((DATA!$A$2:$A$34=$A15)*(DATA!$B$2:$B$34=$B15)*(DATA!$C$2:$C$34=$D$2)*(DATA!$D$2:$D$34=$C15)*(DATA!$F$2:$F$34))} -> 0 | F15: {=SUMPRODUCT((DATA!$A$2:$A$34=$A15)*(DATA!$B$2:$B$34=$B15)*(DATA!$C$2:$C$34=$F$2)*(DATA!$D$2:$D$34=$C15)*(DATA!$F$2:$F$34))} -> 0 | H15: =IF(B15<>"",D15*E15,"") | I15: =IF(B15<>"",F15*G15,"")
A16: AKK_Stage223 | D16: {=SUMPRODUCT((DATA!$A$2:$A$34=$A16)*(DATA!$B$2:$B$34=$B16)*(DATA!$C$2:$C$34=$D$2)*(DATA!$D$2:$D$34=$C16)*(DATA!$F$2:$F$34))} -> 0 | F16: {=SUMPRODUCT((DATA!$A$2:$A$34=$A16)*(DATA!$B$2:$B$34=$B16)*(DATA!$C$2:$C$34=$F$2)*(DATA!$D$2:$D$34=$C16)*(DATA!$F$2:$F$34))} -> 0 | H16: =IF(B16<>"",D16*E16,"") | I16: =IF(B16<>"",F16*G16,"")
D17: {=SUMPRODUCT((DATA!$A$2:$A$34=$A17)*(DATA!$B$2:$B$34=$B17)*(DATA!$C$2:$C$34=$D$2)*(DATA!$D$2:$D$34=$C17)*(DATA!$F$2:$F$34))} -> 0 | F17: {=SUMPRODUCT((DATA!$A$2:$A$34=$A17)*(DATA!$B$2:$B$34=$B17)*(DATA!$C$2:$C$34=$F$2)*(DATA!$D$2:$D$34=$C17)*(DATA!$F$2:$F$34))} -> 0 | H17: =IF(B17<>"",D17*E17,"") | I17: =IF(B17<>"",F17*G17,"")
D18: {=SUMPRODUCT((DATA!$A$2:$A$34=$A18)*(DATA!$B$2:$B$34=$B18)*(DATA!$C$2:$C$34=$D$2)*(DATA!$D$2:$D$34=$C18)*(DATA!$F$2:$F$34))} -> 0 | F18: {=SUMPRODUCT((DATA!$A$2:$A$34=$A18)*(DATA!$B$2:$B$34=$B18)*(DATA!$C$2:$C$34=$F$2)*(DATA!$D$2:$D$34=$C18)*(DATA!$F$2:$F$34))} -> 0 | H18: =IF(B18<>"",D18*E18,"") | I18: =IF(B18<>"",F18*G18,"")
D19: {=SUMPRODUCT((DATA!$A$2:$A$34=$A19)*(DATA!$B$2:$B$34=$B19)*(DATA!$C$2:$C$34=$D$2)*(DATA!$D$2:$D$34=$C19)*(DATA!$F$2:$F$34))} -> 0 | F19: {=SUMPRODUCT((DATA!$A$2:$A$34=$A19)*(DATA!$B$2:$B$34=$B19)*(DATA!$C$2:$C$34=$F$2)*(DATA!$D$2:$D$34=$C19)*(DATA!$F$2:$F$34))} -> 0 | H19: =IF(B19<>"",D19*E19,"") | I19: =IF(B19<>"",F19*G19,"")
D20: {=SUMPRODUCT((DATA!$A$2:$A$34=$A20)*(DATA!$B$2:$B$34=$B20)*(DATA!$C$2:$C$34=$D$2)*(DATA!$D$2:$D$34=$C20)*(DATA!$F$2:$F$34))} -> 0 | F20: {=SUMPRODUCT((DATA!$A$2:$A$34=$A20)*(DATA!$B$2:$B$34=$B20)*(DATA!$C$2:$C$34=$F$2)*(DATA!$D$2:$D$34=$C20)*(DATA!$F$2:$F$34))} -> 0 | H20: =IF(B20<>"",D20*E20,"") | I20: =IF(B20<>"",F20*G20,"")
D21: {=SUMPRODUCT((DATA!$A$2:$A$34=$A21)*(DATA!$B$2:$B$34=$B21)*(DATA!$C$2:$C$34=$D$2)*(DATA!$D$2:$D$34=$C21)*(DATA!$F$2:$F$34))} -> 0 | F21: {=SUMPRODUCT((DATA!$A$2:$A$34=$A21)*(DATA!$B$2:$B$34=$B21)*(DATA!$C$2:$C$34=$F$2)*(DATA!$D$2:$D$34=$C21)*(DATA!$F$2:$F$34))} -> 0 | H21: =IF(B21<>"",D21*E21,"") | I21: =IF(B21<>"",F21*G21,"")
D22: {=SUMPRODUCT((DATA!$A$2:$A$34=$A22)*(DATA!$B$2:$B$34=$B22)*(DATA!$C$2:$C$34=$D$2)*(DATA!$D$2:$D$34=$C22)*(DATA!$F$2:$F$34))} -> 0 | F22: {=SUMPRODUCT((DATA!$A$2:$A$34=$A22)*(DATA!$B$2:$B$34=$B22)*(DATA!$C$2:$C$34=$F$2)*(DATA!$D$2:$D$34=$C22)*(DATA!$F$2:$F$34))} -> 0 | H22: =IF(B22<>"",D22*E22,"") | I22: =IF(B22<>"",F22*G22,"")
D23: {=SUMPRODUCT((DATA!$A$2:$A$34=$A23)*(DATA!$B$2:$B$34=$B23)*(DATA!$C$2:$C$34=$D$2)*(DATA!$D$2:$D$34=$C23)*(DATA!$F$2:$F$34))} -> 0 | F23: {=SUMPRODUCT((DATA!$A$2:$A$34=$A23)*(DATA!$B$2:$B$34=$B23)*(DATA!$C$2:$C$34=$F$2)*(DATA!$D$2:$D$34=$C23)*(DATA!$F$2:$F$34))} -> 0 | H23: =IF(B23<>"",D23*E23,"") | I23: =IF(B23<>"",F23*G23,"")
D24: {=SUMPRODUCT((DATA!$A$2:$A$34=$A24)*(DATA!$B$2:$B$34=$B24)*(DATA!$C$2:$C$34=$D$2)*(DATA!$D$2:$D$34=$C24)*(DATA!$F$2:$F$34))} -> 0 | F24: {=SUMPRODUCT((DATA!$A$2:$A$34=$A24)*(DATA!$B$2:$B$34=$B24)*(DATA!$C$2:$C$34=$F$2)*(DATA!$D$2:$D$34=$C24)*(DATA!$F$2:$F$34))} -> 0 | H24: =IF(B24<>"",D24*E24,"") | I24: =IF(B24<>"",F24*G24,"")
D25: {=SUMPRODUCT((DATA!$A$2:$A$34=$A25)*(DATA!$B$2:$B$34=$B25)*(DATA!$C$2:$C$34=$D$2)*(DATA!$D$2:$D$34=$C25)*(DATA!$F$2:$F$34))} -> 0 | F25: {=SUMPRODUCT((DATA!$A$2:$A$34=$A25)*(DATA!$B$2:$B$34=$B25)*(DATA!$C$2:$C$34=$F$2)*(DATA!$D$2:$D$34=$C25)*(DATA!$F$2:$F$34))} -> 0 | H25: =IF(B25<>"",D25*E25,"") | I25: =IF(B25<>"",F25*G25,"")
D26: {=SUMPRODUCT((DATA!$A$2:$A$34=$A26)*(DATA!$B$2:$B$34=$B26)*(DATA!$C$2:$C$34=$D$2)*(DATA!$D$2:$D$34=$C26)*(DATA!$F$2:$F$34))} -> 0 | F26: {=SUMPRODUCT((DATA!$A$2:$A$34=$A26)*(DATA!$B$2:$B$34=$B26)*(DATA!$C$2:$C$34=$F$2)*(DATA!$D$2:$D$34=$C26)*(DATA!$F$2:$F$34))} -> 0 | H26: =IF(B26<>"",D26*E26,"") | I26: =IF(B26<>"",F26*G26,"")
A27: TOTAL | E27: =SUM(E21:E26) -> 0 | G27: =SUM(G21:G26) -> 0 | H27: =SUM(H21:H26) -> 0 | I27: =SUM(I21:I26) -> 0

Sheet DATA
A1: Stage | B1: NIVEAU | C1: MATERIAL | D1: Etat | E1: SG | F1: VALEUR | G1: RATIO
A2: CHA Stage32 | B2: 200 | C2: Basalte | D2: Terre arable | E2: 1.84 | F2: 3 | G2: 1.6304348
A3: CHA Stage32 | B3: 196 | C3: Basalte | D3: Terre arable | E3: 1.84 | F3: 3.04 | G3: 1.6521739
A4: CHA Stage32 | B4: 192 | C4: Basalte | D4: Terre arable | E4: 1.84 | F4: 3.17 | G4: 1.7228261
A5: CHA Stage6 | B5: 216 | C5: Basalte | D5: Terre arable | E5: 1.84 | F5: 3.09 | G5: 1.6793478
A6: CHA Stage6 | B6: 212 | C6: Basalte | D6: Terre arable | E6: 1.84 | F6: 3.1 | G6: 1.6847826
A7: CHA Stage6 | B7: 208 | C7: Basalte | D7: Terre arable | E7: 1.84 | F7: 3.13 | G7: 1.701087
A8: CHA Stage32 | B8: 188 | C8: Basalte | D8: Transition | E8: 2.2 | F8: 3.52 | G8: 1.6
A9: CHA Stage32 | B9: 184 | C9: Basalte | D9: Transition | E9: 2.2 | F9: 3.55 | G9: 1.6136364
A10: CHA Stage32 | B10: 180 | C10: Basalte | D10: Transition | E10: 2.2 | F10: 3.59 | G10: 1.6318182
A11: CHA Stage32 | B11: 176 | C11: Basalte | D11: Transition | E11: 2.2 | F11: 3.63 | G11: 1.65
A12: CHA Stage32 | B12: 172 | C12: Basalte | D12: Roche | E12: 2.76 | F12: 4.09 | G12: 1.4818841
A13: CHA Stage32 | B13: 168 | C13: Basalte | D13: Roche | E13: 2.76 | F13: 4.14 | G13: 1.5
... A34: CHA Stage32 | B34: 144 | C34: Quarrtz | D34: Roche | E34: 2.76 | F34: 5.05 | G34: 1.8297101
