Workbook

Sheet source
A2: 44562 | B2: tulipe2 | C2: tulipe18 | D2: Pencil A | E2: tulipe34 | F2: tulipe50 | G2: 1
A3: 44563 | B3: tulipe3 | C3: tulipe19 | D3: binder | E3: tulipe35 | F3: tulipe51 | G3: 1
A4: 44564 | B4: tulipe4 | C4: tulipe20 | D4: Pencil A | E4: tulipe36 | F4: tulipe52 | G4: 1
A5: 44565 | B5: tulipe5 | C5: tulipe21 | D5: binder | E5: tulipe37 | F5: tulipe53 | G5: 1
A6: 44566 | B6: tulipe6 | C6: tulipe22 | D6: PencilB | E6: tulipe38 | F6: tulipe54 | G6: 1
A7: 44567 | B7: tulipe7 | C7: tulipe23 | D7: Pencil C | E7: tulipe39 | F7: tulipe55 | G7: 1
A8: 44568 | B8: tulipe8 | C8: tulipe24 | D8: Pencil A | E8: tulipe40 | F8: tulipe56 | G8: 1
A9: 44569 | B9: tulipe9 | C9: tulipe25 | D9: PencilB | E9: tulipe41 | F9: tulipe57 | G9: 1
A10: 44570 | B10: tulipe10 | C10: tulipe26 | D10: scotch | E10: tulipe42 | F10: tulipe58 | G10: 1
A11: 44571 | B11: tulipe11 | C11: tulipe27 | D11: Pencil A | E11: tulipe43 | F11: tulipe59 | G11: 1
A12: 44572 | B12: tulipe12 | C12: tulipe28 | D12: Pencil C | E12: tulipe44 | F12: tulipe60 | G12: 1
A13: 44573 | B13: tulipe13 | C13: tulipe29 | D13: PencilB | E13: tulipe45 | F13: tulipe61 | G13: 1
... A17: 44577 | B17: tulipe17 | C17: tulipe33 | D17: Pencil C | E17: tulipe49 | F17: tulipe65 | G17: 1

Sheet tri
A1: tri
A2: {=IFERROR(INDEX(source!$A$2:$G$17,SMALL(IF(ISNUMBER(FIND("Pencil",source!$D$2:$D$17)),ROW(source!$D$2:$D$17)-1,""),ROW($A1)),COLUMN(A:A)),"")} -> 44562 | B2: {=IFERROR(INDEX(source!$A$2:$G$17,SMALL(IF(ISNUMBER(FIND("Pencil",source!$D$2:$D$17)),ROW(source!$D$2:$D$17)-1,""),ROW($A1)),COLUMN(B:B)),"")} -> tulipe2 | C2: {=IFERROR(INDEX(source!$A$2:$G$17,SMALL(IF(ISNUMBER(FIND("Pencil",source!$D$2:$D$17)),ROW(source!$D$2:$D$17)-1,""),ROW($A1)),COLUMN(C:C)),"")} -> tulipe18 | D2: {=IFERROR(INDEX(source!$A$2:$G$17,SMALL(IF(ISNUMBER(FIND("Pencil",source!$D$2:$D$17)),ROW(source!$D$2:$D$17)-1,""),ROW($A1)),COLUMN(D:D)),"")} -> Pencil A | E2: {=IFERROR(INDEX(source!$A$2:$G$17,SMALL(IF(ISNUMBER(FIND("Pencil",source!$D$2:$D$17)),ROW(source!$D$2:$D$17)-1,""),ROW($A1)),COLUMN(E:E)),"")} -> tulipe34 | F2: {=IFERROR(INDEX(source!$A$2:$G$17,SMALL(IF(ISNUMBER(FIND("Pencil",source!$D$2:$D$17)),ROW(source!$D$2:$D$17)-1,""),ROW($A1)),COLUMN(F:F)),"")} -> tulipe50 | G2: {=IFERROR(INDEX(source!$A$2:$G$17,SMALL(IF(ISNUMBER(FIND("Pencil",source!$D$2:$D$17)),ROW(source!$D$2:$D$17)-1,""),ROW($A1)),COLUMN(G:G)),"")} -> 1
A3: {=IFERROR(INDEX(source!$A$2:$G$17,SMALL(IF(ISNUMBER(FIND("Pencil",source!$D$2:$D$17)),ROW(source!$D$2:$D$17)-1,""),ROW($A2)),COLUMN(A:A)),"")} -> 44564 | B3: {=IFERROR(INDEX(source!$A$2:$G$17,SMALL(IF(ISNUMBER(FIND("Pencil",source!$D$2:$D$17)),ROW(source!$D$2:$D$17)-1,""),ROW($A2)),COLUMN(B:B)),"")} -> tulipe4 | C3: {=IFERROR(INDEX(source!$A$2:$G$17,SMALL(IF(ISNUMBER(FIND("Pencil",source!$D$2:$D$17)),ROW(source!$D$2:$D$17)-1,""),ROW($A2)),COLUMN(C:C)),"")} -> tulipe20 | D3: {=IFERROR(INDEX(source!$A$2:$G$17,SMALL(IF(ISNUMBER(FIND("Pencil",source!$D$2:$D$17)),ROW(source!$D$2:$D$17)-1,""),ROW($A2)),COLUMN(D:D)),"")} -> Pencil A | E3: {=IFERROR(INDEX(source!$A$2:$G$17,SMALL(IF(ISNUMBER(FIND("Pencil",source!$D$2:$D$17)),ROW(source!$D$2:$D$17)-1,""),ROW($A2)),COLUMN(E:E)),"")} -> tulipe36 | F3: {=IFERROR(INDEX(source!$A$2:$G$17,SMALL(IF(ISNUMBER(FIND("Pencil",source!$D$2:$D$17)),ROW(source!$D$2:$D$17)-1,""),ROW($A2)),COLUMN(F:F)),"")} -> tulipe52 | G3: {=IFERROR(INDEX(source!$A$2:$G$17,SMALL(IF(ISNUMBER(FIND("Pencil",source!$D$2:$D$17)),ROW(source!$D$2:$D$17)-1,""),ROW($A2)),COLUMN(G:G)),"")} -> 1 | J3: saisir la formule dans la cel verte
A4: {=IFERROR(INDEX(source!$A$2:$G$17,SMALL(IF(ISNUMBER(FIND("Pencil",source!$D$2:$D$17)),ROW(source!$D$2:$D$17)-1,""),ROW($A3)),COLUMN(A:A)),"")} -> 44566 | B4: {=IFERROR(INDEX(source!$A$2:$G$17,SMALL(IF(ISNUMBER(FIND("Pencil",source!$D$2:$D$17)),ROW(source!$D$2:$D$17)-1,""),ROW($A3)),COLUMN(B:B)),"")} -> tulipe6 | C4: {=IFERROR(INDEX(source!$A$2:$G$17,SMALL(IF(ISNUMBER(FIND("Pencil",source!$D$2:$D$17)),ROW(source!$D$2:$D$17)-1,""),ROW($A3)),COLUMN(C:C)),"")} -> tulipe22 | D4: {=IFERROR(INDEX(source!$A$2:$G$17,SMALL(IF(ISNUMBER(FIND("Pencil",source!$D$2:$D$17)),ROW(source!$D$2:$D$17)-1,""),ROW($A3)),COLUMN(D:D)),"")} -> PencilB | E4: {=IFERROR(INDEX(source!$A$2:$G$17,SMALL(IF(ISNUMBER(FIND("Pencil",source!$D$2:$D$17)),ROW(source!$D$2:$D$17)-1,""),ROW($A3)),COLUMN(E:E)),"")} -> tulipe38 | F4: {=IFERROR(INDEX(source!$A$2:$G$17,SMALL(IF(ISNUMBER(FIND("Pencil",source!$D$2:$D$17)),ROW(source!$D$2:$D$17)-1,""),ROW($A3)),COLUMN(F:F)),"")} -> tulipe54 | G4: {=IFERROR(INDEX(source!$A$2:$G$17,SMALL(IF(ISNUMBER(FIND("Pencil",source!$D$2:$D$17)),ROW(source!$D$2:$D$17)-1,""),ROW($A3)),COLUMN(G:G)),"")} -> 1 | J4: la valider avec les 3 touches Ctrl maj Entrée en simultané
A5: {=IFERROR(INDEX(source!$A$2:$G$17,SMALL(IF(ISNUMBER(FIND("Pencil",source!$D$2:$D$17)),ROW(source!$D$2:$D$17)-1,""),ROW($A4)),COLUMN(A:A)),"")} -> 44567 | B5: {=IFERROR(INDEX(source!$A$2:$G$17,SMALL(IF(ISNUMBER(FIND("Pencil",source!$D$2:$D$17)),ROW(source!$D$2:$D$17)-1,""),ROW($A4)),COLUMN(B:B)),"")} -> tulipe7 | C5: {=IFERROR(INDEX(source!$A$2:$G$17,SMALL(IF(ISNUMBER(FIND("Pencil",source!$D$2:$D$17)),ROW(source!$D$2:$D$17)-1,""),ROW($A4)),COLUMN(C:C)),"")} -> tulipe23 | D5: {=IFERROR(INDEX(source!$A$2:$G$17,SMALL(IF(ISNUMBER(FIND("Pencil",source!$D$2:$D$17)),ROW(source!$D$2:$D$17)-1,""),ROW($A4)),COLUMN(D:D)),"")} -> Pencil C | E5: {=IFERROR(INDEX(source!$A$2:$G$17,SMALL(IF(ISNUMBER(FIND("Pencil",source!$D$2:$D$17)),ROW(source!$D$2:$D$17)-1,""),ROW($A4)),COLUMN(E:E)),"")} -> tulipe39 | F5: {=IFERROR(INDEX(source!$A$2:$G$17,SMALL(IF(ISNUMBER(FIND("Pencil",source!$D$2:$D$17)),ROW(source!$D$2:$D$17)-1,""),ROW($A4)),COLUMN(F:F)),"")} -> tulipe55 | G5: {=IFERROR(INDEX(source!$A$2:$G$17,SMALL(IF(ISNUMBER(FIND("Pencil",source!$D$2:$D$17)),ROW(source!$D$2:$D$17)-1,""),ROW($A4)),COLUMN(G:G)),"")} -> 1 | J5: la dupliquer vers la droite
A6: {=IFERROR(INDEX(source!$A$2:$G$17,SMALL(IF(ISNUMBER(FIND("Pencil",source!$D$2:$D$17)),ROW(source!$D$2:$D$17)-1,""),ROW($A5)),COLUMN(A:A)),"")} -> 44568 | B6: {=IFERROR(INDEX(source!$A$2:$G$17,SMALL(IF(ISNUMBER(FIND("Pencil",source!$D$2:$D$17)),ROW(source!$D$2:$D$17)-1,""),ROW($A5)),COLUMN(B:B)),"")} -> tulipe8 | C6: {=IFERROR(INDEX(source!$A$2:$G$17,SMALL(IF(ISNUMBER(FIND("Pencil",source!$D$2:$D$17)),ROW(source!$D$2:$D$17)-1,""),ROW($A5)),COLUMN(C:C)),"")} -> tulipe24 | D6: {=IFERROR(INDEX(source!$A$2:$G$17,SMALL(IF(ISNUMBER(FIND("Pencil",source!$D$2:$D$17)),ROW(source!$D$2:$D$17)-1,""),ROW($A5)),COLUMN(D:D)),"")} -> Pencil A | E6: {=IFERROR(INDEX(source!$A$2:$G$17,SMALL(IF(ISNUMBER(FIND("Pencil",source!$D$2:$D$17)),ROW(source!$D$2:$D$17)-1,""),ROW($A5)),COLUMN(E:E)),"")} -> tulipe40 | F6: {=IFERROR(INDEX(source!$A$2:$G$17,SMALL(IF(ISNUMBER(FIND("Pencil",source!$D$2:$D$17)),ROW(source!$D$2:$D$17)-1,""),ROW($A5)),COLUMN(F:F)),"")} -> tulipe56 | G6: {=IFERROR(INDEX(source!$A$2:$G$17,SMALL(IF(ISNUMBER(FIND("Pencil",source!$D$2:$D$17)),ROW(source!$D$2:$D$17)-1,""),ROW($A5)),COLUMN(G:G)),"")} -> 1 | J6: redupliquer pour x lignes
A7: {=IFERROR(INDEX(source!$A$2:$G$17,SMALL(IF(ISNUMBER(FIND("Pencil",source!$D$2:$D$17)),ROW(source!$D$2:$D$17)-1,""),ROW($A6)),COLUMN(A:A)),"")} -> 44569 | B7: {=IFERROR(INDEX(source!$A$2:$G$17,SMALL(IF(ISNUMBER(FIND("Pencil",source!$D$2:$D$17)),ROW(source!$D$2:$D$17)-1,""),ROW($A6)),COLUMN(B:B)),"")} -> tulipe9 | C7: {=IFERROR(INDEX(source!$A$2:$G$17,SMALL(IF(ISNUMBER(FIND("Pencil",source!$D$2:$D$17)),ROW(source!$D$2:$D$17)-1,""),ROW($A6)),COLUMN(C:C)),"")} -> tulipe25 | D7: {=IFERROR(INDEX(source!$A$2:$G$17,SMALL(IF(ISNUMBER(FIND("Pencil",source!$D$2:$D$17)),ROW(source!$D$2:$D$17)-1,""),ROW($A6)),COLUMN(D:D)),"")} -> PencilB | E7: {=IFERROR(INDEX(source!$A$2:$G$17,SMALL(IF(ISNUMBER(FIND("Pencil",source!$D$2:$D$17)),ROW(source!$D$2:$D$17)-1,""),ROW($A6)),COLUMN(E:E)),"")} -> tulipe41 | F7: {=IFERROR(INDEX(source!$A$2:$G$17,SMALL(IF(ISNUMBER(FIND("Pencil",source!$D$2:$D$17)),ROW(source!$D$2:$D$17)-1,""),ROW($A6)),COLUMN(F:F)),"")} -> tulipe57 | G7: {=IFERROR(INDEX(source!$A$2:$G$17,SMALL(IF(ISNUMBER(FIND("Pencil",source!$D$2:$D$17)),ROW(source!$D$2:$D$17)-1,""),ROW($A6)),COLUMN(G:G)),"")} -> 1
A8: {=IFERROR(INDEX(source!$A$2:$G$17,SMALL(IF(ISNUMBER(FIND("Pencil",source!$D$2:$D$17)),ROW(source!$D$2:$D$17)-1,""),ROW($A7)),COLUMN(A:A)),"")} -> 44571 | B8: {=IFERROR(INDEX(source!$A$2:$G$17,SMALL(IF(ISNUMBER(FIND("Pencil",source!$D$2:$D$17)),ROW(source!$D$2:$D$17)-1,""),ROW($A7)),COLUMN(B:B)),"")} -> tulipe11 | C8: {=IFERROR(INDEX(source!$A$2:$G$17,SMALL(IF(ISNUMBER(FIND("Pencil",source!$D$2:$D$17)),ROW(source!$D$2:$D$17)-1,""),ROW($A7)),COLUMN(C:C)),"")} -> tulipe27 | D8: {=IFERROR(INDEX(source!$A$2:$G$17,SMALL(IF(ISNUMBER(FIND("Pencil",source!$D$2:$D$17)),ROW(source!$D$2:$D$17)-1,""),ROW($A7)),COLUMN(D:D)),"")} -> Pencil A | E8: {=IFERROR(INDEX(source!$A$2:$G$17,SMALL(IF(ISNUMBER(FIND("Pencil",source!$D$2:$D$17)),ROW(source!$D$2:$D$17)-1,""),ROW($A7)),COLUMN(E:E)),"")} -> tulipe43 | F8: {=IFERROR(INDEX(source!$A$2:$G$17,SMALL(IF(ISNUMBER(FIND("Pencil",source!$D$2:$D$17)),ROW(source!$D$2:$D$17)-1,""),ROW($A7)),COLUMN(F:F)),"")} -> tulipe59 | G8: {=IFERROR(INDEX(source!$A$2:$G$17,SMALL(IF(ISNUMBER(FIND("Pencil",source!$D$2:$D$17)),ROW(source!$D$2:$D$17)-1,""),ROW($A7)),COLUMN(G:G)),"")} -> 1
A9: {=IFERROR(INDEX(source!$A$2:$G$17,SMALL(IF(ISNUMBER(FIND("Pencil",source!$D$2:$D$17)),ROW(source!$D$2:$D$17)-1,""),ROW($A8)),COLUMN(A:A)),"")} -> 44572 | B9: {=IFERROR(INDEX(source!$A$2:$G$17,SMALL(IF(ISNUMBER(FIND("Pencil",source!$D$2:$D$17)),ROW(source!$D$2:$D$17)-1,""),ROW($A8)),COLUMN(B:B)),"")} -> tulipe12 | C9: {=IFERROR(INDEX(source!$A$2:$G$17,SMALL(IF(ISNUMBER(FIND("Pencil",source!$D$2:$D$17)),ROW(source!$D$2:$D$17)-1,""),ROW($A8)),COLUMN(C:C)),"")} -> tulipe28 | D9: {=IFERROR(INDEX(source!$A$2:$G$17,SMALL(IF(ISNUMBER(FIND("Pencil",source!$D$2:$D$17)),ROW(source!$D$2:$D$17)-1,""),ROW($A8)),COLUMN(D:D)),"")} -> Pencil C | E9: {=IFERROR(INDEX(source!$A$2:$G$17,SMALL(IF(ISNUMBER(FIND("Pencil",source!$D$2:$D$17)),ROW(source!$D$2:$D$17)-1,""),ROW($A8)),COLUMN(E:E)),"")} -> tulipe44 | F9: {=IFERROR(INDEX(source!$A$2:$G$17,SMALL(IF(ISNUMBER(FIND("Pencil",source!$D$2:$D$17)),ROW(source!$D$2:$D$17)-1,""),ROW($A8)),COLUMN(F:F)),"")} -> tulipe60 | G9: {=IFERROR(INDEX(source!$A$2:$G$17,SMALL(IF(ISNUMBER(FIND("Pencil",source!$D$2:$D$17)),ROW(source!$D$2:$D$17)-1,""),ROW($A8)),COLUMN(G:G)),"")} -> 1
A10: {=IFERROR(INDEX(source!$A$2:$G$17,SMALL(IF(ISNUMBER(FIND("Pencil",source!$D$2:$D$17)),ROW(source!$D$2:$D$17)-1,""),ROW($A9)),COLUMN(A:A)),"")} -> 44573 | B10: {=IFERROR(INDEX(source!$A$2:$G$17,SMALL(IF(ISNUMBER(FIND("Pencil",source!$D$2:$D$17)),ROW(source!$D$2:$D$17)-1,""),ROW($A9)),COLUMN(B:B)),"")} -> tulipe13 | C10: {=IFERROR(INDEX(source!$A$2:$G$17,SMALL(IF(ISNUMBER(FIND("Pencil",source!$D$2:$D$17)),ROW(source!$D$2:$D$17)-1,""),ROW($A9)),COLUMN(C:C)),"")} -> tulipe29 | D10: {=IFERROR(INDEX(source!$A$2:$G$17,SMALL(IF(ISNUMBER(FIND("Pencil",source!$D$2:$D$17)),ROW(source!$D$2:$D$17)-1,""),ROW($A9)),COLUMN(D:D)),"")} -> PencilB | E10: {=IFERROR(INDEX(source!$A$2:$G$17,SMALL(IF(ISNUMBER(FIND("Pencil",source!$D$2:$D$17)),ROW(source!$D$2:$D$17)-1,""),ROW($A9)),COLUMN(E:E)),"")} -> tulipe45 | F10: {=IFERROR(INDEX(source!$A$2:$G$17,SMALL(IF(ISNUMBER(FIND("Pencil",source!$D$2:$D$17)),ROW(source!$D$2:$D$17)-1,""),ROW($A9)),COLUMN(F:F)),"")} -> tulipe61 | G10: {=IFERROR(INDEX(source!$A$2:$G$17,SMALL(IF(ISNUMBER(FIND("Pencil",source!$D$2:$D$17)),ROW(source!$D$2:$D$17)-1,""),ROW($A9)),COLUMN(G:G)),"")} -> 1
A11: {=IFERROR(INDEX(source!$A$2:$G$17,SMALL(IF(ISNUMBER(FIND("Pencil",source!$D$2:$D$17)),ROW(source!$D$2:$D$17)-1,""),ROW($A10)),COLUMN(A:A)),"")} -> 44575 | B11: {=IFERROR(INDEX(source!$A$2:$G$17,SMALL(IF(ISNUMBER(FIND("Pencil",source!$D$2:$D$17)),ROW(source!$D$2:$D$17)-1,""),ROW($A10)),COLUMN(B:B)),"")} -> tulipe15 | C11: {=IFERROR(INDEX(source!$A$2:$G$17,SMALL(IF(ISNUMBER(FIND("Pencil",source!$D$2:$D$17)),ROW(source!$D$2:$D$17)-1,""),ROW($A10)),COLUMN(C:C)),"")} -> tulipe31 | D11: {=IFERROR(INDEX(source!$A$2:$G$17,SMALL(IF(ISNUMBER(FIND("Pencil",source!$D$2:$D$17)),ROW(source!$D$2:$D$17)-1,""),ROW($A10)),COLUMN(D:D)),"")} -> Pencil A | E11: {=IFERROR(INDEX(source!$A$2:$G$17,SMALL(IF(ISNUMBER(FIND("Pencil",source!$D$2:$D$17)),ROW(source!$D$2:$D$17)-1,""),ROW($A10)),COLUMN(E:E)),"")} -> tulipe47 | F11: {=IFERROR(INDEX(source!$A$2:$G$17,SMALL(IF(ISNUMBER(FIND("Pencil",source!$D$2:$D$17)),ROW(source!$D$2:$D$17)-1,""),ROW($A10)),COLUMN(F:F)),"")} -> tulipe63 | G11: {=IFERROR(INDEX(source!$A$2:$G$17,SMALL(IF(ISNUMBER(FIND("Pencil",source!$D$2:$D$17)),ROW(source!$D$2:$D$17)-1,""),ROW($A10)),COLUMN(G:G)),"")} -> 1
A12: {=IFERROR(INDEX(source!$A$2:$G$17,SMALL(IF(ISNUMBER(FIND("Pencil",source!$D$2:$D$17)),ROW(source!$D$2:$D$17)-1,""),ROW($A11)),COLUMN(A:A)),"")} -> 44577 | B12: {=IFERROR(INDEX(source!$A$2:$G$17,SMALL(IF(ISNUMBER(FIND("Pencil",source!$D$2:$D$17)),ROW(source!$D$2:$D$17)-1,""),ROW($A11)),COLUMN(B:B)),"")} -> tulipe17 | C12: {=IFERROR(INDEX(source!$A$2:$G$17,SMALL(IF(ISNUMBER(FIND("Pencil",source!$D$2:$D$17)),ROW(source!$D$2:$D$17)-1,""),ROW($A11)),COLUMN(C:C)),"")} -> tulipe33 | D12: {=IFERROR(INDEX(source!$A$2:$G$17,SMALL(IF(ISNUMBER(FIND("Pencil",source!$D$2:$D$17)),ROW(source!$D$2:$D$17)-1,""),ROW($A11)),COLUMN(D:D)),"")} -> Pencil C | E12: {=IFERROR(INDEX(source!$A$2:$G$17,SMALL(IF(ISNUMBER(FIND("Pencil",source!$D$2:$D$17)),ROW(source!$D$2:$D$17)-1,""),ROW($A11)),COLUMN(E:E)),"")} -> tulipe49 | F12: {=IFERROR(INDEX(source!$A$2:$G$17,SMALL(IF(ISNUMBER(FIND("Pencil",source!$D$2:$D$17)),ROW(source!$D$2:$D$17)-1,""),ROW($A11)),COLUMN(F:F)),"")} -> tulipe65 | G12: {=IFERROR(INDEX(source!$A$2:$G$17,SMALL(IF(ISNUMBER(FIND("Pencil",source!$D$2:$D$17)),ROW(source!$D$2:$D$17)-1,""),ROW($A11)),COLUMN(G:G)),"")} -> 1
A13: {=IFERROR(INDEX(source!$A$2:$G$17,SMALL(IF(ISNUMBER(FIND("Pencil",source!$D$2:$D$17)),ROW(source!$D$2:$D$17)-1,""),ROW($A12)),COLUMN(A:A)),"")} | B13: {=IFERROR(INDEX(source!$A$2:$G$17,SMALL(IF(ISNUMBER(FIND("Pencil",source!$D$2:$D$17)),ROW(source!$D$2:$D$17)-1,""),ROW($A12)),COLUMN(B:B)),"")} | C13: {=IFERROR(INDEX(source!$A$2:$G$17,SMALL(IF(ISNUMBER(FIND("Pencil",source!$D$2:$D$17)),ROW(source!$D$2:$D$17)-1,""),ROW($A12)),COLUMN(C:C)),"")} | D13: {=IFERROR(INDEX(source!$A$2:$G$17,SMALL(IF(ISNUMBER(FIND("Pencil",source!$D$2:$D$17)),ROW(source!$D$2:$D$17)-1,""),ROW($A12)),COLUMN(D:D)),"")} | E13: {=IFERROR(INDEX(source!$A$2:$G$17,SMALL(IF(ISNUMBER(FIND("Pencil",source!$D$2:$D$17)),ROW(source!$D$2:$D$17)-1,""),ROW($A12)),COLUMN(E:E)),"")} | F13: {=IFERROR(INDEX(source!$A$2:$G$17,SMALL(IF(ISNUMBER(FIND("Pencil",source!$D$2:$D$17)),ROW(source!$D$2:$D$17)-1,""),ROW($A12)),COLUMN(F:F)),"")} | G13: {=IFERROR(INDEX(source!$A$2:$G$17,SMALL(IF(ISNUMBER(FIND("Pencil",source!$D$2:$D$17)),ROW(source!$D$2:$D$17)-1,""),ROW($A12)),COLUMN(G:G)),"")}
A14: {=IFERROR(INDEX(source!$A$2:$G$17,SMALL(IF(ISNUMBER(FIND("Pencil",source!$D$2:$D$17)),ROW(source!$D$2:$D$17)-1,""),ROW($A13)),COLUMN(A:A)),"")} | B14: {=IFERROR(INDEX(source!$A$2:$G$17,SMALL(IF(ISNUMBER(FIND("Pencil",source!$D$2:$D$17)),ROW(source!$D$2:$D$17)-1,""),ROW($A13)),COLUMN(B:B)),"")} | C14: {=IFERROR(INDEX(source!$A$2:$G$17,SMALL(IF(ISNUMBER(FIND("Pencil",source!$D$2:$D$17)),ROW(source!$D$2:$D$17)-1,""),ROW($A13)),COLUMN(C:C)),"")} | D14: {=IFERROR(INDEX(source!$A$2:$G$17,SMALL(IF(ISNUMBER(FIND("Pencil",source!$D$2:$D$17)),ROW(source!$D$2:$D$17)-1,""),ROW($A13)),COLUMN(D:D)),"")} | E14: {=IFERROR(INDEX(source!$A$2:$G$17,SMALL(IF(ISNUMBER(FIND("Pencil",source!$D$2:$D$17)),ROW(source!$D$2:$D$17)-1,""),ROW($A13)),COLUMN(E:E)),"")} | F14: {=IFERROR(INDEX(source!$A$2:$G$17,SMALL(IF(ISNUMBER(FIND("Pencil",source!$D$2:$D$17)),ROW(source!$D$2:$D$17)-1,""),ROW($A13)),COLUMN(F:F)),"")} | G14: {=IFERROR(INDEX(source!$A$2:$G$17,SMALL(IF(ISNUMBER(FIND("Pencil",source!$D$2:$D$17)),ROW(source!$D$2:$D$17)-1,""),ROW($A13)),COLUMN(G:G)),"")}
A15: {=IFERROR(INDEX(source!$A$2:$G$17,SMALL(IF(ISNUMBER(FIND("Pencil",source!$D$2:$D$17)),ROW(source!$D$2:$D$17)-1,""),ROW($A14)),COLUMN(A:A)),"")} | B15: {=IFERROR(INDEX(source!$A$2:$G$17,SMALL(IF(ISNUMBER(FIND("Pencil",source!$D$2:$D$17)),ROW(source!$D$2:$D$17)-1,""),ROW($A14)),COLUMN(B:B)),"")} | C15: {=IFERROR(INDEX(source!$A$2:$G$17,SMALL(IF(ISNUMBER(FIND("Pencil",source!$D$2:$D$17)),ROW(source!$D$2:$D$17)-1,""),ROW($A14)),COLUMN(C:C)),"")} | D15: {=IFERROR(INDEX(source!$A$2:$G$17,SMALL(IF(ISNUMBER(FIND("Pencil",source!$D$2:$D$17)),ROW(source!$D$2:$D$17)-1,""),ROW($A14)),COLUMN(D:D)),"")} | E15: {=IFERROR(INDEX(source!$A$2:$G$17,SMALL(IF(ISNUMBER(FIND("Pencil",source!$D$2:$D$17)),ROW(source!$D$2:$D$17)-1,""),ROW($A14)),COLUMN(E:E)),"")} | F15: {=IFERROR(INDEX(source!$A$2:$G$17,SMALL(IF(ISNUMBER(FIND("Pencil",source!$D$2:$D$17)),ROW(source!$D$2:$D$17)-1,""),ROW($A14)),COLUMN(F:F)),"")} | G15: {=IFERROR(INDEX(source!$A$2:$G$17,SMALL(IF(ISNUMBER(FIND("Pencil",source!$D$2:$D$17)),ROW(source!$D$2:$D$17)-1,""),ROW($A14)),COLUMN(G:G)),"")}
A16: {=IFERROR(INDEX(source!$A$2:$G$17,SMALL(IF(ISNUMBER(FIND("Pencil",source!$D$2:$D$17)),ROW(source!$D$2:$D$17)-1,""),ROW($A15)),COLUMN(A:A)),"")} | B16: {=IFERROR(INDEX(source!$A$2:$G$17,SMALL(IF(ISNUMBER(FIND("Pencil",source!$D$2:$D$17)),ROW(source!$D$2:$D$17)-1,""),ROW($A15)),COLUMN(B:B)),"")} | C16: {=IFERROR(INDEX(source!$A$2:$G$17,SMALL(IF(ISNUMBER(FIND("Pencil",source!$D$2:$D$17)),ROW(source!$D$2:$D$17)-1,""),ROW($A15)),COLUMN(C:C)),"")} | D16: {=IFERROR(INDEX(source!$A$2:$G$17,SMALL(IF(ISNUMBER(FIND("Pencil",source!$D$2:$D$17)),ROW(source!$D$2:$D$17)-1,""),ROW($A15)),COLUMN(D:D)),"")} | E16: {=IFERROR(INDEX(source!$A$2:$G$17,SMALL(IF(ISNUMBER(FIND("Pencil",source!$D$2:$D$17)),ROW(source!$D$2:$D$17)-1,""),ROW($A15)),COLUMN(E:E)),"")} | F16: {=IFERROR(INDEX(source!$A$2:$G$17,SMALL(IF(ISNUMBER(FIND("Pencil",source!$D$2:$D$17)),ROW(source!$D$2:$D$17)-1,""),ROW($A15)),COLUMN(F:F)),"")} | G16: {=IFERROR(INDEX(source!$A$2:$G$17,SMALL(IF(ISNUMBER(FIND("Pencil",source!$D$2:$D$17)),ROW(source!$D$2:$D$17)-1,""),ROW($A15)),COLUMN(G:G)),"")}
A17: {=IFERROR(INDEX(source!$A$2:$G$17,SMALL(IF(ISNUMBER(FIND("Pencil",source!$D$2:$D$17)),ROW(source!$D$2:$D$17)-1,""),ROW($A16)),COLUMN(A:A)),"")} | B17: {=IFERROR(INDEX(source!$A$2:$G$17,SMALL(IF(ISNUMBER(FIND("Pencil",source!$D$2:$D$17)),ROW(source!$D$2:$D$17)-1,""),ROW($A16)),COLUMN(B:B)),"")} | C17: {=IFERROR(INDEX(source!$A$2:$G$17,SMALL(IF(ISNUMBER(FIND("Pencil",source!$D$2:$D$17)),ROW(source!$D$2:$D$17)-1,""),ROW($A16)),COLUMN(C:C)),"")} | D17: {=IFERROR(INDEX(source!$A$2:$G$17,SMALL(IF(ISNUMBER(FIND("Pencil",source!$D$2:$D$17)),ROW(source!$D$2:$D$17)-1,""),ROW($A16)),COLUMN(D:D)),"")} | E17: {=IFERROR(INDEX(source!$A$2:$G$17,SMALL(IF(ISNUMBER(FIND("Pencil",source!$D$2:$D$17)),ROW(source!$D$2:$D$17)-1,""),ROW($A16)),COLUMN(E:E)),"")} | F17: {=IFERROR(INDEX(source!$A$2:$G$17,SMALL(IF(ISNUMBER(FIND("Pencil",source!$D$2:$D$17)),ROW(source!$D$2:$D$17)-1,""),ROW($A16)),COLUMN(F:F)),"")} | G17: {=IFERROR(INDEX(source!$A$2:$G$17,SMALL(IF(ISNUMBER(FIND("Pencil",source!$D$2:$D$17)),ROW(source!$D$2:$D$17)-1,""),ROW($A16)),COLUMN(G:G)),"")}

Sheet Feuil3
