Workbook

Sheet Feuil1
A1: Nom client | B1: Contrat
A2: Client1 | B2: ="Contrat-"&A2 -> Contrat-Client1
A3: Client2 | B3: ="Contrat-"&A3 -> Contrat-Client2
A4: Client3 | B4: ="Contrat-"&A4 -> Contrat-Client3
A5: Client4 | B5: ="Contrat-"&A5 -> Contrat-Client4
A6: Client5 | B6: ="Contrat-"&A6 -> Contrat-Client5
A7: Client6 | B7: ="Contrat-"&A7 -> Contrat-Client6
A8: Client7 | B8: ="Contrat-"&A8 -> Contrat-Client7
A9: Client8 | B9: ="Contrat-"&A9 -> Contrat-Client8
A10: Client9 | B10: ="Contrat-"&A10 -> Contrat-Client9
A11: Client10 | B11: ="Contrat-"&A11 -> Contrat-Client10
A12: Client11 | B12: ="Contrat-"&A12 -> Contrat-Client11
A13: Client12 | B13: ="Contrat-"&A13 -> Contrat-Client12
... A198: Client197 | B198: ="Contrat-"&A198 -> Contrat-Client197

Sheet Feuil2
A1: N° contrat | B1: libellé du contrat | C1: Client | D1: Type | E1: Service | F1: Engagement
A2: =OFFSET(Feuil1!B$1,INT(MOD(ROW(A7),ROW(A8)/4)),) -> Contrat-Client1 | B2: Contrat Client 1 | C2: =Feuil1!A$2 -> Client1 | D2: Standard | E2: Produit | F2: SLA_Standard
A3: =OFFSET(Feuil1!B$1,INT(MOD(ROW(A8),ROW(A9)/4)),) -> Contrat-Client1 | B3: Contrat Client 1 | C3: =Feuil1!A$2 -> Client1 | D3: Incident | E3: Produit | F3: SLA_Incident
A4: =OFFSET(Feuil1!B$1,INT(MOD(ROW(A9),ROW(A10)/4)),) -> Contrat-Client1 | B4: Contrat Client 1 | C4: =Feuil1!A$2 -> Client1 | D4: Prestation | E4: Produit | F4: SLA_Prestation
A5: =OFFSET(Feuil1!B$1,INT(MOD(ROW(A10),ROW(A11)/4)),) -> Contrat-Client1 | B5: Contrat Client 1 | C5: =Feuil1!A$2 -> Client1 | D5: Renseignement | E5: Produit | F5: SLA_Renseignement
A6: =OFFSET(Feuil1!B$1,INT(MOD(ROW(A11),ROW(A12)/4)),) -> Contrat-Client2 | B6: Contrat Client 1 | C6: =Feuil1!A$3 -> Client2 | D6: Standard | E6: Produit | F6: SLA_Standard
A7: =OFFSET(Feuil1!B$1,INT(MOD(ROW(A12),ROW(A13)/4)),) -> Contrat-Client2 | B7: Contrat Client 1 | C7: =Feuil1!A$3 -> Client2 | D7: Incident | E7: Produit | F7: SLA_Incident
A8: =OFFSET(Feuil1!B$1,INT(MOD(ROW(A13),ROW(A14)/4)),) -> Contrat-Client2 | B8: Contrat Client 1 | C8: =Feuil1!A$3 -> Client2 | D8: Prestation | E8: Produit | F8: SLA_Prestation
A9: =OFFSET(Feuil1!B$1,INT(MOD(ROW(A14),ROW(A15)/4)),) -> Contrat-Client2 | B9: Contrat Client 1 | C9: =Feuil1!A$3 -> Client2 | D9: Renseignement | E9: Produit | F9: SLA_Renseignement
A10: =OFFSET(Feuil1!B$1,INT(MOD(ROW(A15),ROW(A16)/4)),) -> Contrat-Client3
A11: =OFFSET(Feuil1!B$1,INT(MOD(ROW(A16),ROW(A17)/4)),) -> Contrat-Client3
A12: =OFFSET(Feuil1!B$1,INT(MOD(ROW(A17),ROW(A18)/4)),) -> Contrat-Client3
A13: =OFFSET(Feuil1!B$1,INT(MOD(ROW(A18),ROW(A19)/4)),) -> Contrat-Client3
A14: =OFFSET(Feuil1!B$1,INT(MOD(ROW(A19),ROW(A20)/4)),) -> Contrat-Client4
A15: =OFFSET(Feuil1!B$1,INT(MOD(ROW(A20),ROW(A21)/4)),) -> Contrat-Client4
A16: =OFFSET(Feuil1!B$1,INT(MOD(ROW(A21),ROW(A22)/4)),) -> Contrat-Client4
A17: =OFFSET(Feuil1!B$1,INT(MOD(ROW(A22),ROW(A23)/4)),) -> Contrat-Client4
A18: =OFFSET(Feuil1!B$1,INT(MOD(ROW(A23),ROW(A24)/4)),) -> Contrat-Client5
A19: =OFFSET(Feuil1!B$1,INT(MOD(ROW(A24),ROW(A25)/4)),) -> Contrat-Client5
A20: =OFFSET(Feuil1!B$1,INT(MOD(ROW(A25),ROW(A26)/4)),) -> Contrat-Client5
A21: =OFFSET(Feuil1!B$1,INT(MOD(ROW(A26),ROW(A27)/4)),) -> Contrat-Client5
... A154: =OFFSET(Feuil1!B$1,INT(MOD(ROW(A159),ROW(A160)/4)),) -> Contrat-Client39
