Workbook

Sheet Quizz 1
A1: Utilisateur | B1: Questions | C1: Réponses
A2: thomas@exceleur.fr | B2: Q1 | C2: 1 | D2: =IF(A2=Récap!B$1,C2,"")
A3: thomas@exceleur.fr | B3: Q2 | C3: 4249 | D3: =IF(A3=Récap!B$1,C3,"")
A4: thomas@exceleur.fr | B4: Q3 | C4: 2134 | D4: =IF(A4=Récap!B$1,C4,"")
A5: thomas@exceleur.fr | B5: Q4 | C5: 2464 | D5: =IF(A5=Récap!B$1,C5,"")
A6: thomas@exceleur.fr | B6: Q5 | C6: 317 | D6: =IF(A6=Récap!B$1,C6,"")
A7: quizz@exceleur.fr | B7: Q1 | C7: 1 | D7: =IF(A7=Récap!B$1,C7,"")
A8: quizz@exceleur.fr | B8: Q2 | C8: 4974 | D8: =IF(A8=Récap!B$1,C8,"")
A9: quizz@exceleur.fr | B9: Q3 | C9: 1245 | D9: =IF(A9=Récap!B$1,C9,"")
A10: quizz@exceleur.fr | B10: Q4 | C10: 4331 | D10: =IF(A10=Récap!B$1,C10,"")
A11: quizz@exceleur.fr | B11: Q5 | C11: 3926 | D11: =IF(A11=Récap!B$1,C11,"")
A12: hello@exceleur.fr | B12: Q1 | C12: 1 | D12: =IF(A12=Récap!B$1,C12,"") -> 1
A13: hello@exceleur.fr | B13: Q2 | C13: 3277 | D13: =IF(A13=Récap!B$1,C13,"") -> 3277
... A21: test@exceleur.fr | B21: Q5 | C21: 149 | D21: =IF(A21=Récap!B$1,C21,"")
D22: =IF(A22=Récap!B$1,C22,"")
D23: =IF(A23=Récap!B$1,C23,"")
D24: =IF(A24=Récap!B$1,C24,"")
D25: =IF(A25=Récap!B$1,C25,"")
D26: =IF(A26=Récap!B$1,C26,"")
D27: =IF(A27=Récap!B$1,C27,"")
D28: =IF(A28=Récap!B$1,C28,"")
D29: =IF(A29=Récap!B$1,C29,"")
D30: =IF(A30=Récap!B$1,C30,"")
D31: =IF(A31=Récap!B$1,C31,"")
D32: =IF(A32=Récap!B$1,C32,"")
D33: =IF(A33=Récap!B$1,C33,"")
... D100: =IF(A100=Récap!B$1,C100,"")

Sheet Quizz 2
A1: Utilisateur | B1: Questions | C1: Réponses
A2: thomas@exceleur.fr | B2: Q1 | C2: 1 | D2: =IF(A2=Récap!B$1,C2,"")
A3: thomas@exceleur.fr | B3: Q7 | C3: 1810 | D3: =IF(A3=Récap!B$1,C3,"")
A4: thomas@exceleur.fr | B4: Q8 | C4: 4436 | D4: =IF(A4=Récap!B$1,C4,"")
A5: thomas@exceleur.fr | B5: Q9 | C5: 237 | D5: =IF(A5=Récap!B$1,C5,"")
A6: thomas@exceleur.fr | B6: Q10 | C6: 3280 | D6: =IF(A6=Récap!B$1,C6,"")
A7: quizz@exceleur.fr | B7: Q6 | C7: 66 | D7: =IF(A7=Récap!B$1,C7,"")
A8: quizz@exceleur.fr | B8: Q7 | C8: 543 | D8: =IF(A8=Récap!B$1,C8,"")
A9: quizz@exceleur.fr | B9: Q8 | C9: 2610 | D9: =IF(A9=Récap!B$1,C9,"")
A10: quizz@exceleur.fr | B10: Q9 | C10: 3580 | D10: =IF(A10=Récap!B$1,C10,"")
A11: quizz@exceleur.fr | B11: Q10 | C11: 3311 | D11: =IF(A11=Récap!B$1,C11,"")
A12: hello@exceleur.fr | B12: Q6 | C12: 4713 | D12: =IF(A12=Récap!B$1,C12,"") -> 4713
A13: hello@exceleur.fr | B13: Q7 | C13: 3853 | D13: =IF(A13=Récap!B$1,C13,"") -> 3853
... A21: test@exceleur.fr | B21: Q10 | C21: 790 | D21: =IF(A21=Récap!B$1,C21,"")
D22: =IF(A22=Récap!B$1,C22,"")
D23: =IF(A23=Récap!B$1,C23,"")
D24: =IF(A24=Récap!B$1,C24,"")
D25: =IF(A25=Récap!B$1,C25,"")
D26: =IF(A26=Récap!B$1,C26,"")
D27: =IF(A27=Récap!B$1,C27,"")
D28: =IF(A28=Récap!B$1,C28,"")
D29: =IF(A29=Récap!B$1,C29,"")
D30: =IF(A30=Récap!B$1,C30,"")
D31: =IF(A31=Récap!B$1,C31,"")
D32: =IF(A32=Récap!B$1,C32,"")
D33: =IF(A33=Récap!B$1,C33,"")
... D100: =IF(A100=Récap!B$1,C100,"")

Sheet Quizz 3
A1: Utilisateur | B1: Questions | C1: Réponses
A2: thomas@exceleur.fr | B2: Q1 | C2: 1 | D2: =IF(A2=Récap!B$1,C2,"")
A3: thomas@exceleur.fr | B3: Q12 | C3: 3750 | D3: =IF(A3=Récap!B$1,C3,"")
A4: thomas@exceleur.fr | B4: Q13 | C4: 2347 | D4: =IF(A4=Récap!B$1,C4,"")
A5: thomas@exceleur.fr | B5: Q14 | C5: 170 | D5: =IF(A5=Récap!B$1,C5,"")
A6: thomas@exceleur.fr | B6: Q1 | C6: 1 | D6: =IF(A6=Récap!B$1,C6,"")
A7: quizz@exceleur.fr | B7: Q11 | C7: 3806 | D7: =IF(A7=Récap!B$1,C7,"")
A8: quizz@exceleur.fr | B8: Q12 | C8: 4576 | D8: =IF(A8=Récap!B$1,C8,"")
A9: quizz@exceleur.fr | B9: Q13 | C9: 2079 | D9: =IF(A9=Récap!B$1,C9,"")
A10: quizz@exceleur.fr | B10: Q14 | C10: 3072 | D10: =IF(A10=Récap!B$1,C10,"")
A11: quizz@exceleur.fr | B11: Q15 | C11: 4045 | D11: =IF(A11=Récap!B$1,C11,"")
A12: hello@exceleur.fr | B12: Q11 | C12: 188 | D12: =IF(A12=Récap!B$1,C12,"") -> 188
A13: hello@exceleur.fr | B13: Q12 | C13: 953 | D13: =IF(A13=Récap!B$1,C13,"") -> 953
... A21: test@exceleur.fr | B21: Q15 | C21: 2378 | D21: =IF(A21=Récap!B$1,C21,"")
D22: =IF(A22=Récap!B$1,C22,"")
D23: =IF(A23=Récap!B$1,C23,"")
D24: =IF(A24=Récap!B$1,C24,"")
D25: =IF(A25=Récap!B$1,C25,"")
D26: =IF(A26=Récap!B$1,C26,"")
D27: =IF(A27=Récap!B$1,C27,"")
D28: =IF(A28=Récap!B$1,C28,"")
D29: =IF(A29=Récap!B$1,C29,"")
D30: =IF(A30=Récap!B$1,C30,"")
D31: =IF(A31=Récap!B$1,C31,"")
D32: =IF(A32=Récap!B$1,C32,"")
D33: =IF(A33=Récap!B$1,C33,"")
... D100: =IF(A100=Récap!B$1,C100,"")

Sheet Récap
A1: Utilisateur : | B1: hello@exceleur.fr | N1: Quizz 1
A2: Questions | B2: Réponses | L2: pas touche | N2: Quizz 2
A3: Q1 | B3: =SUMPRODUCT(SUMIF(INDIRECT("'"&N$1:N$3&"'!b1:b100"),A3,INDIRECT("'"&N$1:N$3&"'!d1:d100"))) -> 1 | N3: Quizz 3
A4: Q2 | B4: =SUMPRODUCT(SUMIF(INDIRECT("'"&N$1:N$3&"'!b1:b100"),A4,INDIRECT("'"&N$1:N$3&"'!d1:d100"))) -> 3277
A5: Q3 | B5: =SUMPRODUCT(SUMIF(INDIRECT("'"&N$1:N$3&"'!b1:b100"),A5,INDIRECT("'"&N$1:N$3&"'!d1:d100"))) -> 1914
A6: Q4 | B6: =SUMPRODUCT(SUMIF(INDIRECT("'"&N$1:N$3&"'!b1:b100"),A6,INDIRECT("'"&N$1:N$3&"'!d1:d100"))) -> 4034
A7: Q5 | B7: =SUMPRODUCT(SUMIF(INDIRECT("'"&N$1:N$3&"'!b1:b100"),A7,INDIRECT("'"&N$1:N$3&"'!d1:d100"))) -> 886 | N7: quizz@exceleur.fr
A8: Q6 | B8: =SUMPRODUCT(SUMIF(INDIRECT("'"&N$1:N$3&"'!b1:b100"),A8,INDIRECT("'"&N$1:N$3&"'!d1:d100"))) -> 4713 | N8: thomas@exceleur.fr
A9: Q7 | B9: =SUMPRODUCT(SUMIF(INDIRECT("'"&N$1:N$3&"'!b1:b100"),A9,INDIRECT("'"&N$1:N$3&"'!d1:d100"))) -> 3853 | N9: test@exceleur.fr
A10: Q8 | B10: =SUMPRODUCT(SUMIF(INDIRECT("'"&N$1:N$3&"'!b1:b100"),A10,INDIRECT("'"&N$1:N$3&"'!d1:d100"))) -> 196 | N10: hello@exceleur.fr
A11: Q9 | B11: =SUMPRODUCT(SUMIF(INDIRECT("'"&N$1:N$3&"'!b1:b100"),A11,INDIRECT("'"&N$1:N$3&"'!d1:d100"))) -> 1632
A12: Q10 | B12: =SUMPRODUCT(SUMIF(INDIRECT("'"&N$1:N$3&"'!b1:b100"),A12,INDIRECT("'"&N$1:N$3&"'!d1:d100"))) -> 4373
A13: Q11 | B13: =SUMPRODUCT(SUMIF(INDIRECT("'"&N$1:N$3&"'!b1:b100"),A13,INDIRECT("'"&N$1:N$3&"'!d1:d100"))) -> 188
A14: Q12 | B14: =SUMPRODUCT(SUMIF(INDIRECT("'"&N$1:N$3&"'!b1:b100"),A14,INDIRECT("'"&N$1:N$3&"'!d1:d100"))) -> 953
A15: Q13 | B15: =SUMPRODUCT(SUMIF(INDIRECT("'"&N$1:N$3&"'!b1:b100"),A15,INDIRECT("'"&N$1:N$3&"'!d1:d100"))) -> 4151
A16: Q14 | B16: =SUMPRODUCT(SUMIF(INDIRECT("'"&N$1:N$3&"'!b1:b100"),A16,INDIRECT("'"&N$1:N$3&"'!d1:d100"))) -> 1190
A17: Q15 | B17: =SUMPRODUCT(SUMIF(INDIRECT("'"&N$1:N$3&"'!b1:b100"),A17,INDIRECT("'"&N$1:N$3&"'!d1:d100"))) -> 3923
A18: Q16 | B18: =SUMPRODUCT(SUMIF(INDIRECT("'"&N$1:N$3&"'!b1:b100"),A18,INDIRECT("'"&N$1:N$3&"'!d1:d100"))) -> 0
A19: Q17 | B19: =SUMPRODUCT(SUMIF(INDIRECT("'"&N$1:N$3&"'!b1:b100"),A19,INDIRECT("'"&N$1:N$3&"'!d1:d100"))) -> 0
A20: Q18 | B20: =SUMPRODUCT(SUMIF(INDIRECT("'"&N$1:N$3&"'!b1:b100"),A20,INDIRECT("'"&N$1:N$3&"'!d1:d100"))) -> 0
A21: Q19 | B21: =SUMPRODUCT(SUMIF(INDIRECT("'"&N$1:N$3&"'!b1:b100"),A21,INDIRECT("'"&N$1:N$3&"'!d1:d100"))) -> 0
A22: Q20 | B22: =SUMPRODUCT(SUMIF(INDIRECT("'"&N$1:N$3&"'!b1:b100"),A22,INDIRECT("'"&N$1:N$3&"'!d1:d100"))) -> 0
... A43: Q41 | B43: =SUMPRODUCT(SUMIF(INDIRECT("'"&N$1:N$3&"'!b1:b100"),A43,INDIRECT("'"&N$1:N$3&"'!d1:d100"))) -> 0
B44: =SUMPRODUCT(SUMIF(INDIRECT("'"&N$1:N$3&"'!b1:b100"),A44,INDIRECT("'"&N$1:N$3&"'!c1:c100"))) -> 0
B45: =SUMPRODUCT(SUMIF(INDIRECT("'"&N$1:N$3&"'!b1:b100"),A45,INDIRECT("'"&N$1:N$3&"'!c1:c100"))) -> 0
B46: =SUMPRODUCT(SUMIF(INDIRECT("'"&N$1:N$3&"'!b1:b100"),A46,INDIRECT("'"&N$1:N$3&"'!c1:c100"))) -> 0
B47: =SUMPRODUCT(SUMIF(INDIRECT("'"&N$1:N$3&"'!b1:b100"),A47,INDIRECT("'"&N$1:N$3&"'!c1:c100"))) -> 0
B48: =SUMPRODUCT(SUMIF(INDIRECT("'"&N$1:N$3&"'!b1:b100"),A48,INDIRECT("'"&N$1:N$3&"'!c1:c100"))) -> 0
