Workbook
Name tablo: Balance!$O$2:$AD$4
Name transpo: OFFSET(Balance!$AF$2,,,COUNT(Balance!$AF:$AF))

Sheet Plan de Comptes
A5: Nº | B5: Compte | C5: Intitulé | D5: Description
A6: =IF(Tableau2[[#This Row],[Compte]]="","",ROW()-5) -> 1 | B6: 103000 | C6: Capital Personnel
A7: =IF(Tableau2[[#This Row],[Compte]]="","",ROW()-5) -> 2 | B7: 104200 | C7: Cpte de l'exploitant-opé Courantes
A8: =IF(Tableau2[[#This Row],[Compte]]="","",ROW()-5) -> 3 | B8: 224100 | C8: Ordinateur Portable
A9: =IF(Tableau2[[#This Row],[Compte]]="","",ROW()-5) -> 4 | B9: 401100 | C9: Fr. Dettes en Compte
A10: =IF(Tableau2[[#This Row],[Compte]]="","",ROW()-5) -> 5 | B10: 411100 | C10: Clts & Cptes Rattaché
A11: =IF(Tableau2[[#This Row],[Compte]]="","",ROW()-5) -> 6 | B11: 422000 | C11: Personnel
A12: =IF(Tableau2[[#This Row],[Compte]]="","",ROW()-5) -> 7 | B12: 485000 | C12: Frs d'investissement
A13: =IF(Tableau2[[#This Row],[Compte]]="","",ROW()-5) -> 8 | B13: 521100 | C13: Banque BaoBab
A14: =IF(Tableau2[[#This Row],[Compte]]="","",ROW()-5) -> 9 | B14: 571100 | C14: Caisse
A15: =IF(Tableau2[[#This Row],[Compte]]="","",ROW()-5) -> 10 | B15: 585000 | C15: Virement
A16: =IF(Tableau2[[#This Row],[Compte]]="","",ROW()-5) -> 11 | B16: 601500 | C16: Frais de transport
A17: =IF(Tableau2[[#This Row],[Compte]]="","",ROW()-5) -> 12 | B17: 602100 | C17: Achat de semences
... A29: =IF(Tableau2[[#This Row],[Compte]]="","",ROW()-5) -> 24 | B29: 702110 | C29: Ventes Gombo

Sheet J. Achats
A1: Journal des Achats | T1: Récapitulatif
P3: =SUM(OFFSET(P6,,,COUNTA(P6:P1000))) -> #NAME? | W3: =SUM(OFFSET(W6,,,COUNTA(W6:W1000))) -> #NAME?
A5: Nº | B5: Date | C5: Nº P.C | D5: Nº Fact. | E5: Nº Compte | F5: ⅓ | G5: Intitulé | H5: Libellés | I5: Débit | J5: Crédit | K5: Solde | L5: Observation | N5: Nº | O5: Compte ⅓ | P5: Montant | Q5: Solde | T5: Nº | U5: Nº Compte | V5: Libellés | W5: Débit | X5: Crédit | Y5: Solde
A6: =IF('J. Achats'!$B6="","", ROW()-5) -> 1 | B6: 44591 | C6: ="P"&1 -> P1 | E6: 605400 | G6: =IFERROR(IF('J. Achats'!$E6="","",INDEX(Tableau2[#All],MATCH('J. Achats'!$E6,Tableau2[[#All],[Compte]],0),3)),"Renseigner Nº Compte") -> Engrais | H6: Achat de Npk 12.22.22 (1kg) | I6: 500 | K6: =IF(SUMIF(E$6:E6,E6,I$6:I6)-SUMIF(E$6:E6,E6,J$6:J6)<0,ABS(SUMIF(E$6:E6,E6,I$6:I6)-SUMIF(E$6:E6,E6,J$6:J6)),SUMIF(E$6:E6,E6,I$6:I6)-SUMIF(E$6:E6,E6,J$6:J6)) -> 500 | N6: =IF(O6="","",ROW()-5) -> #NAME? | O6: {=IF(_xlfn._xlws.SORT(_xlfn.UNIQUE('J. Achats'!$F$6:$F$11),1)=0,"",_xlfn._xlws.SORT(_xlfn.UNIQUE('J. Achats'!$F$6:$F$11),1))} -> #NAME? | P6: =IF(O6="","",SUMIF('J. Achats'!$F$6:$F$11,O6,'J. Achats'!$J$6:$J$11)) -> #NAME? | Q6: =P6-SUMIF('J. Caisse'!$E$6:$E$34,O6,'J. Caisse'!$H$6:$H$34) -> #NAME? | T6: =IF(U6="","",ROW()-5) -> #NAME? | U6: {=IF(_xlfn._xlws.SORT(_xlfn.UNIQUE('J. Achats'!$E$6:$E$11),1)=0,"",_xlfn._xlws.SORT(_xlfn.UNIQUE('J. Achats'!$E$6:$E$11),1))} -> #NAME? | V6: =IF(U6="","",INDEX(Tableau2[],MATCH(U6,Tableau2[Compte],0),3)) -> #NAME? | W6: =IF(U6="","",SUMIF('J. Achats'!$E$6:$E$11,U6,'J. Achats'!$J$6:$J$11)) -> #NAME? | Y6: =IF(U6="","",IF(OR(U6="",W6=""),"",ABS(W6-X6))) -> #NAME? | AA6: =IFERROR(IF(INDEX('J. Caisse'!#REF!,MATCH(U6,'J. Caisse'!#REF!,0),6)<>Y6,"Revoir les enregistrements",""),"")
A7: =IF('J. Achats'!$B7="","", ROW()-5) -> 2 | B7: 44591 | C7: ="P"&1 -> P1 | E7: 605410 | G7: =IFERROR(IF('J. Achats'!$E7="","",INDEX(Tableau2[#All],MATCH('J. Achats'!$E7,Tableau2[[#All],[Compte]],0),3)),"Renseigner Nº Compte") -> Insecticide | H7: Achat jardin 100 ec | I7: 500 | K7: =IF(SUMIF(E$6:E7,E7,I$6:I7)-SUMIF(E$6:E7,E7,J$6:J7)<0,ABS(SUMIF(E$6:E7,E7,I$6:I7)-SUMIF(E$6:E7,E7,J$6:J7)),SUMIF(E$6:E7,E7,I$6:I7)-SUMIF(E$6:E7,E7,J$6:J7)) -> 500 | N7: =IF(O7="","",ROW()-5) -> #NAME? | O7: #NAME? | P7: =IF(O7="","",SUMIF('J. Achats'!$F$6:$F$11,O7,'J. Achats'!$J$6:$J$11)) -> #NAME? | Q7: =P7-SUMIF('J. Caisse'!$E$6:$E$34,O7,'J. Caisse'!$H$6:$H$34) -> #NAME? | T7: =IF(U7="","",ROW()-5) -> #NAME? | U7: #NAME? | V7: =IF(U7="","",INDEX(Tableau2[],MATCH(U7,Tableau2[Compte],0),3)) -> #NAME? | W7: =IF(U7="","",SUMIF('J. Achats'!$E$6:$E$11,U7,'J. Achats'!$J$6:$J$11)) -> #NAME? | Y7: =IF(U7="","",IF(OR(U7="",W7=""),"",ABS(W7-X7))) -> #NAME? | AA7: =IFERROR(IF(INDEX('J. Caisse'!#REF!,MATCH(U7,'J. Caisse'!#REF!,0),6)<>Y7,"Revoir les enregistrements",""),"")
A8: =IF('J. Achats'!$B8="","", ROW()-5) -> 3 | B8: 44591 | C8: ="P"&1 -> P1 | E8: 605420 | G8: =IFERROR(IF('J. Achats'!$E8="","",INDEX(Tableau2[#All],MATCH('J. Achats'!$E8,Tableau2[[#All],[Compte]],0),3)),"Renseigner Nº Compte") -> Fongicide | H8: Achat Ivory 80 wp | I8: 500 | K8: =IF(SUMIF(E$6:E8,E8,I$6:I8)-SUMIF(E$6:E8,E8,J$6:J8)<0,ABS(SUMIF(E$6:E8,E8,I$6:I8)-SUMIF(E$6:E8,E8,J$6:J8)),SUMIF(E$6:E8,E8,I$6:I8)-SUMIF(E$6:E8,E8,J$6:J8)) -> 500 | N8: =IF(O8="","",ROW()-5) | P8: =IF(O8="","",SUMIF('J. Achats'!$F$6:$F$11,O8,'J. Achats'!$J$6:$J$11)) | Q8: =P8-SUMIF('J. Caisse'!$E$6:$E$34,O8,'J. Caisse'!$H$6:$H$34) -> #VALUE! | T8: =IF(U8="","",ROW()-5) -> #NAME? | U8: #NAME? | V8: =IF(U8="","",INDEX(Tableau2[],MATCH(U8,Tableau2[Compte],0),3)) -> #NAME? | W8: =IF(U8="","",SUMIF('J. Achats'!$E$6:$E$11,U8,'J. Achats'!$J$6:$J$11)) -> #NAME? | Y8: =IF(U8="","",IF(OR(U8="",W8=""),"",ABS(W8-X8))) -> #NAME? | AA8: =IFERROR(IF(INDEX('J. Caisse'!#REF!,MATCH(U8,'J. Caisse'!#REF!,0),6)<>Y8,"Revoir les enregistrements",""),"")
A9: =IF('J. Achats'!$B9="","", ROW()-5) -> 4 | B9: 44591 | C9: ="P"&1 -> P1 | E9: 601500 | G9: =IFERROR(IF('J. Achats'!$E9="","",INDEX(Tableau2[#All],MATCH('J. Achats'!$E9,Tableau2[[#All],[Compte]],0),3)),"Renseigner Nº Compte") -> Frais de transport | H9: Transport AR petit marché | I9: 400 | K9: =IF(SUMIF(E$6:E9,E9,I$6:I9)-SUMIF(E$6:E9,E9,J$6:J9)<0,ABS(SUMIF(E$6:E9,E9,I$6:I9)-SUMIF(E$6:E9,E9,J$6:J9)),SUMIF(E$6:E9,E9,I$6:I9)-SUMIF(E$6:E9,E9,J$6:J9)) -> 400 | N9: =IF(O9="","",ROW()-5) | P9: =IF(O9="","",SUMIF('J. Achats'!$F$6:$F$11,O9,'J. Achats'!$J$6:$J$11)) | Q9: =P9-SUMIF('J. Caisse'!$E$6:$E$34,O9,'J. Caisse'!$H$6:$H$34) -> #VALUE! | T9: =IF(U9="","",ROW()-5) -> #NAME? | U9: #NAME? | V9: =IF(U9="","",INDEX(Tableau2[],MATCH(U9,Tableau2[Compte],0),3)) -> #NAME? | W9: =IF(U9="","",SUMIF('J. Achats'!$E$6:$E$11,U9,'J. Achats'!$J$6:$J$11)) -> #NAME? | Y9: =IF(U9="","",IF(OR(U9="",W9=""),"",ABS(W9-X9))) -> #NAME? | AA9: =IFERROR(IF(INDEX('J. Caisse'!#REF!,MATCH(U9,'J. Caisse'!#REF!,0),6)<>Y9,"Revoir les enregistrements",""),"")
A10: =IF('J. Achats'!$B10="","", ROW()-5) -> 5 | B10: 44591 | C10: ="P"&1 -> P1 | E10: 401100 | F10: 401Divers | G10: =IFERROR(IF('J. Achats'!$E10="","",INDEX(Tableau2[#All],MATCH('J. Achats'!$E10,Tableau2[[#All],[Compte]],0),3)),"Renseigner Nº Compte") -> Fr. Dettes en Compte | H10: Achat de produits phytosanitaires | J10: 1900 | K10: =IF(SUMIF(E$6:E10,E10,I$6:I10)-SUMIF(E$6:E10,E10,J$6:J10)<0,ABS(SUMIF(E$6:E10,E10,I$6:I10)-SUMIF(E$6:E10,E10,J$6:J10)),SUMIF(E$6:E10,E10,I$6:I10)-SUMIF(E$6:E10,E10,J$6:J10)) -> 1900 | N10: =IF(O10="","",ROW()-5) | P10: =IF(O10="","",SUMIF('J. Achats'!$F$6:$F$11,O10,'J. Achats'!$J$6:$J$11)) | Q10: =P10-SUMIF('J. Caisse'!$E$6:$E$34,O10,'J. Caisse'!$H$6:$H$34) -> #VALUE! | T10: =IF(U10="","",ROW()-5) -> #NAME? | U10: #NAME? | V10: =IF(U10="","",INDEX(Tableau2[],MATCH(U10,Tableau2[Compte],0),3)) -> #NAME? | W10: =IF(U10="","",SUMIF('J. Achats'!$E$6:$E$11,U10,'J. Achats'!$J$6:$J$11)) -> #NAME? | Y10: =IF(U10="","",IF(OR(U10="",W10=""),"",ABS(W10-X10))) -> #NAME? | AA10: =IFERROR(IF(INDEX('J. Caisse'!#REF!,MATCH(U10,'J. Caisse'!#REF!,0),6)<>Y10,"Revoir les enregistrements",""),"")
A11: =IF('J. Achats'!$B11="","", ROW()-5) | G11: =IFERROR(IF('J. Achats'!$E11="","",INDEX(Tableau2[#All],MATCH('J. Achats'!$E11,Tableau2[[#All],[Compte]],0),3)),"Renseigner Nº Compte") | K11: =IF(SUMIF(E$6:E11,E11,I$6:I11)-SUMIF(E$6:E11,E11,J$6:J11)<0,ABS(SUMIF(E$6:E11,E11,I$6:I11)-SUMIF(E$6:E11,E11,J$6:J11)),SUMIF(E$6:E11,E11,I$6:I11)-SUMIF(E$6:E11,E11,J$6:J11)) -> 0 | N11: =IF(O11="","",ROW()-5) | P11: =IF(O11="","",SUMIF('J. Achats'!$F$6:$F$11,O11,'J. Achats'!$J$6:$J$11)) | Q11: =P11-SUMIF('J. Caisse'!$E$6:$E$34,O11,'J. Caisse'!$H$6:$H$34) -> #VALUE! | T11: =IF(U11="","",ROW()-5) -> #NAME? | U11: #NAME? | V11: =IF(U11="","",INDEX(Tableau2[],MATCH(U11,Tableau2[Compte],0),3)) -> #NAME? | W11: =IF(U11="","",SUMIF('J. Achats'!$E$6:$E$11,U11,'J. Achats'!$J$6:$J$11)) -> #NAME? | Y11: =IF(U11="","",IF(OR(U11="",W11=""),"",ABS(W11-X11))) -> #NAME? | AA11: =IFERROR(IF(INDEX('J. Caisse'!#REF!,MATCH(U11,'J. Caisse'!#REF!,0),6)<>Y11,"Revoir les enregistrements",""),"")
N12: =IF(O12="","",ROW()-5) | P12: =IF(O12="","",SUMIF('J. Achats'!$F$6:$F$11,O12,'J. Achats'!$J$6:$J$11)) | T12: =IF(U12="","",ROW()-5) | V12: =IF(U12="","",INDEX(Tableau2[],MATCH(U12,Tableau2[Compte],0),3)) | W12: =IF(U12="","",SUMIF('J. Achats'!$E$6:$E$11,U12,'J. Achats'!$J$6:$J$11)) | Y12: =IF(U12="","",IF(OR(U12="",W12=""),"",ABS(W12-X12))) | AA12: =IFERROR(IF(INDEX('J. Caisse'!#REF!,MATCH(U12,'J. Caisse'!#REF!,0),6)<>Y12,"Revoir les enregistrements",""),"")
N13: =IF(O13="","",ROW()-5) | P13: =IF(O13="","",SUMIF('J. Achats'!$F$6:$F$11,O13,'J. Achats'!$J$6:$J$11)) | T13: =IF(U13="","",ROW()-5) | V13: =IF(U13="","",INDEX(Tableau2[],MATCH(U13,Tableau2[Compte],0),3)) | W13: =IF(U13="","",SUMIF('J. Achats'!$E$6:$E$11,U13,'J. Achats'!$J$6:$J$11)) | Y13: =IF(U13="","",IF(OR(U13="",W13=""),"",ABS(W13-X13))) | AA13: =IFERROR(IF(INDEX('J. Caisse'!#REF!,MATCH(U13,'J. Caisse'!#REF!,0),6)<>Y13,"Revoir les enregistrements",""),"")
N14: =IF(O14="","",ROW()-5) | P14: =IF(O14="","",SUMIF('J. Achats'!$F$6:$F$11,O14,'J. Achats'!$J$6:$J$11)) | T14: =IF(U14="","",ROW()-5) | V14: =IF(U14="","",INDEX(Tableau2[],MATCH(U14,Tableau2[Compte],0),3)) | W14: =IF(U14="","",SUMIF('J. Achats'!$E$6:$E$11,U14,'J. Achats'!$J$6:$J$11)) | Y14: =IF(U14="","",IF(OR(U14="",W14=""),"",ABS(W14-X14))) | AA14: =IFERROR(IF(INDEX('J. Caisse'!#REF!,MATCH(U14,'J. Caisse'!#REF!,0),6)<>Y14,"Revoir les enregistrements",""),"")
N15: =IF(O15="","",ROW()-5) | P15: =IF(O15="","",SUMIF('J. Achats'!$F$6:$F$11,O15,'J. Achats'!$J$6:$J$11)) | T15: =IF(U15="","",ROW()-5) | V15: =IF(U15="","",INDEX(Tableau2[],MATCH(U15,Tableau2[Compte],0),3)) | W15: =IF(U15="","",SUMIF('J. Achats'!$E$6:$E$11,U15,'J. Achats'!$J$6:$J$11)) | Y15: =IF(U15="","",IF(OR(U15="",W15=""),"",ABS(W15-X15))) | AA15: =IFERROR(IF(INDEX('J. Caisse'!#REF!,MATCH(U15,'J. Caisse'!#REF!,0),6)<>Y15,"Revoir les enregistrements",""),"")
N16: =IF(O16="","",ROW()-5) | P16: =IF(O16="","",SUMIF('J. Achats'!$F$6:$F$11,O16,'J. Achats'!$J$6:$J$11)) | T16: =IF(U16="","",ROW()-5) | V16: =IF(U16="","",INDEX(Tableau2[],MATCH(U16,Tableau2[Compte],0),3)) | W16: =IF(U16="","",SUMIF('J. Achats'!$E$6:$E$11,U16,'J. Achats'!$J$6:$J$11)) | Y16: =IF(U16="","",IF(OR(U16="",W16=""),"",ABS(W16-X16))) | AA16: =IFERROR(IF(INDEX('J. Caisse'!#REF!,MATCH(U16,'J. Caisse'!#REF!,0),6)<>Y16,"Revoir les enregistrements",""),"")
N17: =IF(O17="","",ROW()-5) | P17: =IF(O17="","",SUMIF('J. Achats'!$F$6:$F$11,O17,'J. Achats'!$J$6:$J$11)) | T17: =IF(U17="","",ROW()-5) | V17: =IF(U17="","",INDEX(Tableau2[],MATCH(U17,Tableau2[Compte],0),3)) | W17: =IF(U17="","",SUMIF('J. Achats'!$E$6:$E$11,U17,'J. Achats'!$J$6:$J$11)) | Y17: =IF(U17="","",IF(OR(U17="",W17=""),"",ABS(W17-X17))) | AA17: =IFERROR(IF(INDEX('J. Caisse'!#REF!,MATCH(U17,'J. Caisse'!#REF!,0),6)<>Y17,"Revoir les enregistrements",""),"")
N18: =IF(O18="","",ROW()-5) | P18: =IF(O18="","",SUMIF('J. Achats'!$F$6:$F$11,O18,'J. Achats'!$J$6:$J$11)) | T18: =IF(U18="","",ROW()-5) | V18: =IF(U18="","",INDEX(Tableau2[],MATCH(U18,Tableau2[Compte],0),3)) | W18: =IF(U18="","",SUMIF('J. Achats'!$E$6:$E$11,U18,'J. Achats'!$J$6:$J$11)) | Y18: =IF(U18="","",IF(OR(U18="",W18=""),"",ABS(W18-X18))) | AA18: =IFERROR(IF(INDEX('J. Caisse'!#REF!,MATCH(U18,'J. Caisse'!#REF!,0),6)<>Y18,"Revoir les enregistrements",""),"")
N19: =IF(O19="","",ROW()-5) | P19: =IF(O19="","",SUMIF('J. Achats'!$F$6:$F$11,O19,'J. Achats'!$J$6:$J$11)) | T19: =IF(U19="","",ROW()-5) | V19: =IF(U19="","",INDEX(Tableau2[],MATCH(U19,Tableau2[Compte],0),3)) | W19: =IF(U19="","",SUMIF('J. Achats'!$E$6:$E$11,U19,'J. Achats'!$J$6:$J$11)) | Y19: =IF(U19="","",IF(OR(U19="",W19=""),"",ABS(W19-X19))) | AA19: =IFERROR(IF(INDEX('J. Caisse'!#REF!,MATCH(U19,'J. Caisse'!#REF!,0),6)<>Y19,"Revoir les enregistrements",""),"")
N20: =IF(O20="","",ROW()-5) | P20: =IF(O20="","",SUMIF('J. Achats'!$F$6:$F$11,O20,'J. Achats'!$J$6:$J$11)) | T20: =IF(U20="","",ROW()-5) | V20: =IF(U20="","",INDEX(Tableau2[],MATCH(U20,Tableau2[Compte],0),3)) | W20: =IF(U20="","",SUMIF('J. Achats'!$E$6:$E$11,U20,'J. Achats'!$J$6:$J$11)) | Y20: =IF(U20="","",IF(OR(U20="",W20=""),"",ABS(W20-X20))) | AA20: =IFERROR(IF(INDEX('J. Caisse'!#REF!,MATCH(U20,'J. Caisse'!#REF!,0),6)<>Y20,"Revoir les enregistrements",""),"")
N21: =IF(O21="","",ROW()-5) | P21: =IF(O21="","",SUMIF('J. Achats'!$F$6:$F$11,O21,'J. Achats'!$J$6:$J$11)) | T21: =IF(U21="","",ROW()-5) | V21: =IF(U21="","",INDEX(Tableau2[],MATCH(U21,Tableau2[Compte],0),3)) | W21: =IF(U21="","",SUMIF('J. Achats'!$E$6:$E$11,U21,'J. Achats'!$J$6:$J$11)) | Y21: =IF(U21="","",IF(OR(U21="",W21=""),"",ABS(W21-X21))) | AA21: =IFERROR(IF(INDEX('J. Caisse'!#REF!,MATCH(U21,'J. Caisse'!#REF!,0),6)<>Y21,"Revoir les enregistrements",""),"")
N22: =IF(O22="","",ROW()-5) | P22: =IF(O22="","",SUMIF('J. Achats'!$F$6:$F$11,O22,'J. Achats'!$J$6:$J$11)) | T22: =IF(U22="","",ROW()-5) | V22: =IF(U22="","",INDEX(Tableau2[],MATCH(U22,Tableau2[Compte],0),3)) | W22: =IF(U22="","",SUMIF('J. Achats'!$E$6:$E$11,U22,'J. Achats'!$J$6:$J$11)) | Y22: =IF(U22="","",IF(OR(U22="",W22=""),"",ABS(W22-X22))) | AA22: =IFERROR(IF(INDEX('J. Caisse'!#REF!,MATCH(U22,'J. Caisse'!#REF!,0),6)<>Y22,"Revoir les enregistrements",""),"")
N23: =IF(O23="","",ROW()-5) | P23: =IF(O23="","",SUMIF('J. Achats'!$F$6:$F$11,O23,'J. Achats'!$J$6:$J$11)) | T23: =IF(U23="","",ROW()-5) | V23: =IF(U23="","",INDEX(Tableau2[],MATCH(U23,Tableau2[Compte],0),3)) | W23: =IF(U23="","",SUMIF('J. Achats'!$E$6:$E$11,U23,'J. Achats'!$J$6:$J$11)) | Y23: =IF(U23="","",IF(OR(U23="",W23=""),"",ABS(W23-X23))) | AA23: =IFERROR(IF(INDEX('J. Caisse'!#REF!,MATCH(U23,'J. Caisse'!#REF!,0),6)<>Y23,"Revoir les enregistrements",""),"")
... N58: =IF(O58="","",ROW()-5) | P58: =IF(O58="","",SUMIF('J. Achats'!$F$6:$F$11,O58,'J. Achats'!$J$6:$J$11)) | T58: =IF(U58="","",ROW()-5) | V58: =IF(U58="","",INDEX(Tableau2[],MATCH(U58,Tableau2[Compte],0),3)) | W58: =IF(U58="","",SUMIF('J. Achats'!$E$6:$E$11,U58,'J. Achats'!$J$6:$J$11)) | Y58: =IF(U58="","",IF(OR(U58="",W58=""),"",ABS(W58-X58))) | AA58: =IFERROR(IF(INDEX('J. Caisse'!#REF!,MATCH(U58,'J. Caisse'!#REF!,0),6)<>Y58,"Revoir les enregistrements",""),"")
N59: =IF(O59="","",ROW()-5) | P59: =IF(O59="","",SUMIF('J. Achats'!$F$6:$F$11,O59,'J. Achats'!$J$6:$J$11)) | T59: =IF(U59="","",ROW()-5) | V59: =IF(U59="","",INDEX(Tableau2[],MATCH(U59,Tableau2[Compte],0),3)) | W59: =IF(U59="","",SUMIF('J. Achats'!$E$6:$E$11,U59,'J. Achats'!$J$6:$J$11)) | AA59: =IFERROR(IF(INDEX('J. Caisse'!#REF!,MATCH(U59,'J. Caisse'!#REF!,0),6)<>Y59,"Revoir les enregistrements",""),"")
N60: =IF(O60="","",ROW()-5) | P60: =IF(O60="","",SUMIF('J. Achats'!$F$6:$F$11,O60,'J. Achats'!$J$6:$J$11)) | T60: =IF(U60="","",ROW()-5) | V60: =IF(U60="","",INDEX(Tableau2[],MATCH(U60,Tableau2[Compte],0),3)) | W60: =IF(U60="","",SUMIF('J. Achats'!$E$6:$E$11,U60,'J. Achats'!$J$6:$J$11)) | AA60: =IFERROR(IF(INDEX('J. Caisse'!#REF!,MATCH(U60,'J. Caisse'!#REF!,0),6)<>Y60,"Revoir les enregistrements",""),"")
N61: =IF(O61="","",ROW()-5) | P61: =IF(O61="","",SUMIF('J. Achats'!$F$6:$F$11,O61,'J. Achats'!$J$6:$J$11)) | T61: =IF(U61="","",ROW()-5) | V61: =IF(U61="","",INDEX(Tableau2[],MATCH(U61,Tableau2[Compte],0),3)) | W61: =IF(U61="","",SUMIF('J. Achats'!$E$6:$E$11,U61,'J. Achats'!$J$6:$J$11)) | AA61: =IFERROR(IF(INDEX('J. Caisse'!#REF!,MATCH(U61,'J. Caisse'!#REF!,0),6)<>Y61,"Revoir les enregistrements",""),"")
N62: =IF(O62="","",ROW()-5) | P62: =IF(O62="","",SUMIF('J. Achats'!$F$6:$F$11,O62,'J. Achats'!$J$6:$J$11)) | T62: =IF(U62="","",ROW()-5) | V62: =IF(U62="","",INDEX(Tableau2[],MATCH(U62,Tableau2[Compte],0),3)) | W62: =IF(U62="","",SUMIF('J. Achats'!$E$6:$E$11,U62,'J. Achats'!$J$6:$J$11)) | AA62: =IFERROR(IF(INDEX('J. Caisse'!#REF!,MATCH(U62,'J. Caisse'!#REF!,0),6)<>Y62,"Revoir les enregistrements",""),"")
N63: =IF(O63="","",ROW()-5) | T63: =IF(U63="","",ROW()-5)
N64: =IF(O64="","",ROW()-5) | T64: =IF(U64="","",ROW()-5)
N65: =IF(O65="","",ROW()-5) | T65: =IF(U65="","",ROW()-5)
N66: =IF(O66="","",ROW()-5) | T66: =IF(U66="","",ROW()-5)
N67: =IF(O67="","",ROW()-5) | T67: =IF(U67="","",ROW()-5)
N68: =IF(O68="","",ROW()-5) | T68: =IF(U68="","",ROW()-5)
N69: =IF(O69="","",ROW()-5) | T69: =IF(U69="","",ROW()-5)
N70: =IF(O70="","",ROW()-5) | T70: =IF(U70="","",ROW()-5)
N71: =IF(O71="","",ROW()-5) | T71: =IF(U71="","",ROW()-5)
N72: =IF(O72="","",ROW()-5) | T72: =IF(U72="","",ROW()-5)
N73: =IF(O73="","",ROW()-5) | T73: =IF(U73="","",ROW()-5)
N74: =IF(O74="","",ROW()-5) | T74: =IF(U74="","",ROW()-5)
... N85: =IF(O85="","",ROW()-5) | T85: =IF(U85="","",ROW()-5)
T86: =IF(U86="","",ROW()-5)
...

Sheet J. Caisse
A1: {="Journal de Caisse"&" du "&TEXT(B8,"jj-mmm-aa")&" au "&OFFSET(B8,COUNTA(B8:B19983),,)} -> Journal de Caisse du 30-janv-22 au
A5: Nº | B5: Date | C5: Nº P.C | D5: Nº Compte | E5: ⅓ | F5: Intitulé | G5: Libellés | H5: Débit | I5: Crédit
A6: =IF('J. Caisse'!$B6="","", ROW()-5) -> 1 | B6: 44591 | D6: 571100 | F6: =IFERROR(INDEX(Tableau2[#All],MATCH('J. Caisse'!$D6,Tableau2[[#All],[Compte]],0),3),"Renseigner Nº Compte") -> Caisse | G6: Appro Caisse de fonctionnement | H6: 1900
A7: =IF('J. Caisse'!$B7="","", ROW()-5) -> 2 | B7: 44591 | D7: 104200 | F7: =IFERROR(INDEX(Tableau2[#All],MATCH('J. Caisse'!$D7,Tableau2[[#All],[Compte]],0),3),"Renseigner Nº Compte") -> Cpte de l'exploitant-opé Courantes | G7: Appro Caisse de fonctionnement | I7: 1900
A8: =IF('J. Caisse'!$B8="","", ROW()-5) -> 3 | B8: 44591 | C8: P1 | D8: 401100 | E8: 411Divers | F8: =IFERROR(INDEX(Tableau2[#All],MATCH('J. Caisse'!$D8,Tableau2[[#All],[Compte]],0),3),"Renseigner Nº Compte") -> Fr. Dettes en Compte | G8: Règlement Produit phytosanitaires | H8: 1900
A9: =IF('J. Caisse'!$B9="","", ROW()-5) -> 4 | B9: 44591 | C9: P1 | D9: 571100 | F9: =IFERROR(INDEX(Tableau2[#All],MATCH('J. Caisse'!$D9,Tableau2[[#All],[Compte]],0),3),"Renseigner Nº Compte") -> Caisse | G9: Règlement Produit phytosanitaires | I9: 1900
A10: =IF('J. Caisse'!$B10="","", ROW()-5)
A11: =IF('J. Caisse'!$B11="","", ROW()-5)
A12: =IF('J. Caisse'!$B12="","", ROW()-5)
A13: =IF('J. Caisse'!$B13="","", ROW()-5)
A14: =IF('J. Caisse'!$B14="","", ROW()-5)
A15: =IF('J. Caisse'!$B15="","", ROW()-5)
A16: =IF('J. Caisse'!$B16="","", ROW()-5)
A17: =IF('J. Caisse'!$B17="","", ROW()-5)
A18: =IF('J. Caisse'!$B18="","", ROW()-5)
A19: =IF('J. Caisse'!$B19="","", ROW()-5)
A20: =IF('J. Caisse'!$B20="","", ROW()-5)
A21: =IF('J. Caisse'!$B21="","", ROW()-5)
... A34: =IF('J. Caisse'!$B34="","", ROW()-5)

Sheet J. Ventes
A1: Journal des Ventes | S1: Récapitulatif
A5: Nº | B5: Date | C5: Nº P.C | D5: Nº Compte | E5: Compte ⅓ | F5: Intitulé | G5: Libellés | H5: Débit | I5: Crédit | J5: Solde | K5: Observation | M5: Nº | N5: Compte ⅓ | O5: Montant | P5: Solde | S5: Nº | T5: Nº Compte | U5: Libellés | V5: Débit | W5: Crédit | X5: Solde
A6: =IF('J. Ventes'!$B6="","",ROW()-5) -> 1 | B6: 44604 | C6: FV001 | D6: 411100 | E6: 411SALI | F6: =IFERROR(IF('J. Ventes'!$D6="","",INDEX(Tableau2[#All],MATCH('J. Ventes'!$D6,Tableau2[[#All],[Compte]],0),3)),"Compte Inexistant") -> Clts & Cptes Rattaché | G6: Vente de Tomates | H6: 65000 | J6: =SUMIF($D$6:D6,D6,$I$6:I6) -> 0 | M6: =IF(N6="","",ROW()-5) | O6: =IF(N6="","",SUMIF($E$6:$E$998,N6,$I$6:$I$998)) | P6: =IF(N6="","",O6-SUMIF('J. Caisse'!$E$6:$E$34,N6,'J. Caisse'!$H$6:$H$34))
A7: =IF('J. Ventes'!$B7="","",ROW()-5) -> 2 | B7: 44604 | C7: FV001 | D7: 702100 | F7: =IFERROR(IF('J. Ventes'!$D7="","",INDEX(Tableau2[#All],MATCH('J. Ventes'!$D7,Tableau2[[#All],[Compte]],0),3)),"Compte Inexistant") -> Ventes Tomates | G7: Vente de Tomates | I7: 65000 | J7: =SUMIF($D$7:D7,D7,$I$6:I6) -> 0 | M7: =IF(N7="","",ROW()-5) -> #NAME? | N7: {=IF(_xlfn._xlws.SORT(_xlfn.UNIQUE(E6:E998),1)=0,"",_xlfn._xlws.SORT(_xlfn.UNIQUE(E6:E998),1))} -> #NAME? | O7: =IF(N7="","",SUMIF($E$6:$E$998,N7,$I$6:$I$998)) -> #NAME? | P7: =IF(N7="","",O7-SUMIF('J. Caisse'!$E$6:$E$34,N7,'J. Caisse'!$H$6:$H$34)) -> #NAME? | S7: =IF(T7="","",ROW()-5) -> #NAME? | T7: {=IF(_xlfn._xlws.SORT(_xlfn.UNIQUE($D$6:$D$10008),1)=0,"",_xlfn._xlws.SORT(_xlfn.UNIQUE($D$6:$D$10008),1))} -> #NAME? | U7: =IF(T7="","",INDEX(Tableau2[],MATCH(T7,Tableau2[Compte],0),3)) -> #NAME? | V7: {=IF(T7="","",SUMPRODUCT(('J. Caisse'!$H$6:$H$34)*('J. Caisse'!$D$6:$D$34=T7)))} -> #NAME? | W7: {=IF(T7="","",SUMPRODUCT(('J. Caisse'!$I$6:$I$34)*('J. Caisse'!$F$6:$F$34=U7)))} -> #NAME? | X7: =IF(T7="","",IF(OR(V7="",W7=""),"",ABS(V7-W7))) -> #NAME?
N8: #NAME? | T8: #NAME?
A9: =IF('J. Ventes'!$B9="","",ROW()-5) | C9: =IF('J. Ventes'!$B9="","",+IF(ROW()-5<9,"FV"&"000"&ROW()-5,"FV"&"00"&ROW()-5)) | F9: =IFERROR(IF('J. Ventes'!$D9="","",INDEX(Tableau2[#All],MATCH('J. Ventes'!$D9,Tableau2[[#All],[Compte]],0),3)),"Compte Inexistant") | J9: =SUMIF($D$6:D9,D9,$I$6:I10) -> 0 | M9: =IF(N9="","",ROW()-5) | O9: =IF(N9="","",SUMIF($E$6:$E$998,N9,$I$6:$I$998)) | P9: =IF(N9="","",O9-SUMIF('J. Caisse'!$E$6:$E$34,N9,'J. Caisse'!$H$6:$H$34)) | T9: #NAME?
A10: =IF('J. Ventes'!$B10="","",ROW()-5) | C10: =IF('J. Ventes'!$B10="","",+IF(ROW()-5<9,"FV"&"000"&ROW()-5,"FV"&"00"&ROW()-5)) | F10: =IFERROR(IF('J. Ventes'!$D10="","",INDEX(Tableau2[#All],MATCH('J. Ventes'!$D10,Tableau2[[#All],[Compte]],0),3)),"Compte Inexistant") | J10: =SUMIF($D$6:D10,D10,$I$6:I11) -> 0 | M10: =IF(N10="","",ROW()-5) | O10: =IF(N10="","",SUMIF($E$6:$E$998,N10,$I$6:$I$998)) | P10: =IF(N10="","",O10-SUMIF('J. Caisse'!$E$6:$E$34,N10,'J. Caisse'!$H$6:$H$34))
A11: =IF('J. Ventes'!$B11="","",ROW()-5) | C11: =IF('J. Ventes'!$B11="","",+IF(ROW()-5<9,"FV"&"000"&ROW()-5,"FV"&"00"&ROW()-5)) | F11: =IFERROR(IF('J. Ventes'!$D11="","",INDEX(Tableau2[#All],MATCH('J. Ventes'!$D11,Tableau2[[#All],[Compte]],0),3)),"Compte Inexistant") | J11: =SUMIF($D$6:D11,D11,$I$6:I12) -> 0 | M11: =IF(N11="","",ROW()-5) | O11: =IF(N11="","",SUMIF($E$6:$E$998,N11,$I$6:$I$998)) | P11: =IF(N11="","",O11-SUMIF('J. Caisse'!$E$6:$E$34,N11,'J. Caisse'!$H$6:$H$34))
A12: =IF('J. Ventes'!$B12="","",ROW()-5) | C12: =IF('J. Ventes'!$B12="","",+IF(ROW()-5<9,"FV"&"000"&ROW()-5,"FV"&"00"&ROW()-5)) | F12: =IFERROR(IF('J. Ventes'!$D12="","",INDEX(Tableau2[#All],MATCH('J. Ventes'!$D12,Tableau2[[#All],[Compte]],0),3)),"Compte Inexistant") | J12: =SUMIF($D$6:D12,D12,$I$6:I13) -> 0 | M12: =IF(N12="","",ROW()-5) | O12: =IF(N12="","",SUMIF($E$6:$E$998,N12,$I$6:$I$998)) | P12: =IF(N12="","",O12-SUMIF('J. Caisse'!$E$6:$E$34,N12,'J. Caisse'!$H$6:$H$34))
A13: =IF('J. Ventes'!$B13="","",ROW()-5) | C13: =IF('J. Ventes'!$B13="","",+IF(ROW()-5<9,"FV"&"000"&ROW()-5,"FV"&"00"&ROW()-5)) | F13: =IFERROR(IF('J. Ventes'!$D13="","",INDEX(Tableau2[#All],MATCH('J. Ventes'!$D13,Tableau2[[#All],[Compte]],0),3)),"Compte Inexistant") | J13: =SUMIF($D$6:D13,D13,$I$6:I14) -> 0 | M13: =IF(N13="","",ROW()-5) | O13: =IF(N13="","",SUMIF($E$6:$E$998,N13,$I$6:$I$998)) | P13: =IF(N13="","",O13-SUMIF('J. Caisse'!$E$6:$E$34,N13,'J. Caisse'!$H$6:$H$34))
A14: =IF('J. Ventes'!$B14="","",ROW()-5) | C14: =IF('J. Ventes'!$B14="","",+IF(ROW()-5<9,"FV"&"000"&ROW()-5,"FV"&"00"&ROW()-5)) | F14: =IFERROR(IF('J. Ventes'!$D14="","",INDEX(Tableau2[#All],MATCH('J. Ventes'!$D14,Tableau2[[#All],[Compte]],0),3)),"Compte Inexistant") | J14: =SUMIF($D$6:D14,D14,$I$6:I32) -> 0 | M14: =IF(N14="","",ROW()-5) | O14: =IF(N14="","",SUMIF($E$6:$E$998,N14,$I$6:$I$998)) | P14: =IF(N14="","",O14-SUMIF('J. Caisse'!$E$6:$E$34,N14,'J. Caisse'!$H$6:$H$34))
A15: =IF('J. Ventes'!$B15="","",ROW()-5) | C15: =IF('J. Ventes'!$B15="","",+IF(ROW()-5<9,"FV"&"000"&ROW()-5,"FV"&"00"&ROW()-5)) | F15: =IFERROR(IF('J. Ventes'!$D15="","",INDEX(Tableau2[#All],MATCH('J. Ventes'!$D15,Tableau2[[#All],[Compte]],0),3)),"Compte Inexistant") | J15: =SUMIF($D$6:D32,D15,$I$6:I16) -> 0 | M15: =IF(N15="","",ROW()-5) | O15: =IF(N15="","",SUMIF($E$6:$E$998,N15,$I$6:$I$998)) | P15: =IF(N15="","",O15-SUMIF('J. Caisse'!$E$6:$E$34,N15,'J. Caisse'!$H$6:$H$34))
A16: =IF('J. Ventes'!$B16="","",ROW()-5) | C16: =IF('J. Ventes'!$B16="","",+IF(ROW()-5<9,"FV"&"000"&ROW()-5,"FV"&"00"&ROW()-5)) | F16: =IFERROR(IF('J. Ventes'!$D16="","",INDEX(Tableau2[#All],MATCH('J. Ventes'!$D16,Tableau2[[#All],[Compte]],0),3)),"Compte Inexistant") | J16: =SUMIF($D$6:D16,D16,$I$6:I17) -> 0 | M16: =IF(N16="","",ROW()-5) | O16: =IF(N16="","",SUMIF($E$6:$E$998,N16,$I$6:$I$998)) | P16: =IF(N16="","",O16-SUMIF('J. Caisse'!$E$6:$E$34,N16,'J. Caisse'!$H$6:$H$34))
A17: =IF('J. Ventes'!$B17="","",ROW()-5) | C17: =IF('J. Ventes'!$B17="","",+IF(ROW()-5<9,"FV"&"000"&ROW()-5,"FV"&"00"&ROW()-5)) | F17: =IFERROR(IF('J. Ventes'!$D17="","",INDEX(Tableau2[#All],MATCH('J. Ventes'!$D17,Tableau2[[#All],[Compte]],0),3)),"Compte Inexistant") | J17: =SUMIF($D$6:D17,D17,$I$6:I18) -> 0 | M17: =IF(N17="","",ROW()-5) | O17: =IF(N17="","",SUMIF($E$6:$E$998,N17,$I$6:$I$998)) | P17: =IF(N17="","",O17-SUMIF('J. Caisse'!$E$6:$E$34,N17,'J. Caisse'!$H$6:$H$34))
A18: =IF('J. Ventes'!$B18="","",ROW()-5) | C18: =IF('J. Ventes'!$B18="","",+IF(ROW()-5<9,"FV"&"000"&ROW()-5,"FV"&"00"&ROW()-5)) | F18: =IFERROR(IF('J. Ventes'!$D18="","",INDEX(Tableau2[#All],MATCH('J. Ventes'!$D18,Tableau2[[#All],[Compte]],0),3)),"Compte Inexistant") | J18: =SUMIF($D$6:D18,D18,$I$6:I19) -> 0 | M18: =IF(N18="","",ROW()-5) | O18: =IF(N18="","",SUMIF($E$6:$E$998,N18,$I$6:$I$998)) | P18: =IF(N18="","",O18-SUMIF('J. Caisse'!$E$6:$E$34,N18,'J. Caisse'!$H$6:$H$34))
A19: =IF('J. Ventes'!$B19="","",ROW()-5) | C19: =IF('J. Ventes'!$B19="","",+IF(ROW()-5<9,"FV"&"000"&ROW()-5,"FV"&"00"&ROW()-5)) | F19: =IFERROR(IF('J. Ventes'!$D19="","",INDEX(Tableau2[#All],MATCH('J. Ventes'!$D19,Tableau2[[#All],[Compte]],0),3)),"Compte Inexistant") | J19: =SUMIF($D$6:D19,D19,$I$6:I20) -> 0 | M19: =IF(N19="","",ROW()-5) | O19: =IF(N19="","",SUMIF($E$6:$E$998,N19,$I$6:$I$998)) | P19: =IF(N19="","",O19-SUMIF('J. Caisse'!$E$6:$E$34,N19,'J. Caisse'!$H$6:$H$34))
A20: =IF('J. Ventes'!$B20="","",ROW()-5) | C20: =IF('J. Ventes'!$B20="","",+IF(ROW()-5<9,"FV"&"000"&ROW()-5,"FV"&"00"&ROW()-5)) | F20: =IFERROR(IF('J. Ventes'!$D20="","",INDEX(Tableau2[#All],MATCH('J. Ventes'!$D20,Tableau2[[#All],[Compte]],0),3)),"Compte Inexistant") | J20: =SUMIF($D$6:D20,D20,$I$6:I21) -> 0 | M20: =IF(N20="","",ROW()-5) | O20: =IF(N20="","",SUMIF($E$6:$E$998,N20,$I$6:$I$998)) | P20: =IF(N20="","",O20-SUMIF('J. Caisse'!$E$6:$E$34,N20,'J. Caisse'!$H$6:$H$34))
A21: =IF('J. Ventes'!$B21="","",ROW()-5) | C21: =IF('J. Ventes'!$B21="","",+IF(ROW()-5<9,"FV"&"000"&ROW()-5,"FV"&"00"&ROW()-5)) | F21: =IFERROR(IF('J. Ventes'!$D21="","",INDEX(Tableau2[#All],MATCH('J. Ventes'!$D21,Tableau2[[#All],[Compte]],0),3)),"Compte Inexistant") | J21: =SUMIF($D$6:D21,D21,$I$6:I22) -> 0 | M21: =IF(N21="","",ROW()-5) | O21: =IF(N21="","",SUMIF($E$6:$E$998,N21,$I$6:$I$998)) | P21: =IF(N21="","",O21-SUMIF('J. Caisse'!$E$6:$E$34,N21,'J. Caisse'!$H$6:$H$34))
A22: =IF('J. Ventes'!$B22="","",ROW()-5) | C22: =IF('J. Ventes'!$B22="","",+IF(ROW()-5<9,"FV"&"000"&ROW()-5,"FV"&"00"&ROW()-5)) | F22: =IFERROR(IF('J. Ventes'!$D22="","",INDEX(Tableau2[#All],MATCH('J. Ventes'!$D22,Tableau2[[#All],[Compte]],0),3)),"Compte Inexistant") | J22: =SUMIF($D$6:D22,D22,$I$6:I23) -> 0 | M22: =IF(N22="","",ROW()-5) | O22: =IF(N22="","",SUMIF($E$6:$E$998,N22,$I$6:$I$998)) | P22: =IF(N22="","",O22-SUMIF('J. Caisse'!$E$6:$E$34,N22,'J. Caisse'!$H$6:$H$34))
A23: =IF('J. Ventes'!$B23="","",ROW()-5) | C23: =IF('J. Ventes'!$B23="","",+IF(ROW()-5<9,"FV"&"000"&ROW()-5,"FV"&"00"&ROW()-5)) | F23: =IFERROR(IF('J. Ventes'!$D23="","",INDEX(Tableau2[#All],MATCH('J. Ventes'!$D23,Tableau2[[#All],[Compte]],0),3)),"Compte Inexistant") | J23: =SUMIF($D$6:D23,D23,$I$6:I24) -> 0 | M23: =IF(N23="","",ROW()-5) | O23: =IF(N23="","",SUMIF($E$6:$E$998,N23,$I$6:$I$998)) | P23: =IF(N23="","",O23-SUMIF('J. Caisse'!$E$6:$E$34,N23,'J. Caisse'!$H$6:$H$34))
A24: =IF('J. Ventes'!$B24="","",ROW()-5) | C24: =IF('J. Ventes'!$B24="","",+IF(ROW()-5<9,"FV"&"000"&ROW()-5,"FV"&"00"&ROW()-5)) | F24: =IFERROR(IF('J. Ventes'!$D24="","",INDEX(Tableau2[#All],MATCH('J. Ventes'!$D24,Tableau2[[#All],[Compte]],0),3)),"Compte Inexistant") | J24: =SUMIF($D$6:D24,D24,$I$6:I25) -> 0 | M24: =IF(N24="","",ROW()-5) | O24: =IF(N24="","",SUMIF($E$6:$E$998,N24,$I$6:$I$998)) | P24: =IF(N24="","",O24-SUMIF('J. Caisse'!$E$6:$E$34,N24,'J. Caisse'!$H$6:$H$34))
A25: =IF('J. Ventes'!$B25="","",ROW()-5) | C25: =IF('J. Ventes'!$B25="","",+IF(ROW()-5<9,"FV"&"000"&ROW()-5,"FV"&"00"&ROW()-5)) | F25: =IFERROR(IF('J. Ventes'!$D25="","",INDEX(Tableau2[#All],MATCH('J. Ventes'!$D25,Tableau2[[#All],[Compte]],0),3)),"Compte Inexistant") | J25: =SUMIF($D$6:D25,D25,$I$6:I26) -> 0 | M25: =IF(N25="","",ROW()-5) | O25: =IF(N25="","",SUMIF($E$6:$E$998,N25,$I$6:$I$998)) | P25: =IF(N25="","",O25-SUMIF('J. Caisse'!$E$6:$E$34,N25,'J. Caisse'!$H$6:$H$34))
A26: =IF('J. Ventes'!$B26="","",ROW()-5) | C26: =IF('J. Ventes'!$B26="","",+IF(ROW()-5<9,"FV"&"000"&ROW()-5,"FV"&"00"&ROW()-5)) | F26: =IFERROR(IF('J. Ventes'!$D26="","",INDEX(Tableau2[#All],MATCH('J. Ventes'!$D26,Tableau2[[#All],[Compte]],0),3)),"Compte Inexistant") | J26: =SUMIF($D$6:D26,D26,$I$6:I27) -> 0 | M26: =IF(N26="","",ROW()-5) | O26: =IF(N26="","",SUMIF($E$6:$E$998,N26,$I$6:$I$998)) | P26: =IF(N26="","",O26-SUMIF('J. Caisse'!$E$6:$E$34,N26,'J. Caisse'!$H$6:$H$34))
A27: =IF('J. Ventes'!$B27="","",ROW()-5) | C27: =IF('J. Ventes'!$B27="","",+IF(ROW()-5<9,"FV"&"000"&ROW()-5,"FV"&"00"&ROW()-5)) | F27: =IFERROR(IF('J. Ventes'!$D27="","",INDEX(Tableau2[#All],MATCH('J. Ventes'!$D27,Tableau2[[#All],[Compte]],0),3)),"Compte Inexistant") | J27: =SUMIF($D$6:D27,D27,$I$6:I28) -> 0 | M27: =IF(N27="","",ROW()-5) | O27: =IF(N27="","",SUMIF($E$6:$E$998,N27,$I$6:$I$998)) | P27: =IF(N27="","",O27-SUMIF('J. Caisse'!$E$6:$E$34,N27,'J. Caisse'!$H$6:$H$34))
... A32: =IF('J. Ventes'!$B32="","",ROW()-5) | C32: =IF('J. Ventes'!$B32="","",+IF(ROW()-5<9,"FV"&"000"&ROW()-5,"FV"&"00"&ROW()-5)) | F32: =IFERROR(IF('J. Ventes'!$D32="","",INDEX(Tableau2[#All],MATCH('J. Ventes'!$D32,Tableau2[[#All],[Compte]],0),3)),"Compte Inexistant") | J32: =SUMIF($D$6:D32,D32,$I$6:I33) -> 0 | M32: =IF(N32="","",ROW()-5) | O32: =IF(N32="","",SUMIF($E$6:$E$998,N32,$I$6:$I$998)) | P32: =IF(N32="","",O32-SUMIF('J. Caisse'!$E$6:$E$34,N32,'J. Caisse'!$H$6:$H$34))
M33: =IF(N33="","",ROW()-5) | O33: =IF(N33="","",SUMIF($E$6:$E$998,N33,$I$6:$I$998)) | P33: =IF(N33="","",O33-SUMIF('J. Caisse'!$E$6:$E$34,N33,'J. Caisse'!$H$6:$H$34))
M34: =IF(N34="","",ROW()-5) | O34: =IF(N34="","",SUMIF($E$6:$E$998,N34,$I$6:$I$998)) | P34: =IF(N34="","",O34-SUMIF('J. Caisse'!$E$6:$E$34,N34,'J. Caisse'!$H$6:$H$34))
M35: =IF(N35="","",ROW()-5) | O35: =IF(N35="","",SUMIF($E$6:$E$998,N35,$I$6:$I$998)) | P35: =IF(N35="","",O35-SUMIF('J. Caisse'!$E$6:$E$34,N35,'J. Caisse'!$H$6:$H$34))
M36: =IF(N36="","",ROW()-5) | O36: =IF(N36="","",SUMIF($E$6:$E$998,N36,$I$6:$I$998)) | P36: =IF(N36="","",O36-SUMIF('J. Caisse'!$E$6:$E$34,N36,'J. Caisse'!$H$6:$H$34))
M37: =IF(N37="","",ROW()-5) | O37: =IF(N37="","",SUMIF($E$6:$E$998,N37,$I$6:$I$998)) | P37: =IF(N37="","",O37-SUMIF('J. Caisse'!$E$6:$E$34,N37,'J. Caisse'!$H$6:$H$34))
M38: =IF(N38="","",ROW()-5) | O38: =IF(N38="","",SUMIF($E$6:$E$998,N38,$I$6:$I$998)) | P38: =IF(N38="","",O38-SUMIF('J. Caisse'!$E$6:$E$34,N38,'J. Caisse'!$H$6:$H$34))
M39: =IF(N39="","",ROW()-5) | O39: =IF(N39="","",SUMIF($E$6:$E$998,N39,$I$6:$I$998)) | P39: =IF(N39="","",O39-SUMIF('J. Caisse'!$E$6:$E$34,N39,'J. Caisse'!$H$6:$H$34))
M40: =IF(N40="","",ROW()-5) | O40: =IF(N40="","",SUMIF($E$6:$E$998,N40,$I$6:$I$998)) | P40: =IF(N40="","",O40-SUMIF('J. Caisse'!$E$6:$E$34,N40,'J. Caisse'!$H$6:$H$34))
M41: =IF(N41="","",ROW()-5) | O41: =IF(N41="","",SUMIF($E$6:$E$998,N41,$I$6:$I$998)) | P41: =IF(N41="","",O41-SUMIF('J. Caisse'!$E$6:$E$34,N41,'J. Caisse'!$H$6:$H$34))
M42: =IF(N42="","",ROW()-5) | O42: =IF(N42="","",SUMIF($E$6:$E$998,N42,$I$6:$I$998)) | P42: =IF(N42="","",O42-SUMIF('J. Caisse'!$E$6:$E$34,N42,'J. Caisse'!$H$6:$H$34))
O43: =IF(N43="","",SUMIF($E$6:$E$998,N43,$I$6:$I$998)) | P43: =IF(N43="","",O43-SUMIF('J. Caisse'!$E$6:$E$34,N43,'J. Caisse'!$H$6:$H$34))
O44: =IF(N44="","",SUMIF($E$6:$E$998,N44,$I$6:$I$998)) | P44: =IF(N44="","",O44-SUMIF('J. Caisse'!$E$6:$E$34,N44,'J. Caisse'!$H$6:$H$34))
O45: =IF(N45="","",SUMIF($E$6:$E$998,N45,$I$6:$I$998)) | P45: =IF(N45="","",O45-SUMIF('J. Caisse'!$E$6:$E$34,N45,'J. Caisse'!$H$6:$H$34))
O46: =IF(N46="","",SUMIF($E$6:$E$998,N46,$I$6:$I$998)) | P46: =IF(N46="","",O46-SUMIF('J. Caisse'!$E$6:$E$34,N46,'J. Caisse'!$H$6:$H$34))
O47: =IF(N47="","",SUMIF($E$6:$E$998,N47,$I$6:$I$998)) | P47: =IF(N47="","",O47-SUMIF('J. Caisse'!$E$6:$E$34,N47,'J. Caisse'!$H$6:$H$34))
...

Sheet Balance
A1: Balance
L2: Tableau3[Nº Compte] | O2: =IFERROR(IF(INDEX(INDIRECT($L2),COLUMN(A:A))=0,"",INDEX(INDIRECT($L2),COLUMN(A:A))),"") -> 605400 | P2: =IFERROR(IF(INDEX(INDIRECT($L2),COLUMN(B:B))=0,"",INDEX(INDIRECT($L2),COLUMN(B:B))),"") -> 605410 | Q2: =IFERROR(IF(INDEX(INDIRECT($L2),COLUMN(C:C))=0,"",INDEX(INDIRECT($L2),COLUMN(C:C))),"") -> 605420 | R2: =IFERROR(IF(INDEX(INDIRECT($L2),COLUMN(D:D))=0,"",INDEX(INDIRECT($L2),COLUMN(D:D))),"") -> 601500 | S2: =IFERROR(IF(INDEX(INDIRECT($L2),COLUMN(E:E))=0,"",INDEX(INDIRECT($L2),COLUMN(E:E))),"") -> 401100 | T2: =IFERROR(IF(INDEX(INDIRECT($L2),COLUMN(F:F))=0,"",INDEX(INDIRECT($L2),COLUMN(F:F))),"") | U2: =IFERROR(IF(INDEX(INDIRECT($L2),COLUMN(G:G))=0,"",INDEX(INDIRECT($L2),COLUMN(G:G))),"") | V2: =IFERROR(IF(INDEX(INDIRECT($L2),COLUMN(H:H))=0,"",INDEX(INDIRECT($L2),COLUMN(H:H))),"") | W2: =IFERROR(IF(INDEX(INDIRECT($L2),COLUMN(I:I))=0,"",INDEX(INDIRECT($L2),COLUMN(I:I))),"") | X2: =IFERROR(IF(INDEX(INDIRECT($L2),COLUMN(J:J))=0,"",INDEX(INDIRECT($L2),COLUMN(J:J))),"") | Y2: =IFERROR(IF(INDEX(INDIRECT($L2),COLUMN(K:K))=0,"",INDEX(INDIRECT($L2),COLUMN(K:K))),"") | Z2: =IFERROR(IF(INDEX(INDIRECT($L2),COLUMN(L:L))=0,"",INDEX(INDIRECT($L2),COLUMN(L:L))),"") | AA2: =IFERROR(IF(INDEX(INDIRECT($L2),COLUMN(M:M))=0,"",INDEX(INDIRECT($L2),COLUMN(M:M))),"") | AB2: =IFERROR(IF(INDEX(INDIRECT($L2),COLUMN(N:N))=0,"",INDEX(INDIRECT($L2),COLUMN(N:N))),"") | AC2: =IFERROR(IF(INDEX(INDIRECT($L2),COLUMN(O:O))=0,"",INDEX(INDIRECT($L2),COLUMN(O:O))),"") | AD2: =IFERROR(IF(INDEX(INDIRECT($L2),COLUMN(P:P))=0,"",INDEX(INDIRECT($L2),COLUMN(P:P))),"") | AF2: =IFERROR(SMALL(tablo, ROW(A1)),"") -> 104200
L3: Tableau4[Nº Compte] | O3: =IFERROR(IF(INDEX(INDIRECT($L3),COLUMN(A:A))=0,"",INDEX(INDIRECT($L3),COLUMN(A:A))),"") -> 571100 | P3: =IFERROR(IF(INDEX(INDIRECT($L3),COLUMN(B:B))=0,"",INDEX(INDIRECT($L3),COLUMN(B:B))),"") -> 104200 | Q3: =IFERROR(IF(INDEX(INDIRECT($L3),COLUMN(C:C))=0,"",INDEX(INDIRECT($L3),COLUMN(C:C))),"") -> 401100 | R3: =IFERROR(IF(INDEX(INDIRECT($L3),COLUMN(D:D))=0,"",INDEX(INDIRECT($L3),COLUMN(D:D))),"") -> 571100 | S3: =IFERROR(IF(INDEX(INDIRECT($L3),COLUMN(E:E))=0,"",INDEX(INDIRECT($L3),COLUMN(E:E))),"") | T3: =IFERROR(IF(INDEX(INDIRECT($L3),COLUMN(F:F))=0,"",INDEX(INDIRECT($L3),COLUMN(F:F))),"") | U3: =IFERROR(IF(INDEX(INDIRECT($L3),COLUMN(G:G))=0,"",INDEX(INDIRECT($L3),COLUMN(G:G))),"") | V3: =IFERROR(IF(INDEX(INDIRECT($L3),COLUMN(H:H))=0,"",INDEX(INDIRECT($L3),COLUMN(H:H))),"") | W3: =IFERROR(IF(INDEX(INDIRECT($L3),COLUMN(I:I))=0,"",INDEX(INDIRECT($L3),COLUMN(I:I))),"") | X3: =IFERROR(IF(INDEX(INDIRECT($L3),COLUMN(J:J))=0,"",INDEX(INDIRECT($L3),COLUMN(J:J))),"") | Y3: =IFERROR(IF(INDEX(INDIRECT($L3),COLUMN(K:K))=0,"",INDEX(INDIRECT($L3),COLUMN(K:K))),"") | Z3: =IFERROR(IF(INDEX(INDIRECT($L3),COLUMN(L:L))=0,"",INDEX(INDIRECT($L3),COLUMN(L:L))),"") | AA3: =IFERROR(IF(INDEX(INDIRECT($L3),COLUMN(M:M))=0,"",INDEX(INDIRECT($L3),COLUMN(M:M))),"") | AB3: =IFERROR(IF(INDEX(INDIRECT($L3),COLUMN(N:N))=0,"",INDEX(INDIRECT($L3),COLUMN(N:N))),"") | AC3: =IFERROR(IF(INDEX(INDIRECT($L3),COLUMN(O:O))=0,"",INDEX(INDIRECT($L3),COLUMN(O:O))),"") | AD3: =IFERROR(IF(INDEX(INDIRECT($L3),COLUMN(P:P))=0,"",INDEX(INDIRECT($L3),COLUMN(P:P))),"") | AF3: =IFERROR(SMALL(tablo, ROW(A2)),"") -> 401100
L4: Tableau1[Nº Compte] | O4: =IFERROR(IF(INDEX(INDIRECT($L4),COLUMN(A:A))=0,"",INDEX(INDIRECT($L4),COLUMN(A:A))),"") -> 411100 | P4: =IFERROR(IF(INDEX(INDIRECT($L4),COLUMN(B:B))=0,"",INDEX(INDIRECT($L4),COLUMN(B:B))),"") -> 702100 | Q4: =IFERROR(IF(INDEX(INDIRECT($L4),COLUMN(C:C))=0,"",INDEX(INDIRECT($L4),COLUMN(C:C))),"") | R4: =IFERROR(IF(INDEX(INDIRECT($L4),COLUMN(D:D))=0,"",INDEX(INDIRECT($L4),COLUMN(D:D))),"") | S4: =IFERROR(IF(INDEX(INDIRECT($L4),COLUMN(E:E))=0,"",INDEX(INDIRECT($L4),COLUMN(E:E))),"") | T4: =IFERROR(IF(INDEX(INDIRECT($L4),COLUMN(F:F))=0,"",INDEX(INDIRECT($L4),COLUMN(F:F))),"") | U4: =IFERROR(IF(INDEX(INDIRECT($L4),COLUMN(G:G))=0,"",INDEX(INDIRECT($L4),COLUMN(G:G))),"") | V4: =IFERROR(IF(INDEX(INDIRECT($L4),COLUMN(H:H))=0,"",INDEX(INDIRECT($L4),COLUMN(H:H))),"") | W4: =IFERROR(IF(INDEX(INDIRECT($L4),COLUMN(I:I))=0,"",INDEX(INDIRECT($L4),COLUMN(I:I))),"") | X4: =IFERROR(IF(INDEX(INDIRECT($L4),COLUMN(J:J))=0,"",INDEX(INDIRECT($L4),COLUMN(J:J))),"") | Y4: =IFERROR(IF(INDEX(INDIRECT($L4),COLUMN(K:K))=0,"",INDEX(INDIRECT($L4),COLUMN(K:K))),"") | Z4: =IFERROR(IF(INDEX(INDIRECT($L4),COLUMN(L:L))=0,"",INDEX(INDIRECT($L4),COLUMN(L:L))),"") | AA4: =IFERROR(IF(INDEX(INDIRECT($L4),COLUMN(M:M))=0,"",INDEX(INDIRECT($L4),COLUMN(M:M))),"") | AB4: =IFERROR(IF(INDEX(INDIRECT($L4),COLUMN(N:N))=0,"",INDEX(INDIRECT($L4),COLUMN(N:N))),"") | AC4: =IFERROR(IF(INDEX(INDIRECT($L4),COLUMN(O:O))=0,"",INDEX(INDIRECT($L4),COLUMN(O:O))),"") | AD4: =IFERROR(IF(INDEX(INDIRECT($L4),COLUMN(P:P))=0,"",INDEX(INDIRECT($L4),COLUMN(P:P))),"") | AF4: =IFERROR(SMALL(tablo, ROW(A3)),"") -> 401100
D5: Soldes Initiaux | F5: Somme | H5: Soldes | AF5: =IFERROR(SMALL(tablo, ROW(A4)),"") -> 411100
A6: Nº | B6: Nº Compte | C6: Libellés | D6: Débit | E6: Crédit | F6: Débit | G6: Crédit | H6: Débit | I6: Crédit | AF6: =IFERROR(SMALL(tablo, ROW(A5)),"") -> 571100
A7: =IF($B7="","",ROW()-6) -> 1 | B7: {=IFERROR(INDEX(transpo, MATCH(0,COUNTIF(B$6:B6,transpo),0)),"")} -> 104200 | C7: =IF($B7="","",INDEX(Tableau2[#All],MATCH($B7,Tableau2[[#All],[Compte]],0),3)) -> Cpte de l'exploitant-opé Courantes | F7: =SUMPRODUCT(SUMIF(INDIRECT($L$2:$L$4),$B7,INDIRECT($L$7:$L$9))) -> 0 | G7: =SUMPRODUCT(SUMIF(INDIRECT($L$2:$L$4),$B7,INDIRECT($L$11:$L$13))) -> 1900 | L7: Tableau3[Débit] | AF7: =IFERROR(SMALL(tablo, ROW(A6)),"") -> 571100
B8: {=IFERROR(INDEX(transpo, MATCH(0,COUNTIF(B$6:B7,transpo),0)),"")} -> 401100 | C8: =IF($B8="","",INDEX(Tableau2[#All],MATCH($B8,Tableau2[[#All],[Compte]],0),3)) -> Fr. Dettes en Compte | F8: =SUMPRODUCT(SUMIF(INDIRECT($L$2:$L$4),$B8,INDIRECT($L$7:$L$9))) -> 1900 | G8: =SUMPRODUCT(SUMIF(INDIRECT($L$2:$L$4),$B8,INDIRECT($L$11:$L$13))) -> 1900 | L8: Tableau4[Débit] | AF8: =IFERROR(SMALL(tablo, ROW(A7)),"") -> 601500
B9: {=IFERROR(INDEX(transpo, MATCH(0,COUNTIF(B$6:B8,transpo),0)),"")} -> 411100 | C9: =IF($B9="","",INDEX(Tableau2[#All],MATCH($B9,Tableau2[[#All],[Compte]],0),3)) -> Clts & Cptes Rattaché | F9: =SUMPRODUCT(SUMIF(INDIRECT($L$2:$L$4),$B9,INDIRECT($L$7:$L$9))) -> 65000 | G9: =SUMPRODUCT(SUMIF(INDIRECT($L$2:$L$4),$B9,INDIRECT($L$11:$L$13))) -> 0 | L9: Tableau1[Débit] | AF9: =IFERROR(SMALL(tablo, ROW(A8)),"") -> 605400
B10: {=IFERROR(INDEX(transpo, MATCH(0,COUNTIF(B$6:B9,transpo),0)),"")} -> 571100 | C10: =IF($B10="","",INDEX(Tableau2[#All],MATCH($B10,Tableau2[[#All],[Compte]],0),3)) -> Caisse | F10: =SUMPRODUCT(SUMIF(INDIRECT($L$2:$L$4),$B10,INDIRECT($L$7:$L$9))) -> 1900 | G10: =SUMPRODUCT(SUMIF(INDIRECT($L$2:$L$4),$B10,INDIRECT($L$11:$L$13))) -> 1900 | AF10: =IFERROR(SMALL(tablo, ROW(A9)),"") -> 605410
B11: {=IFERROR(INDEX(transpo, MATCH(0,COUNTIF(B$6:B10,transpo),0)),"")} -> 601500 | C11: =IF($B11="","",INDEX(Tableau2[#All],MATCH($B11,Tableau2[[#All],[Compte]],0),3)) -> Frais de transport | F11: =SUMPRODUCT(SUMIF(INDIRECT($L$2:$L$4),$B11,INDIRECT($L$7:$L$9))) -> 400 | G11: =SUMPRODUCT(SUMIF(INDIRECT($L$2:$L$4),$B11,INDIRECT($L$11:$L$13))) -> 0 | L11: Tableau3[Crédit] | AF11: =IFERROR(SMALL(tablo, ROW(A10)),"") -> 605420
B12: {=IFERROR(INDEX(transpo, MATCH(0,COUNTIF(B$6:B11,transpo),0)),"")} -> 605400 | C12: =IF($B12="","",INDEX(Tableau2[#All],MATCH($B12,Tableau2[[#All],[Compte]],0),3)) -> Engrais | F12: =SUMPRODUCT(SUMIF(INDIRECT($L$2:$L$4),$B12,INDIRECT($L$7:$L$9))) -> 500 | G12: =SUMPRODUCT(SUMIF(INDIRECT($L$2:$L$4),$B12,INDIRECT($L$11:$L$13))) -> 0 | L12: Tableau4[Crédit] | AF12: =IFERROR(SMALL(tablo, ROW(A11)),"") -> 702100
B13: {=IFERROR(INDEX(transpo, MATCH(0,COUNTIF(B$6:B12,transpo),0)),"")} -> 605410 | C13: =IF($B13="","",INDEX(Tableau2[#All],MATCH($B13,Tableau2[[#All],[Compte]],0),3)) -> Insecticide | F13: =SUMPRODUCT(SUMIF(INDIRECT($L$2:$L$4),$B13,INDIRECT($L$7:$L$9))) -> 500 | G13: =SUMPRODUCT(SUMIF(INDIRECT($L$2:$L$4),$B13,INDIRECT($L$11:$L$13))) -> 0 | L13: Tableau1[Crédit] | AF13: =IFERROR(SMALL(tablo, ROW(A12)),"")
B14: {=IFERROR(INDEX(transpo, MATCH(0,COUNTIF(B$6:B13,transpo),0)),"")} -> 605420 | C14: =IF($B14="","",INDEX(Tableau2[#All],MATCH($B14,Tableau2[[#All],[Compte]],0),3)) -> Fongicide | F14: =SUMPRODUCT(SUMIF(INDIRECT($L$2:$L$4),$B14,INDIRECT($L$7:$L$9))) -> 500 | G14: =SUMPRODUCT(SUMIF(INDIRECT($L$2:$L$4),$B14,INDIRECT($L$11:$L$13))) -> 0 | AF14: =IFERROR(SMALL(tablo, ROW(A13)),"")
B15: {=IFERROR(INDEX(transpo, MATCH(0,COUNTIF(B$6:B14,transpo),0)),"")} -> 702100 | C15: =IF($B15="","",INDEX(Tableau2[#All],MATCH($B15,Tableau2[[#All],[Compte]],0),3)) -> Ventes Tomates | F15: =SUMPRODUCT(SUMIF(INDIRECT($L$2:$L$4),$B15,INDIRECT($L$7:$L$9))) -> 0 | G15: =SUMPRODUCT(SUMIF(INDIRECT($L$2:$L$4),$B15,INDIRECT($L$11:$L$13))) -> 65000 | AF15: =IFERROR(SMALL(tablo, ROW(A14)),"")
B16: {=IFERROR(INDEX(transpo, MATCH(0,COUNTIF(B$6:B15,transpo),0)),"")} | C16: =IF($B16="","",INDEX(Tableau2[#All],MATCH($B16,Tableau2[[#All],[Compte]],0),3)) | F16: =SUMPRODUCT(SUMIF(INDIRECT($L$2:$L$4),$B16,INDIRECT($L$7:$L$9))) -> 0 | G16: =SUMPRODUCT(SUMIF(INDIRECT($L$2:$L$4),$B16,INDIRECT($L$11:$L$13))) -> 0 | AF16: =IFERROR(SMALL(tablo, ROW(A15)),"")
B17: {=IFERROR(INDEX(transpo, MATCH(0,COUNTIF(B$6:B16,transpo),0)),"")} | C17: =IF($B17="","",INDEX(Tableau2[#All],MATCH($B17,Tableau2[[#All],[Compte]],0),3)) | F17: =SUMPRODUCT(SUMIF(INDIRECT($L$2:$L$4),$B17,INDIRECT($L$7:$L$9))) -> 0 | G17: =SUMPRODUCT(SUMIF(INDIRECT($L$2:$L$4),$B17,INDIRECT($L$11:$L$13))) -> 0 | AF17: =IFERROR(SMALL(tablo, ROW(A16)),"")
B18: {=IFERROR(INDEX(transpo, MATCH(0,COUNTIF(B$6:B17,transpo),0)),"")} | C18: =IF($B18="","",INDEX(Tableau2[#All],MATCH($B18,Tableau2[[#All],[Compte]],0),3)) | F18: =SUMPRODUCT(SUMIF(INDIRECT($L$2:$L$4),$B18,INDIRECT($L$7:$L$9))) -> 0 | G18: =SUMPRODUCT(SUMIF(INDIRECT($L$2:$L$4),$B18,INDIRECT($L$11:$L$13))) -> 0 | AF18: =IFERROR(SMALL(tablo, ROW(A17)),"")
B19: {=IFERROR(INDEX(transpo, MATCH(0,COUNTIF(B$6:B18,transpo),0)),"")} | C19: =IF($B19="","",INDEX(Tableau2[#All],MATCH($B19,Tableau2[[#All],[Compte]],0),3)) | F19: =SUMPRODUCT(SUMIF(INDIRECT($L$2:$L$4),$B19,INDIRECT($L$7:$L$9))) -> 0 | G19: =SUMPRODUCT(SUMIF(INDIRECT($L$2:$L$4),$B19,INDIRECT($L$11:$L$13))) -> 0 | AF19: =IFERROR(SMALL(tablo, ROW(A18)),"")
B20: {=IFERROR(INDEX(transpo, MATCH(0,COUNTIF(B$6:B19,transpo),0)),"")} | C20: =IF($B20="","",INDEX(Tableau2[#All],MATCH($B20,Tableau2[[#All],[Compte]],0),3)) | F20: =SUMPRODUCT(SUMIF(INDIRECT($L$2:$L$4),$B20,INDIRECT($L$7:$L$9))) -> 0 | G20: =SUMPRODUCT(SUMIF(INDIRECT($L$2:$L$4),$B20,INDIRECT($L$11:$L$13))) -> 0 | AF20: =IFERROR(SMALL(tablo, ROW(A19)),"")
B21: {=IFERROR(INDEX(transpo, MATCH(0,COUNTIF(B$6:B20,transpo),0)),"")} | C21: =IF($B21="","",INDEX(Tableau2[#All],MATCH($B21,Tableau2[[#All],[Compte]],0),3)) | F21: =SUMPRODUCT(SUMIF(INDIRECT($L$2:$L$4),$B21,INDIRECT($L$7:$L$9))) -> 0 | G21: =SUMPRODUCT(SUMIF(INDIRECT($L$2:$L$4),$B21,INDIRECT($L$11:$L$13))) -> 0 | AF21: =IFERROR(SMALL(tablo, ROW(A20)),"")
B22: {=IFERROR(INDEX(transpo, MATCH(0,COUNTIF(B$6:B21,transpo),0)),"")} | C22: =IF($B22="","",INDEX(Tableau2[#All],MATCH($B22,Tableau2[[#All],[Compte]],0),3)) | F22: =SUMPRODUCT(SUMIF(INDIRECT($L$2:$L$4),$B22,INDIRECT($L$7:$L$9))) -> 0 | G22: =SUMPRODUCT(SUMIF(INDIRECT($L$2:$L$4),$B22,INDIRECT($L$11:$L$13))) -> 0 | AF22: =IFERROR(SMALL(tablo, ROW(A21)),"")
B23: {=IFERROR(INDEX(transpo, MATCH(0,COUNTIF(B$6:B22,transpo),0)),"")} | C23: =IF($B23="","",INDEX(Tableau2[#All],MATCH($B23,Tableau2[[#All],[Compte]],0),3)) | F23: =SUMPRODUCT(SUMIF(INDIRECT($L$2:$L$4),$B23,INDIRECT($L$7:$L$9))) -> 0 | G23: =SUMPRODUCT(SUMIF(INDIRECT($L$2:$L$4),$B23,INDIRECT($L$11:$L$13))) -> 0 | AF23: =IFERROR(SMALL(tablo, ROW(A22)),"")
B24: {=IFERROR(INDEX(transpo, MATCH(0,COUNTIF(B$6:B23,transpo),0)),"")} | C24: =IF($B24="","",INDEX(Tableau2[#All],MATCH($B24,Tableau2[[#All],[Compte]],0),3)) | F24: =SUMPRODUCT(SUMIF(INDIRECT($L$2:$L$4),$B24,INDIRECT($L$7:$L$9))) -> 0 | G24: =SUMPRODUCT(SUMIF(INDIRECT($L$2:$L$4),$B24,INDIRECT($L$11:$L$13))) -> 0 | AF24: =IFERROR(SMALL(tablo, ROW(A23)),"")
B25: {=IFERROR(INDEX(transpo, MATCH(0,COUNTIF(B$6:B24,transpo),0)),"")} | C25: =IF($B25="","",INDEX(Tableau2[#All],MATCH($B25,Tableau2[[#All],[Compte]],0),3)) | F25: =SUMPRODUCT(SUMIF(INDIRECT($L$2:$L$4),$B25,INDIRECT($L$7:$L$9))) -> 0 | G25: =SUMPRODUCT(SUMIF(INDIRECT($L$2:$L$4),$B25,INDIRECT($L$11:$L$13))) -> 0 | AF25: =IFERROR(SMALL(tablo, ROW(A24)),"")
... B40: {=IFERROR(INDEX(transpo, MATCH(0,COUNTIF(B$6:B39,transpo),0)),"")} | C40: =IF($B40="","",INDEX(Tableau2[#All],MATCH($B40,Tableau2[[#All],[Compte]],0),3)) | F40: =SUMPRODUCT(SUMIF(INDIRECT($L$2:$L$4),$B40,INDIRECT($L$7:$L$9))) -> 0 | G40: =SUMPRODUCT(SUMIF(INDIRECT($L$2:$L$4),$B40,INDIRECT($L$11:$L$13))) -> 0 | AF40: =IFERROR(SMALL(tablo, ROW(A39)),"")
AF41: =IFERROR(SMALL(tablo, ROW(A40)),"")
AF42: =IFERROR(SMALL(tablo, ROW(A41)),"")
AF43: =IFERROR(SMALL(tablo, ROW(A42)),"")
AF44: =IFERROR(SMALL(tablo, ROW(A43)),"")
AF45: =IFERROR(SMALL(tablo, ROW(A44)),"")
AF46: =IFERROR(SMALL(tablo, ROW(A45)),"")
AF47: =IFERROR(SMALL(tablo, ROW(A46)),"")
AF48: =IFERROR(SMALL(tablo, ROW(A47)),"")
AF49: =IFERROR(SMALL(tablo, ROW(A48)),"")
AF50: =IFERROR(SMALL(tablo, ROW(A49)),"")
AF51: =IFERROR(SMALL(tablo, ROW(A50)),"")
AF52: =IFERROR(SMALL(tablo, ROW(A51)),"")
... AF100: =IFERROR(SMALL(tablo, ROW(A99)),"")
