Workbook
Name article: OFFSET(chapitre,,2,)
Name chapitre: OFFSET(Feuil1!$A$2,,,MATCH("z^z",Feuil1!$B:$B)-1)
Name listearticle: OFFSET(param!$F$2,,,COUNTIF(chapitre,Feuil1!$E$2))
Name listechap: OFFSET(param!$B$2,,,COUNTIF(param!$B:$B,"><"))

Sheet Feuil1
A1: Code Chapitre | B1: Chapitre par nature - Libellé | C1: Article par nature - Code | G1: attention pas de RAZ en cas de changement de chapitre; sinon =>vba
A2: 68 | B2: Provisions pour risques et charges | C2: 6817 | E2: 002 | G2: 6817
A3: 002 | B3: Résultat de fonctionnement reporté | C3: 002
A4: 022 | B4: Dépenses imprévues | C4: 022
A5: 023 | B5: Virement à la section d'investissement | C5: 023 | F5: cadeau:la liste de choix du chapitre est triée sans double et par ordre croissant (param)
A6: 011 | B6: Charges à caractère général | C6: 60611
A7: 011 | B7: Charges à caractère général | C7: 60612
A8: 011 | B8: Charges à caractère général | C8: 60621
A9: 011 | B9: Charges à caractère général | C9: 60622
A10: 011 | B10: Charges à caractère général | C10: 60631
A11: 011 | B11: Charges à caractère général | C11: 60632
A12: 011 | B12: Charges à caractère général | C12: 6064
A13: 011 | B13: Charges à caractère général | C13: 6068
A14: 011 | B14: Charges à caractère général | C14: 6132
A15: 011 | B15: Charges à caractère général | C15: 61358
A16: 011 | B16: Charges à caractère général | C16: 614
A17: 011 | B17: Charges à caractère général | C17: 615221
... A68: 042 | B68: Opérations ordre transf. entre sections | C68: 6811

Sheet param
H1: =SUMPRODUCT(MAX((F2:F500<>"")*(ROW(2:500)))) -> #NUM!
B2: {=INDEX(chapitre,MATCH(SMALL(IF(MATCH(chapitre,chapitre,0)=ROW(chapitre)-1,chapitre*1,""),ROW(1:1)),IF(MATCH(chapitre,chapitre,0)=ROW(chapitre)-1,chapitre*1,""),0))} -> 002 | F2: {=INDEX(article,SMALL(IF(chapitre=Feuil1!$E$2,ROW(chapitre)-1,""),ROW(A1)))} -> 002
B3: {=INDEX(chapitre,MATCH(SMALL(IF(MATCH(chapitre,chapitre,0)=ROW(chapitre)-1,chapitre*1,""),ROW(2:2)),IF(MATCH(chapitre,chapitre,0)=ROW(chapitre)-1,chapitre*1,""),0))} -> 011 | F3: {=INDEX(article,SMALL(IF(chapitre=Feuil1!$E$2,ROW(chapitre)-1,""),ROW(A2)))} -> #NUM!
B4: {=INDEX(chapitre,MATCH(SMALL(IF(MATCH(chapitre,chapitre,0)=ROW(chapitre)-1,chapitre*1,""),ROW(3:3)),IF(MATCH(chapitre,chapitre,0)=ROW(chapitre)-1,chapitre*1,""),0))} -> 012 | F4: {=INDEX(article,SMALL(IF(chapitre=Feuil1!$E$2,ROW(chapitre)-1,""),ROW(A3)))} -> #NUM!
B5: {=INDEX(chapitre,MATCH(SMALL(IF(MATCH(chapitre,chapitre,0)=ROW(chapitre)-1,chapitre*1,""),ROW(4:4)),IF(MATCH(chapitre,chapitre,0)=ROW(chapitre)-1,chapitre*1,""),0))} -> 022 | F5: {=INDEX(article,SMALL(IF(chapitre=Feuil1!$E$2,ROW(chapitre)-1,""),ROW(A4)))} -> #NUM!
B6: {=INDEX(chapitre,MATCH(SMALL(IF(MATCH(chapitre,chapitre,0)=ROW(chapitre)-1,chapitre*1,""),ROW(5:5)),IF(MATCH(chapitre,chapitre,0)=ROW(chapitre)-1,chapitre*1,""),0))} -> 023 | F6: {=INDEX(article,SMALL(IF(chapitre=Feuil1!$E$2,ROW(chapitre)-1,""),ROW(A5)))} -> #NUM!
B7: {=INDEX(chapitre,MATCH(SMALL(IF(MATCH(chapitre,chapitre,0)=ROW(chapitre)-1,chapitre*1,""),ROW(6:6)),IF(MATCH(chapitre,chapitre,0)=ROW(chapitre)-1,chapitre*1,""),0))} -> 042 | F7: {=INDEX(article,SMALL(IF(chapitre=Feuil1!$E$2,ROW(chapitre)-1,""),ROW(A6)))} -> #NUM!
B8: {=INDEX(chapitre,MATCH(SMALL(IF(MATCH(chapitre,chapitre,0)=ROW(chapitre)-1,chapitre*1,""),ROW(7:7)),IF(MATCH(chapitre,chapitre,0)=ROW(chapitre)-1,chapitre*1,""),0))} -> 65 | F8: {=INDEX(article,SMALL(IF(chapitre=Feuil1!$E$2,ROW(chapitre)-1,""),ROW(A7)))} -> #NUM!
B9: {=INDEX(chapitre,MATCH(SMALL(IF(MATCH(chapitre,chapitre,0)=ROW(chapitre)-1,chapitre*1,""),ROW(8:8)),IF(MATCH(chapitre,chapitre,0)=ROW(chapitre)-1,chapitre*1,""),0))} -> 66 | F9: {=INDEX(article,SMALL(IF(chapitre=Feuil1!$E$2,ROW(chapitre)-1,""),ROW(A8)))} -> #NUM!
B10: {=INDEX(chapitre,MATCH(SMALL(IF(MATCH(chapitre,chapitre,0)=ROW(chapitre)-1,chapitre*1,""),ROW(9:9)),IF(MATCH(chapitre,chapitre,0)=ROW(chapitre)-1,chapitre*1,""),0))} -> 67 | F10: {=INDEX(article,SMALL(IF(chapitre=Feuil1!$E$2,ROW(chapitre)-1,""),ROW(A9)))} -> #NUM!
B11: {=INDEX(chapitre,MATCH(SMALL(IF(MATCH(chapitre,chapitre,0)=ROW(chapitre)-1,chapitre*1,""),ROW(10:10)),IF(MATCH(chapitre,chapitre,0)=ROW(chapitre)-1,chapitre*1,""),0))} -> 68 | F11: {=INDEX(article,SMALL(IF(chapitre=Feuil1!$E$2,ROW(chapitre)-1,""),ROW(A10)))} -> #NUM!
B12: {=INDEX(chapitre,MATCH(SMALL(IF(MATCH(chapitre,chapitre,0)=ROW(chapitre)-1,chapitre*1,""),ROW(11:11)),IF(MATCH(chapitre,chapitre,0)=ROW(chapitre)-1,chapitre*1,""),0))} -> #NUM! | F12: {=INDEX(article,SMALL(IF(chapitre=Feuil1!$E$2,ROW(chapitre)-1,""),ROW(A11)))} -> #NUM!
B13: {=INDEX(chapitre,MATCH(SMALL(IF(MATCH(chapitre,chapitre,0)=ROW(chapitre)-1,chapitre*1,""),ROW(12:12)),IF(MATCH(chapitre,chapitre,0)=ROW(chapitre)-1,chapitre*1,""),0))} -> #NUM! | F13: {=INDEX(article,SMALL(IF(chapitre=Feuil1!$E$2,ROW(chapitre)-1,""),ROW(A12)))} -> #NUM!
B14: {=INDEX(chapitre,MATCH(SMALL(IF(MATCH(chapitre,chapitre,0)=ROW(chapitre)-1,chapitre*1,""),ROW(13:13)),IF(MATCH(chapitre,chapitre,0)=ROW(chapitre)-1,chapitre*1,""),0))} -> #NUM! | F14: {=INDEX(article,SMALL(IF(chapitre=Feuil1!$E$2,ROW(chapitre)-1,""),ROW(A13)))} -> #NUM!
B15: {=INDEX(chapitre,MATCH(SMALL(IF(MATCH(chapitre,chapitre,0)=ROW(chapitre)-1,chapitre*1,""),ROW(14:14)),IF(MATCH(chapitre,chapitre,0)=ROW(chapitre)-1,chapitre*1,""),0))} -> #NUM! | F15: {=INDEX(article,SMALL(IF(chapitre=Feuil1!$E$2,ROW(chapitre)-1,""),ROW(A14)))} -> #NUM!
B16: {=INDEX(chapitre,MATCH(SMALL(IF(MATCH(chapitre,chapitre,0)=ROW(chapitre)-1,chapitre*1,""),ROW(15:15)),IF(MATCH(chapitre,chapitre,0)=ROW(chapitre)-1,chapitre*1,""),0))} -> #NUM! | F16: {=INDEX(article,SMALL(IF(chapitre=Feuil1!$E$2,ROW(chapitre)-1,""),ROW(A15)))} -> #NUM!
B17: {=INDEX(chapitre,MATCH(SMALL(IF(MATCH(chapitre,chapitre,0)=ROW(chapitre)-1,chapitre*1,""),ROW(16:16)),IF(MATCH(chapitre,chapitre,0)=ROW(chapitre)-1,chapitre*1,""),0))} -> #NUM! | F17: {=INDEX(article,SMALL(IF(chapitre=Feuil1!$E$2,ROW(chapitre)-1,""),ROW(A16)))} -> #NUM!
B18: {=INDEX(chapitre,MATCH(SMALL(IF(MATCH(chapitre,chapitre,0)=ROW(chapitre)-1,chapitre*1,""),ROW(17:17)),IF(MATCH(chapitre,chapitre,0)=ROW(chapitre)-1,chapitre*1,""),0))} -> #NUM! | F18: {=INDEX(article,SMALL(IF(chapitre=Feuil1!$E$2,ROW(chapitre)-1,""),ROW(A17)))} -> #NUM!
B19: {=INDEX(chapitre,MATCH(SMALL(IF(MATCH(chapitre,chapitre,0)=ROW(chapitre)-1,chapitre*1,""),ROW(18:18)),IF(MATCH(chapitre,chapitre,0)=ROW(chapitre)-1,chapitre*1,""),0))} -> #NUM! | F19: {=INDEX(article,SMALL(IF(chapitre=Feuil1!$E$2,ROW(chapitre)-1,""),ROW(A18)))} -> #NUM!
B20: {=INDEX(chapitre,MATCH(SMALL(IF(MATCH(chapitre,chapitre,0)=ROW(chapitre)-1,chapitre*1,""),ROW(19:19)),IF(MATCH(chapitre,chapitre,0)=ROW(chapitre)-1,chapitre*1,""),0))} -> #NUM! | F20: {=INDEX(article,SMALL(IF(chapitre=Feuil1!$E$2,ROW(chapitre)-1,""),ROW(A19)))} -> #NUM!
B21: {=INDEX(chapitre,MATCH(SMALL(IF(MATCH(chapitre,chapitre,0)=ROW(chapitre)-1,chapitre*1,""),ROW(20:20)),IF(MATCH(chapitre,chapitre,0)=ROW(chapitre)-1,chapitre*1,""),0))} -> #NUM! | F21: {=INDEX(article,SMALL(IF(chapitre=Feuil1!$E$2,ROW(chapitre)-1,""),ROW(A20)))} -> #NUM!
B22: {=INDEX(chapitre,MATCH(SMALL(IF(MATCH(chapitre,chapitre,0)=ROW(chapitre)-1,chapitre*1,""),ROW(21:21)),IF(MATCH(chapitre,chapitre,0)=ROW(chapitre)-1,chapitre*1,""),0))} -> #NUM! | F22: {=INDEX(article,SMALL(IF(chapitre=Feuil1!$E$2,ROW(chapitre)-1,""),ROW(A21)))} -> #NUM!
B23: {=INDEX(chapitre,MATCH(SMALL(IF(MATCH(chapitre,chapitre,0)=ROW(chapitre)-1,chapitre*1,""),ROW(22:22)),IF(MATCH(chapitre,chapitre,0)=ROW(chapitre)-1,chapitre*1,""),0))} -> #NUM! | F23: {=INDEX(article,SMALL(IF(chapitre=Feuil1!$E$2,ROW(chapitre)-1,""),ROW(A22)))} -> #NUM!
B24: {=INDEX(chapitre,MATCH(SMALL(IF(MATCH(chapitre,chapitre,0)=ROW(chapitre)-1,chapitre*1,""),ROW(23:23)),IF(MATCH(chapitre,chapitre,0)=ROW(chapitre)-1,chapitre*1,""),0))} -> #NUM! | F24: {=INDEX(article,SMALL(IF(chapitre=Feuil1!$E$2,ROW(chapitre)-1,""),ROW(A23)))} -> #NUM!
B25: {=INDEX(chapitre,MATCH(SMALL(IF(MATCH(chapitre,chapitre,0)=ROW(chapitre)-1,chapitre*1,""),ROW(24:24)),IF(MATCH(chapitre,chapitre,0)=ROW(chapitre)-1,chapitre*1,""),0))} -> #NUM! | F25: {=INDEX(article,SMALL(IF(chapitre=Feuil1!$E$2,ROW(chapitre)-1,""),ROW(A24)))} -> #NUM!
B26: {=INDEX(chapitre,MATCH(SMALL(IF(MATCH(chapitre,chapitre,0)=ROW(chapitre)-1,chapitre*1,""),ROW(25:25)),IF(MATCH(chapitre,chapitre,0)=ROW(chapitre)-1,chapitre*1,""),0))} -> #NUM! | F26: {=INDEX(article,SMALL(IF(chapitre=Feuil1!$E$2,ROW(chapitre)-1,""),ROW(A25)))} -> #NUM!
B27: {=INDEX(chapitre,MATCH(SMALL(IF(MATCH(chapitre,chapitre,0)=ROW(chapitre)-1,chapitre*1,""),ROW(26:26)),IF(MATCH(chapitre,chapitre,0)=ROW(chapitre)-1,chapitre*1,""),0))} -> #NUM! | F27: {=INDEX(article,SMALL(IF(chapitre=Feuil1!$E$2,ROW(chapitre)-1,""),ROW(A26)))} -> #NUM!
B28: {=INDEX(chapitre,MATCH(SMALL(IF(MATCH(chapitre,chapitre,0)=ROW(chapitre)-1,chapitre*1,""),ROW(27:27)),IF(MATCH(chapitre,chapitre,0)=ROW(chapitre)-1,chapitre*1,""),0))} -> #NUM! | F28: {=INDEX(article,SMALL(IF(chapitre=Feuil1!$E$2,ROW(chapitre)-1,""),ROW(A27)))} -> #NUM!
B29: {=INDEX(chapitre,MATCH(SMALL(IF(MATCH(chapitre,chapitre,0)=ROW(chapitre)-1,chapitre*1,""),ROW(28:28)),IF(MATCH(chapitre,chapitre,0)=ROW(chapitre)-1,chapitre*1,""),0))} -> #NUM! | F29: {=INDEX(article,SMALL(IF(chapitre=Feuil1!$E$2,ROW(chapitre)-1,""),ROW(A28)))} -> #NUM!
B30: {=INDEX(chapitre,MATCH(SMALL(IF(MATCH(chapitre,chapitre,0)=ROW(chapitre)-1,chapitre*1,""),ROW(29:29)),IF(MATCH(chapitre,chapitre,0)=ROW(chapitre)-1,chapitre*1,""),0))} -> #NUM! | F30: {=INDEX(article,SMALL(IF(chapitre=Feuil1!$E$2,ROW(chapitre)-1,""),ROW(A29)))} -> #NUM!
B31: {=INDEX(chapitre,MATCH(SMALL(IF(MATCH(chapitre,chapitre,0)=ROW(chapitre)-1,chapitre*1,""),ROW(30:30)),IF(MATCH(chapitre,chapitre,0)=ROW(chapitre)-1,chapitre*1,""),0))} -> #NUM! | F31: {=INDEX(article,SMALL(IF(chapitre=Feuil1!$E$2,ROW(chapitre)-1,""),ROW(A30)))} -> #NUM!
B32: {=INDEX(chapitre,MATCH(SMALL(IF(MATCH(chapitre,chapitre,0)=ROW(chapitre)-1,chapitre*1,""),ROW(31:31)),IF(MATCH(chapitre,chapitre,0)=ROW(chapitre)-1,chapitre*1,""),0))} -> #NUM! | F32: {=INDEX(article,SMALL(IF(chapitre=Feuil1!$E$2,ROW(chapitre)-1,""),ROW(A31)))} -> #NUM!
B33: {=INDEX(chapitre,MATCH(SMALL(IF(MATCH(chapitre,chapitre,0)=ROW(chapitre)-1,chapitre*1,""),ROW(32:32)),IF(MATCH(chapitre,chapitre,0)=ROW(chapitre)-1,chapitre*1,""),0))} -> #NUM! | F33: {=INDEX(article,SMALL(IF(chapitre=Feuil1!$E$2,ROW(chapitre)-1,""),ROW(A32)))} -> #NUM!
B34: {=INDEX(chapitre,MATCH(SMALL(IF(MATCH(chapitre,chapitre,0)=ROW(chapitre)-1,chapitre*1,""),ROW(33:33)),IF(MATCH(chapitre,chapitre,0)=ROW(chapitre)-1,chapitre*1,""),0))} -> #NUM! | F34: {=INDEX(article,SMALL(IF(chapitre=Feuil1!$E$2,ROW(chapitre)-1,""),ROW(A33)))} -> #NUM!
B35: {=INDEX(chapitre,MATCH(SMALL(IF(MATCH(chapitre,chapitre,0)=ROW(chapitre)-1,chapitre*1,""),ROW(34:34)),IF(MATCH(chapitre,chapitre,0)=ROW(chapitre)-1,chapitre*1,""),0))} -> #NUM! | F35: {=INDEX(article,SMALL(IF(chapitre=Feuil1!$E$2,ROW(chapitre)-1,""),ROW(A34)))} -> #NUM!
B36: {=INDEX(chapitre,MATCH(SMALL(IF(MATCH(chapitre,chapitre,0)=ROW(chapitre)-1,chapitre*1,""),ROW(35:35)),IF(MATCH(chapitre,chapitre,0)=ROW(chapitre)-1,chapitre*1,""),0))} -> #NUM! | F36: {=INDEX(article,SMALL(IF(chapitre=Feuil1!$E$2,ROW(chapitre)-1,""),ROW(A35)))} -> #NUM!
B37: {=INDEX(chapitre,MATCH(SMALL(IF(MATCH(chapitre,chapitre,0)=ROW(chapitre)-1,chapitre*1,""),ROW(36:36)),IF(MATCH(chapitre,chapitre,0)=ROW(chapitre)-1,chapitre*1,""),0))} -> #NUM! | F37: {=INDEX(article,SMALL(IF(chapitre=Feuil1!$E$2,ROW(chapitre)-1,""),ROW(A36)))} -> #NUM!
B38: {=INDEX(chapitre,MATCH(SMALL(IF(MATCH(chapitre,chapitre,0)=ROW(chapitre)-1,chapitre*1,""),ROW(37:37)),IF(MATCH(chapitre,chapitre,0)=ROW(chapitre)-1,chapitre*1,""),0))} -> #NUM! | F38: {=INDEX(article,SMALL(IF(chapitre=Feuil1!$E$2,ROW(chapitre)-1,""),ROW(A37)))} -> #NUM!
B39: {=INDEX(chapitre,MATCH(SMALL(IF(MATCH(chapitre,chapitre,0)=ROW(chapitre)-1,chapitre*1,""),ROW(38:38)),IF(MATCH(chapitre,chapitre,0)=ROW(chapitre)-1,chapitre*1,""),0))} -> #NUM! | F39: {=INDEX(article,SMALL(IF(chapitre=Feuil1!$E$2,ROW(chapitre)-1,""),ROW(A38)))} -> #NUM!
B40: {=INDEX(chapitre,MATCH(SMALL(IF(MATCH(chapitre,chapitre,0)=ROW(chapitre)-1,chapitre*1,""),ROW(39:39)),IF(MATCH(chapitre,chapitre,0)=ROW(chapitre)-1,chapitre*1,""),0))} -> #NUM! | F40: {=INDEX(article,SMALL(IF(chapitre=Feuil1!$E$2,ROW(chapitre)-1,""),ROW(A39)))} -> #NUM!
...
