Workbook

Sheet Feuil1
A1: rang tournee | B1: Rue 1 | C1: Code Postal | D1: Nom de ville
A2: 1 | B2: ROUTE DE VENDRES | C2: 34500 | D2: BEZIERS
A3: 2 | B3: ROUTE DE SERIGNAN | C3: 34500 | D3: BEZIERS
A4: 3 | B4: 55 AVENUE DU STADE | C4: 34410 | D4: SAUVIAN
A5: 4 | B5: CHATEAU DU THOU | C5: 34410 | D5: SAUVIAN
A6: 5 | B6: 1 CHEMIN DE LA GRANGETTE | C6: 34410 | D6: SERIGNAN
A7: 6 | B7: 106 CHEMIN DE LA CAVE BOYERE | C7: 34410 | D7: SERIGNAN
A8: 7 | B8: CAMPAGNE SAINTE DENISE | C8: 34410 | D8: SERIGNAN
A9: 8 | B9: ROUTE DE SERIGNAN PLAGE | C9: 34410 | D9: SERIGNAN
A10: 9 | B10: 2 BOULEVARD GAMBETTA | C10: 34350 | D10: VALRAS PLAGE
A11: 10 | B11: ROUTE DEPARTEMENTALE 37 | C11: 34350 | D11: VENDRES
A12: 11 | B12: AVENUE DES ELYSEES | C12: 34350 | D12: VALRAS PLAGE
A13: 12 | B13: CHEMIN DES ROMPUDES | C13: 34410 | D13: SERIGNAN
... A80: 79 | B80: DOMAINE SAINT PAUL | C80: 34710 | D80: LESPIGNAN

Sheet a trier
H1: tri tulipe
A2: n°recuperé en feuille 1 | B2: {=VLOOKUP('a trier'!C2,CHOOSE({1,2},Feuil1!B$2:B$80,Feuil1!A$2:A$80),2,0)} -> 5 | C2: 1 CHEMIN DE LA GRANGETTE | D2: 34410 | E2: SERIGNAN | H2: =INDEX(C$2:C$80&" "&D$2:D$80&" "&E$2:E$80,MATCH(SMALL(B$2:B$80,ROW(A1)),B$2:B$80,0)) -> ROUTE DE VENDRES 34500 BEZIERS
B3: {=VLOOKUP('a trier'!C3,CHOOSE({1,2},Feuil1!B$2:B$80,Feuil1!A$2:A$80),2,0)} -> 55 | C3: 1 RUE ALPHONSE BEAU DE ROCHAS | D3: 34500 | E3: BEZIERS | H3: =INDEX(C$2:C$80&" "&D$2:D$80&" "&E$2:E$80,MATCH(SMALL(B$2:B$80,ROW(A2)),B$2:B$80,0)) -> ROUTE DE SERIGNAN 34500 BEZIERS
B4: {=VLOOKUP('a trier'!C4,CHOOSE({1,2},Feuil1!B$2:B$80,Feuil1!A$2:A$80),2,0)} -> 77 | C4: 1 RUE DES FRAISIERS | D4: 34710 | E4: LESPIGNAN | H4: =INDEX(C$2:C$80&" "&D$2:D$80&" "&E$2:E$80,MATCH(SMALL(B$2:B$80,ROW(A3)),B$2:B$80,0)) -> 55 AVENUE DU STADE 34410 SAUVIAN
B5: {=VLOOKUP('a trier'!C5,CHOOSE({1,2},Feuil1!B$2:B$80,Feuil1!A$2:A$80),2,0)} -> 6 | C5: 106 CHEMIN DE LA CAVE BOYERE | D5: 34410 | E5: SERIGNAN | H5: =INDEX(C$2:C$80&" "&D$2:D$80&" "&E$2:E$80,MATCH(SMALL(B$2:B$80,ROW(A4)),B$2:B$80,0)) -> CHATEAU DU THOU 34410 SAUVIAN
B6: {=VLOOKUP('a trier'!C6,CHOOSE({1,2},Feuil1!B$2:B$80,Feuil1!A$2:A$80),2,0)} -> 46 | C6: 12 RUE ALPHONSE DE LAMARTINE | D6: 34500 | E6: BEZIERS | H6: =INDEX(C$2:C$80&" "&D$2:D$80&" "&E$2:E$80,MATCH(SMALL(B$2:B$80,ROW(A5)),B$2:B$80,0)) -> 1 CHEMIN DE LA GRANGETTE 34410 SERIGNAN
B7: {=VLOOKUP('a trier'!C7,CHOOSE({1,2},Feuil1!B$2:B$80,Feuil1!A$2:A$80),2,0)} -> 71 | C7: 12 RUE SAINTE CLAIRE | D7: 34500 | E7: BEZIERS | H7: =INDEX(C$2:C$80&" "&D$2:D$80&" "&E$2:E$80,MATCH(SMALL(B$2:B$80,ROW(A6)),B$2:B$80,0)) -> 106 CHEMIN DE LA CAVE BOYERE 34410 SERIGNAN
B8: {=VLOOKUP('a trier'!C8,CHOOSE({1,2},Feuil1!B$2:B$80,Feuil1!A$2:A$80),2,0)} -> 69 | C8: 126 AVENUE GEORGES CLEMENCEAU | D8: 34500 | E8: BEZIERS | H8: =INDEX(C$2:C$80&" "&D$2:D$80&" "&E$2:E$80,MATCH(SMALL(B$2:B$80,ROW(A7)),B$2:B$80,0)) -> CAMPAGNE SAINTE DENISE 34410 SERIGNAN
B9: {=VLOOKUP('a trier'!C9,CHOOSE({1,2},Feuil1!B$2:B$80,Feuil1!A$2:A$80),2,0)} -> 76 | C9: 13 RUE MARCEL CARNE | D9: 34500 | E9: BEZIERS | H9: =INDEX(C$2:C$80&" "&D$2:D$80&" "&E$2:E$80,MATCH(SMALL(B$2:B$80,ROW(A8)),B$2:B$80,0)) -> ROUTE DE SERIGNAN PLAGE 34410 SERIGNAN
B10: {=VLOOKUP('a trier'!C10,CHOOSE({1,2},Feuil1!B$2:B$80,Feuil1!A$2:A$80),2,0)} -> 35 | C10: 14 BOULEVARD MARECHAL LECLERC | D10: 34500 | E10: BEZIERS | H10: =INDEX(C$2:C$80&" "&D$2:D$80&" "&E$2:E$80,MATCH(SMALL(B$2:B$80,ROW(A9)),B$2:B$80,0)) -> 2 BOULEVARD GAMBETTA 34350 VALRAS PLAGE
B11: {=VLOOKUP('a trier'!C11,CHOOSE({1,2},Feuil1!B$2:B$80,Feuil1!A$2:A$80),2,0)} -> 35 | C11: 14 BOULEVARD MARECHAL LECLERC | D11: 34500 | E11: BEZIERS | H11: =INDEX(C$2:C$80&" "&D$2:D$80&" "&E$2:E$80,MATCH(SMALL(B$2:B$80,ROW(A10)),B$2:B$80,0)) -> ROUTE DEPARTEMENTALE 37 34350 VENDRES
B12: {=VLOOKUP('a trier'!C12,CHOOSE({1,2},Feuil1!B$2:B$80,Feuil1!A$2:A$80),2,0)} -> 35 | C12: 14 BOULEVARD MARECHAL LECLERC | D12: 34500 | E12: BEZIERS | H12: =INDEX(C$2:C$80&" "&D$2:D$80&" "&E$2:E$80,MATCH(SMALL(B$2:B$80,ROW(A11)),B$2:B$80,0)) -> AVENUE DES ELYSEES 34350 VALRAS PLAGE
B13: {=VLOOKUP('a trier'!C13,CHOOSE({1,2},Feuil1!B$2:B$80,Feuil1!A$2:A$80),2,0)} -> 35 | C13: 14 BOULEVARD MARECHAL LECLERC | D13: 34500 | E13: BEZIERS | H13: =INDEX(C$2:C$80&" "&D$2:D$80&" "&E$2:E$80,MATCH(SMALL(B$2:B$80,ROW(A12)),B$2:B$80,0)) -> CHEMIN DES ROMPUDES 34410 SERIGNAN
B14: {=VLOOKUP('a trier'!C14,CHOOSE({1,2},Feuil1!B$2:B$80,Feuil1!A$2:A$80),2,0)} -> 47 | C14: 14 RUE ALEXANDRE CABANEL | D14: 34500 | E14: BEZIERS | H14: =INDEX(C$2:C$80&" "&D$2:D$80&" "&E$2:E$80,MATCH(SMALL(B$2:B$80,ROW(A13)),B$2:B$80,0)) -> 7485 CHEMIN DE LA YOLE 34410 SERIGNAN
... B80: {=VLOOKUP('a trier'!C80,CHOOSE({1,2},Feuil1!B$2:B$80,Feuil1!A$2:A$80),2,0)} -> 53 | C80: RUE ALPHONSE BEAU DE ROCHAS | D80: 34500 | E80: BEZIERS | H80: =INDEX(C$2:C$80&" "&D$2:D$80&" "&E$2:E$80,MATCH(SMALL(B$2:B$80,ROW(A79)),B$2:B$80,0)) -> DOMAINE SAINT PAUL 34710 LESPIGNAN
B81: {=VLOOKUP('a trier'!C81,CHOOSE({1,2},Feuil1!B$2:B$80,Feuil1!A$2:A$80),2,0)} -> #N/A | H81: =INDEX(C$2:C$80&" "&D$2:D$80&" "&E$2:E$80,MATCH(SMALL(B$2:B$80,ROW(A80)),B$2:B$80,0)) -> #NUM!
