Workbook
Name CHAUVET_Alexis: 'SYNTHESE CAP MIT'!$A$2:$AK$2
Name eleves: 'SYNTHESE CAP MIT'!$B$21:$K$21
Name tablo: 'CAP MIT'!$L$2:$M$9

Sheet CAP MIT
C1: 44340 | N1: 0.33333333 | O1: 0.33333333 | P1: 0.57291667 | Q1: 0.57291667
A2: 44340 | B2: Français | C2: HISTOIRE GEO | D2: PSE | E2: ANGLAIS | F2: Chef d'œuvre | G2: Sciences - Durée 1h | H2: Maths - Durée 1h | I2: ATELIER | L2: Français
A3: 0.33333333 | B3: pierre | D3: jean | F3: jules | I3: ethan-tom | L3: HISTOIRE GEO
A4: 0.34375 | L4: PSE
A5: 0.35416667 | B5: adrien | C5: paul | L5: ANGLAIS
A6: 0.36458333 | L6: Chef d'œuvre
A7: 0.375 | L7: Sciences - Durée 1h
A8: 0.38541667 | L8: Maths - Durée 1h
A9: 0.39583333 | L9: ATELIER
A10: 0.40625
A11: 0.41666667
A12: 0.42708333
A13: 0.4375
A14: 0.44791667
A15: 0.45833333
A16: 0.46875
A17: 0.47916667
A18: 0.48958333
A19: 0.5
A20: 0.51041667
A21: 0.52083333
... A25: 0.5625
A26: 0.57291667 | I26: bertrand- ethan
A27: 0.58333333
A28: 0.59375
A29: 0.60416667
A30: 0.61458333
A31: 0.625
A32: 0.63541667
A33: 0.64583333
A34: 0.65625
A35: 0.66666667
A36: 0.67708333
A37: 0.6875
A38: 0.69791667

Sheet SYNTHESE CAP MIT
A1: 44340 | B1: 0.33333333 | C1: 0.34375 | D1: 0.35416667 | E1: 0.36458333 | F1: 0.375 | G1: 0.38541667 | H1: 0.39583333 | I1: 0.40625 | J1: 0.41666667 | K1: 0.42708333 | L1: 0.4375 | M1: 0.44791667 | N1: 0.45833333 | O1: 0.46875 | P1: 0.47916667 | Q1: 0.48958333 | R1: 0.5 | S1: 0.51041667 | T1: 0.52083333 | U1: 0.53125 | V1: 0.54166667 | W1: 0.55208333 | X1: 0.5625 | Y1: 0.57291667 | Z1: 0.58333333 | AA1: 0.59375 | AB1: 0.60416667 | AC1: 0.61458333 | AD1: 0.625 | AE1: 0.63541667 | AF1: 0.64583333 | AG1: 0.65625 | AH1: 0.66666667 | AI1: 0.67708333 | AJ1: 0.6875 | AK1: 0.69791667
A2: pierre | B2: =IF(ISERROR(MATCH($A2,OFFSET('CAP MIT'!$B$2:$I$2,COLUMN()-1,),0)),"",OFFSET('CAP MIT'!$A$2,,MATCH($A2,OFFSET('CAP MIT'!$B$2:$I$2,COLUMN()-1,),0))) -> Français | C2: =IF(ISERROR(MATCH($A2,OFFSET('CAP MIT'!$B$2:$I$2,COLUMN()-1,),0)),"",OFFSET('CAP MIT'!$A$2,,MATCH($A2,OFFSET('CAP MIT'!$B$2:$I$2,COLUMN()-1,),0))) | D2: =IF(ISERROR(MATCH($A2,OFFSET('CAP MIT'!$B$2:$I$2,COLUMN()-1,),0)),"",OFFSET('CAP MIT'!$A$2,,MATCH($A2,OFFSET('CAP MIT'!$B$2:$I$2,COLUMN()-1,),0))) | E2: =IF(ISERROR(MATCH($A2,OFFSET('CAP MIT'!$B$2:$I$2,COLUMN()-1,),0)),"",OFFSET('CAP MIT'!$A$2,,MATCH($A2,OFFSET('CAP MIT'!$B$2:$I$2,COLUMN()-1,),0))) | F2: =IF(ISERROR(MATCH($A2,OFFSET('CAP MIT'!$B$2:$I$2,COLUMN()-1,),0)),"",OFFSET('CAP MIT'!$A$2,,MATCH($A2,OFFSET('CAP MIT'!$B$2:$I$2,COLUMN()-1,),0))) | G2: =IF(ISERROR(MATCH($A2,OFFSET('CAP MIT'!$B$2:$I$2,COLUMN()-1,),0)),"",OFFSET('CAP MIT'!$A$2,,MATCH($A2,OFFSET('CAP MIT'!$B$2:$I$2,COLUMN()-1,),0))) | H2: =IF(ISERROR(MATCH($A2,OFFSET('CAP MIT'!$B$2:$I$2,COLUMN()-1,),0)),"",OFFSET('CAP MIT'!$A$2,,MATCH($A2,OFFSET('CAP MIT'!$B$2:$I$2,COLUMN()-1,),0))) | I2: =IF(ISERROR(MATCH($A2,OFFSET('CAP MIT'!$B$2:$I$2,COLUMN()-1,),0)),"",OFFSET('CAP MIT'!$A$2,,MATCH($A2,OFFSET('CAP MIT'!$B$2:$I$2,COLUMN()-1,),0))) | ... AK2: =IF(ISERROR(MATCH($A2,OFFSET('CAP MIT'!$B$2:$I$2,COLUMN()-1,),0)),"",OFFSET('CAP MIT'!$A$2,,MATCH($A2,OFFSET('CAP MIT'!$B$2:$I$2,COLUMN()-1,),0)))
A3: paul | B3: =IF(ISERROR(MATCH($A3,OFFSET('CAP MIT'!$B$2:$I$2,COLUMN()-1,),0)),"",OFFSET('CAP MIT'!$A$2,,MATCH($A3,OFFSET('CAP MIT'!$B$2:$I$2,COLUMN()-1,),0))) | C3: =IF(ISERROR(MATCH($A3,OFFSET('CAP MIT'!$B$2:$I$2,COLUMN()-1,),0)),"",OFFSET('CAP MIT'!$A$2,,MATCH($A3,OFFSET('CAP MIT'!$B$2:$I$2,COLUMN()-1,),0))) | D3: =IF(ISERROR(MATCH($A3,OFFSET('CAP MIT'!$B$2:$I$2,COLUMN()-1,),0)),"",OFFSET('CAP MIT'!$A$2,,MATCH($A3,OFFSET('CAP MIT'!$B$2:$I$2,COLUMN()-1,),0))) -> HISTOIRE GEO | E3: =IF(ISERROR(MATCH($A3,OFFSET('CAP MIT'!$B$2:$I$2,COLUMN()-1,),0)),"",OFFSET('CAP MIT'!$A$2,,MATCH($A3,OFFSET('CAP MIT'!$B$2:$I$2,COLUMN()-1,),0))) | F3: =IF(ISERROR(MATCH($A3,OFFSET('CAP MIT'!$B$2:$I$2,COLUMN()-1,),0)),"",OFFSET('CAP MIT'!$A$2,,MATCH($A3,OFFSET('CAP MIT'!$B$2:$I$2,COLUMN()-1,),0))) | G3: =IF(ISERROR(MATCH($A3,OFFSET('CAP MIT'!$B$2:$I$2,COLUMN()-1,),0)),"",OFFSET('CAP MIT'!$A$2,,MATCH($A3,OFFSET('CAP MIT'!$B$2:$I$2,COLUMN()-1,),0))) | H3: =IF(ISERROR(MATCH($A3,OFFSET('CAP MIT'!$B$2:$I$2,COLUMN()-1,),0)),"",OFFSET('CAP MIT'!$A$2,,MATCH($A3,OFFSET('CAP MIT'!$B$2:$I$2,COLUMN()-1,),0))) | I3: =IF(ISERROR(MATCH($A3,OFFSET('CAP MIT'!$B$2:$I$2,COLUMN()-1,),0)),"",OFFSET('CAP MIT'!$A$2,,MATCH($A3,OFFSET('CAP MIT'!$B$2:$I$2,COLUMN()-1,),0))) | ... AK3: =IF(ISERROR(MATCH($A3,OFFSET('CAP MIT'!$B$2:$I$2,COLUMN()-1,),0)),"",OFFSET('CAP MIT'!$A$2,,MATCH($A3,OFFSET('CAP MIT'!$B$2:$I$2,COLUMN()-1,),0)))
A4: jacques | B4: =IF(ISERROR(MATCH($A4,OFFSET('CAP MIT'!$B$2:$I$2,COLUMN()-1,),0)),"",OFFSET('CAP MIT'!$A$2,,MATCH($A4,OFFSET('CAP MIT'!$B$2:$I$2,COLUMN()-1,),0))) | C4: =IF(ISERROR(MATCH($A4,OFFSET('CAP MIT'!$B$2:$I$2,COLUMN()-1,),0)),"",OFFSET('CAP MIT'!$A$2,,MATCH($A4,OFFSET('CAP MIT'!$B$2:$I$2,COLUMN()-1,),0))) | D4: =IF(ISERROR(MATCH($A4,OFFSET('CAP MIT'!$B$2:$I$2,COLUMN()-1,),0)),"",OFFSET('CAP MIT'!$A$2,,MATCH($A4,OFFSET('CAP MIT'!$B$2:$I$2,COLUMN()-1,),0))) | E4: =IF(ISERROR(MATCH($A4,OFFSET('CAP MIT'!$B$2:$I$2,COLUMN()-1,),0)),"",OFFSET('CAP MIT'!$A$2,,MATCH($A4,OFFSET('CAP MIT'!$B$2:$I$2,COLUMN()-1,),0))) | F4: =IF(ISERROR(MATCH($A4,OFFSET('CAP MIT'!$B$2:$I$2,COLUMN()-1,),0)),"",OFFSET('CAP MIT'!$A$2,,MATCH($A4,OFFSET('CAP MIT'!$B$2:$I$2,COLUMN()-1,),0))) | G4: =IF(ISERROR(MATCH($A4,OFFSET('CAP MIT'!$B$2:$I$2,COLUMN()-1,),0)),"",OFFSET('CAP MIT'!$A$2,,MATCH($A4,OFFSET('CAP MIT'!$B$2:$I$2,COLUMN()-1,),0))) | H4: =IF(ISERROR(MATCH($A4,OFFSET('CAP MIT'!$B$2:$I$2,COLUMN()-1,),0)),"",OFFSET('CAP MIT'!$A$2,,MATCH($A4,OFFSET('CAP MIT'!$B$2:$I$2,COLUMN()-1,),0))) | I4: =IF(ISERROR(MATCH($A4,OFFSET('CAP MIT'!$B$2:$I$2,COLUMN()-1,),0)),"",OFFSET('CAP MIT'!$A$2,,MATCH($A4,OFFSET('CAP MIT'!$B$2:$I$2,COLUMN()-1,),0))) | ... AK4: =IF(ISERROR(MATCH($A4,OFFSET('CAP MIT'!$B$2:$I$2,COLUMN()-1,),0)),"",OFFSET('CAP MIT'!$A$2,,MATCH($A4,OFFSET('CAP MIT'!$B$2:$I$2,COLUMN()-1,),0)))
A5: jean | B5: =IF(ISERROR(MATCH($A5,OFFSET('CAP MIT'!$B$2:$I$2,COLUMN()-1,),0)),"",OFFSET('CAP MIT'!$A$2,,MATCH($A5,OFFSET('CAP MIT'!$B$2:$I$2,COLUMN()-1,),0))) -> PSE | C5: =IF(ISERROR(MATCH($A5,OFFSET('CAP MIT'!$B$2:$I$2,COLUMN()-1,),0)),"",OFFSET('CAP MIT'!$A$2,,MATCH($A5,OFFSET('CAP MIT'!$B$2:$I$2,COLUMN()-1,),0))) | D5: =IF(ISERROR(MATCH($A5,OFFSET('CAP MIT'!$B$2:$I$2,COLUMN()-1,),0)),"",OFFSET('CAP MIT'!$A$2,,MATCH($A5,OFFSET('CAP MIT'!$B$2:$I$2,COLUMN()-1,),0))) | E5: =IF(ISERROR(MATCH($A5,OFFSET('CAP MIT'!$B$2:$I$2,COLUMN()-1,),0)),"",OFFSET('CAP MIT'!$A$2,,MATCH($A5,OFFSET('CAP MIT'!$B$2:$I$2,COLUMN()-1,),0))) | F5: =IF(ISERROR(MATCH($A5,OFFSET('CAP MIT'!$B$2:$I$2,COLUMN()-1,),0)),"",OFFSET('CAP MIT'!$A$2,,MATCH($A5,OFFSET('CAP MIT'!$B$2:$I$2,COLUMN()-1,),0))) | G5: =IF(ISERROR(MATCH($A5,OFFSET('CAP MIT'!$B$2:$I$2,COLUMN()-1,),0)),"",OFFSET('CAP MIT'!$A$2,,MATCH($A5,OFFSET('CAP MIT'!$B$2:$I$2,COLUMN()-1,),0))) | H5: =IF(ISERROR(MATCH($A5,OFFSET('CAP MIT'!$B$2:$I$2,COLUMN()-1,),0)),"",OFFSET('CAP MIT'!$A$2,,MATCH($A5,OFFSET('CAP MIT'!$B$2:$I$2,COLUMN()-1,),0))) | I5: =IF(ISERROR(MATCH($A5,OFFSET('CAP MIT'!$B$2:$I$2,COLUMN()-1,),0)),"",OFFSET('CAP MIT'!$A$2,,MATCH($A5,OFFSET('CAP MIT'!$B$2:$I$2,COLUMN()-1,),0))) | ... AK5: =IF(ISERROR(MATCH($A5,OFFSET('CAP MIT'!$B$2:$I$2,COLUMN()-1,),0)),"",OFFSET('CAP MIT'!$A$2,,MATCH($A5,OFFSET('CAP MIT'!$B$2:$I$2,COLUMN()-1,),0)))
A6: jules | B6: =IF(ISERROR(MATCH($A6,OFFSET('CAP MIT'!$B$2:$I$2,COLUMN()-1,),0)),"",OFFSET('CAP MIT'!$A$2,,MATCH($A6,OFFSET('CAP MIT'!$B$2:$I$2,COLUMN()-1,),0))) -> Chef d'œuvre | C6: =IF(ISERROR(MATCH($A6,OFFSET('CAP MIT'!$B$2:$I$2,COLUMN()-1,),0)),"",OFFSET('CAP MIT'!$A$2,,MATCH($A6,OFFSET('CAP MIT'!$B$2:$I$2,COLUMN()-1,),0))) | D6: =IF(ISERROR(MATCH($A6,OFFSET('CAP MIT'!$B$2:$I$2,COLUMN()-1,),0)),"",OFFSET('CAP MIT'!$A$2,,MATCH($A6,OFFSET('CAP MIT'!$B$2:$I$2,COLUMN()-1,),0))) | E6: =IF(ISERROR(MATCH($A6,OFFSET('CAP MIT'!$B$2:$I$2,COLUMN()-1,),0)),"",OFFSET('CAP MIT'!$A$2,,MATCH($A6,OFFSET('CAP MIT'!$B$2:$I$2,COLUMN()-1,),0))) | F6: =IF(ISERROR(MATCH($A6,OFFSET('CAP MIT'!$B$2:$I$2,COLUMN()-1,),0)),"",OFFSET('CAP MIT'!$A$2,,MATCH($A6,OFFSET('CAP MIT'!$B$2:$I$2,COLUMN()-1,),0))) | G6: =IF(ISERROR(MATCH($A6,OFFSET('CAP MIT'!$B$2:$I$2,COLUMN()-1,),0)),"",OFFSET('CAP MIT'!$A$2,,MATCH($A6,OFFSET('CAP MIT'!$B$2:$I$2,COLUMN()-1,),0))) | H6: =IF(ISERROR(MATCH($A6,OFFSET('CAP MIT'!$B$2:$I$2,COLUMN()-1,),0)),"",OFFSET('CAP MIT'!$A$2,,MATCH($A6,OFFSET('CAP MIT'!$B$2:$I$2,COLUMN()-1,),0))) | I6: =IF(ISERROR(MATCH($A6,OFFSET('CAP MIT'!$B$2:$I$2,COLUMN()-1,),0)),"",OFFSET('CAP MIT'!$A$2,,MATCH($A6,OFFSET('CAP MIT'!$B$2:$I$2,COLUMN()-1,),0))) | ... AK6: =IF(ISERROR(MATCH($A6,OFFSET('CAP MIT'!$B$2:$I$2,COLUMN()-1,),0)),"",OFFSET('CAP MIT'!$A$2,,MATCH($A6,OFFSET('CAP MIT'!$B$2:$I$2,COLUMN()-1,),0)))
A7: adrien | B7: =IF(ISERROR(MATCH($A7,OFFSET('CAP MIT'!$B$2:$I$2,COLUMN()-1,),0)),"",OFFSET('CAP MIT'!$A$2,,MATCH($A7,OFFSET('CAP MIT'!$B$2:$I$2,COLUMN()-1,),0))) | C7: =IF(ISERROR(MATCH($A7,OFFSET('CAP MIT'!$B$2:$I$2,COLUMN()-1,),0)),"",OFFSET('CAP MIT'!$A$2,,MATCH($A7,OFFSET('CAP MIT'!$B$2:$I$2,COLUMN()-1,),0))) | D7: =IF(ISERROR(MATCH($A7,OFFSET('CAP MIT'!$B$2:$I$2,COLUMN()-1,),0)),"",OFFSET('CAP MIT'!$A$2,,MATCH($A7,OFFSET('CAP MIT'!$B$2:$I$2,COLUMN()-1,),0))) -> Français | E7: =IF(ISERROR(MATCH($A7,OFFSET('CAP MIT'!$B$2:$I$2,COLUMN()-1,),0)),"",OFFSET('CAP MIT'!$A$2,,MATCH($A7,OFFSET('CAP MIT'!$B$2:$I$2,COLUMN()-1,),0))) | F7: =IF(ISERROR(MATCH($A7,OFFSET('CAP MIT'!$B$2:$I$2,COLUMN()-1,),0)),"",OFFSET('CAP MIT'!$A$2,,MATCH($A7,OFFSET('CAP MIT'!$B$2:$I$2,COLUMN()-1,),0))) | G7: =IF(ISERROR(MATCH($A7,OFFSET('CAP MIT'!$B$2:$I$2,COLUMN()-1,),0)),"",OFFSET('CAP MIT'!$A$2,,MATCH($A7,OFFSET('CAP MIT'!$B$2:$I$2,COLUMN()-1,),0))) | H7: =IF(ISERROR(MATCH($A7,OFFSET('CAP MIT'!$B$2:$I$2,COLUMN()-1,),0)),"",OFFSET('CAP MIT'!$A$2,,MATCH($A7,OFFSET('CAP MIT'!$B$2:$I$2,COLUMN()-1,),0))) | I7: =IF(ISERROR(MATCH($A7,OFFSET('CAP MIT'!$B$2:$I$2,COLUMN()-1,),0)),"",OFFSET('CAP MIT'!$A$2,,MATCH($A7,OFFSET('CAP MIT'!$B$2:$I$2,COLUMN()-1,),0))) | ... AK7: =IF(ISERROR(MATCH($A7,OFFSET('CAP MIT'!$B$2:$I$2,COLUMN()-1,),0)),"",OFFSET('CAP MIT'!$A$2,,MATCH($A7,OFFSET('CAP MIT'!$B$2:$I$2,COLUMN()-1,),0)))
A8: tom | B8: =IF(ISERROR(MATCH($A8,OFFSET('CAP MIT'!$B$2:$I$2,COLUMN()-1,),0)),"",OFFSET('CAP MIT'!$A$2,,MATCH($A8,OFFSET('CAP MIT'!$B$2:$I$2,COLUMN()-1,),0))) | C8: =IF(ISERROR(MATCH($A8,OFFSET('CAP MIT'!$B$2:$I$2,COLUMN()-1,),0)),"",OFFSET('CAP MIT'!$A$2,,MATCH($A8,OFFSET('CAP MIT'!$B$2:$I$2,COLUMN()-1,),0))) | D8: =IF(ISERROR(MATCH($A8,OFFSET('CAP MIT'!$B$2:$I$2,COLUMN()-1,),0)),"",OFFSET('CAP MIT'!$A$2,,MATCH($A8,OFFSET('CAP MIT'!$B$2:$I$2,COLUMN()-1,),0))) | E8: =IF(ISERROR(MATCH($A8,OFFSET('CAP MIT'!$B$2:$I$2,COLUMN()-1,),0)),"",OFFSET('CAP MIT'!$A$2,,MATCH($A8,OFFSET('CAP MIT'!$B$2:$I$2,COLUMN()-1,),0))) | F8: =IF(ISERROR(MATCH($A8,OFFSET('CAP MIT'!$B$2:$I$2,COLUMN()-1,),0)),"",OFFSET('CAP MIT'!$A$2,,MATCH($A8,OFFSET('CAP MIT'!$B$2:$I$2,COLUMN()-1,),0))) | G8: =IF(ISERROR(MATCH($A8,OFFSET('CAP MIT'!$B$2:$I$2,COLUMN()-1,),0)),"",OFFSET('CAP MIT'!$A$2,,MATCH($A8,OFFSET('CAP MIT'!$B$2:$I$2,COLUMN()-1,),0))) | H8: =IF(ISERROR(MATCH($A8,OFFSET('CAP MIT'!$B$2:$I$2,COLUMN()-1,),0)),"",OFFSET('CAP MIT'!$A$2,,MATCH($A8,OFFSET('CAP MIT'!$B$2:$I$2,COLUMN()-1,),0))) | I8: =IF(ISERROR(MATCH($A8,OFFSET('CAP MIT'!$B$2:$I$2,COLUMN()-1,),0)),"",OFFSET('CAP MIT'!$A$2,,MATCH($A8,OFFSET('CAP MIT'!$B$2:$I$2,COLUMN()-1,),0))) | ... AK8: =IF(ISERROR(MATCH($A8,OFFSET('CAP MIT'!$B$2:$I$2,COLUMN()-1,),0)),"",OFFSET('CAP MIT'!$A$2,,MATCH($A8,OFFSET('CAP MIT'!$B$2:$I$2,COLUMN()-1,),0)))
A9: ethan | B9: =IF(ISERROR(MATCH($A9,OFFSET('CAP MIT'!$B$2:$I$2,COLUMN()-1,),0)),"",OFFSET('CAP MIT'!$A$2,,MATCH($A9,OFFSET('CAP MIT'!$B$2:$I$2,COLUMN()-1,),0))) | C9: =IF(ISERROR(MATCH($A9,OFFSET('CAP MIT'!$B$2:$I$2,COLUMN()-1,),0)),"",OFFSET('CAP MIT'!$A$2,,MATCH($A9,OFFSET('CAP MIT'!$B$2:$I$2,COLUMN()-1,),0))) | D9: =IF(ISERROR(MATCH($A9,OFFSET('CAP MIT'!$B$2:$I$2,COLUMN()-1,),0)),"",OFFSET('CAP MIT'!$A$2,,MATCH($A9,OFFSET('CAP MIT'!$B$2:$I$2,COLUMN()-1,),0))) | E9: =IF(ISERROR(MATCH($A9,OFFSET('CAP MIT'!$B$2:$I$2,COLUMN()-1,),0)),"",OFFSET('CAP MIT'!$A$2,,MATCH($A9,OFFSET('CAP MIT'!$B$2:$I$2,COLUMN()-1,),0))) | F9: =IF(ISERROR(MATCH($A9,OFFSET('CAP MIT'!$B$2:$I$2,COLUMN()-1,),0)),"",OFFSET('CAP MIT'!$A$2,,MATCH($A9,OFFSET('CAP MIT'!$B$2:$I$2,COLUMN()-1,),0))) | G9: =IF(ISERROR(MATCH($A9,OFFSET('CAP MIT'!$B$2:$I$2,COLUMN()-1,),0)),"",OFFSET('CAP MIT'!$A$2,,MATCH($A9,OFFSET('CAP MIT'!$B$2:$I$2,COLUMN()-1,),0))) | H9: =IF(ISERROR(MATCH($A9,OFFSET('CAP MIT'!$B$2:$I$2,COLUMN()-1,),0)),"",OFFSET('CAP MIT'!$A$2,,MATCH($A9,OFFSET('CAP MIT'!$B$2:$I$2,COLUMN()-1,),0))) | I9: =IF(ISERROR(MATCH($A9,OFFSET('CAP MIT'!$B$2:$I$2,COLUMN()-1,),0)),"",OFFSET('CAP MIT'!$A$2,,MATCH($A9,OFFSET('CAP MIT'!$B$2:$I$2,COLUMN()-1,),0))) | ... AK9: =IF(ISERROR(MATCH($A9,OFFSET('CAP MIT'!$B$2:$I$2,COLUMN()-1,),0)),"",OFFSET('CAP MIT'!$A$2,,MATCH($A9,OFFSET('CAP MIT'!$B$2:$I$2,COLUMN()-1,),0)))
A10: guillaume | B10: =IF(ISERROR(MATCH($A10,OFFSET('CAP MIT'!$B$2:$I$2,COLUMN()-1,),0)),"",OFFSET('CAP MIT'!$A$2,,MATCH($A10,OFFSET('CAP MIT'!$B$2:$I$2,COLUMN()-1,),0))) | C10: =IF(ISERROR(MATCH($A10,OFFSET('CAP MIT'!$B$2:$I$2,COLUMN()-1,),0)),"",OFFSET('CAP MIT'!$A$2,,MATCH($A10,OFFSET('CAP MIT'!$B$2:$I$2,COLUMN()-1,),0))) | D10: =IF(ISERROR(MATCH($A10,OFFSET('CAP MIT'!$B$2:$I$2,COLUMN()-1,),0)),"",OFFSET('CAP MIT'!$A$2,,MATCH($A10,OFFSET('CAP MIT'!$B$2:$I$2,COLUMN()-1,),0))) | E10: =IF(ISERROR(MATCH($A10,OFFSET('CAP MIT'!$B$2:$I$2,COLUMN()-1,),0)),"",OFFSET('CAP MIT'!$A$2,,MATCH($A10,OFFSET('CAP MIT'!$B$2:$I$2,COLUMN()-1,),0))) | F10: =IF(ISERROR(MATCH($A10,OFFSET('CAP MIT'!$B$2:$I$2,COLUMN()-1,),0)),"",OFFSET('CAP MIT'!$A$2,,MATCH($A10,OFFSET('CAP MIT'!$B$2:$I$2,COLUMN()-1,),0))) | G10: =IF(ISERROR(MATCH($A10,OFFSET('CAP MIT'!$B$2:$I$2,COLUMN()-1,),0)),"",OFFSET('CAP MIT'!$A$2,,MATCH($A10,OFFSET('CAP MIT'!$B$2:$I$2,COLUMN()-1,),0))) | H10: =IF(ISERROR(MATCH($A10,OFFSET('CAP MIT'!$B$2:$I$2,COLUMN()-1,),0)),"",OFFSET('CAP MIT'!$A$2,,MATCH($A10,OFFSET('CAP MIT'!$B$2:$I$2,COLUMN()-1,),0))) | I10: =IF(ISERROR(MATCH($A10,OFFSET('CAP MIT'!$B$2:$I$2,COLUMN()-1,),0)),"",OFFSET('CAP MIT'!$A$2,,MATCH($A10,OFFSET('CAP MIT'!$B$2:$I$2,COLUMN()-1,),0))) | ... AK10: =IF(ISERROR(MATCH($A10,OFFSET('CAP MIT'!$B$2:$I$2,COLUMN()-1,),0)),"",OFFSET('CAP MIT'!$A$2,,MATCH($A10,OFFSET('CAP MIT'!$B$2:$I$2,COLUMN()-1,),0)))
A11: bertrand | B11: =IF(ISERROR(MATCH($A11,OFFSET('CAP MIT'!$B$2:$I$2,COLUMN()-1,),0)),"",OFFSET('CAP MIT'!$A$2,,MATCH($A11,OFFSET('CAP MIT'!$B$2:$I$2,COLUMN()-1,),0))) | C11: =IF(ISERROR(MATCH($A11,OFFSET('CAP MIT'!$B$2:$I$2,COLUMN()-1,),0)),"",OFFSET('CAP MIT'!$A$2,,MATCH($A11,OFFSET('CAP MIT'!$B$2:$I$2,COLUMN()-1,),0))) | D11: =IF(ISERROR(MATCH($A11,OFFSET('CAP MIT'!$B$2:$I$2,COLUMN()-1,),0)),"",OFFSET('CAP MIT'!$A$2,,MATCH($A11,OFFSET('CAP MIT'!$B$2:$I$2,COLUMN()-1,),0))) | E11: =IF(ISERROR(MATCH($A11,OFFSET('CAP MIT'!$B$2:$I$2,COLUMN()-1,),0)),"",OFFSET('CAP MIT'!$A$2,,MATCH($A11,OFFSET('CAP MIT'!$B$2:$I$2,COLUMN()-1,),0))) | F11: =IF(ISERROR(MATCH($A11,OFFSET('CAP MIT'!$B$2:$I$2,COLUMN()-1,),0)),"",OFFSET('CAP MIT'!$A$2,,MATCH($A11,OFFSET('CAP MIT'!$B$2:$I$2,COLUMN()-1,),0))) | G11: =IF(ISERROR(MATCH($A11,OFFSET('CAP MIT'!$B$2:$I$2,COLUMN()-1,),0)),"",OFFSET('CAP MIT'!$A$2,,MATCH($A11,OFFSET('CAP MIT'!$B$2:$I$2,COLUMN()-1,),0))) | H11: =IF(ISERROR(MATCH($A11,OFFSET('CAP MIT'!$B$2:$I$2,COLUMN()-1,),0)),"",OFFSET('CAP MIT'!$A$2,,MATCH($A11,OFFSET('CAP MIT'!$B$2:$I$2,COLUMN()-1,),0))) | I11: =IF(ISERROR(MATCH($A11,OFFSET('CAP MIT'!$B$2:$I$2,COLUMN()-1,),0)),"",OFFSET('CAP MIT'!$A$2,,MATCH($A11,OFFSET('CAP MIT'!$B$2:$I$2,COLUMN()-1,),0))) | ... AK11: =IF(ISERROR(MATCH($A11,OFFSET('CAP MIT'!$B$2:$I$2,COLUMN()-1,),0)),"",OFFSET('CAP MIT'!$A$2,,MATCH($A11,OFFSET('CAP MIT'!$B$2:$I$2,COLUMN()-1,),0)))
A21: 44340 | B21: pierre | C21: paul | D21: jacques | E21: jean | F21: jules | G21: adrien | H21: tom | I21: ethan | J21: guillaume | K21: bertrand
A22: 0.33333333 | B22: {=IFERROR(INDEX('CAP MIT'!$L$2:$L$9,SUMPRODUCT(MAX(ISNUMBER(SEARCH(B$21,'CAP MIT'!$B$3:$I$38))*('CAP MIT'!$A$3:$A$38=$A22)*(COLUMN($B:$I))-1))),"")} -> Français | C22: {=IFERROR(INDEX('CAP MIT'!$L$2:$L$9,SUMPRODUCT(MAX(ISNUMBER(SEARCH(C$21,'CAP MIT'!$B$3:$I$38))*('CAP MIT'!$A$3:$A$38=$A22)*(COLUMN($B:$I))-1))),"")} | D22: {=IFERROR(INDEX('CAP MIT'!$L$2:$L$9,SUMPRODUCT(MAX(ISNUMBER(SEARCH(D$21,'CAP MIT'!$B$3:$I$38))*('CAP MIT'!$A$3:$A$38=$A22)*(COLUMN($B:$I))-1))),"")} | E22: {=IFERROR(INDEX('CAP MIT'!$L$2:$L$9,SUMPRODUCT(MAX(ISNUMBER(SEARCH(E$21,'CAP MIT'!$B$3:$I$38))*('CAP MIT'!$A$3:$A$38=$A22)*(COLUMN($B:$I))-1))),"")} -> PSE | F22: {=IFERROR(INDEX('CAP MIT'!$L$2:$L$9,SUMPRODUCT(MAX(ISNUMBER(SEARCH(F$21,'CAP MIT'!$B$3:$I$38))*('CAP MIT'!$A$3:$A$38=$A22)*(COLUMN($B:$I))-1))),"")} -> Chef d'œuvre | G22: {=IFERROR(INDEX('CAP MIT'!$L$2:$L$9,SUMPRODUCT(MAX(ISNUMBER(SEARCH(G$21,'CAP MIT'!$B$3:$I$38))*('CAP MIT'!$A$3:$A$38=$A22)*(COLUMN($B:$I))-1))),"")} | H22: {=IFERROR(INDEX('CAP MIT'!$L$2:$L$9,SUMPRODUCT(MAX(ISNUMBER(SEARCH(H$21,'CAP MIT'!$B$3:$I$38))*('CAP MIT'!$A$3:$A$38=$A22)*(COLUMN($B:$I))-1))),"")} -> ATELIER | I22: {=IFERROR(INDEX('CAP MIT'!$L$2:$L$9,SUMPRODUCT(MAX(ISNUMBER(SEARCH(I$21,'CAP MIT'!$B$3:$I$38))*('CAP MIT'!$A$3:$A$38=$A22)*(COLUMN($B:$I))-1))),"")} -> ATELIER | ... K22: {=IFERROR(INDEX('CAP MIT'!$L$2:$L$9,SUMPRODUCT(MAX(ISNUMBER(SEARCH(K$21,'CAP MIT'!$B$3:$I$38))*('CAP MIT'!$A$3:$A$38=$A22)*(COLUMN($B:$I))-1))),"")}
A23: 0.34375 | B23: {=IFERROR(INDEX('CAP MIT'!$L$2:$L$9,SUMPRODUCT(MAX(ISNUMBER(SEARCH(B$21,'CAP MIT'!$B$3:$I$38))*('CAP MIT'!$A$3:$A$38=$A23)*(COLUMN($B:$I))-1))),"")} | C23: {=IFERROR(INDEX('CAP MIT'!$L$2:$L$9,SUMPRODUCT(MAX(ISNUMBER(SEARCH(C$21,'CAP MIT'!$B$3:$I$38))*('CAP MIT'!$A$3:$A$38=$A23)*(COLUMN($B:$I))-1))),"")} | D23: {=IFERROR(INDEX('CAP MIT'!$L$2:$L$9,SUMPRODUCT(MAX(ISNUMBER(SEARCH(D$21,'CAP MIT'!$B$3:$I$38))*('CAP MIT'!$A$3:$A$38=$A23)*(COLUMN($B:$I))-1))),"")} | E23: {=IFERROR(INDEX('CAP MIT'!$L$2:$L$9,SUMPRODUCT(MAX(ISNUMBER(SEARCH(E$21,'CAP MIT'!$B$3:$I$38))*('CAP MIT'!$A$3:$A$38=$A23)*(COLUMN($B:$I))-1))),"")} | F23: {=IFERROR(INDEX('CAP MIT'!$L$2:$L$9,SUMPRODUCT(MAX(ISNUMBER(SEARCH(F$21,'CAP MIT'!$B$3:$I$38))*('CAP MIT'!$A$3:$A$38=$A23)*(COLUMN($B:$I))-1))),"")} | G23: {=IFERROR(INDEX('CAP MIT'!$L$2:$L$9,SUMPRODUCT(MAX(ISNUMBER(SEARCH(G$21,'CAP MIT'!$B$3:$I$38))*('CAP MIT'!$A$3:$A$38=$A23)*(COLUMN($B:$I))-1))),"")} | H23: {=IFERROR(INDEX('CAP MIT'!$L$2:$L$9,SUMPRODUCT(MAX(ISNUMBER(SEARCH(H$21,'CAP MIT'!$B$3:$I$38))*('CAP MIT'!$A$3:$A$38=$A23)*(COLUMN($B:$I))-1))),"")} | I23: {=IFERROR(INDEX('CAP MIT'!$L$2:$L$9,SUMPRODUCT(MAX(ISNUMBER(SEARCH(I$21,'CAP MIT'!$B$3:$I$38))*('CAP MIT'!$A$3:$A$38=$A23)*(COLUMN($B:$I))-1))),"")} | ... K23: {=IFERROR(INDEX('CAP MIT'!$L$2:$L$9,SUMPRODUCT(MAX(ISNUMBER(SEARCH(K$21,'CAP MIT'!$B$3:$I$38))*('CAP MIT'!$A$3:$A$38=$A23)*(COLUMN($B:$I))-1))),"")}
A24: 0.35416667 | B24: {=IFERROR(INDEX('CAP MIT'!$L$2:$L$9,SUMPRODUCT(MAX(ISNUMBER(SEARCH(B$21,'CAP MIT'!$B$3:$I$38))*('CAP MIT'!$A$3:$A$38=$A24)*(COLUMN($B:$I))-1))),"")} | C24: {=IFERROR(INDEX('CAP MIT'!$L$2:$L$9,SUMPRODUCT(MAX(ISNUMBER(SEARCH(C$21,'CAP MIT'!$B$3:$I$38))*('CAP MIT'!$A$3:$A$38=$A24)*(COLUMN($B:$I))-1))),"")} -> HISTOIRE GEO | D24: {=IFERROR(INDEX('CAP MIT'!$L$2:$L$9,SUMPRODUCT(MAX(ISNUMBER(SEARCH(D$21,'CAP MIT'!$B$3:$I$38))*('CAP MIT'!$A$3:$A$38=$A24)*(COLUMN($B:$I))-1))),"")} | E24: {=IFERROR(INDEX('CAP MIT'!$L$2:$L$9,SUMPRODUCT(MAX(ISNUMBER(SEARCH(E$21,'CAP MIT'!$B$3:$I$38))*('CAP MIT'!$A$3:$A$38=$A24)*(COLUMN($B:$I))-1))),"")} | F24: {=IFERROR(INDEX('CAP MIT'!$L$2:$L$9,SUMPRODUCT(MAX(ISNUMBER(SEARCH(F$21,'CAP MIT'!$B$3:$I$38))*('CAP MIT'!$A$3:$A$38=$A24)*(COLUMN($B:$I))-1))),"")} | G24: {=IFERROR(INDEX('CAP MIT'!$L$2:$L$9,SUMPRODUCT(MAX(ISNUMBER(SEARCH(G$21,'CAP MIT'!$B$3:$I$38))*('CAP MIT'!$A$3:$A$38=$A24)*(COLUMN($B:$I))-1))),"")} -> Français | H24: {=IFERROR(INDEX('CAP MIT'!$L$2:$L$9,SUMPRODUCT(MAX(ISNUMBER(SEARCH(H$21,'CAP MIT'!$B$3:$I$38))*('CAP MIT'!$A$3:$A$38=$A24)*(COLUMN($B:$I))-1))),"")} | I24: {=IFERROR(INDEX('CAP MIT'!$L$2:$L$9,SUMPRODUCT(MAX(ISNUMBER(SEARCH(I$21,'CAP MIT'!$B$3:$I$38))*('CAP MIT'!$A$3:$A$38=$A24)*(COLUMN($B:$I))-1))),"")} | ... K24: {=IFERROR(INDEX('CAP MIT'!$L$2:$L$9,SUMPRODUCT(MAX(ISNUMBER(SEARCH(K$21,'CAP MIT'!$B$3:$I$38))*('CAP MIT'!$A$3:$A$38=$A24)*(COLUMN($B:$I))-1))),"")}
A25: 0.36458333 | B25: {=IFERROR(INDEX('CAP MIT'!$L$2:$L$9,SUMPRODUCT(MAX(ISNUMBER(SEARCH(B$21,'CAP MIT'!$B$3:$I$38))*('CAP MIT'!$A$3:$A$38=$A25)*(COLUMN($B:$I))-1))),"")} | C25: {=IFERROR(INDEX('CAP MIT'!$L$2:$L$9,SUMPRODUCT(MAX(ISNUMBER(SEARCH(C$21,'CAP MIT'!$B$3:$I$38))*('CAP MIT'!$A$3:$A$38=$A25)*(COLUMN($B:$I))-1))),"")} | D25: {=IFERROR(INDEX('CAP MIT'!$L$2:$L$9,SUMPRODUCT(MAX(ISNUMBER(SEARCH(D$21,'CAP MIT'!$B$3:$I$38))*('CAP MIT'!$A$3:$A$38=$A25)*(COLUMN($B:$I))-1))),"")} | E25: {=IFERROR(INDEX('CAP MIT'!$L$2:$L$9,SUMPRODUCT(MAX(ISNUMBER(SEARCH(E$21,'CAP MIT'!$B$3:$I$38))*('CAP MIT'!$A$3:$A$38=$A25)*(COLUMN($B:$I))-1))),"")} | F25: {=IFERROR(INDEX('CAP MIT'!$L$2:$L$9,SUMPRODUCT(MAX(ISNUMBER(SEARCH(F$21,'CAP MIT'!$B$3:$I$38))*('CAP MIT'!$A$3:$A$38=$A25)*(COLUMN($B:$I))-1))),"")} | G25: {=IFERROR(INDEX('CAP MIT'!$L$2:$L$9,SUMPRODUCT(MAX(ISNUMBER(SEARCH(G$21,'CAP MIT'!$B$3:$I$38))*('CAP MIT'!$A$3:$A$38=$A25)*(COLUMN($B:$I))-1))),"")} | H25: {=IFERROR(INDEX('CAP MIT'!$L$2:$L$9,SUMPRODUCT(MAX(ISNUMBER(SEARCH(H$21,'CAP MIT'!$B$3:$I$38))*('CAP MIT'!$A$3:$A$38=$A25)*(COLUMN($B:$I))-1))),"")} | I25: {=IFERROR(INDEX('CAP MIT'!$L$2:$L$9,SUMPRODUCT(MAX(ISNUMBER(SEARCH(I$21,'CAP MIT'!$B$3:$I$38))*('CAP MIT'!$A$3:$A$38=$A25)*(COLUMN($B:$I))-1))),"")} | ... K25: {=IFERROR(INDEX('CAP MIT'!$L$2:$L$9,SUMPRODUCT(MAX(ISNUMBER(SEARCH(K$21,'CAP MIT'!$B$3:$I$38))*('CAP MIT'!$A$3:$A$38=$A25)*(COLUMN($B:$I))-1))),"")}
A26: 0.375 | B26: {=IFERROR(INDEX('CAP MIT'!$L$2:$L$9,SUMPRODUCT(MAX(ISNUMBER(SEARCH(B$21,'CAP MIT'!$B$3:$I$38))*('CAP MIT'!$A$3:$A$38=$A26)*(COLUMN($B:$I))-1))),"")} | C26: {=IFERROR(INDEX('CAP MIT'!$L$2:$L$9,SUMPRODUCT(MAX(ISNUMBER(SEARCH(C$21,'CAP MIT'!$B$3:$I$38))*('CAP MIT'!$A$3:$A$38=$A26)*(COLUMN($B:$I))-1))),"")} | D26: {=IFERROR(INDEX('CAP MIT'!$L$2:$L$9,SUMPRODUCT(MAX(ISNUMBER(SEARCH(D$21,'CAP MIT'!$B$3:$I$38))*('CAP MIT'!$A$3:$A$38=$A26)*(COLUMN($B:$I))-1))),"")} | E26: {=IFERROR(INDEX('CAP MIT'!$L$2:$L$9,SUMPRODUCT(MAX(ISNUMBER(SEARCH(E$21,'CAP MIT'!$B$3:$I$38))*('CAP MIT'!$A$3:$A$38=$A26)*(COLUMN($B:$I))-1))),"")} | F26: {=IFERROR(INDEX('CAP MIT'!$L$2:$L$9,SUMPRODUCT(MAX(ISNUMBER(SEARCH(F$21,'CAP MIT'!$B$3:$I$38))*('CAP MIT'!$A$3:$A$38=$A26)*(COLUMN($B:$I))-1))),"")} | G26: {=IFERROR(INDEX('CAP MIT'!$L$2:$L$9,SUMPRODUCT(MAX(ISNUMBER(SEARCH(G$21,'CAP MIT'!$B$3:$I$38))*('CAP MIT'!$A$3:$A$38=$A26)*(COLUMN($B:$I))-1))),"")} | H26: {=IFERROR(INDEX('CAP MIT'!$L$2:$L$9,SUMPRODUCT(MAX(ISNUMBER(SEARCH(H$21,'CAP MIT'!$B$3:$I$38))*('CAP MIT'!$A$3:$A$38=$A26)*(COLUMN($B:$I))-1))),"")} | I26: {=IFERROR(INDEX('CAP MIT'!$L$2:$L$9,SUMPRODUCT(MAX(ISNUMBER(SEARCH(I$21,'CAP MIT'!$B$3:$I$38))*('CAP MIT'!$A$3:$A$38=$A26)*(COLUMN($B:$I))-1))),"")} | ... K26: {=IFERROR(INDEX('CAP MIT'!$L$2:$L$9,SUMPRODUCT(MAX(ISNUMBER(SEARCH(K$21,'CAP MIT'!$B$3:$I$38))*('CAP MIT'!$A$3:$A$38=$A26)*(COLUMN($B:$I))-1))),"")}
A27: 0.38541667 | B27: {=IFERROR(INDEX('CAP MIT'!$L$2:$L$9,SUMPRODUCT(MAX(ISNUMBER(SEARCH(B$21,'CAP MIT'!$B$3:$I$38))*('CAP MIT'!$A$3:$A$38=$A27)*(COLUMN($B:$I))-1))),"")} | C27: {=IFERROR(INDEX('CAP MIT'!$L$2:$L$9,SUMPRODUCT(MAX(ISNUMBER(SEARCH(C$21,'CAP MIT'!$B$3:$I$38))*('CAP MIT'!$A$3:$A$38=$A27)*(COLUMN($B:$I))-1))),"")} | D27: {=IFERROR(INDEX('CAP MIT'!$L$2:$L$9,SUMPRODUCT(MAX(ISNUMBER(SEARCH(D$21,'CAP MIT'!$B$3:$I$38))*('CAP MIT'!$A$3:$A$38=$A27)*(COLUMN($B:$I))-1))),"")} | E27: {=IFERROR(INDEX('CAP MIT'!$L$2:$L$9,SUMPRODUCT(MAX(ISNUMBER(SEARCH(E$21,'CAP MIT'!$B$3:$I$38))*('CAP MIT'!$A$3:$A$38=$A27)*(COLUMN($B:$I))-1))),"")} | F27: {=IFERROR(INDEX('CAP MIT'!$L$2:$L$9,SUMPRODUCT(MAX(ISNUMBER(SEARCH(F$21,'CAP MIT'!$B$3:$I$38))*('CAP MIT'!$A$3:$A$38=$A27)*(COLUMN($B:$I))-1))),"")} | G27: {=IFERROR(INDEX('CAP MIT'!$L$2:$L$9,SUMPRODUCT(MAX(ISNUMBER(SEARCH(G$21,'CAP MIT'!$B$3:$I$38))*('CAP MIT'!$A$3:$A$38=$A27)*(COLUMN($B:$I))-1))),"")} | H27: {=IFERROR(INDEX('CAP MIT'!$L$2:$L$9,SUMPRODUCT(MAX(ISNUMBER(SEARCH(H$21,'CAP MIT'!$B$3:$I$38))*('CAP MIT'!$A$3:$A$38=$A27)*(COLUMN($B:$I))-1))),"")} | I27: {=IFERROR(INDEX('CAP MIT'!$L$2:$L$9,SUMPRODUCT(MAX(ISNUMBER(SEARCH(I$21,'CAP MIT'!$B$3:$I$38))*('CAP MIT'!$A$3:$A$38=$A27)*(COLUMN($B:$I))-1))),"")} | ... K27: {=IFERROR(INDEX('CAP MIT'!$L$2:$L$9,SUMPRODUCT(MAX(ISNUMBER(SEARCH(K$21,'CAP MIT'!$B$3:$I$38))*('CAP MIT'!$A$3:$A$38=$A27)*(COLUMN($B:$I))-1))),"")}
A28: 0.39583333 | B28: {=IFERROR(INDEX('CAP MIT'!$L$2:$L$9,SUMPRODUCT(MAX(ISNUMBER(SEARCH(B$21,'CAP MIT'!$B$3:$I$38))*('CAP MIT'!$A$3:$A$38=$A28)*(COLUMN($B:$I))-1))),"")} | C28: {=IFERROR(INDEX('CAP MIT'!$L$2:$L$9,SUMPRODUCT(MAX(ISNUMBER(SEARCH(C$21,'CAP MIT'!$B$3:$I$38))*('CAP MIT'!$A$3:$A$38=$A28)*(COLUMN($B:$I))-1))),"")} | D28: {=IFERROR(INDEX('CAP MIT'!$L$2:$L$9,SUMPRODUCT(MAX(ISNUMBER(SEARCH(D$21,'CAP MIT'!$B$3:$I$38))*('CAP MIT'!$A$3:$A$38=$A28)*(COLUMN($B:$I))-1))),"")} | E28: {=IFERROR(INDEX('CAP MIT'!$L$2:$L$9,SUMPRODUCT(MAX(ISNUMBER(SEARCH(E$21,'CAP MIT'!$B$3:$I$38))*('CAP MIT'!$A$3:$A$38=$A28)*(COLUMN($B:$I))-1))),"")} | F28: {=IFERROR(INDEX('CAP MIT'!$L$2:$L$9,SUMPRODUCT(MAX(ISNUMBER(SEARCH(F$21,'CAP MIT'!$B$3:$I$38))*('CAP MIT'!$A$3:$A$38=$A28)*(COLUMN($B:$I))-1))),"")} | G28: {=IFERROR(INDEX('CAP MIT'!$L$2:$L$9,SUMPRODUCT(MAX(ISNUMBER(SEARCH(G$21,'CAP MIT'!$B$3:$I$38))*('CAP MIT'!$A$3:$A$38=$A28)*(COLUMN($B:$I))-1))),"")} | H28: {=IFERROR(INDEX('CAP MIT'!$L$2:$L$9,SUMPRODUCT(MAX(ISNUMBER(SEARCH(H$21,'CAP MIT'!$B$3:$I$38))*('CAP MIT'!$A$3:$A$38=$A28)*(COLUMN($B:$I))-1))),"")} | I28: {=IFERROR(INDEX('CAP MIT'!$L$2:$L$9,SUMPRODUCT(MAX(ISNUMBER(SEARCH(I$21,'CAP MIT'!$B$3:$I$38))*('CAP MIT'!$A$3:$A$38=$A28)*(COLUMN($B:$I))-1))),"")} | ... K28: {=IFERROR(INDEX('CAP MIT'!$L$2:$L$9,SUMPRODUCT(MAX(ISNUMBER(SEARCH(K$21,'CAP MIT'!$B$3:$I$38))*('CAP MIT'!$A$3:$A$38=$A28)*(COLUMN($B:$I))-1))),"")}
A29: 0.40625 | B29: {=IFERROR(INDEX('CAP MIT'!$L$2:$L$9,SUMPRODUCT(MAX(ISNUMBER(SEARCH(B$21,'CAP MIT'!$B$3:$I$38))*('CAP MIT'!$A$3:$A$38=$A29)*(COLUMN($B:$I))-1))),"")} | C29: {=IFERROR(INDEX('CAP MIT'!$L$2:$L$9,SUMPRODUCT(MAX(ISNUMBER(SEARCH(C$21,'CAP MIT'!$B$3:$I$38))*('CAP MIT'!$A$3:$A$38=$A29)*(COLUMN($B:$I))-1))),"")} | D29: {=IFERROR(INDEX('CAP MIT'!$L$2:$L$9,SUMPRODUCT(MAX(ISNUMBER(SEARCH(D$21,'CAP MIT'!$B$3:$I$38))*('CAP MIT'!$A$3:$A$38=$A29)*(COLUMN($B:$I))-1))),"")} | E29: {=IFERROR(INDEX('CAP MIT'!$L$2:$L$9,SUMPRODUCT(MAX(ISNUMBER(SEARCH(E$21,'CAP MIT'!$B$3:$I$38))*('CAP MIT'!$A$3:$A$38=$A29)*(COLUMN($B:$I))-1))),"")} | F29: {=IFERROR(INDEX('CAP MIT'!$L$2:$L$9,SUMPRODUCT(MAX(ISNUMBER(SEARCH(F$21,'CAP MIT'!$B$3:$I$38))*('CAP MIT'!$A$3:$A$38=$A29)*(COLUMN($B:$I))-1))),"")} | G29: {=IFERROR(INDEX('CAP MIT'!$L$2:$L$9,SUMPRODUCT(MAX(ISNUMBER(SEARCH(G$21,'CAP MIT'!$B$3:$I$38))*('CAP MIT'!$A$3:$A$38=$A29)*(COLUMN($B:$I))-1))),"")} | H29: {=IFERROR(INDEX('CAP MIT'!$L$2:$L$9,SUMPRODUCT(MAX(ISNUMBER(SEARCH(H$21,'CAP MIT'!$B$3:$I$38))*('CAP MIT'!$A$3:$A$38=$A29)*(COLUMN($B:$I))-1))),"")} | I29: {=IFERROR(INDEX('CAP MIT'!$L$2:$L$9,SUMPRODUCT(MAX(ISNUMBER(SEARCH(I$21,'CAP MIT'!$B$3:$I$38))*('CAP MIT'!$A$3:$A$38=$A29)*(COLUMN($B:$I))-1))),"")} | ... K29: {=IFERROR(INDEX('CAP MIT'!$L$2:$L$9,SUMPRODUCT(MAX(ISNUMBER(SEARCH(K$21,'CAP MIT'!$B$3:$I$38))*('CAP MIT'!$A$3:$A$38=$A29)*(COLUMN($B:$I))-1))),"")}
A30: 0.41666667 | B30: {=IFERROR(INDEX('CAP MIT'!$L$2:$L$9,SUMPRODUCT(MAX(ISNUMBER(SEARCH(B$21,'CAP MIT'!$B$3:$I$38))*('CAP MIT'!$A$3:$A$38=$A30)*(COLUMN($B:$I))-1))),"")} | C30: {=IFERROR(INDEX('CAP MIT'!$L$2:$L$9,SUMPRODUCT(MAX(ISNUMBER(SEARCH(C$21,'CAP MIT'!$B$3:$I$38))*('CAP MIT'!$A$3:$A$38=$A30)*(COLUMN($B:$I))-1))),"")} | D30: {=IFERROR(INDEX('CAP MIT'!$L$2:$L$9,SUMPRODUCT(MAX(ISNUMBER(SEARCH(D$21,'CAP MIT'!$B$3:$I$38))*('CAP MIT'!$A$3:$A$38=$A30)*(COLUMN($B:$I))-1))),"")} | E30: {=IFERROR(INDEX('CAP MIT'!$L$2:$L$9,SUMPRODUCT(MAX(ISNUMBER(SEARCH(E$21,'CAP MIT'!$B$3:$I$38))*('CAP MIT'!$A$3:$A$38=$A30)*(COLUMN($B:$I))-1))),"")} | F30: {=IFERROR(INDEX('CAP MIT'!$L$2:$L$9,SUMPRODUCT(MAX(ISNUMBER(SEARCH(F$21,'CAP MIT'!$B$3:$I$38))*('CAP MIT'!$A$3:$A$38=$A30)*(COLUMN($B:$I))-1))),"")} | G30: {=IFERROR(INDEX('CAP MIT'!$L$2:$L$9,SUMPRODUCT(MAX(ISNUMBER(SEARCH(G$21,'CAP MIT'!$B$3:$I$38))*('CAP MIT'!$A$3:$A$38=$A30)*(COLUMN($B:$I))-1))),"")} | H30: {=IFERROR(INDEX('CAP MIT'!$L$2:$L$9,SUMPRODUCT(MAX(ISNUMBER(SEARCH(H$21,'CAP MIT'!$B$3:$I$38))*('CAP MIT'!$A$3:$A$38=$A30)*(COLUMN($B:$I))-1))),"")} | I30: {=IFERROR(INDEX('CAP MIT'!$L$2:$L$9,SUMPRODUCT(MAX(ISNUMBER(SEARCH(I$21,'CAP MIT'!$B$3:$I$38))*('CAP MIT'!$A$3:$A$38=$A30)*(COLUMN($B:$I))-1))),"")} | ... K30: {=IFERROR(INDEX('CAP MIT'!$L$2:$L$9,SUMPRODUCT(MAX(ISNUMBER(SEARCH(K$21,'CAP MIT'!$B$3:$I$38))*('CAP MIT'!$A$3:$A$38=$A30)*(COLUMN($B:$I))-1))),"")}
A31: 0.42708333 | B31: {=IFERROR(INDEX('CAP MIT'!$L$2:$L$9,SUMPRODUCT(MAX(ISNUMBER(SEARCH(B$21,'CAP MIT'!$B$3:$I$38))*('CAP MIT'!$A$3:$A$38=$A31)*(COLUMN($B:$I))-1))),"")} | C31: {=IFERROR(INDEX('CAP MIT'!$L$2:$L$9,SUMPRODUCT(MAX(ISNUMBER(SEARCH(C$21,'CAP MIT'!$B$3:$I$38))*('CAP MIT'!$A$3:$A$38=$A31)*(COLUMN($B:$I))-1))),"")} | D31: {=IFERROR(INDEX('CAP MIT'!$L$2:$L$9,SUMPRODUCT(MAX(ISNUMBER(SEARCH(D$21,'CAP MIT'!$B$3:$I$38))*('CAP MIT'!$A$3:$A$38=$A31)*(COLUMN($B:$I))-1))),"")} | E31: {=IFERROR(INDEX('CAP MIT'!$L$2:$L$9,SUMPRODUCT(MAX(ISNUMBER(SEARCH(E$21,'CAP MIT'!$B$3:$I$38))*('CAP MIT'!$A$3:$A$38=$A31)*(COLUMN($B:$I))-1))),"")} | F31: {=IFERROR(INDEX('CAP MIT'!$L$2:$L$9,SUMPRODUCT(MAX(ISNUMBER(SEARCH(F$21,'CAP MIT'!$B$3:$I$38))*('CAP MIT'!$A$3:$A$38=$A31)*(COLUMN($B:$I))-1))),"")} | G31: {=IFERROR(INDEX('CAP MIT'!$L$2:$L$9,SUMPRODUCT(MAX(ISNUMBER(SEARCH(G$21,'CAP MIT'!$B$3:$I$38))*('CAP MIT'!$A$3:$A$38=$A31)*(COLUMN($B:$I))-1))),"")} | H31: {=IFERROR(INDEX('CAP MIT'!$L$2:$L$9,SUMPRODUCT(MAX(ISNUMBER(SEARCH(H$21,'CAP MIT'!$B$3:$I$38))*('CAP MIT'!$A$3:$A$38=$A31)*(COLUMN($B:$I))-1))),"")} | I31: {=IFERROR(INDEX('CAP MIT'!$L$2:$L$9,SUMPRODUCT(MAX(ISNUMBER(SEARCH(I$21,'CAP MIT'!$B$3:$I$38))*('CAP MIT'!$A$3:$A$38=$A31)*(COLUMN($B:$I))-1))),"")} | ... K31: {=IFERROR(INDEX('CAP MIT'!$L$2:$L$9,SUMPRODUCT(MAX(ISNUMBER(SEARCH(K$21,'CAP MIT'!$B$3:$I$38))*('CAP MIT'!$A$3:$A$38=$A31)*(COLUMN($B:$I))-1))),"")}
A32: 0.4375 | B32: {=IFERROR(INDEX('CAP MIT'!$L$2:$L$9,SUMPRODUCT(MAX(ISNUMBER(SEARCH(B$21,'CAP MIT'!$B$3:$I$38))*('CAP MIT'!$A$3:$A$38=$A32)*(COLUMN($B:$I))-1))),"")} | C32: {=IFERROR(INDEX('CAP MIT'!$L$2:$L$9,SUMPRODUCT(MAX(ISNUMBER(SEARCH(C$21,'CAP MIT'!$B$3:$I$38))*('CAP MIT'!$A$3:$A$38=$A32)*(COLUMN($B:$I))-1))),"")} | D32: {=IFERROR(INDEX('CAP MIT'!$L$2:$L$9,SUMPRODUCT(MAX(ISNUMBER(SEARCH(D$21,'CAP MIT'!$B$3:$I$38))*('CAP MIT'!$A$3:$A$38=$A32)*(COLUMN($B:$I))-1))),"")} | E32: {=IFERROR(INDEX('CAP MIT'!$L$2:$L$9,SUMPRODUCT(MAX(ISNUMBER(SEARCH(E$21,'CAP MIT'!$B$3:$I$38))*('CAP MIT'!$A$3:$A$38=$A32)*(COLUMN($B:$I))-1))),"")} | F32: {=IFERROR(INDEX('CAP MIT'!$L$2:$L$9,SUMPRODUCT(MAX(ISNUMBER(SEARCH(F$21,'CAP MIT'!$B$3:$I$38))*('CAP MIT'!$A$3:$A$38=$A32)*(COLUMN($B:$I))-1))),"")} | G32: {=IFERROR(INDEX('CAP MIT'!$L$2:$L$9,SUMPRODUCT(MAX(ISNUMBER(SEARCH(G$21,'CAP MIT'!$B$3:$I$38))*('CAP MIT'!$A$3:$A$38=$A32)*(COLUMN($B:$I))-1))),"")} | H32: {=IFERROR(INDEX('CAP MIT'!$L$2:$L$9,SUMPRODUCT(MAX(ISNUMBER(SEARCH(H$21,'CAP MIT'!$B$3:$I$38))*('CAP MIT'!$A$3:$A$38=$A32)*(COLUMN($B:$I))-1))),"")} | I32: {=IFERROR(INDEX('CAP MIT'!$L$2:$L$9,SUMPRODUCT(MAX(ISNUMBER(SEARCH(I$21,'CAP MIT'!$B$3:$I$38))*('CAP MIT'!$A$3:$A$38=$A32)*(COLUMN($B:$I))-1))),"")} | ... K32: {=IFERROR(INDEX('CAP MIT'!$L$2:$L$9,SUMPRODUCT(MAX(ISNUMBER(SEARCH(K$21,'CAP MIT'!$B$3:$I$38))*('CAP MIT'!$A$3:$A$38=$A32)*(COLUMN($B:$I))-1))),"")}
A33: 0.44791667
A34: 0.45833333
A35: 0.46875
A36: 0.47916667
A37: 0.48958333
A38: 0.5
A39: 0.51041667
A40: 0.52083333
A41: 0.53125
A42: 0.54166667
A43: 0.55208333
A44: 0.5625
... A57: 0.69791667
