Workbook

Sheet Feuil1
A1: 6271815 | B1: 07h00
A2: 1426282 | B2: 07h30
A3: 9726262 | B3: 08h00
A4: 5251161 | B4: 08h09

Sheet Feuil2
A1: 6271815 | B1: Alexendre Legrand
A2: 1426282 | B2: Phillipe Dumas
A3: 9726262 | B3: Albert Einstein
A4: 5251161 | B4: Nicolas Tesla
A5: 1627286 | B5: Ben Aflek
A6: 1522772 | B6: Richard Jean
A7: 1272828 | B7: Céline Dion

Sheet Feuil3
A1: {=IFERROR(INDEX(Feuil2!$B$1:$B$700,SMALL(IFERROR(MATCH(Feuil2!$A$1:$A$700,Feuil1!$A$1:$A$400,0),""),ROW($A1))),"")} -> Alexendre Legrand | B1: {=IFERROR(INDEX(Feuil1!$B$1:$B$700,SMALL(IFERROR(MATCH(Feuil2!$A$1:$A$700,Feuil1!$A$1:$A$400,0),""),ROW($A1))),"")} -> 07h00
A2: {=IFERROR(INDEX(Feuil2!$B$1:$B$700,SMALL(IFERROR(MATCH(Feuil2!$A$1:$A$700,Feuil1!$A$1:$A$400,0),""),ROW($A2))),"")} -> Phillipe Dumas | B2: {=IFERROR(INDEX(Feuil1!$B$1:$B$700,SMALL(IFERROR(MATCH(Feuil2!$A$1:$A$700,Feuil1!$A$1:$A$400,0),""),ROW($A2))),"")} -> 07h30
A3: {=IFERROR(INDEX(Feuil2!$B$1:$B$700,SMALL(IFERROR(MATCH(Feuil2!$A$1:$A$700,Feuil1!$A$1:$A$400,0),""),ROW($A3))),"")} -> Albert Einstein | B3: {=IFERROR(INDEX(Feuil1!$B$1:$B$700,SMALL(IFERROR(MATCH(Feuil2!$A$1:$A$700,Feuil1!$A$1:$A$400,0),""),ROW($A3))),"")} -> 08h00
A4: {=IFERROR(INDEX(Feuil2!$B$1:$B$700,SMALL(IFERROR(MATCH(Feuil2!$A$1:$A$700,Feuil1!$A$1:$A$400,0),""),ROW($A4))),"")} -> Nicolas Tesla | B4: {=IFERROR(INDEX(Feuil1!$B$1:$B$700,SMALL(IFERROR(MATCH(Feuil2!$A$1:$A$700,Feuil1!$A$1:$A$400,0),""),ROW($A4))),"")} -> 08h09
A5: {=IFERROR(INDEX(Feuil2!$B$1:$B$700,SMALL(IFERROR(MATCH(Feuil2!$A$1:$A$700,Feuil1!$A$1:$A$400,0),""),ROW($A5))),"")} | B5: {=IFERROR(INDEX(Feuil1!$B$1:$B$700,SMALL(IFERROR(MATCH(Feuil2!$A$1:$A$700,Feuil1!$A$1:$A$400,0),""),ROW($A5))),"")}
A6: {=IFERROR(INDEX(Feuil2!$B$1:$B$700,SMALL(IFERROR(MATCH(Feuil2!$A$1:$A$700,Feuil1!$A$1:$A$400,0),""),ROW($A6))),"")} | B6: {=IFERROR(INDEX(Feuil1!$B$1:$B$700,SMALL(IFERROR(MATCH(Feuil2!$A$1:$A$700,Feuil1!$A$1:$A$400,0),""),ROW($A6))),"")}
A7: {=IFERROR(INDEX(Feuil2!$B$1:$B$700,SMALL(IFERROR(MATCH(Feuil2!$A$1:$A$700,Feuil1!$A$1:$A$400,0),""),ROW($A7))),"")} | B7: {=IFERROR(INDEX(Feuil1!$B$1:$B$700,SMALL(IFERROR(MATCH(Feuil2!$A$1:$A$700,Feuil1!$A$1:$A$400,0),""),ROW($A7))),"")}
A8: {=IFERROR(INDEX(Feuil2!$B$1:$B$700,SMALL(IFERROR(MATCH(Feuil2!$A$1:$A$700,Feuil1!$A$1:$A$400,0),""),ROW($A8))),"")} | B8: {=IFERROR(INDEX(Feuil1!$B$1:$B$700,SMALL(IFERROR(MATCH(Feuil2!$A$1:$A$700,Feuil1!$A$1:$A$400,0),""),ROW($A8))),"")}
A9: {=IFERROR(INDEX(Feuil2!$B$1:$B$700,SMALL(IFERROR(MATCH(Feuil2!$A$1:$A$700,Feuil1!$A$1:$A$400,0),""),ROW($A9))),"")} | B9: {=IFERROR(INDEX(Feuil1!$B$1:$B$700,SMALL(IFERROR(MATCH(Feuil2!$A$1:$A$700,Feuil1!$A$1:$A$400,0),""),ROW($A9))),"")}
A10: {=IFERROR(INDEX(Feuil2!$B$1:$B$700,SMALL(IFERROR(MATCH(Feuil2!$A$1:$A$700,Feuil1!$A$1:$A$400,0),""),ROW($A10))),"")} | B10: {=IFERROR(INDEX(Feuil1!$B$1:$B$700,SMALL(IFERROR(MATCH(Feuil2!$A$1:$A$700,Feuil1!$A$1:$A$400,0),""),ROW($A10))),"")}
A11: {=IFERROR(INDEX(Feuil2!$B$1:$B$700,SMALL(IFERROR(MATCH(Feuil2!$A$1:$A$700,Feuil1!$A$1:$A$400,0),""),ROW($A11))),"")} | B11: {=IFERROR(INDEX(Feuil1!$B$1:$B$700,SMALL(IFERROR(MATCH(Feuil2!$A$1:$A$700,Feuil1!$A$1:$A$400,0),""),ROW($A11))),"")}
A12: {=IFERROR(INDEX(Feuil2!$B$1:$B$700,SMALL(IFERROR(MATCH(Feuil2!$A$1:$A$700,Feuil1!$A$1:$A$400,0),""),ROW($A12))),"")} | B12: {=IFERROR(INDEX(Feuil1!$B$1:$B$700,SMALL(IFERROR(MATCH(Feuil2!$A$1:$A$700,Feuil1!$A$1:$A$400,0),""),ROW($A12))),"")}
... A24: {=IFERROR(INDEX(Feuil2!$B$1:$B$700,SMALL(IFERROR(MATCH(Feuil2!$A$1:$A$700,Feuil1!$A$1:$A$400,0),""),ROW($A24))),"")} | B24: {=IFERROR(INDEX(Feuil1!$B$1:$B$700,SMALL(IFERROR(MATCH(Feuil2!$A$1:$A$700,Feuil1!$A$1:$A$400,0),""),ROW($A24))),"")}
