Workbook
Name chantier: OFFSET(RécapH!$L$3:$U$3,,,ROWS(feuille2))
Name chantier2: OFFSET(RécapH!$V$3,,,COUNT(RécapH!$V:$V))
Name feuille2: OFFSET(RécapH!$K$3,,,COUNTIF(RécapH!$K:$K,"><")-1)
Name Feuilles: RécapH!$H$3:$H$59
Name valuevx: 42.314159

Sheet RécapH
A2: Mois | B2: Nombre H Production | C2: Nombre H Préparation | D2: Numéro de chantier extraction automatique | E2: Nombre d'h /Chantier | H2: Feuilles | K2: feuille2
A3: 44105 | B3: =IFERROR(SUMPRODUCT(SUMIF(INDIRECT("'"&OFFSET(H$2,MATCH(A3,I$3:I$59,0),,COUNTIF(I$3:I$59,A3))&"'!$K$5"),$A3,INDIRECT("'"&OFFSET(H$2,MATCH(A3,I$3:I$59,0),,COUNTIF(I$3:I$59,A3))&"'!$E$23"))),"") | D3: =IF(W3="","",REPLACE(W3,4,4,"-000")&RIGHT(W3,2)) -> 543-00066 | E3: =IF(D3="","",SUMPRODUCT(SUMIF(INDIRECT("'"&feuille2&"'!$a$11:$a$22"),$D3,INDIRECT("'"&feuille2&"'!e11:e22")))) -> 63.5 | H3: S 49 | I3: =INDIRECT("'"&H3&"'!k5") -> #REF! | K3: {=INDEX(Feuilles,SMALL(IF(ISERROR(I$3:I$59),"",ROW(I$3:I$59)-2),ROW(A1)))} -> S 09 | L3: =IFERROR(SUBSTITUTE(INDIRECT("'"&$K3&"'!a"&COLUMN(K:K)),"-000","")*1,"") -> 55162 | M3: =IFERROR(SUBSTITUTE(INDIRECT("'"&$K3&"'!a"&COLUMN(L:L)),"-000","")*1,"") -> 55162 | N3: =IFERROR(SUBSTITUTE(INDIRECT("'"&$K3&"'!a"&COLUMN(M:M)),"-000","")*1,"") | O3: =IFERROR(SUBSTITUTE(INDIRECT("'"&$K3&"'!a"&COLUMN(N:N)),"-000","")*1,"") | P3: =IFERROR(SUBSTITUTE(INDIRECT("'"&$K3&"'!a"&COLUMN(O:O)),"-000","")*1,"") | Q3: =IFERROR(SUBSTITUTE(INDIRECT("'"&$K3&"'!a"&COLUMN(P:P)),"-000","")*1,"") | R3: =IFERROR(SUBSTITUTE(INDIRECT("'"&$K3&"'!a"&COLUMN(Q:Q)),"-000","")*1,"") | S3: =IFERROR(SUBSTITUTE(INDIRECT("'"&$K3&"'!a"&COLUMN(R:R)),"-000","")*1,"") | T3: =IFERROR(SUBSTITUTE(INDIRECT("'"&$K3&"'!a"&COLUMN(S:S)),"-000","")*1,"") | U3: =IFERROR(SUBSTITUTE(INDIRECT("'"&$K3&"'!a"&COLUMN(T:T)),"-000","")*1,"") | V3: =SMALL(chantier,ROW(A1)) -> 54366 | W3: {=IFERROR(OFFSET(V$2,MATCH(0,COUNTIF(W$2:W2,chantier2),0),),"")} -> 54366
A4: 44136 | B4: =IFERROR(SUMPRODUCT(SUMIF(INDIRECT("'"&OFFSET(H$2,MATCH(A4,I$3:I$59,0),,COUNTIF(I$3:I$59,A4))&"'!$K$5"),$A4,INDIRECT("'"&OFFSET(H$2,MATCH(A4,I$3:I$59,0),,COUNTIF(I$3:I$59,A4))&"'!$E$23"))),"") | D4: =IF(W4="","",REPLACE(W4,4,4,"-000")&RIGHT(W4,2)) -> 551-00062 | E4: =IF(D4="","",SUMPRODUCT(SUMIF(INDIRECT("'"&feuille2&"'!$a$11:$a$22"),$D4,INDIRECT("'"&feuille2&"'!e11:e22")))) -> 347.5 | H4: S 50 | I4: =INDIRECT("'"&H4&"'!k5") -> #REF! | K4: {=INDEX(Feuilles,SMALL(IF(ISERROR(I$3:I$59),"",ROW(I$3:I$59)-2),ROW(A2)))} -> S 10 | L4: =IFERROR(SUBSTITUTE(INDIRECT("'"&$K4&"'!a"&COLUMN(K:K)),"-000","")*1,"") -> 55162 | M4: =IFERROR(SUBSTITUTE(INDIRECT("'"&$K4&"'!a"&COLUMN(L:L)),"-000","")*1,"") -> 55162 | N4: =IFERROR(SUBSTITUTE(INDIRECT("'"&$K4&"'!a"&COLUMN(M:M)),"-000","")*1,"") -> 54366 | O4: =IFERROR(SUBSTITUTE(INDIRECT("'"&$K4&"'!a"&COLUMN(N:N)),"-000","")*1,"") | P4: =IFERROR(SUBSTITUTE(INDIRECT("'"&$K4&"'!a"&COLUMN(O:O)),"-000","")*1,"") | Q4: =IFERROR(SUBSTITUTE(INDIRECT("'"&$K4&"'!a"&COLUMN(P:P)),"-000","")*1,"") | R4: =IFERROR(SUBSTITUTE(INDIRECT("'"&$K4&"'!a"&COLUMN(Q:Q)),"-000","")*1,"") | S4: =IFERROR(SUBSTITUTE(INDIRECT("'"&$K4&"'!a"&COLUMN(R:R)),"-000","")*1,"") | T4: =IFERROR(SUBSTITUTE(INDIRECT("'"&$K4&"'!a"&COLUMN(S:S)),"-000","")*1,"") | U4: =IFERROR(SUBSTITUTE(INDIRECT("'"&$K4&"'!a"&COLUMN(T:T)),"-000","")*1,"") | V4: =SMALL(chantier,ROW(A2)) -> 54366 | W4: {=IFERROR(OFFSET(V$2,MATCH(0,COUNTIF(W$2:W3,chantier2),0),),"")} -> 55162
A5: 44166 | B5: =IFERROR(SUMPRODUCT(SUMIF(INDIRECT("'"&OFFSET(H$2,MATCH(A5,I$3:I$59,0),,COUNTIF(I$3:I$59,A5))&"'!$K$5"),$A5,INDIRECT("'"&OFFSET(H$2,MATCH(A5,I$3:I$59,0),,COUNTIF(I$3:I$59,A5))&"'!$E$23"))),"") | D5: =IF(W5="","",REPLACE(W5,4,4,"-000")&RIGHT(W5,2)) -> 551-00070 | E5: =IF(D5="","",SUMPRODUCT(SUMIF(INDIRECT("'"&feuille2&"'!$a$11:$a$22"),$D5,INDIRECT("'"&feuille2&"'!e11:e22")))) -> 1 | H5: S 51 | I5: =INDIRECT("'"&H5&"'!k5") -> #REF! | K5: {=INDEX(Feuilles,SMALL(IF(ISERROR(I$3:I$59),"",ROW(I$3:I$59)-2),ROW(A3)))} -> S 11 | L5: =IFERROR(SUBSTITUTE(INDIRECT("'"&$K5&"'!a"&COLUMN(K:K)),"-000","")*1,"") -> 55162 | M5: =IFERROR(SUBSTITUTE(INDIRECT("'"&$K5&"'!a"&COLUMN(L:L)),"-000","")*1,"") -> 55162 | N5: =IFERROR(SUBSTITUTE(INDIRECT("'"&$K5&"'!a"&COLUMN(M:M)),"-000","")*1,"") -> 55162 | O5: =IFERROR(SUBSTITUTE(INDIRECT("'"&$K5&"'!a"&COLUMN(N:N)),"-000","")*1,"") -> 54366 | P5: =IFERROR(SUBSTITUTE(INDIRECT("'"&$K5&"'!a"&COLUMN(O:O)),"-000","")*1,"") | Q5: =IFERROR(SUBSTITUTE(INDIRECT("'"&$K5&"'!a"&COLUMN(P:P)),"-000","")*1,"") | R5: =IFERROR(SUBSTITUTE(INDIRECT("'"&$K5&"'!a"&COLUMN(Q:Q)),"-000","")*1,"") | S5: =IFERROR(SUBSTITUTE(INDIRECT("'"&$K5&"'!a"&COLUMN(R:R)),"-000","")*1,"") | T5: =IFERROR(SUBSTITUTE(INDIRECT("'"&$K5&"'!a"&COLUMN(S:S)),"-000","")*1,"") | U5: =IFERROR(SUBSTITUTE(INDIRECT("'"&$K5&"'!a"&COLUMN(T:T)),"-000","")*1,"") | V5: =SMALL(chantier,ROW(A3)) -> 55162 | W5: {=IFERROR(OFFSET(V$2,MATCH(0,COUNTIF(W$2:W4,chantier2),0),),"")} -> 55170
A6: 44197 | B6: =IFERROR(SUMPRODUCT(SUMIF(INDIRECT("'"&OFFSET(H$2,MATCH(A6,I$3:I$59,0),,COUNTIF(I$3:I$59,A6))&"'!$K$5"),$A6,INDIRECT("'"&OFFSET(H$2,MATCH(A6,I$3:I$59,0),,COUNTIF(I$3:I$59,A6))&"'!$E$23"))),"") | D6: =IF(W6="","",REPLACE(W6,4,4,"-000")&RIGHT(W6,2)) | E6: =IF(D6="","",SUMPRODUCT(SUMIF(INDIRECT("'"&feuille2&"'!$a$11:$a$22"),$D6,INDIRECT("'"&feuille2&"'!e11:e22")))) | H6: S 52 | I6: =INDIRECT("'"&H6&"'!k5") -> #REF! | K6: {=INDEX(Feuilles,SMALL(IF(ISERROR(I$3:I$59),"",ROW(I$3:I$59)-2),ROW(A4)))} -> S 12 | L6: =IFERROR(SUBSTITUTE(INDIRECT("'"&$K6&"'!a"&COLUMN(K:K)),"-000","")*1,"") -> 55162 | M6: =IFERROR(SUBSTITUTE(INDIRECT("'"&$K6&"'!a"&COLUMN(L:L)),"-000","")*1,"") -> 55162 | N6: =IFERROR(SUBSTITUTE(INDIRECT("'"&$K6&"'!a"&COLUMN(M:M)),"-000","")*1,"") | O6: =IFERROR(SUBSTITUTE(INDIRECT("'"&$K6&"'!a"&COLUMN(N:N)),"-000","")*1,"") | P6: =IFERROR(SUBSTITUTE(INDIRECT("'"&$K6&"'!a"&COLUMN(O:O)),"-000","")*1,"") | Q6: =IFERROR(SUBSTITUTE(INDIRECT("'"&$K6&"'!a"&COLUMN(P:P)),"-000","")*1,"") | R6: =IFERROR(SUBSTITUTE(INDIRECT("'"&$K6&"'!a"&COLUMN(Q:Q)),"-000","")*1,"") | S6: =IFERROR(SUBSTITUTE(INDIRECT("'"&$K6&"'!a"&COLUMN(R:R)),"-000","")*1,"") | T6: =IFERROR(SUBSTITUTE(INDIRECT("'"&$K6&"'!a"&COLUMN(S:S)),"-000","")*1,"") | U6: =IFERROR(SUBSTITUTE(INDIRECT("'"&$K6&"'!a"&COLUMN(T:T)),"-000","")*1,"") | V6: =SMALL(chantier,ROW(A4)) -> 55162 | W6: {=IFERROR(OFFSET(V$2,MATCH(0,COUNTIF(W$2:W5,chantier2),0),),"")}
A7: 44228 | B7: =IFERROR(SUMPRODUCT(SUMIF(INDIRECT("'"&OFFSET(H$2,MATCH(A7,I$3:I$59,0),,COUNTIF(I$3:I$59,A7))&"'!$K$5"),$A7,INDIRECT("'"&OFFSET(H$2,MATCH(A7,I$3:I$59,0),,COUNTIF(I$3:I$59,A7))&"'!$E$23"))),"") | D7: =IF(W7="","",REPLACE(W7,4,4,"-000")&RIGHT(W7,2)) | E7: =IF(D7="","",SUMPRODUCT(SUMIF(INDIRECT("'"&feuille2&"'!$a$11:$a$22"),$D7,INDIRECT("'"&feuille2&"'!e11:e22")))) | H7: S 53 | I7: =INDIRECT("'"&H7&"'!k5") -> #REF! | K7: {=INDEX(Feuilles,SMALL(IF(ISERROR(I$3:I$59),"",ROW(I$3:I$59)-2),ROW(A5)))} -> S 13-1 | L7: =IFERROR(SUBSTITUTE(INDIRECT("'"&$K7&"'!a"&COLUMN(K:K)),"-000","")*1,"") -> 55162 | M7: =IFERROR(SUBSTITUTE(INDIRECT("'"&$K7&"'!a"&COLUMN(L:L)),"-000","")*1,"") -> 55162 | N7: =IFERROR(SUBSTITUTE(INDIRECT("'"&$K7&"'!a"&COLUMN(M:M)),"-000","")*1,"") | O7: =IFERROR(SUBSTITUTE(INDIRECT("'"&$K7&"'!a"&COLUMN(N:N)),"-000","")*1,"") | P7: =IFERROR(SUBSTITUTE(INDIRECT("'"&$K7&"'!a"&COLUMN(O:O)),"-000","")*1,"") | Q7: =IFERROR(SUBSTITUTE(INDIRECT("'"&$K7&"'!a"&COLUMN(P:P)),"-000","")*1,"") | R7: =IFERROR(SUBSTITUTE(INDIRECT("'"&$K7&"'!a"&COLUMN(Q:Q)),"-000","")*1,"") | S7: =IFERROR(SUBSTITUTE(INDIRECT("'"&$K7&"'!a"&COLUMN(R:R)),"-000","")*1,"") | T7: =IFERROR(SUBSTITUTE(INDIRECT("'"&$K7&"'!a"&COLUMN(S:S)),"-000","")*1,"") | U7: =IFERROR(SUBSTITUTE(INDIRECT("'"&$K7&"'!a"&COLUMN(T:T)),"-000","")*1,"") | V7: =SMALL(chantier,ROW(A5)) -> 55162 | W7: {=IFERROR(OFFSET(V$2,MATCH(0,COUNTIF(W$2:W6,chantier2),0),),"")}
A8: 44256 | B8: {=IFERROR(SUMPRODUCT(SUMIF(INDIRECT("'"&OFFSET(H$2,MATCH(A8,I$3:I$59,0),,COUNTIF(I$3:I$59,A8))&"'!$K$5"),$A8,INDIRECT("'"&OFFSET(H$2,MATCH(A8,I$3:I$59,0),,COUNTIF(I$3:I$59,A8))&"'!$E$23"))),"")} -> 406 | D8: =IF(W8="","",REPLACE(W8,4,4,"-000")&RIGHT(W8,2)) | E8: =IF(D8="","",SUMPRODUCT(SUMIF(INDIRECT("'"&feuille2&"'!$a$11:$a$22"),$D8,INDIRECT("'"&feuille2&"'!e11:e22")))) | H8: S 01 | I8: =INDIRECT("'"&H8&"'!k5") -> #REF! | K8: {=INDEX(Feuilles,SMALL(IF(ISERROR(I$3:I$59),"",ROW(I$3:I$59)-2),ROW(A6)))} -> S 13-2 | L8: =IFERROR(SUBSTITUTE(INDIRECT("'"&$K8&"'!a"&COLUMN(K:K)),"-000","")*1,"") -> 55162 | M8: =IFERROR(SUBSTITUTE(INDIRECT("'"&$K8&"'!a"&COLUMN(L:L)),"-000","")*1,"") -> 55162 | N8: =IFERROR(SUBSTITUTE(INDIRECT("'"&$K8&"'!a"&COLUMN(M:M)),"-000","")*1,"") | O8: =IFERROR(SUBSTITUTE(INDIRECT("'"&$K8&"'!a"&COLUMN(N:N)),"-000","")*1,"") | P8: =IFERROR(SUBSTITUTE(INDIRECT("'"&$K8&"'!a"&COLUMN(O:O)),"-000","")*1,"") | Q8: =IFERROR(SUBSTITUTE(INDIRECT("'"&$K8&"'!a"&COLUMN(P:P)),"-000","")*1,"") | R8: =IFERROR(SUBSTITUTE(INDIRECT("'"&$K8&"'!a"&COLUMN(Q:Q)),"-000","")*1,"") | S8: =IFERROR(SUBSTITUTE(INDIRECT("'"&$K8&"'!a"&COLUMN(R:R)),"-000","")*1,"") | T8: =IFERROR(SUBSTITUTE(INDIRECT("'"&$K8&"'!a"&COLUMN(S:S)),"-000","")*1,"") | U8: =IFERROR(SUBSTITUTE(INDIRECT("'"&$K8&"'!a"&COLUMN(T:T)),"-000","")*1,"") | V8: =SMALL(chantier,ROW(A6)) -> 55162 | W8: {=IFERROR(OFFSET(V$2,MATCH(0,COUNTIF(W$2:W7,chantier2),0),),"")}
A9: 44287 | B9: =IFERROR(SUMPRODUCT(SUMIF(INDIRECT("'"&OFFSET(H$2,MATCH(A9,I$3:I$59,0),,COUNTIF(I$3:I$59,A9))&"'!$K$5"),$A9,INDIRECT("'"&OFFSET(H$2,MATCH(A9,I$3:I$59,0),,COUNTIF(I$3:I$59,A9))&"'!$E$23"))),"") -> 7 | D9: =IF(W9="","",REPLACE(W9,4,4,"-000")&RIGHT(W9,2)) | E9: =IF(D9="","",SUMPRODUCT(SUMIF(INDIRECT("'"&feuille2&"'!$a$11:$a$22"),$D9,INDIRECT("'"&feuille2&"'!e11:e22")))) | H9: S 02 | I9: =INDIRECT("'"&H9&"'!k5") -> #REF! | K9: {=INDEX(Feuilles,SMALL(IF(ISERROR(I$3:I$59),"",ROW(I$3:I$59)-2),ROW(A7)))} -> S 14 | L9: =IFERROR(SUBSTITUTE(INDIRECT("'"&$K9&"'!a"&COLUMN(K:K)),"-000","")*1,"") -> 55162 | M9: =IFERROR(SUBSTITUTE(INDIRECT("'"&$K9&"'!a"&COLUMN(L:L)),"-000","")*1,"") -> 55162 | N9: =IFERROR(SUBSTITUTE(INDIRECT("'"&$K9&"'!a"&COLUMN(M:M)),"-000","")*1,"") | O9: =IFERROR(SUBSTITUTE(INDIRECT("'"&$K9&"'!a"&COLUMN(N:N)),"-000","")*1,"") | P9: =IFERROR(SUBSTITUTE(INDIRECT("'"&$K9&"'!a"&COLUMN(O:O)),"-000","")*1,"") | Q9: =IFERROR(SUBSTITUTE(INDIRECT("'"&$K9&"'!a"&COLUMN(P:P)),"-000","")*1,"") | R9: =IFERROR(SUBSTITUTE(INDIRECT("'"&$K9&"'!a"&COLUMN(Q:Q)),"-000","")*1,"") | S9: =IFERROR(SUBSTITUTE(INDIRECT("'"&$K9&"'!a"&COLUMN(R:R)),"-000","")*1,"") | T9: =IFERROR(SUBSTITUTE(INDIRECT("'"&$K9&"'!a"&COLUMN(S:S)),"-000","")*1,"") | U9: =IFERROR(SUBSTITUTE(INDIRECT("'"&$K9&"'!a"&COLUMN(T:T)),"-000","")*1,"") | V9: =SMALL(chantier,ROW(A7)) -> 55162 | W9: {=IFERROR(OFFSET(V$2,MATCH(0,COUNTIF(W$2:W8,chantier2),0),),"")}
A10: 44317 | B10: =IFERROR(SUMPRODUCT(SUMIF(INDIRECT("'"&OFFSET(H$2,MATCH(A10,I$3:I$59,0),,COUNTIF(I$3:I$59,A10))&"'!$K$5"),$A10,INDIRECT("'"&OFFSET(H$2,MATCH(A10,I$3:I$59,0),,COUNTIF(I$3:I$59,A10))&"'!$E$23"))),"") | D10: =IF(W10="","",REPLACE(W10,4,4,"-000")&RIGHT(W10,2)) | E10: =IF(D10="","",SUMPRODUCT(SUMIF(INDIRECT("'"&feuille2&"'!$a$11:$a$22"),$D10,INDIRECT("'"&feuille2&"'!e11:e22")))) | H10: S 03 | I10: =INDIRECT("'"&H10&"'!k5") -> #REF! | K10: {=INDEX(Feuilles,SMALL(IF(ISERROR(I$3:I$59),"",ROW(I$3:I$59)-2),ROW(A8)))} -> S 15 | L10: =IFERROR(SUBSTITUTE(INDIRECT("'"&$K10&"'!a"&COLUMN(K:K)),"-000","")*1,"") -> 55162 | M10: =IFERROR(SUBSTITUTE(INDIRECT("'"&$K10&"'!a"&COLUMN(L:L)),"-000","")*1,"") -> 55170 | N10: =IFERROR(SUBSTITUTE(INDIRECT("'"&$K10&"'!a"&COLUMN(M:M)),"-000","")*1,"") | O10: =IFERROR(SUBSTITUTE(INDIRECT("'"&$K10&"'!a"&COLUMN(N:N)),"-000","")*1,"") | P10: =IFERROR(SUBSTITUTE(INDIRECT("'"&$K10&"'!a"&COLUMN(O:O)),"-000","")*1,"") | Q10: =IFERROR(SUBSTITUTE(INDIRECT("'"&$K10&"'!a"&COLUMN(P:P)),"-000","")*1,"") | R10: =IFERROR(SUBSTITUTE(INDIRECT("'"&$K10&"'!a"&COLUMN(Q:Q)),"-000","")*1,"") | S10: =IFERROR(SUBSTITUTE(INDIRECT("'"&$K10&"'!a"&COLUMN(R:R)),"-000","")*1,"") | T10: =IFERROR(SUBSTITUTE(INDIRECT("'"&$K10&"'!a"&COLUMN(S:S)),"-000","")*1,"") | U10: =IFERROR(SUBSTITUTE(INDIRECT("'"&$K10&"'!a"&COLUMN(T:T)),"-000","")*1,"") | V10: =SMALL(chantier,ROW(A8)) -> 55162 | W10: {=IFERROR(OFFSET(V$2,MATCH(0,COUNTIF(W$2:W9,chantier2),0),),"")}
A11: 44348 | B11: =IFERROR(SUMPRODUCT(SUMIF(INDIRECT("'"&OFFSET(H$2,MATCH(A11,I$3:I$59,0),,COUNTIF(I$3:I$59,A11))&"'!$K$5"),$A11,INDIRECT("'"&OFFSET(H$2,MATCH(A11,I$3:I$59,0),,COUNTIF(I$3:I$59,A11))&"'!$E$23"))),"") | D11: =IF(W11="","",REPLACE(W11,4,4,"-000")&RIGHT(W11,2)) | E11: =IF(D11="","",SUMPRODUCT(SUMIF(INDIRECT("'"&feuille2&"'!$a$11:$a$22"),$D11,INDIRECT("'"&feuille2&"'!e11:e22")))) | H11: S 04 | I11: =INDIRECT("'"&H11&"'!k5") -> #REF! | K11: {=INDEX(Feuilles,SMALL(IF(ISERROR(I$3:I$59),"",ROW(I$3:I$59)-2),ROW(A9)))} -> #NUM! | L11: =IFERROR(SUBSTITUTE(INDIRECT("'"&$K11&"'!a"&COLUMN(K:K)),"-","")*1,"") | M11: =IFERROR(SUBSTITUTE(INDIRECT("'"&$K11&"'!a"&COLUMN(L:L)),"-","")*1,"") | N11: =IFERROR(SUBSTITUTE(INDIRECT("'"&$K11&"'!a"&COLUMN(M:M)),"-","")*1,"") | O11: =IFERROR(SUBSTITUTE(INDIRECT("'"&$K11&"'!a"&COLUMN(N:N)),"-","")*1,"") | P11: =IFERROR(SUBSTITUTE(INDIRECT("'"&$K11&"'!a"&COLUMN(O:O)),"-","")*1,"") | Q11: =IFERROR(SUBSTITUTE(INDIRECT("'"&$K11&"'!a"&COLUMN(P:P)),"-","")*1,"") | R11: =IFERROR(SUBSTITUTE(INDIRECT("'"&$K11&"'!a"&COLUMN(Q:Q)),"-","")*1,"") | S11: =IFERROR(SUBSTITUTE(INDIRECT("'"&$K11&"'!a"&COLUMN(R:R)),"-","")*1,"") | T11: =IFERROR(SUBSTITUTE(INDIRECT("'"&$K11&"'!a"&COLUMN(S:S)),"-","")*1,"") | U11: =IFERROR(SUBSTITUTE(INDIRECT("'"&$K11&"'!a"&COLUMN(T:T)),"-","")*1,"") | V11: =SMALL(chantier,ROW(A9)) -> 55162 | W11: {=IFERROR(OFFSET(V$2,MATCH(0,COUNTIF(W$2:W10,chantier2),0),),"")}
A12: 44378 | B12: =IFERROR(SUMPRODUCT(SUMIF(INDIRECT("'"&OFFSET(H$2,MATCH(A12,I$3:I$59,0),,COUNTIF(I$3:I$59,A12))&"'!$K$5"),$A12,INDIRECT("'"&OFFSET(H$2,MATCH(A12,I$3:I$59,0),,COUNTIF(I$3:I$59,A12))&"'!$E$23"))),"") | D12: =IF(W12="","",REPLACE(W12,4,4,"-000")&RIGHT(W12,2)) | E12: =IF(D12="","",SUMPRODUCT(SUMIF(INDIRECT("'"&feuille2&"'!$a$11:$a$22"),$D12,INDIRECT("'"&feuille2&"'!e11:e22")))) | H12: S 05 | I12: =INDIRECT("'"&H12&"'!k5") -> #REF! | K12: {=INDEX(Feuilles,SMALL(IF(ISERROR(I$3:I$59),"",ROW(I$3:I$59)-2),ROW(A10)))} -> #NUM! | L12: =IFERROR(SUBSTITUTE(INDIRECT("'"&$K12&"'!a"&COLUMN(K:K)),"-","")*1,"") | M12: =IFERROR(SUBSTITUTE(INDIRECT("'"&$K12&"'!a"&COLUMN(L:L)),"-","")*1,"") | N12: =IFERROR(SUBSTITUTE(INDIRECT("'"&$K12&"'!a"&COLUMN(M:M)),"-","")*1,"") | O12: =IFERROR(SUBSTITUTE(INDIRECT("'"&$K12&"'!a"&COLUMN(N:N)),"-","")*1,"") | P12: =IFERROR(SUBSTITUTE(INDIRECT("'"&$K12&"'!a"&COLUMN(O:O)),"-","")*1,"") | Q12: =IFERROR(SUBSTITUTE(INDIRECT("'"&$K12&"'!a"&COLUMN(P:P)),"-","")*1,"") | R12: =IFERROR(SUBSTITUTE(INDIRECT("'"&$K12&"'!a"&COLUMN(Q:Q)),"-","")*1,"") | S12: =IFERROR(SUBSTITUTE(INDIRECT("'"&$K12&"'!a"&COLUMN(R:R)),"-","")*1,"") | T12: =IFERROR(SUBSTITUTE(INDIRECT("'"&$K12&"'!a"&COLUMN(S:S)),"-","")*1,"") | U12: =IFERROR(SUBSTITUTE(INDIRECT("'"&$K12&"'!a"&COLUMN(T:T)),"-","")*1,"") | V12: =SMALL(chantier,ROW(A10)) -> 55162 | W12: {=IFERROR(OFFSET(V$2,MATCH(0,COUNTIF(W$2:W11,chantier2),0),),"")}
A13: 44409 | B13: =IFERROR(SUMPRODUCT(SUMIF(INDIRECT("'"&OFFSET(H$2,MATCH(A13,I$3:I$59,0),,COUNTIF(I$3:I$59,A13))&"'!$K$5"),$A13,INDIRECT("'"&OFFSET(H$2,MATCH(A13,I$3:I$59,0),,COUNTIF(I$3:I$59,A13))&"'!$E$23"))),"") | D13: =IF(W13="","",REPLACE(W13,4,4,"-000")&RIGHT(W13,2)) | E13: =IF(D13="","",SUMPRODUCT(SUMIF(INDIRECT("'"&feuille2&"'!$a$11:$a$22"),$D13,INDIRECT("'"&feuille2&"'!e11:e22")))) | H13: S 06 | I13: =INDIRECT("'"&H13&"'!k5") -> #REF! | K13: {=INDEX(Feuilles,SMALL(IF(ISERROR(I$3:I$59),"",ROW(I$3:I$59)-2),ROW(A11)))} -> #NUM! | L13: =IFERROR(SUBSTITUTE(INDIRECT("'"&$K13&"'!a"&COLUMN(K:K)),"-","")*1,"") | M13: =IFERROR(SUBSTITUTE(INDIRECT("'"&$K13&"'!a"&COLUMN(L:L)),"-","")*1,"") | N13: =IFERROR(SUBSTITUTE(INDIRECT("'"&$K13&"'!a"&COLUMN(M:M)),"-","")*1,"") | O13: =IFERROR(SUBSTITUTE(INDIRECT("'"&$K13&"'!a"&COLUMN(N:N)),"-","")*1,"") | P13: =IFERROR(SUBSTITUTE(INDIRECT("'"&$K13&"'!a"&COLUMN(O:O)),"-","")*1,"") | Q13: =IFERROR(SUBSTITUTE(INDIRECT("'"&$K13&"'!a"&COLUMN(P:P)),"-","")*1,"") | R13: =IFERROR(SUBSTITUTE(INDIRECT("'"&$K13&"'!a"&COLUMN(Q:Q)),"-","")*1,"") | S13: =IFERROR(SUBSTITUTE(INDIRECT("'"&$K13&"'!a"&COLUMN(R:R)),"-","")*1,"") | T13: =IFERROR(SUBSTITUTE(INDIRECT("'"&$K13&"'!a"&COLUMN(S:S)),"-","")*1,"") | U13: =IFERROR(SUBSTITUTE(INDIRECT("'"&$K13&"'!a"&COLUMN(T:T)),"-","")*1,"") | V13: =SMALL(chantier,ROW(A11)) -> 55162 | W13: {=IFERROR(OFFSET(V$2,MATCH(0,COUNTIF(W$2:W12,chantier2),0),),"")}
A14: 44440 | B14: =IFERROR(SUMPRODUCT(SUMIF(INDIRECT("'"&OFFSET(H$2,MATCH(A14,I$3:I$59,0),,COUNTIF(I$3:I$59,A14))&"'!$K$5"),$A14,INDIRECT("'"&OFFSET(H$2,MATCH(A14,I$3:I$59,0),,COUNTIF(I$3:I$59,A14))&"'!$E$23"))),"") | D14: =IF(W14="","",REPLACE(W14,4,4,"-000")&RIGHT(W14,2)) | E14: =IF(D14="","",SUMPRODUCT(SUMIF(INDIRECT("'"&feuille2&"'!$a$11:$a$22"),$D14,INDIRECT("'"&feuille2&"'!e11:e22")))) | H14: S 07 | I14: =INDIRECT("'"&H14&"'!k5") -> #REF! | K14: {=INDEX(Feuilles,SMALL(IF(ISERROR(I$3:I$59),"",ROW(I$3:I$59)-2),ROW(A12)))} -> #NUM! | L14: =IFERROR(SUBSTITUTE(INDIRECT("'"&$K14&"'!a"&COLUMN(K:K)),"-","")*1,"") | M14: =IFERROR(SUBSTITUTE(INDIRECT("'"&$K14&"'!a"&COLUMN(L:L)),"-","")*1,"") | N14: =IFERROR(SUBSTITUTE(INDIRECT("'"&$K14&"'!a"&COLUMN(M:M)),"-","")*1,"") | O14: =IFERROR(SUBSTITUTE(INDIRECT("'"&$K14&"'!a"&COLUMN(N:N)),"-","")*1,"") | P14: =IFERROR(SUBSTITUTE(INDIRECT("'"&$K14&"'!a"&COLUMN(O:O)),"-","")*1,"") | Q14: =IFERROR(SUBSTITUTE(INDIRECT("'"&$K14&"'!a"&COLUMN(P:P)),"-","")*1,"") | R14: =IFERROR(SUBSTITUTE(INDIRECT("'"&$K14&"'!a"&COLUMN(Q:Q)),"-","")*1,"") | S14: =IFERROR(SUBSTITUTE(INDIRECT("'"&$K14&"'!a"&COLUMN(R:R)),"-","")*1,"") | T14: =IFERROR(SUBSTITUTE(INDIRECT("'"&$K14&"'!a"&COLUMN(S:S)),"-","")*1,"") | U14: =IFERROR(SUBSTITUTE(INDIRECT("'"&$K14&"'!a"&COLUMN(T:T)),"-","")*1,"") | V14: =SMALL(chantier,ROW(A12)) -> 55162 | W14: {=IFERROR(OFFSET(V$2,MATCH(0,COUNTIF(W$2:W13,chantier2),0),),"")}
A15: 44470 | B15: =IFERROR(SUMPRODUCT(SUMIF(INDIRECT("'"&OFFSET(H$2,MATCH(A15,I$3:I$59,0),,COUNTIF(I$3:I$59,A15))&"'!$K$5"),$A15,INDIRECT("'"&OFFSET(H$2,MATCH(A15,I$3:I$59,0),,COUNTIF(I$3:I$59,A15))&"'!$E$23"))),"") | D15: =IF(W15="","",REPLACE(W15,4,4,"-000")&RIGHT(W15,2)) | E15: =IF(D15="","",SUMPRODUCT(SUMIF(INDIRECT("'"&feuille2&"'!$a$11:$a$22"),$D15,INDIRECT("'"&feuille2&"'!e11:e22")))) | H15: S 08 | I15: =INDIRECT("'"&H15&"'!k5") -> #REF! | K15: {=INDEX(Feuilles,SMALL(IF(ISERROR(I$3:I$59),"",ROW(I$3:I$59)-2),ROW(A13)))} -> #NUM! | L15: =IFERROR(SUBSTITUTE(INDIRECT("'"&$K15&"'!a"&COLUMN(K:K)),"-","")*1,"") | M15: =IFERROR(SUBSTITUTE(INDIRECT("'"&$K15&"'!a"&COLUMN(L:L)),"-","")*1,"") | N15: =IFERROR(SUBSTITUTE(INDIRECT("'"&$K15&"'!a"&COLUMN(M:M)),"-","")*1,"") | O15: =IFERROR(SUBSTITUTE(INDIRECT("'"&$K15&"'!a"&COLUMN(N:N)),"-","")*1,"") | P15: =IFERROR(SUBSTITUTE(INDIRECT("'"&$K15&"'!a"&COLUMN(O:O)),"-","")*1,"") | Q15: =IFERROR(SUBSTITUTE(INDIRECT("'"&$K15&"'!a"&COLUMN(P:P)),"-","")*1,"") | R15: =IFERROR(SUBSTITUTE(INDIRECT("'"&$K15&"'!a"&COLUMN(Q:Q)),"-","")*1,"") | S15: =IFERROR(SUBSTITUTE(INDIRECT("'"&$K15&"'!a"&COLUMN(R:R)),"-","")*1,"") | T15: =IFERROR(SUBSTITUTE(INDIRECT("'"&$K15&"'!a"&COLUMN(S:S)),"-","")*1,"") | U15: =IFERROR(SUBSTITUTE(INDIRECT("'"&$K15&"'!a"&COLUMN(T:T)),"-","")*1,"") | V15: =SMALL(chantier,ROW(A13)) -> 55162 | W15: {=IFERROR(OFFSET(V$2,MATCH(0,COUNTIF(W$2:W14,chantier2),0),),"")}
A16: 44501 | B16: =IFERROR(SUMPRODUCT(SUMIF(INDIRECT("'"&OFFSET(H$2,MATCH(A16,I$3:I$59,0),,COUNTIF(I$3:I$59,A16))&"'!$K$5"),$A16,INDIRECT("'"&OFFSET(H$2,MATCH(A16,I$3:I$59,0),,COUNTIF(I$3:I$59,A16))&"'!$E$23"))),"") | D16: =IF(W16="","",REPLACE(W16,4,4,"-000")&RIGHT(W16,2)) | E16: =IF(D16="","",SUMPRODUCT(SUMIF(INDIRECT("'"&feuille2&"'!$a$11:$a$22"),$D16,INDIRECT("'"&feuille2&"'!e11:e22")))) | H16: S 09 | I16: =INDIRECT("'"&H16&"'!k5") -> 44256 | K16: {=INDEX(Feuilles,SMALL(IF(ISERROR(I$3:I$59),"",ROW(I$3:I$59)-2),ROW(A14)))} -> #NUM! | L16: =IFERROR(SUBSTITUTE(INDIRECT("'"&$K16&"'!a"&COLUMN(K:K)),"-","")*1,"") | M16: =IFERROR(SUBSTITUTE(INDIRECT("'"&$K16&"'!a"&COLUMN(L:L)),"-","")*1,"") | N16: =IFERROR(SUBSTITUTE(INDIRECT("'"&$K16&"'!a"&COLUMN(M:M)),"-","")*1,"") | O16: =IFERROR(SUBSTITUTE(INDIRECT("'"&$K16&"'!a"&COLUMN(N:N)),"-","")*1,"") | P16: =IFERROR(SUBSTITUTE(INDIRECT("'"&$K16&"'!a"&COLUMN(O:O)),"-","")*1,"") | Q16: =IFERROR(SUBSTITUTE(INDIRECT("'"&$K16&"'!a"&COLUMN(P:P)),"-","")*1,"") | R16: =IFERROR(SUBSTITUTE(INDIRECT("'"&$K16&"'!a"&COLUMN(Q:Q)),"-","")*1,"") | S16: =IFERROR(SUBSTITUTE(INDIRECT("'"&$K16&"'!a"&COLUMN(R:R)),"-","")*1,"") | T16: =IFERROR(SUBSTITUTE(INDIRECT("'"&$K16&"'!a"&COLUMN(S:S)),"-","")*1,"") | U16: =IFERROR(SUBSTITUTE(INDIRECT("'"&$K16&"'!a"&COLUMN(T:T)),"-","")*1,"") | V16: =SMALL(chantier,ROW(A14)) -> 55162 | W16: {=IFERROR(OFFSET(V$2,MATCH(0,COUNTIF(W$2:W15,chantier2),0),),"")}
A17: 44531 | B17: =IFERROR(SUMPRODUCT(SUMIF(INDIRECT("'"&OFFSET(H$2,MATCH(A17,I$3:I$59,0),,COUNTIF(I$3:I$59,A17))&"'!$K$5"),$A17,INDIRECT("'"&OFFSET(H$2,MATCH(A17,I$3:I$59,0),,COUNTIF(I$3:I$59,A17))&"'!$E$23"))),"") | D17: =IF(W17="","",REPLACE(W17,4,4,"-000")&RIGHT(W17,2)) | E17: =IF(D17="","",SUMPRODUCT(SUMIF(INDIRECT("'"&feuille2&"'!$a$11:$a$22"),$D17,INDIRECT("'"&feuille2&"'!e11:e22")))) | H17: S 10 | I17: =INDIRECT("'"&H17&"'!k5") -> 44256 | K17: {=INDEX(Feuilles,SMALL(IF(ISERROR(I$3:I$59),"",ROW(I$3:I$59)-2),ROW(A15)))} -> #NUM! | L17: =IFERROR(SUBSTITUTE(INDIRECT("'"&$K17&"'!a"&COLUMN(K:K)),"-","")*1,"") | M17: =IFERROR(SUBSTITUTE(INDIRECT("'"&$K17&"'!a"&COLUMN(L:L)),"-","")*1,"") | N17: =IFERROR(SUBSTITUTE(INDIRECT("'"&$K17&"'!a"&COLUMN(M:M)),"-","")*1,"") | O17: =IFERROR(SUBSTITUTE(INDIRECT("'"&$K17&"'!a"&COLUMN(N:N)),"-","")*1,"") | P17: =IFERROR(SUBSTITUTE(INDIRECT("'"&$K17&"'!a"&COLUMN(O:O)),"-","")*1,"") | Q17: =IFERROR(SUBSTITUTE(INDIRECT("'"&$K17&"'!a"&COLUMN(P:P)),"-","")*1,"") | R17: =IFERROR(SUBSTITUTE(INDIRECT("'"&$K17&"'!a"&COLUMN(Q:Q)),"-","")*1,"") | S17: =IFERROR(SUBSTITUTE(INDIRECT("'"&$K17&"'!a"&COLUMN(R:R)),"-","")*1,"") | T17: =IFERROR(SUBSTITUTE(INDIRECT("'"&$K17&"'!a"&COLUMN(S:S)),"-","")*1,"") | U17: =IFERROR(SUBSTITUTE(INDIRECT("'"&$K17&"'!a"&COLUMN(T:T)),"-","")*1,"") | V17: =SMALL(chantier,ROW(A15)) -> 55162 | W17: {=IFERROR(OFFSET(V$2,MATCH(0,COUNTIF(W$2:W16,chantier2),0),),"")}
A18: 44562 | B18: =IFERROR(SUMPRODUCT(SUMIF(INDIRECT("'"&OFFSET(H$2,MATCH(A18,I$3:I$59,0),,COUNTIF(I$3:I$59,A18))&"'!$K$5"),$A18,INDIRECT("'"&OFFSET(H$2,MATCH(A18,I$3:I$59,0),,COUNTIF(I$3:I$59,A18))&"'!$E$23"))),"") | D18: =IF(W18="","",REPLACE(W18,4,4,"-000")&RIGHT(W18,2)) | E18: =IF(D18="","",SUMPRODUCT(SUMIF(INDIRECT("'"&feuille2&"'!$a$11:$a$22"),$D18,INDIRECT("'"&feuille2&"'!e11:e22")))) | H18: S 11 | I18: =INDIRECT("'"&H18&"'!k5") -> 44256 | K18: {=INDEX(Feuilles,SMALL(IF(ISERROR(I$3:I$59),"",ROW(I$3:I$59)-2),ROW(A16)))} -> #NUM! | L18: =IFERROR(SUBSTITUTE(INDIRECT("'"&$K18&"'!a"&COLUMN(K:K)),"-","")*1,"") | M18: =IFERROR(SUBSTITUTE(INDIRECT("'"&$K18&"'!a"&COLUMN(L:L)),"-","")*1,"") | N18: =IFERROR(SUBSTITUTE(INDIRECT("'"&$K18&"'!a"&COLUMN(M:M)),"-","")*1,"") | O18: =IFERROR(SUBSTITUTE(INDIRECT("'"&$K18&"'!a"&COLUMN(N:N)),"-","")*1,"") | P18: =IFERROR(SUBSTITUTE(INDIRECT("'"&$K18&"'!a"&COLUMN(O:O)),"-","")*1,"") | Q18: =IFERROR(SUBSTITUTE(INDIRECT("'"&$K18&"'!a"&COLUMN(P:P)),"-","")*1,"") | R18: =IFERROR(SUBSTITUTE(INDIRECT("'"&$K18&"'!a"&COLUMN(Q:Q)),"-","")*1,"") | S18: =IFERROR(SUBSTITUTE(INDIRECT("'"&$K18&"'!a"&COLUMN(R:R)),"-","")*1,"") | T18: =IFERROR(SUBSTITUTE(INDIRECT("'"&$K18&"'!a"&COLUMN(S:S)),"-","")*1,"") | U18: =IFERROR(SUBSTITUTE(INDIRECT("'"&$K18&"'!a"&COLUMN(T:T)),"-","")*1,"") | V18: =SMALL(chantier,ROW(A16)) -> 55162 | W18: {=IFERROR(OFFSET(V$2,MATCH(0,COUNTIF(W$2:W17,chantier2),0),),"")}
A19: 44593 | B19: =IFERROR(SUMPRODUCT(SUMIF(INDIRECT("'"&OFFSET(H$2,MATCH(A19,I$3:I$59,0),,COUNTIF(I$3:I$59,A19))&"'!$K$5"),$A19,INDIRECT("'"&OFFSET(H$2,MATCH(A19,I$3:I$59,0),,COUNTIF(I$3:I$59,A19))&"'!$E$23"))),"") | D19: =IF(W19="","",REPLACE(W19,4,4,"-000")&RIGHT(W19,2)) | E19: =IF(D19="","",SUMPRODUCT(SUMIF(INDIRECT("'"&feuille2&"'!$a$11:$a$22"),$D19,INDIRECT("'"&feuille2&"'!e11:e22")))) | H19: S 12 | I19: =INDIRECT("'"&H19&"'!k5") -> 44256 | K19: {=INDEX(Feuilles,SMALL(IF(ISERROR(I$3:I$59),"",ROW(I$3:I$59)-2),ROW(A17)))} -> #NUM! | L19: =IFERROR(SUBSTITUTE(INDIRECT("'"&$K19&"'!a"&COLUMN(K:K)),"-","")*1,"") | M19: =IFERROR(SUBSTITUTE(INDIRECT("'"&$K19&"'!a"&COLUMN(L:L)),"-","")*1,"") | N19: =IFERROR(SUBSTITUTE(INDIRECT("'"&$K19&"'!a"&COLUMN(M:M)),"-","")*1,"") | O19: =IFERROR(SUBSTITUTE(INDIRECT("'"&$K19&"'!a"&COLUMN(N:N)),"-","")*1,"") | P19: =IFERROR(SUBSTITUTE(INDIRECT("'"&$K19&"'!a"&COLUMN(O:O)),"-","")*1,"") | Q19: =IFERROR(SUBSTITUTE(INDIRECT("'"&$K19&"'!a"&COLUMN(P:P)),"-","")*1,"") | R19: =IFERROR(SUBSTITUTE(INDIRECT("'"&$K19&"'!a"&COLUMN(Q:Q)),"-","")*1,"") | S19: =IFERROR(SUBSTITUTE(INDIRECT("'"&$K19&"'!a"&COLUMN(R:R)),"-","")*1,"") | T19: =IFERROR(SUBSTITUTE(INDIRECT("'"&$K19&"'!a"&COLUMN(S:S)),"-","")*1,"") | U19: =IFERROR(SUBSTITUTE(INDIRECT("'"&$K19&"'!a"&COLUMN(T:T)),"-","")*1,"") | V19: =SMALL(chantier,ROW(A17)) -> 55162 | W19: {=IFERROR(OFFSET(V$2,MATCH(0,COUNTIF(W$2:W18,chantier2),0),),"")}
A20: 44621 | B20: =IFERROR(SUMPRODUCT(SUMIF(INDIRECT("'"&OFFSET(H$2,MATCH(A20,I$3:I$59,0),,COUNTIF(I$3:I$59,A20))&"'!$K$5"),$A20,INDIRECT("'"&OFFSET(H$2,MATCH(A20,I$3:I$59,0),,COUNTIF(I$3:I$59,A20))&"'!$E$23"))),"") | D20: =IF(W20="","",REPLACE(W20,4,4,"-000")&RIGHT(W20,2)) | E20: =IF(D20="","",SUMPRODUCT(SUMIF(INDIRECT("'"&feuille2&"'!$a$11:$a$22"),$D20,INDIRECT("'"&feuille2&"'!e11:e22")))) | H20: S 13-1 | I20: =INDIRECT("'"&H20&"'!k5") -> 44256 | K20: {=INDEX(Feuilles,SMALL(IF(ISERROR(I$3:I$59),"",ROW(I$3:I$59)-2),ROW(A18)))} -> #NUM! | L20: =IFERROR(SUBSTITUTE(INDIRECT("'"&$K20&"'!a"&COLUMN(K:K)),"-","")*1,"") | M20: =IFERROR(SUBSTITUTE(INDIRECT("'"&$K20&"'!a"&COLUMN(L:L)),"-","")*1,"") | N20: =IFERROR(SUBSTITUTE(INDIRECT("'"&$K20&"'!a"&COLUMN(M:M)),"-","")*1,"") | O20: =IFERROR(SUBSTITUTE(INDIRECT("'"&$K20&"'!a"&COLUMN(N:N)),"-","")*1,"") | P20: =IFERROR(SUBSTITUTE(INDIRECT("'"&$K20&"'!a"&COLUMN(O:O)),"-","")*1,"") | Q20: =IFERROR(SUBSTITUTE(INDIRECT("'"&$K20&"'!a"&COLUMN(P:P)),"-","")*1,"") | R20: =IFERROR(SUBSTITUTE(INDIRECT("'"&$K20&"'!a"&COLUMN(Q:Q)),"-","")*1,"") | S20: =IFERROR(SUBSTITUTE(INDIRECT("'"&$K20&"'!a"&COLUMN(R:R)),"-","")*1,"") | T20: =IFERROR(SUBSTITUTE(INDIRECT("'"&$K20&"'!a"&COLUMN(S:S)),"-","")*1,"") | U20: =IFERROR(SUBSTITUTE(INDIRECT("'"&$K20&"'!a"&COLUMN(T:T)),"-","")*1,"") | V20: =SMALL(chantier,ROW(A18)) -> 55162 | W20: {=IFERROR(OFFSET(V$2,MATCH(0,COUNTIF(W$2:W19,chantier2),0),),"")}
A21: 44652 | B21: =IFERROR(SUMPRODUCT(SUMIF(INDIRECT("'"&OFFSET(H$2,MATCH(A21,I$3:I$59,0),,COUNTIF(I$3:I$59,A21))&"'!$K$5"),$A21,INDIRECT("'"&OFFSET(H$2,MATCH(A21,I$3:I$59,0),,COUNTIF(I$3:I$59,A21))&"'!$E$23"))),"") | D21: =IF(W21="","",REPLACE(W21,4,4,"-000")&RIGHT(W21,2)) | E21: =IF(D21="","",SUMPRODUCT(SUMIF(INDIRECT("'"&feuille2&"'!$a$11:$a$22"),$D21,INDIRECT("'"&feuille2&"'!e11:e22")))) | H21: S 13-2 | I21: =INDIRECT("'"&H21&"'!k5") -> 44287 | K21: {=INDEX(Feuilles,SMALL(IF(ISERROR(I$3:I$59),"",ROW(I$3:I$59)-2),ROW(A19)))} -> #NUM! | L21: =IFERROR(SUBSTITUTE(INDIRECT("'"&$K21&"'!a"&COLUMN(K:K)),"-","")*1,"") | M21: =IFERROR(SUBSTITUTE(INDIRECT("'"&$K21&"'!a"&COLUMN(L:L)),"-","")*1,"") | N21: =IFERROR(SUBSTITUTE(INDIRECT("'"&$K21&"'!a"&COLUMN(M:M)),"-","")*1,"") | O21: =IFERROR(SUBSTITUTE(INDIRECT("'"&$K21&"'!a"&COLUMN(N:N)),"-","")*1,"") | P21: =IFERROR(SUBSTITUTE(INDIRECT("'"&$K21&"'!a"&COLUMN(O:O)),"-","")*1,"") | Q21: =IFERROR(SUBSTITUTE(INDIRECT("'"&$K21&"'!a"&COLUMN(P:P)),"-","")*1,"") | R21: =IFERROR(SUBSTITUTE(INDIRECT("'"&$K21&"'!a"&COLUMN(Q:Q)),"-","")*1,"") | S21: =IFERROR(SUBSTITUTE(INDIRECT("'"&$K21&"'!a"&COLUMN(R:R)),"-","")*1,"") | T21: =IFERROR(SUBSTITUTE(INDIRECT("'"&$K21&"'!a"&COLUMN(S:S)),"-","")*1,"") | U21: =IFERROR(SUBSTITUTE(INDIRECT("'"&$K21&"'!a"&COLUMN(T:T)),"-","")*1,"") | V21: =SMALL(chantier,ROW(A19)) -> 55170 | W21: {=IFERROR(OFFSET(V$2,MATCH(0,COUNTIF(W$2:W20,chantier2),0),),"")}
A22: 44682 | B22: =IFERROR(SUMPRODUCT(SUMIF(INDIRECT("'"&OFFSET(H$2,MATCH(A22,I$3:I$59,0),,COUNTIF(I$3:I$59,A22))&"'!$K$5"),$A22,INDIRECT("'"&OFFSET(H$2,MATCH(A22,I$3:I$59,0),,COUNTIF(I$3:I$59,A22))&"'!$E$23"))),"") | D22: =IF(W22="","",REPLACE(W22,4,4,"-000")&RIGHT(W22,2)) | E22: =IF(D22="","",SUMPRODUCT(SUMIF(INDIRECT("'"&feuille2&"'!$a$11:$a$22"),$D22,INDIRECT("'"&feuille2&"'!e11:e22")))) | H22: S 14 | I22: =INDIRECT("'"&H22&"'!k5") -> 44287 | K22: {=INDEX(Feuilles,SMALL(IF(ISERROR(I$3:I$59),"",ROW(I$3:I$59)-2),ROW(A20)))} -> #NUM! | L22: =IFERROR(SUBSTITUTE(INDIRECT("'"&$K22&"'!a"&COLUMN(K:K)),"-","")*1,"") | M22: =IFERROR(SUBSTITUTE(INDIRECT("'"&$K22&"'!a"&COLUMN(L:L)),"-","")*1,"") | N22: =IFERROR(SUBSTITUTE(INDIRECT("'"&$K22&"'!a"&COLUMN(M:M)),"-","")*1,"") | O22: =IFERROR(SUBSTITUTE(INDIRECT("'"&$K22&"'!a"&COLUMN(N:N)),"-","")*1,"") | P22: =IFERROR(SUBSTITUTE(INDIRECT("'"&$K22&"'!a"&COLUMN(O:O)),"-","")*1,"") | Q22: =IFERROR(SUBSTITUTE(INDIRECT("'"&$K22&"'!a"&COLUMN(P:P)),"-","")*1,"") | R22: =IFERROR(SUBSTITUTE(INDIRECT("'"&$K22&"'!a"&COLUMN(Q:Q)),"-","")*1,"") | S22: =IFERROR(SUBSTITUTE(INDIRECT("'"&$K22&"'!a"&COLUMN(R:R)),"-","")*1,"") | T22: =IFERROR(SUBSTITUTE(INDIRECT("'"&$K22&"'!a"&COLUMN(S:S)),"-","")*1,"") | U22: =IFERROR(SUBSTITUTE(INDIRECT("'"&$K22&"'!a"&COLUMN(T:T)),"-","")*1,"") | V22: =SMALL(chantier,ROW(A20)) -> #NUM! | W22: {=IFERROR(OFFSET(V$2,MATCH(0,COUNTIF(W$2:W21,chantier2),0),),"")}
... A29: 44896 | B29: =IFERROR(SUMPRODUCT(SUMIF(INDIRECT("'"&OFFSET(H$2,MATCH(A29,I$3:I$59,0),,COUNTIF(I$3:I$59,A29))&"'!$K$5"),$A29,INDIRECT("'"&OFFSET(H$2,MATCH(A29,I$3:I$59,0),,COUNTIF(I$3:I$59,A29))&"'!$E$23"))),"") | D29: =IF(W29="","",REPLACE(W29,4,4,"-000")&RIGHT(W29,2)) | E29: =IF(D29="","",SUMPRODUCT(SUMIF(INDIRECT("'"&feuille2&"'!$a$11:$a$22"),$D29,INDIRECT("'"&feuille2&"'!e11:e22")))) | H29: S 21 | I29: =INDIRECT("'"&H29&"'!k5") -> #REF! | K29: {=INDEX(Feuilles,SMALL(IF(ISERROR(I$3:I$59),"",ROW(I$3:I$59)-2),ROW(A27)))} -> #NUM! | L29: =IFERROR(SUBSTITUTE(INDIRECT("'"&$K29&"'!a"&COLUMN(K:K)),"-","")*1,"") | M29: =IFERROR(SUBSTITUTE(INDIRECT("'"&$K29&"'!a"&COLUMN(L:L)),"-","")*1,"") | N29: =IFERROR(SUBSTITUTE(INDIRECT("'"&$K29&"'!a"&COLUMN(M:M)),"-","")*1,"") | O29: =IFERROR(SUBSTITUTE(INDIRECT("'"&$K29&"'!a"&COLUMN(N:N)),"-","")*1,"") | P29: =IFERROR(SUBSTITUTE(INDIRECT("'"&$K29&"'!a"&COLUMN(O:O)),"-","")*1,"") | Q29: =IFERROR(SUBSTITUTE(INDIRECT("'"&$K29&"'!a"&COLUMN(P:P)),"-","")*1,"") | R29: =IFERROR(SUBSTITUTE(INDIRECT("'"&$K29&"'!a"&COLUMN(Q:Q)),"-","")*1,"") | S29: =IFERROR(SUBSTITUTE(INDIRECT("'"&$K29&"'!a"&COLUMN(R:R)),"-","")*1,"") | T29: =IFERROR(SUBSTITUTE(INDIRECT("'"&$K29&"'!a"&COLUMN(S:S)),"-","")*1,"") | U29: =IFERROR(SUBSTITUTE(INDIRECT("'"&$K29&"'!a"&COLUMN(T:T)),"-","")*1,"") | V29: =SMALL(chantier,ROW(A27)) -> #NUM! | W29: {=IFERROR(OFFSET(V$2,MATCH(0,COUNTIF(W$2:W28,chantier2),0),),"")}
H30: S 22 | I30: =INDIRECT("'"&H30&"'!k5") -> #REF! | K30: {=INDEX(Feuilles,SMALL(IF(ISERROR(I$3:I$59),"",ROW(I$3:I$59)-2),ROW(A28)))} -> #NUM! | L30: =IFERROR(SUBSTITUTE(INDIRECT("'"&$K30&"'!a"&COLUMN(K:K)),"-","")*1,"") | M30: =IFERROR(SUBSTITUTE(INDIRECT("'"&$K30&"'!a"&COLUMN(L:L)),"-","")*1,"") | N30: =IFERROR(SUBSTITUTE(INDIRECT("'"&$K30&"'!a"&COLUMN(M:M)),"-","")*1,"") | O30: =IFERROR(SUBSTITUTE(INDIRECT("'"&$K30&"'!a"&COLUMN(N:N)),"-","")*1,"") | P30: =IFERROR(SUBSTITUTE(INDIRECT("'"&$K30&"'!a"&COLUMN(O:O)),"-","")*1,"") | Q30: =IFERROR(SUBSTITUTE(INDIRECT("'"&$K30&"'!a"&COLUMN(P:P)),"-","")*1,"") | R30: =IFERROR(SUBSTITUTE(INDIRECT("'"&$K30&"'!a"&COLUMN(Q:Q)),"-","")*1,"") | S30: =IFERROR(SUBSTITUTE(INDIRECT("'"&$K30&"'!a"&COLUMN(R:R)),"-","")*1,"") | T30: =IFERROR(SUBSTITUTE(INDIRECT("'"&$K30&"'!a"&COLUMN(S:S)),"-","")*1,"") | U30: =IFERROR(SUBSTITUTE(INDIRECT("'"&$K30&"'!a"&COLUMN(T:T)),"-","")*1,"") | V30: =SMALL(chantier,ROW(A28)) -> #NUM! | W30: {=IFERROR(OFFSET(V$2,MATCH(0,COUNTIF(W$2:W29,chantier2),0),),"")}
H31: S 23 | I31: =INDIRECT("'"&H31&"'!k5") -> #REF! | K31: {=INDEX(Feuilles,SMALL(IF(ISERROR(I$3:I$59),"",ROW(I$3:I$59)-2),ROW(A29)))} -> #NUM! | L31: =IFERROR(SUBSTITUTE(INDIRECT("'"&$K31&"'!a"&COLUMN(K:K)),"-","")*1,"") | M31: =IFERROR(SUBSTITUTE(INDIRECT("'"&$K31&"'!a"&COLUMN(L:L)),"-","")*1,"") | N31: =IFERROR(SUBSTITUTE(INDIRECT("'"&$K31&"'!a"&COLUMN(M:M)),"-","")*1,"") | O31: =IFERROR(SUBSTITUTE(INDIRECT("'"&$K31&"'!a"&COLUMN(N:N)),"-","")*1,"") | P31: =IFERROR(SUBSTITUTE(INDIRECT("'"&$K31&"'!a"&COLUMN(O:O)),"-","")*1,"") | Q31: =IFERROR(SUBSTITUTE(INDIRECT("'"&$K31&"'!a"&COLUMN(P:P)),"-","")*1,"") | R31: =IFERROR(SUBSTITUTE(INDIRECT("'"&$K31&"'!a"&COLUMN(Q:Q)),"-","")*1,"") | S31: =IFERROR(SUBSTITUTE(INDIRECT("'"&$K31&"'!a"&COLUMN(R:R)),"-","")*1,"") | T31: =IFERROR(SUBSTITUTE(INDIRECT("'"&$K31&"'!a"&COLUMN(S:S)),"-","")*1,"") | U31: =IFERROR(SUBSTITUTE(INDIRECT("'"&$K31&"'!a"&COLUMN(T:T)),"-","")*1,"") | V31: =SMALL(chantier,ROW(A29)) -> #NUM! | W31: {=IFERROR(OFFSET(V$2,MATCH(0,COUNTIF(W$2:W30,chantier2),0),),"")}
H32: S 24 | I32: =INDIRECT("'"&H32&"'!k5") -> #REF! | K32: {=INDEX(Feuilles,SMALL(IF(ISERROR(I$3:I$59),"",ROW(I$3:I$59)-2),ROW(A30)))} -> #NUM! | L32: =IFERROR(SUBSTITUTE(INDIRECT("'"&$K32&"'!a"&COLUMN(K:K)),"-","")*1,"") | M32: =IFERROR(SUBSTITUTE(INDIRECT("'"&$K32&"'!a"&COLUMN(L:L)),"-","")*1,"") | N32: =IFERROR(SUBSTITUTE(INDIRECT("'"&$K32&"'!a"&COLUMN(M:M)),"-","")*1,"") | O32: =IFERROR(SUBSTITUTE(INDIRECT("'"&$K32&"'!a"&COLUMN(N:N)),"-","")*1,"") | P32: =IFERROR(SUBSTITUTE(INDIRECT("'"&$K32&"'!a"&COLUMN(O:O)),"-","")*1,"") | Q32: =IFERROR(SUBSTITUTE(INDIRECT("'"&$K32&"'!a"&COLUMN(P:P)),"-","")*1,"") | R32: =IFERROR(SUBSTITUTE(INDIRECT("'"&$K32&"'!a"&COLUMN(Q:Q)),"-","")*1,"") | S32: =IFERROR(SUBSTITUTE(INDIRECT("'"&$K32&"'!a"&COLUMN(R:R)),"-","")*1,"") | T32: =IFERROR(SUBSTITUTE(INDIRECT("'"&$K32&"'!a"&COLUMN(S:S)),"-","")*1,"") | U32: =IFERROR(SUBSTITUTE(INDIRECT("'"&$K32&"'!a"&COLUMN(T:T)),"-","")*1,"") | V32: =SMALL(chantier,ROW(A30)) -> #NUM! | W32: {=IFERROR(OFFSET(V$2,MATCH(0,COUNTIF(W$2:W31,chantier2),0),),"")}
H33: S 25 | I33: =INDIRECT("'"&H33&"'!k5") -> #REF! | K33: {=INDEX(Feuilles,SMALL(IF(ISERROR(I$3:I$59),"",ROW(I$3:I$59)-2),ROW(A31)))} -> #NUM! | L33: =IFERROR(SUBSTITUTE(INDIRECT("'"&$K33&"'!a"&COLUMN(K:K)),"-","")*1,"") | M33: =IFERROR(SUBSTITUTE(INDIRECT("'"&$K33&"'!a"&COLUMN(L:L)),"-","")*1,"") | N33: =IFERROR(SUBSTITUTE(INDIRECT("'"&$K33&"'!a"&COLUMN(M:M)),"-","")*1,"") | O33: =IFERROR(SUBSTITUTE(INDIRECT("'"&$K33&"'!a"&COLUMN(N:N)),"-","")*1,"") | P33: =IFERROR(SUBSTITUTE(INDIRECT("'"&$K33&"'!a"&COLUMN(O:O)),"-","")*1,"") | Q33: =IFERROR(SUBSTITUTE(INDIRECT("'"&$K33&"'!a"&COLUMN(P:P)),"-","")*1,"") | R33: =IFERROR(SUBSTITUTE(INDIRECT("'"&$K33&"'!a"&COLUMN(Q:Q)),"-","")*1,"") | S33: =IFERROR(SUBSTITUTE(INDIRECT("'"&$K33&"'!a"&COLUMN(R:R)),"-","")*1,"") | T33: =IFERROR(SUBSTITUTE(INDIRECT("'"&$K33&"'!a"&COLUMN(S:S)),"-","")*1,"") | U33: =IFERROR(SUBSTITUTE(INDIRECT("'"&$K33&"'!a"&COLUMN(T:T)),"-","")*1,"") | V33: =SMALL(chantier,ROW(A31)) -> #NUM! | W33: {=IFERROR(OFFSET(V$2,MATCH(0,COUNTIF(W$2:W32,chantier2),0),),"")}
H34: S 26 | I34: =INDIRECT("'"&H34&"'!k5") -> #REF! | K34: {=INDEX(Feuilles,SMALL(IF(ISERROR(I$3:I$59),"",ROW(I$3:I$59)-2),ROW(A32)))} -> #NUM! | L34: =IFERROR(SUBSTITUTE(INDIRECT("'"&$K34&"'!a"&COLUMN(K:K)),"-","")*1,"") | M34: =IFERROR(SUBSTITUTE(INDIRECT("'"&$K34&"'!a"&COLUMN(L:L)),"-","")*1,"") | N34: =IFERROR(SUBSTITUTE(INDIRECT("'"&$K34&"'!a"&COLUMN(M:M)),"-","")*1,"") | O34: =IFERROR(SUBSTITUTE(INDIRECT("'"&$K34&"'!a"&COLUMN(N:N)),"-","")*1,"") | P34: =IFERROR(SUBSTITUTE(INDIRECT("'"&$K34&"'!a"&COLUMN(O:O)),"-","")*1,"") | Q34: =IFERROR(SUBSTITUTE(INDIRECT("'"&$K34&"'!a"&COLUMN(P:P)),"-","")*1,"") | R34: =IFERROR(SUBSTITUTE(INDIRECT("'"&$K34&"'!a"&COLUMN(Q:Q)),"-","")*1,"") | S34: =IFERROR(SUBSTITUTE(INDIRECT("'"&$K34&"'!a"&COLUMN(R:R)),"-","")*1,"") | T34: =IFERROR(SUBSTITUTE(INDIRECT("'"&$K34&"'!a"&COLUMN(S:S)),"-","")*1,"") | U34: =IFERROR(SUBSTITUTE(INDIRECT("'"&$K34&"'!a"&COLUMN(T:T)),"-","")*1,"") | V34: =SMALL(chantier,ROW(A32)) -> #NUM! | W34: {=IFERROR(OFFSET(V$2,MATCH(0,COUNTIF(W$2:W33,chantier2),0),),"")}
H35: S 27 | I35: =INDIRECT("'"&H35&"'!k5") -> #REF! | K35: {=INDEX(Feuilles,SMALL(IF(ISERROR(I$3:I$59),"",ROW(I$3:I$59)-2),ROW(A33)))} -> #NUM! | L35: =IFERROR(SUBSTITUTE(INDIRECT("'"&$K35&"'!a"&COLUMN(K:K)),"-","")*1,"") | M35: =IFERROR(SUBSTITUTE(INDIRECT("'"&$K35&"'!a"&COLUMN(L:L)),"-","")*1,"") | N35: =IFERROR(SUBSTITUTE(INDIRECT("'"&$K35&"'!a"&COLUMN(M:M)),"-","")*1,"") | O35: =IFERROR(SUBSTITUTE(INDIRECT("'"&$K35&"'!a"&COLUMN(N:N)),"-","")*1,"") | P35: =IFERROR(SUBSTITUTE(INDIRECT("'"&$K35&"'!a"&COLUMN(O:O)),"-","")*1,"") | Q35: =IFERROR(SUBSTITUTE(INDIRECT("'"&$K35&"'!a"&COLUMN(P:P)),"-","")*1,"") | R35: =IFERROR(SUBSTITUTE(INDIRECT("'"&$K35&"'!a"&COLUMN(Q:Q)),"-","")*1,"") | S35: =IFERROR(SUBSTITUTE(INDIRECT("'"&$K35&"'!a"&COLUMN(R:R)),"-","")*1,"") | T35: =IFERROR(SUBSTITUTE(INDIRECT("'"&$K35&"'!a"&COLUMN(S:S)),"-","")*1,"") | U35: =IFERROR(SUBSTITUTE(INDIRECT("'"&$K35&"'!a"&COLUMN(T:T)),"-","")*1,"") | V35: =SMALL(chantier,ROW(A33)) -> #NUM! | W35: {=IFERROR(OFFSET(V$2,MATCH(0,COUNTIF(W$2:W34,chantier2),0),),"")}
H36: S 28 | I36: =INDIRECT("'"&H36&"'!k5") -> #REF! | K36: {=INDEX(Feuilles,SMALL(IF(ISERROR(I$3:I$59),"",ROW(I$3:I$59)-2),ROW(A34)))} -> #NUM! | L36: =IFERROR(SUBSTITUTE(INDIRECT("'"&$K36&"'!a"&COLUMN(K:K)),"-","")*1,"") | M36: =IFERROR(SUBSTITUTE(INDIRECT("'"&$K36&"'!a"&COLUMN(L:L)),"-","")*1,"") | N36: =IFERROR(SUBSTITUTE(INDIRECT("'"&$K36&"'!a"&COLUMN(M:M)),"-","")*1,"") | O36: =IFERROR(SUBSTITUTE(INDIRECT("'"&$K36&"'!a"&COLUMN(N:N)),"-","")*1,"") | P36: =IFERROR(SUBSTITUTE(INDIRECT("'"&$K36&"'!a"&COLUMN(O:O)),"-","")*1,"") | Q36: =IFERROR(SUBSTITUTE(INDIRECT("'"&$K36&"'!a"&COLUMN(P:P)),"-","")*1,"") | R36: =IFERROR(SUBSTITUTE(INDIRECT("'"&$K36&"'!a"&COLUMN(Q:Q)),"-","")*1,"") | S36: =IFERROR(SUBSTITUTE(INDIRECT("'"&$K36&"'!a"&COLUMN(R:R)),"-","")*1,"") | T36: =IFERROR(SUBSTITUTE(INDIRECT("'"&$K36&"'!a"&COLUMN(S:S)),"-","")*1,"") | U36: =IFERROR(SUBSTITUTE(INDIRECT("'"&$K36&"'!a"&COLUMN(T:T)),"-","")*1,"") | V36: =SMALL(chantier,ROW(A34)) -> #NUM! | W36: {=IFERROR(OFFSET(V$2,MATCH(0,COUNTIF(W$2:W35,chantier2),0),),"")}
H37: S 29 | I37: =INDIRECT("'"&H37&"'!k5") -> #REF! | K37: {=INDEX(Feuilles,SMALL(IF(ISERROR(I$3:I$59),"",ROW(I$3:I$59)-2),ROW(A35)))} -> #NUM! | L37: =IFERROR(SUBSTITUTE(INDIRECT("'"&$K37&"'!a"&COLUMN(K:K)),"-","")*1,"") | M37: =IFERROR(SUBSTITUTE(INDIRECT("'"&$K37&"'!a"&COLUMN(L:L)),"-","")*1,"") | N37: =IFERROR(SUBSTITUTE(INDIRECT("'"&$K37&"'!a"&COLUMN(M:M)),"-","")*1,"") | O37: =IFERROR(SUBSTITUTE(INDIRECT("'"&$K37&"'!a"&COLUMN(N:N)),"-","")*1,"") | P37: =IFERROR(SUBSTITUTE(INDIRECT("'"&$K37&"'!a"&COLUMN(O:O)),"-","")*1,"") | Q37: =IFERROR(SUBSTITUTE(INDIRECT("'"&$K37&"'!a"&COLUMN(P:P)),"-","")*1,"") | R37: =IFERROR(SUBSTITUTE(INDIRECT("'"&$K37&"'!a"&COLUMN(Q:Q)),"-","")*1,"") | S37: =IFERROR(SUBSTITUTE(INDIRECT("'"&$K37&"'!a"&COLUMN(R:R)),"-","")*1,"") | T37: =IFERROR(SUBSTITUTE(INDIRECT("'"&$K37&"'!a"&COLUMN(S:S)),"-","")*1,"") | U37: =IFERROR(SUBSTITUTE(INDIRECT("'"&$K37&"'!a"&COLUMN(T:T)),"-","")*1,"") | V37: =SMALL(chantier,ROW(A35)) -> #NUM! | W37: {=IFERROR(OFFSET(V$2,MATCH(0,COUNTIF(W$2:W36,chantier2),0),),"")}
H38: S 30 | I38: =INDIRECT("'"&H38&"'!k5") -> #REF! | K38: {=INDEX(Feuilles,SMALL(IF(ISERROR(I$3:I$59),"",ROW(I$3:I$59)-2),ROW(A36)))} -> #NUM! | L38: =IFERROR(SUBSTITUTE(INDIRECT("'"&$K38&"'!a"&COLUMN(K:K)),"-","")*1,"") | M38: =IFERROR(SUBSTITUTE(INDIRECT("'"&$K38&"'!a"&COLUMN(L:L)),"-","")*1,"") | N38: =IFERROR(SUBSTITUTE(INDIRECT("'"&$K38&"'!a"&COLUMN(M:M)),"-","")*1,"") | O38: =IFERROR(SUBSTITUTE(INDIRECT("'"&$K38&"'!a"&COLUMN(N:N)),"-","")*1,"") | P38: =IFERROR(SUBSTITUTE(INDIRECT("'"&$K38&"'!a"&COLUMN(O:O)),"-","")*1,"") | Q38: =IFERROR(SUBSTITUTE(INDIRECT("'"&$K38&"'!a"&COLUMN(P:P)),"-","")*1,"") | R38: =IFERROR(SUBSTITUTE(INDIRECT("'"&$K38&"'!a"&COLUMN(Q:Q)),"-","")*1,"") | S38: =IFERROR(SUBSTITUTE(INDIRECT("'"&$K38&"'!a"&COLUMN(R:R)),"-","")*1,"") | T38: =IFERROR(SUBSTITUTE(INDIRECT("'"&$K38&"'!a"&COLUMN(S:S)),"-","")*1,"") | U38: =IFERROR(SUBSTITUTE(INDIRECT("'"&$K38&"'!a"&COLUMN(T:T)),"-","")*1,"") | V38: =SMALL(chantier,ROW(A36)) -> #NUM! | W38: {=IFERROR(OFFSET(V$2,MATCH(0,COUNTIF(W$2:W37,chantier2),0),),"")}
H39: S 31 | I39: =INDIRECT("'"&H39&"'!k5") -> #REF! | K39: {=INDEX(Feuilles,SMALL(IF(ISERROR(I$3:I$59),"",ROW(I$3:I$59)-2),ROW(A37)))} -> #NUM! | L39: =IFERROR(SUBSTITUTE(INDIRECT("'"&$K39&"'!a"&COLUMN(K:K)),"-","")*1,"") | M39: =IFERROR(SUBSTITUTE(INDIRECT("'"&$K39&"'!a"&COLUMN(L:L)),"-","")*1,"") | N39: =IFERROR(SUBSTITUTE(INDIRECT("'"&$K39&"'!a"&COLUMN(M:M)),"-","")*1,"") | O39: =IFERROR(SUBSTITUTE(INDIRECT("'"&$K39&"'!a"&COLUMN(N:N)),"-","")*1,"") | P39: =IFERROR(SUBSTITUTE(INDIRECT("'"&$K39&"'!a"&COLUMN(O:O)),"-","")*1,"") | Q39: =IFERROR(SUBSTITUTE(INDIRECT("'"&$K39&"'!a"&COLUMN(P:P)),"-","")*1,"") | R39: =IFERROR(SUBSTITUTE(INDIRECT("'"&$K39&"'!a"&COLUMN(Q:Q)),"-","")*1,"") | S39: =IFERROR(SUBSTITUTE(INDIRECT("'"&$K39&"'!a"&COLUMN(R:R)),"-","")*1,"") | T39: =IFERROR(SUBSTITUTE(INDIRECT("'"&$K39&"'!a"&COLUMN(S:S)),"-","")*1,"") | U39: =IFERROR(SUBSTITUTE(INDIRECT("'"&$K39&"'!a"&COLUMN(T:T)),"-","")*1,"") | V39: =SMALL(chantier,ROW(A37)) -> #NUM! | W39: {=IFERROR(OFFSET(V$2,MATCH(0,COUNTIF(W$2:W38,chantier2),0),),"")}
H40: S 32 | I40: =INDIRECT("'"&H40&"'!k5") -> #REF! | K40: {=INDEX(Feuilles,SMALL(IF(ISERROR(I$3:I$59),"",ROW(I$3:I$59)-2),ROW(A38)))} -> #NUM! | L40: =IFERROR(SUBSTITUTE(INDIRECT("'"&$K40&"'!a"&COLUMN(K:K)),"-","")*1,"") | M40: =IFERROR(SUBSTITUTE(INDIRECT("'"&$K40&"'!a"&COLUMN(L:L)),"-","")*1,"") | N40: =IFERROR(SUBSTITUTE(INDIRECT("'"&$K40&"'!a"&COLUMN(M:M)),"-","")*1,"") | O40: =IFERROR(SUBSTITUTE(INDIRECT("'"&$K40&"'!a"&COLUMN(N:N)),"-","")*1,"") | P40: =IFERROR(SUBSTITUTE(INDIRECT("'"&$K40&"'!a"&COLUMN(O:O)),"-","")*1,"") | Q40: =IFERROR(SUBSTITUTE(INDIRECT("'"&$K40&"'!a"&COLUMN(P:P)),"-","")*1,"") | R40: =IFERROR(SUBSTITUTE(INDIRECT("'"&$K40&"'!a"&COLUMN(Q:Q)),"-","")*1,"") | S40: =IFERROR(SUBSTITUTE(INDIRECT("'"&$K40&"'!a"&COLUMN(R:R)),"-","")*1,"") | T40: =IFERROR(SUBSTITUTE(INDIRECT("'"&$K40&"'!a"&COLUMN(S:S)),"-","")*1,"") | U40: =IFERROR(SUBSTITUTE(INDIRECT("'"&$K40&"'!a"&COLUMN(T:T)),"-","")*1,"") | V40: =SMALL(chantier,ROW(A38)) -> #NUM! | W40: {=IFERROR(OFFSET(V$2,MATCH(0,COUNTIF(W$2:W39,chantier2),0),),"")}
H41: S 33 | I41: =INDIRECT("'"&H41&"'!k5") -> #REF! | K41: {=INDEX(Feuilles,SMALL(IF(ISERROR(I$3:I$59),"",ROW(I$3:I$59)-2),ROW(A39)))} -> #NUM! | L41: =IFERROR(SUBSTITUTE(INDIRECT("'"&$K41&"'!a"&COLUMN(K:K)),"-","")*1,"") | M41: =IFERROR(SUBSTITUTE(INDIRECT("'"&$K41&"'!a"&COLUMN(L:L)),"-","")*1,"") | N41: =IFERROR(SUBSTITUTE(INDIRECT("'"&$K41&"'!a"&COLUMN(M:M)),"-","")*1,"") | O41: =IFERROR(SUBSTITUTE(INDIRECT("'"&$K41&"'!a"&COLUMN(N:N)),"-","")*1,"") | P41: =IFERROR(SUBSTITUTE(INDIRECT("'"&$K41&"'!a"&COLUMN(O:O)),"-","")*1,"") | Q41: =IFERROR(SUBSTITUTE(INDIRECT("'"&$K41&"'!a"&COLUMN(P:P)),"-","")*1,"") | R41: =IFERROR(SUBSTITUTE(INDIRECT("'"&$K41&"'!a"&COLUMN(Q:Q)),"-","")*1,"") | S41: =IFERROR(SUBSTITUTE(INDIRECT("'"&$K41&"'!a"&COLUMN(R:R)),"-","")*1,"") | T41: =IFERROR(SUBSTITUTE(INDIRECT("'"&$K41&"'!a"&COLUMN(S:S)),"-","")*1,"") | U41: =IFERROR(SUBSTITUTE(INDIRECT("'"&$K41&"'!a"&COLUMN(T:T)),"-","")*1,"") | V41: =SMALL(chantier,ROW(A39)) -> #NUM! | W41: {=IFERROR(OFFSET(V$2,MATCH(0,COUNTIF(W$2:W40,chantier2),0),),"")}
... H59: S 51 | I59: =INDIRECT("'"&H59&"'!k5") -> #REF! | K59: {=INDEX(Feuilles,SMALL(IF(ISERROR(I$3:I$59),"",ROW(I$3:I$59)-2),ROW(A57)))} -> #NUM! | L59: =IFERROR(SUBSTITUTE(INDIRECT("'"&$K59&"'!a"&COLUMN(K:K)),"-","")*1,"") | M59: =IFERROR(SUBSTITUTE(INDIRECT("'"&$K59&"'!a"&COLUMN(L:L)),"-","")*1,"") | N59: =IFERROR(SUBSTITUTE(INDIRECT("'"&$K59&"'!a"&COLUMN(M:M)),"-","")*1,"") | O59: =IFERROR(SUBSTITUTE(INDIRECT("'"&$K59&"'!a"&COLUMN(N:N)),"-","")*1,"") | P59: =IFERROR(SUBSTITUTE(INDIRECT("'"&$K59&"'!a"&COLUMN(O:O)),"-","")*1,"") | Q59: =IFERROR(SUBSTITUTE(INDIRECT("'"&$K59&"'!a"&COLUMN(P:P)),"-","")*1,"") | R59: =IFERROR(SUBSTITUTE(INDIRECT("'"&$K59&"'!a"&COLUMN(Q:Q)),"-","")*1,"") | S59: =IFERROR(SUBSTITUTE(INDIRECT("'"&$K59&"'!a"&COLUMN(R:R)),"-","")*1,"") | T59: =IFERROR(SUBSTITUTE(INDIRECT("'"&$K59&"'!a"&COLUMN(S:S)),"-","")*1,"") | U59: =IFERROR(SUBSTITUTE(INDIRECT("'"&$K59&"'!a"&COLUMN(T:T)),"-","")*1,"") | V59: =SMALL(chantier,ROW(A57)) -> #NUM! | W59: {=IFERROR(OFFSET(V$2,MATCH(0,COUNTIF(W$2:W58,chantier2),0),),"")}

Sheet S 09
F3: POINTAGE SEMAINIER
F5: SEMAINE N° : | I5: =MID(CELL("nomfichier",$A$1),FIND("]",CELL("nomfichier",$A$1))+1,100) -> S 09 | J5: /2021 | K5: =DATE(YEAR(F7),MONTH(F7),1) -> 44256
E7: Du: | F7: 44256 | I7: au | J7: =F7+4 -> 44260
G9: PETIT DP
A10: N° CHANTIER | B10: CODE AGENT | C10: CODE AGENCE | D10: NOM AGENT | E10: HEURES | F10: PANIER | G10: ZONE | H10: TRAJET | I10: TRANS PORT | J10: LIEUX | K10: OBSERVATION
A11: 551-00062 | B11: CDD1 | C11: =IF($B11="","",VLOOKUP($B11,[1]!AGENTS[#Data],2,FALSE)) -> TTV | E11: 38 | F11: =IF($E11="","",$E11/8) -> 4.75 | G11: V | H11: =IF($E11="","",$E11/8) -> 4.75 | I11: =IF($E11="","",$E11/8) -> 4.75 | J11: ATELIER
A12: 551-00062 | B12: S1580 | C12: =IF($B12="","",VLOOKUP($B12,[1]!AGENTS[#Data],2,FALSE)) -> VDI | E12: 38 | F12: =IF($E12="","",$E12/8) -> 4.75 | G12: V | H12: =IF($E12="","",$E12/8) -> 4.75 | J12: ATELIER
C13: =IF($B13="","",VLOOKUP($B13,[1]!AGENTS[#Data],2,FALSE)) | D13: =IF($B13="","",VLOOKUP($B13,[1]!AGENTS[#Data],3,FALSE)) | F13: =IF($E13="","",$E13/8) | H13: =IF($E13="","",$E13/8) | I13: =IF($E13="","",$E13/8)
C14: =IF($B14="","",VLOOKUP($B14,[1]!AGENTS[#Data],2,FALSE)) | D14: =IF($B14="","",VLOOKUP($B14,[1]!AGENTS[#Data],3,FALSE)) | F14: =IF($E14="","",$E14/8) | H14: =IF($E14="","",$E14/8) | I14: =IF($E14="","",$E14/8)
C15: =IF($B15="","",VLOOKUP($B15,[1]!AGENTS[#Data],2,FALSE)) | D15: =IF($B15="","",VLOOKUP($B15,[1]!AGENTS[#Data],3,FALSE)) | F15: =IF($E15="","",$E15/8) | H15: =IF($E15="","",$E15/8) | I15: =IF($E15="","",$E15/8)
C16: =IF($B16="","",VLOOKUP($B16,[1]!AGENTS[#Data],2,FALSE)) | D16: =IF($B16="","",VLOOKUP($B16,[1]!AGENTS[#Data],3,FALSE)) | F16: =IF($E16="","",$E16/8) | H16: =IF($E16="","",$E16/8) | I16: =IF($E16="","",$E16/8)
C17: =IF($B17="","",VLOOKUP($B17,[1]!AGENTS[#Data],2,FALSE)) | D17: =IF($B17="","",VLOOKUP($B17,[1]!AGENTS[#Data],3,FALSE)) | F17: =IF($E17="","",$E17/8) | H17: =IF($E17="","",$E17/8) | I17: =IF($E17="","",$E17/8)
C18: =IF($B18="","",VLOOKUP($B18,[1]!AGENTS[#Data],2,FALSE)) | D18: =IF($B18="","",VLOOKUP($B18,[1]!AGENTS[#Data],3,FALSE)) | F18: =IF($E18="","",$E18/8) | H18: =IF($E18="","",$E18/8) | I18: =IF($E18="","",$E18/8)
C19: =IF($B19="","",VLOOKUP($B19,[1]!AGENTS[#Data],2,FALSE)) | D19: =IF($B19="","",VLOOKUP($B19,[1]!AGENTS[#Data],3,FALSE)) | F19: =IF($E19="","",$E19/8) | H19: =IF($E19="","",$E19/8) | I19: =IF($E19="","",$E19/8)
C20: =IF($B20="","",VLOOKUP($B20,[1]!AGENTS[#Data],2,FALSE)) | D20: =IF($B20="","",VLOOKUP($B20,[1]!AGENTS[#Data],3,FALSE)) | F20: =IF($E20="","",$E20/8) | H20: =IF($E20="","",$E20/8) | I20: =IF($E20="","",$E20/8)
C21: =IF($B21="","",VLOOKUP($B21,[1]!AGENTS[#Data],2,FALSE)) | D21: =IF($B21="","",VLOOKUP($B21,[1]!AGENTS[#Data],3,FALSE)) | F21: =IF($E21="","",$E21/8) | H21: =IF($E21="","",$E21/8) | I21: =IF($E21="","",$E21/8)
C22: =IF($B22="","",VLOOKUP($B22,[1]!AGENTS[#Data],2,FALSE)) | D22: =IF($B22="","",VLOOKUP($B22,[1]!AGENTS[#Data],3,FALSE)) | F22: =IF($E22="","",$E22/8) | H22: =IF($E22="","",$E22/8) | I22: =IF($E22="","",$E22/8)
A23: Total | E23: =SUBTOTAL(109,'S 09'!$E$11:$E$22) -> 76

Sheet S 10
F3: POINTAGE SEMAINIER
F5: SEMAINE N° : | I5: =MID(CELL("nomfichier",$A$1),FIND("]",CELL("nomfichier",$A$1))+1,100) -> S 10 | J5: /2021 | K5: =DATE(YEAR(F7),MONTH(F7),1) -> 44256
E7: Du: | F7: 44263 | I7: au | J7: =F7+4 -> 44267
G9: PETIT DP
A10: N° CHANTIER | B10: CODE AGENT | C10: CODE AGENCE | D10: NOM AGENT | E10: HEURES | F10: PANIER | G10: ZONE | H10: TRAJET | I10: TRANS PORT | J10: LIEUX | K10: OBSERVATION
A11: 551-00062 | B11: CDD1 | C11: =IF($B11="","",VLOOKUP($B11,[1]!AGENTS[#Data],2,FALSE)) -> TTV | E11: 38 | F11: =IF($E11="","",$E11/8) -> 4.75 | G11: V | H11: =IF($E11="","",$E11/8) -> 4.75 | I11: =IF($E11="","",$E11/8) -> 4.75 | J11: ATELIER
A12: 551-00062 | B12: S1580 | C12: =IF($B12="","",VLOOKUP($B12,[1]!AGENTS[#Data],2,FALSE)) -> VDI | E12: 25.5 | F12: =IF($E12="","",$E12/8) -> 3.1875 | G12: V | H12: =IF($E12="","",$E12/8) -> 3.1875 | J12: ATELIER
A13: 543-00066 | B13: S1123 | C13: =IF($B13="","",VLOOKUP($B13,[1]!AGENTS[#Data],2,FALSE)) -> IDF | E13: 38 | F13: =IF($E13="","",$E13/8) -> 4.75 | G13: V | H13: =IF($E13="","",$E13/8) -> 4.75 | J13: ATELIER
C14: =IF($B14="","",VLOOKUP($B14,[1]!AGENTS[#Data],2,FALSE)) | F14: =IF($E14="","",$E14/8) | H14: =IF($E14="","",$E14/8) | I14: =IF($E14="","",$E14/8)
C15: =IF($B15="","",VLOOKUP($B15,[1]!AGENTS[#Data],2,FALSE)) | F15: =IF($E15="","",$E15/8) | H15: =IF($E15="","",$E15/8) | I15: =IF($E15="","",$E15/8)
C16: =IF($B16="","",VLOOKUP($B16,[1]!AGENTS[#Data],2,FALSE)) | F16: =IF($E16="","",$E16/8) | H16: =IF($E16="","",$E16/8) | I16: =IF($E16="","",$E16/8)
C17: =IF($B17="","",VLOOKUP($B17,[1]!AGENTS[#Data],2,FALSE)) | F17: =IF($E17="","",$E17/8) | H17: =IF($E17="","",$E17/8) | I17: =IF($E17="","",$E17/8)
C18: =IF($B18="","",VLOOKUP($B18,[1]!AGENTS[#Data],2,FALSE)) | F18: =IF($E18="","",$E18/8) | H18: =IF($E18="","",$E18/8) | I18: =IF($E18="","",$E18/8)
C19: =IF($B19="","",VLOOKUP($B19,[1]!AGENTS[#Data],2,FALSE)) | F19: =IF($E19="","",$E19/8) | H19: =IF($E19="","",$E19/8) | I19: =IF($E19="","",$E19/8)
C20: =IF($B20="","",VLOOKUP($B20,[1]!AGENTS[#Data],2,FALSE)) | F20: =IF($E20="","",$E20/8) | H20: =IF($E20="","",$E20/8) | I20: =IF($E20="","",$E20/8)
C21: =IF($B21="","",VLOOKUP($B21,[1]!AGENTS[#Data],2,FALSE)) | F21: =IF($E21="","",$E21/8) | H21: =IF($E21="","",$E21/8) | I21: =IF($E21="","",$E21/8)
A22: CONGE | B22: S1580 | C22: =IF($B22="","",VLOOKUP($B22,[1]!AGENTS[#Data],2,FALSE)) -> VDI | F22: =IF($E22="","",$E22/8) | H22: =IF($E22="","",$E22/8) | I22: =IF($E22="","",$E22/8) | K22: CONGE JEUDI et VENDREDI
A23: Total | E23: =SUBTOTAL(109,'S 10'!$E$11:$E$22) -> 101.5

Sheet S 11
F3: POINTAGE SEMAINIER
F5: SEMAINE N° : | I5: =MID(CELL("nomfichier",$A$1),FIND("]",CELL("nomfichier",$A$1))+1,100) -> S 11 | J5: /2021 | K5: =DATE(YEAR(F7),MONTH(F7),1) -> 44256
E7: Du: | F7: 44270 | I7: au | J7: =F7+4 -> 44274
G9: PETIT DP
A10: N° CHANTIER | B10: CODE AGENT | C10: CODE AGENCE | D10: NOM AGENT | E10: HEURES | F10: PANIER | G10: ZONE | H10: TRAJET | I10: TRANS PORT | J10: LIEUX | K10: OBSERVATION
A11: 551-00062 | B11: CDD1 | C11: =IF($B11="","",VLOOKUP($B11,[1]!AGENTS[#Data],2,FALSE)) -> TTV | E11: 38 | F11: =IF($E11="","",$E11/8) -> 4.75 | G11: V | H11: =IF($E11="","",$E11/8) -> 4.75 | I11: =IF($E11="","",$E11/8) -> 4.75 | J11: ATELIER
A12: 551-00062 | B12: S1580 | C12: =IF($B12="","",VLOOKUP($B12,[1]!AGENTS[#Data],2,FALSE)) -> VDI | E12: 25.5 | F12: =IF($E12="","",$E12/8) -> 3.1875 | G12: V | H12: =IF($E12="","",$E12/8) -> 3.1875 | I12: =IF($E12="","",$E12/8) -> 3.1875 | J12: ATELIER
A13: 551-00062 | B13: CDD2 | C13: =IF($B13="","",VLOOKUP($B13,[1]!AGENTS[#Data],2,FALSE)) -> TTV | E13: 12.5 | F13: =IF($E13="","",$E13/8) -> 1.5625 | G13: V | H13: =IF($E13="","",$E13/8) -> 1.5625 | I13: =IF($E13="","",$E13/8) -> 1.5625 | J13: ATELIER
A14: 543-00066 | B14: CDD2 | C14: =IF($B14="","",VLOOKUP($B14,[1]!AGENTS[#Data],2,FALSE)) -> TTV | E14: 25.5 | F14: =IF($E14="","",$E14/8) -> 3.1875 | G14: V | H14: =IF($E14="","",$E14/8) -> 3.1875 | I14: =IF($E14="","",$E14/8) -> 3.1875 | J14: ATELIER
C15: =IF($B15="","",VLOOKUP($B15,[1]!AGENTS[#Data],2,FALSE)) | F15: =IF($E15="","",$E15/8) | H15: =IF($E15="","",$E15/8) | I15: =IF($E15="","",$E15/8)
C16: =IF($B16="","",VLOOKUP($B16,[1]!AGENTS[#Data],2,FALSE)) | F16: =IF($E16="","",$E16/8) | H16: =IF($E16="","",$E16/8) | I16: =IF($E16="","",$E16/8)
C17: =IF($B17="","",VLOOKUP($B17,[1]!AGENTS[#Data],2,FALSE)) | F17: =IF($E17="","",$E17/8) | H17: =IF($E17="","",$E17/8) | I17: =IF($E17="","",$E17/8)
C18: =IF($B18="","",VLOOKUP($B18,[1]!AGENTS[#Data],2,FALSE)) | F18: =IF($E18="","",$E18/8) | H18: =IF($E18="","",$E18/8) | I18: =IF($E18="","",$E18/8)
C19: =IF($B19="","",VLOOKUP($B19,[1]!AGENTS[#Data],2,FALSE)) | F19: =IF($E19="","",$E19/8) | H19: =IF($E19="","",$E19/8) | I19: =IF($E19="","",$E19/8)
C20: =IF($B20="","",VLOOKUP($B20,[1]!AGENTS[#Data],2,FALSE)) | F20: =IF($E20="","",$E20/8) | H20: =IF($E20="","",$E20/8) | I20: =IF($E20="","",$E20/8)
C21: =IF($B21="","",VLOOKUP($B21,[1]!AGENTS[#Data],2,FALSE)) | F21: =IF($E21="","",$E21/8) | H21: =IF($E21="","",$E21/8) | I21: =IF($E21="","",$E21/8)
C22: =IF($B22="","",VLOOKUP($B22,[1]!AGENTS[#Data],2,FALSE)) | F22: =IF($E22="","",$E22/8) | H22: =IF($E22="","",$E22/8) | I22: =IF($E22="","",$E22/8)
A23: Total | E23: =SUBTOTAL(109,'S 11'!$E$11:$E$22) -> 101.5

Sheet S 12
F3: POINTAGE SEMAINIER
F5: SEMAINE N° : | I5: =MID(CELL("nomfichier",$A$1),FIND("]",CELL("nomfichier",$A$1))+1,100) -> S 12 | J5: /2021 | K5: =DATE(YEAR(F7),MONTH(F7),1) -> 44256
E7: Du: | F7: 44277 | I7: au | J7: =F7+4 -> 44281
G9: PETIT DP
A10: N° CHANTIER | B10: CODE AGENT | C10: CODE AGENCE | D10: NOM AGENT | E10: HEURES | F10: PANIER | G10: ZONE | H10: TRAJET | I10: TRANS PORT | J10: LIEUX | K10: OBSERVATION
A11: 551-00062 | B11: CDD1 | C11: =IF($B11="","",VLOOKUP($B11,[1]!AGENTS[#Data],2,FALSE)) -> TTV | E11: 38 | F11: =IF($E11="","",$E11/8) -> 4.75 | G11: V | H11: =IF($E11="","",$E11/8) -> 4.75 | I11: =IF($E11="","",$E11/8) -> 4.75 | J11: ATELIER
A12: 551-00062 | B12: CDD2 | C12: =IF($B12="","",VLOOKUP($B12,[1]!AGENTS[#Data],2,FALSE)) -> TTV | E12: 38 | F12: =IF($E12="","",$E12/8) -> 4.75 | G12: V | H12: =IF($E12="","",$E12/8) -> 4.75 | I12: =IF($E12="","",$E12/8) -> 4.75 | J12: ATELIER
C13: =IF($B13="","",VLOOKUP($B13,[1]!AGENTS[#Data],2,FALSE)) | F13: =IF($E13="","",$E13/8) | H13: =IF($E13="","",$E13/8) | I13: =IF($E13="","",$E13/8)
C14: =IF($B14="","",VLOOKUP($B14,[1]!AGENTS[#Data],2,FALSE)) | F14: =IF($E14="","",$E14/8) | H14: =IF($E14="","",$E14/8) | I14: =IF($E14="","",$E14/8)
C15: =IF($B15="","",VLOOKUP($B15,[1]!AGENTS[#Data],2,FALSE)) | F15: =IF($E15="","",$E15/8) | H15: =IF($E15="","",$E15/8) | I15: =IF($E15="","",$E15/8)
C16: =IF($B16="","",VLOOKUP($B16,[1]!AGENTS[#Data],2,FALSE)) | F16: =IF($E16="","",$E16/8) | H16: =IF($E16="","",$E16/8) | I16: =IF($E16="","",$E16/8)
C17: =IF($B17="","",VLOOKUP($B17,[1]!AGENTS[#Data],2,FALSE)) | F17: =IF($E17="","",$E17/8) | H17: =IF($E17="","",$E17/8) | I17: =IF($E17="","",$E17/8)
C18: =IF($B18="","",VLOOKUP($B18,[1]!AGENTS[#Data],2,FALSE)) | F18: =IF($E18="","",$E18/8) | H18: =IF($E18="","",$E18/8) | I18: =IF($E18="","",$E18/8)
C19: =IF($B19="","",VLOOKUP($B19,[1]!AGENTS[#Data],2,FALSE)) | F19: =IF($E19="","",$E19/8) | H19: =IF($E19="","",$E19/8) | I19: =IF($E19="","",$E19/8)
C20: =IF($B20="","",VLOOKUP($B20,[1]!AGENTS[#Data],2,FALSE)) | F20: =IF($E20="","",$E20/8) | H20: =IF($E20="","",$E20/8) | I20: =IF($E20="","",$E20/8)
C21: =IF($B21="","",VLOOKUP($B21,[1]!AGENTS[#Data],2,FALSE)) | F21: =IF($E21="","",$E21/8) | H21: =IF($E21="","",$E21/8) | I21: =IF($E21="","",$E21/8)
C22: =IF($B22="","",VLOOKUP($B22,[1]!AGENTS[#Data],2,FALSE)) | F22: =IF($E22="","",$E22/8) | H22: =IF($E22="","",$E22/8) | I22: =IF($E22="","",$E22/8)
A23: Total | E23: =SUBTOTAL(109,'S 12'!$E$11:$E$22) -> 76

Sheet S 13-1
F3: POINTAGE SEMAINIER
F5: SEMAINE N° : | I5: =MID(CELL("nomfichier",$A$1),FIND("]",CELL("nomfichier",$A$1))+1,100) -> S 13-1 | J5: /2021 | K5: =DATE(YEAR(F7),MONTH(F7),1) -> 44256
E7: Du: | F7: 44284 | I7: au | J7: 44286
G9: PETIT DP
A10: N° CHANTIER | B10: CODE AGENT | C10: CODE AGENCE | D10: NOM AGENT | E10: HEURES | F10: PANIER | G10: ZONE | H10: TRAJET | I10: TRANS PORT | J10: LIEUX | K10: OBSERVATION
A11: 551-00062 | B11: CDD1 | C11: =IF($B11="","",VLOOKUP($B11,[1]!AGENTS[#Data],2,FALSE)) -> TTV | E11: 25.5 | F11: =IF($E11="","",$E11/8) -> 3.1875 | G11: V | H11: =IF($E11="","",$E11/8) -> 3.1875 | I11: =IF($E11="","",$E11/8) -> 3.1875 | J11: ATELIER
A12: 551-00062 | B12: CDD2 | C12: =IF($B12="","",VLOOKUP($B12,[1]!AGENTS[#Data],2,FALSE)) -> TTV | E12: 25.5 | F12: =IF($E12="","",$E12/8) -> 3.1875 | G12: V | H12: =IF($E12="","",$E12/8) -> 3.1875 | I12: =IF($E12="","",$E12/8) -> 3.1875 | J12: ATELIER
C13: =IF($B13="","",VLOOKUP($B13,[1]!AGENTS[#Data],2,FALSE)) | F13: =IF($E13="","",$E13/8) | H13: =IF($E13="","",$E13/8) | I13: =IF($E13="","",$E13/8)
C14: =IF($B14="","",VLOOKUP($B14,[1]!AGENTS[#Data],2,FALSE)) | F14: =IF($E14="","",$E14/8) | H14: =IF($E14="","",$E14/8) | I14: =IF($E14="","",$E14/8)
C15: =IF($B15="","",VLOOKUP($B15,[1]!AGENTS[#Data],2,FALSE)) | F15: =IF($E15="","",$E15/8) | H15: =IF($E15="","",$E15/8) | I15: =IF($E15="","",$E15/8)
C16: =IF($B16="","",VLOOKUP($B16,[1]!AGENTS[#Data],2,FALSE)) | F16: =IF($E16="","",$E16/8) | H16: =IF($E16="","",$E16/8) | I16: =IF($E16="","",$E16/8)
C17: =IF($B17="","",VLOOKUP($B17,[1]!AGENTS[#Data],2,FALSE)) | F17: =IF($E17="","",$E17/8) | H17: =IF($E17="","",$E17/8) | I17: =IF($E17="","",$E17/8)
C18: =IF($B18="","",VLOOKUP($B18,[1]!AGENTS[#Data],2,FALSE)) | F18: =IF($E18="","",$E18/8) | H18: =IF($E18="","",$E18/8) | I18: =IF($E18="","",$E18/8)
C19: =IF($B19="","",VLOOKUP($B19,[1]!AGENTS[#Data],2,FALSE)) | F19: =IF($E19="","",$E19/8) | H19: =IF($E19="","",$E19/8) | I19: =IF($E19="","",$E19/8)
C20: =IF($B20="","",VLOOKUP($B20,[1]!AGENTS[#Data],2,FALSE)) | F20: =IF($E20="","",$E20/8) | H20: =IF($E20="","",$E20/8) | I20: =IF($E20="","",$E20/8)
C21: =IF($B21="","",VLOOKUP($B21,[1]!AGENTS[#Data],2,FALSE)) | F21: =IF($E21="","",$E21/8) | H21: =IF($E21="","",$E21/8) | I21: =IF($E21="","",$E21/8)
C22: =IF($B22="","",VLOOKUP($B22,[1]!AGENTS[#Data],2,FALSE)) | F22: =IF($E22="","",$E22/8) | H22: =IF($E22="","",$E22/8) | I22: =IF($E22="","",$E22/8)
A23: Total | E23: =SUBTOTAL(109,'S 13-1'!$E$11:$E$22) -> 51

Sheet S 13-2
F3: POINTAGE SEMAINIER
F5: SEMAINE N° : | I5: =MID(CELL("nomfichier",$A$1),FIND("]",CELL("nomfichier",$A$1))+1,100) -> S 13-2 | J5: /2021 | K5: =DATE(YEAR(F7),MONTH(F7),1) -> 44287
E7: Du: | F7: 44287 | I7: au | J7: 44288
G9: PETIT DP
A10: N° CHANTIER | B10: CODE AGENT | C10: CODE AGENCE | D10: NOM AGENT | E10: HEURES | F10: PANIER | G10: ZONE | H10: TRAJET | I10: TRANS PORT | J10: LIEUX | K10: OBSERVATION
A11: 551-00062 | B11: CDD1 | C11: =IF($B11="","",VLOOKUP($B11,[1]!AGENTS[#Data],2,FALSE)) -> TTV | E11: 1 | F11: =IF($E11="","",$E11/8) -> 0.125 | G11: V | H11: =IF($E11="","",$E11/8) -> 0.125 | I11: =IF($E11="","",$E11/8) -> 0.125 | J11: ATELIER
A12: 551-00062 | B12: CDD2 | C12: =IF($B12="","",VLOOKUP($B12,[1]!AGENTS[#Data],2,FALSE)) -> TTV | E12: 1 | F12: =IF($E12="","",$E12/8) -> 0.125 | G12: V | H12: =IF($E12="","",$E12/8) -> 0.125 | I12: =IF($E12="","",$E12/8) -> 0.125 | J12: ATELIER
C13: =IF($B13="","",VLOOKUP($B13,[1]!AGENTS[#Data],2,FALSE)) | E13: 1 | F13: =IF($E13="","",$E13/8) -> 0.125 | H13: =IF($E13="","",$E13/8) -> 0.125 | I13: =IF($E13="","",$E13/8) -> 0.125
C14: =IF($B14="","",VLOOKUP($B14,[1]!AGENTS[#Data],2,FALSE)) | F14: =IF($E14="","",$E14/8) | H14: =IF($E14="","",$E14/8) | I14: =IF($E14="","",$E14/8)
C15: =IF($B15="","",VLOOKUP($B15,[1]!AGENTS[#Data],2,FALSE)) | F15: =IF($E15="","",$E15/8) | H15: =IF($E15="","",$E15/8) | I15: =IF($E15="","",$E15/8)
C16: =IF($B16="","",VLOOKUP($B16,[1]!AGENTS[#Data],2,FALSE)) | F16: =IF($E16="","",$E16/8) | H16: =IF($E16="","",$E16/8) | I16: =IF($E16="","",$E16/8)
C17: =IF($B17="","",VLOOKUP($B17,[1]!AGENTS[#Data],2,FALSE)) | F17: =IF($E17="","",$E17/8) | H17: =IF($E17="","",$E17/8) | I17: =IF($E17="","",$E17/8)
C18: =IF($B18="","",VLOOKUP($B18,[1]!AGENTS[#Data],2,FALSE)) | F18: =IF($E18="","",$E18/8) | H18: =IF($E18="","",$E18/8) | I18: =IF($E18="","",$E18/8)
C19: =IF($B19="","",VLOOKUP($B19,[1]!AGENTS[#Data],2,FALSE)) | F19: =IF($E19="","",$E19/8) | H19: =IF($E19="","",$E19/8) | I19: =IF($E19="","",$E19/8)
C20: =IF($B20="","",VLOOKUP($B20,[1]!AGENTS[#Data],2,FALSE)) | F20: =IF($E20="","",$E20/8) | H20: =IF($E20="","",$E20/8) | I20: =IF($E20="","",$E20/8)
C21: =IF($B21="","",VLOOKUP($B21,[1]!AGENTS[#Data],2,FALSE)) | F21: =IF($E21="","",$E21/8) | H21: =IF($E21="","",$E21/8) | I21: =IF($E21="","",$E21/8)
