Workbook
Name champfeuille: OFFSET(Articles!$M$3,,,COUNTIF(Articles!$M:$M,"><"))

Sheet Clients
A1: Réf. Client | B1: N° TVA | C1: Nom | D1: Prénom | E1: Rue | F1: Numéro | G1: Code postal | H1: Localité | I1: N° GSM
A2: 000001 | B2: 879162270 | C2: Hennequin | D2: Philippe | E2: Rue des Gades | F2: 15 | G2: 7000 | H2: Mons | I2: 0479250776
A3: 000002 | B3: Non assujetti | C3: Gouin | D3: Jacques | E3: Rue du Port | F3: 3 | G3: 7330 | H3: Saint-Ghislain | I3: 0472710657
A4: 000003 | B4: Non assujetti | C4: Moreau | D4: Lucien | E4: Rue de Frameries | F4: 12 | G4: 7340 | H4: Pâturages | I4: 0472217520
A5: 000004 | B5: Non assujetti | C5: Sylvestre | D5: Edouard | E5: Rue de Baudour | F5: 24 | G5: 7011 | H5: Ghlin | I5: 0473738732
A6: 000005 | B6: Non assujetti | C6: Reverdin | D6: Timothé | E6: Avenue du Coq | F6: 13 | G6: 7012 | H6: Jemappes | I6: 0477930172
A7: 000006 | B7: 599974692 | C7: Poincaré | D7: Remy | E7: Rue Monclair | F7: 125 | G7: 7012 | H7: Jemappes | I7: 0474913578
A8: 000007 | B8: Non assujetti | C8: Tomas | D8: Théodore | E8: Rue de Jurbise | F8: 37 | G8: 7011 | H8: Ghlin | I8: 0471160962
A9: 000008 | B9: Non assujetti | C9: Thibodeaux | D9: Léopold | E9: Rue du Bois | F9: 56 | G9: 7012 | H9: Flénu | I9: 0473117081
A10: 000009 | B10: Non assujetti | C10: Gérin-Lajoie | D10: Jean | E10: Rue de la Biche | F10: 2 | G10: 7000 | H10: Mons | I10: 0475498358
A11: 000010 | B11: Non assujetti | C11: Bettencourt | D11: Lucas | E11: Rue de Flénu | F11: 8 | G11: 7340 | H11: Pâturages | I11: 0479974464
A12: 000011 | B12: Non assujetti | C12: Darche | D12: Clément | E12: Rue Verte | F12: 96 | G12: 7011 | H12: Ghlin | I12: 0472376220
A13: 000012 | B13: 674492567 | C13: Manoury | D13: Dimitri | E13: Rue des Archers | F13: 9 | G13: 7000 | H13: Mons | I13: 0477477931
A14: 000013 | B14: Non assujetti | C14: Duchamp | D14: Hugo | E14: Rue des Canadiens | F14: 86 | G14: 7330 | H14: Saint-Ghislain | I14: 0475871621
A15: 000014 | B15: 508995127 | C15: Galopin | D15: Maxime | E15: Rue de la Grande Triperie | F15: 78 | G15: 7000 | H15: Mons | I15: 0475402609
A16: 000015 | B16: Non assujetti | C16: Delannoy | D16: Yves | E16: Rue de Masnuy | F16: 45 | G16: 7011 | H16: Ghlin | I16: 0472726745

Sheet Articles
A1: Référence | B1: Catégorie | C1: Désignation | D1: Marque | E1: Localisation | F1: P.U HTVA | G1: Stock initial | H1: Stock final | I1: Valeur en stock HTVA
A2: 6N0877051D | B2: Carosserie | C2: Couvre-toit coulissant verre avec étancheité | D2: Meritor | E2: D4 | F2: 588.13 | G2: 20 | H2: =G2-SUMPRODUCT(SUMIF(INDIRECT("'"&champfeuille&"'!$B$18:$B$33"),A2,INDIRECT("'"&champfeuille&"'!$G$18:$G$33"))) -> 12 | I2: =H2*F2 -> 7057.56
A3: D180003M2 | B3: Carosserie | C3: Colle de carrosserie à 2 composantes | D3: SIKA | E3: D2 | F3: 91 | G3: 15 | H3: =G3-SUMPRODUCT(SUMIF(INDIRECT("'"&champfeuille&"'!$B$18:$B$33"),A3,INDIRECT("'"&champfeuille&"'!$G$18:$G$33"))) -> 15 | I3: =H3*F3 -> 1365 | M3: Facture (2)
A4: 6Q1423062FX | B4: Direction | C4: Mécanisme de direction | D4: TRW | E4: C4 | F4: 662 | G4: 12 | H4: =G4-SUMPRODUCT(SUMIF(INDIRECT("'"&champfeuille&"'!$B$18:$B$33"),A4,INDIRECT("'"&champfeuille&"'!$G$18:$G$33"))) -> 7 | I4: =H4*F4 -> 4634 | M4: Facture (3)
A5: 6Q1423891H | B5: Direction | C5: Flexible de retour de direction assistée | D5: TRW | E5: C5 | F5: 51.6 | G5: 2 | H5: =G5-SUMPRODUCT(SUMIF(INDIRECT("'"&champfeuille&"'!$B$18:$B$33"),A5,INDIRECT("'"&champfeuille&"'!$G$18:$G$33"))) -> 2 | I5: =H5*F5 -> 103.2 | M5: Facture (4)
A6: 036903018AX | B6: Electricité | C6: Alternateur | D6: HELLA | E6: B4 | F6: 150.33 | G6: 2 | H6: =G6-SUMPRODUCT(SUMIF(INDIRECT("'"&champfeuille&"'!$B$18:$B$33"),A6,INDIRECT("'"&champfeuille&"'!$G$18:$G$33"))) -> 2 | I6: =H6*F6 -> 300.66 | M6: Facture (5)
A7: 02T911024N | B7: Electricité | C7: Démarreur | D7: Magneti Marelli | E7: B6 | F7: 487 | G7: 2 | H7: =G7-SUMPRODUCT(SUMIF(INDIRECT("'"&champfeuille&"'!$B$18:$B$33"),A7,INDIRECT("'"&champfeuille&"'!$G$18:$G$33"))) -> 2 | I7: =H7*F7 -> 974 | M7: Facture (6)
A8: 6Q0614417AJ | B8: Freinage | C8: Unité ABS | D8: Bosch | E8: C8 | F8: 1190 | G8: 1 | H8: =G8-SUMPRODUCT(SUMIF(INDIRECT("'"&champfeuille&"'!$B$18:$B$33"),A8,INDIRECT("'"&champfeuille&"'!$G$18:$G$33"))) -> 1 | I8: =H8*F8 -> 1190 | M8: Facture (7)
A9: 03D198819C | B9: Moteur | C9: Filtre à huile avec joint | D9: Purflux | E9: A1 | F9: 7.85 | G9: 8 | H9: =G9-SUMPRODUCT(SUMIF(INDIRECT("'"&champfeuille&"'!$B$18:$B$33"),A9,INDIRECT("'"&champfeuille&"'!$G$18:$G$33"))) -> 8 | I9: =H9*F9 -> 62.8 | M9: Facture (8)
A10: 101905601F | B10: Moteur | C10: Bougie d'allumage | D10: NGK | E10: B1 | F10: 10.9 | G10: 24 | H10: =G10-SUMPRODUCT(SUMIF(INDIRECT("'"&champfeuille&"'!$B$18:$B$33"),A10,INDIRECT("'"&champfeuille&"'!$G$18:$G$33"))) -> 24 | I10: =H10*F10 -> 261.6 | M10: Facture (9)
A11: 6Q0820808GX | B11: Moteur | C11: Compresseur de climatiseur | D11: DENSO | E11: C7 | F11: 487 | G11: 2 | H11: =G11-SUMPRODUCT(SUMIF(INDIRECT("'"&champfeuille&"'!$B$18:$B$33"),A11,INDIRECT("'"&champfeuille&"'!$G$18:$G$33"))) -> 2 | I11: =H11*F11 -> 974 | M11: Facture (10)
A12: 030109417D | B12: Moteur | C12: Culbuteur à galet | D12: Volkswagen | E12: B8 | F12: 10.92 | G12: 12 | H12: =G12-SUMPRODUCT(SUMIF(INDIRECT("'"&champfeuille&"'!$B$18:$B$33"),A12,INDIRECT("'"&champfeuille&"'!$G$18:$G$33"))) -> 12 | I12: =H12*F12 -> 131.04
A13: 03D109229 | B13: Moteur | C13: Chaîne de distribution | D13: Volkswagen | E13: B2 | F13: 67.6 | G13: 1 | H13: =G13-SUMPRODUCT(SUMIF(INDIRECT("'"&champfeuille&"'!$B$18:$B$33"),A13,INDIRECT("'"&champfeuille&"'!$G$18:$G$33"))) -> 1 | I13: =H13*F13 -> 67.6
A14: 038107065CK | B14: Moteur | C14: Piston complet | D14: Alcan | E14: B3 | F14: 229 | G14: 4 | H14: =G14-SUMPRODUCT(SUMIF(INDIRECT("'"&champfeuille&"'!$B$18:$B$33"),A14,INDIRECT("'"&champfeuille&"'!$G$18:$G$33"))) -> 4 | I14: =H14*F14 -> 916
A15: GS55502M2 | B15: Moteur | C15: Huile moteur | D15: Volkswagen | E15: B1 | F15: 11.1 | G15: 155 | H15: =G15-SUMPRODUCT(SUMIF(INDIRECT("'"&champfeuille&"'!$B$18:$B$33"),A15,INDIRECT("'"&champfeuille&"'!$G$18:$G$33"))) -> 155 | I15: =H15*F15 -> 1720.5
A16: 03D141031A | B16: Transmission | C16: Disque d'embrayage | D16: LUK | E16: D1 | F16: 177 | G16: 2 | H16: =G16-SUMPRODUCT(SUMIF(INDIRECT("'"&champfeuille&"'!$B$18:$B$33"),A16,INDIRECT("'"&champfeuille&"'!$G$18:$G$33"))) -> 2 | I16: =H16*F16 -> 354
A18: 1
A19: 2 | F19: en vert , les seules refs présentes dans les factures
A20: 3 | F20: pour ton exemple
A21: 4
A22: 5
A23: 6
A24: 7
A25: 8
A26: 9
A27: 10
A28: 11
A29: 12
A30: 13
A31: 14
A32: 15

Sheet Facture
A1: FACTURE
B3: HELHa Car Service SA
B4: Chaussée de Binche 159
B5: 7000 Mons
B7: Tél : 065/40.41.47
B8: Mail : serviceparts@helha.be
B9: TVA : BE 0735.896.933 | F9: Client : | G9: =IFERROR(VLOOKUP(Facture!C11,Clients!$A$1:$I$16,3,0),"") | H9: =IFERROR(VLOOKUP(Facture!$C$11,Clients!$A$1:$I$16,4,0),"")
F10: Adresse : | G10: =IFERROR(VLOOKUP(Facture!$C$11,Clients!$A$1:$I$16,5,0),"") | I10: =IFERROR(VLOOKUP(Facture!$C$11,Clients!$A$1:$I$16,6,0),"")
B11: Réf. Client : | G11: =IFERROR(VLOOKUP(Facture!$C$11,Clients!$A$1:$I$16,7,0),"") | H11: =IFERROR(VLOOKUP(Facture!$C$11,Clients!$A$1:$I$16,8,0),"")
B12: Date : | C12: =TODAY() -> 44260
B13: N° de facture :
B14: Échéance :
B15: TVA Client : | C15: =IFERROR(VLOOKUP(Facture!$C$11,Clients!$A$1:$I$16,2,0),"")
B17: Référence | C17: Désignation | F17: P.U HTVA | G17: Quantité | H17: Prix total TVAC
C18: =IFERROR(VLOOKUP(Facture!B18,Articles!A1:H16,3,0),"") | F18: =IFERROR(VLOOKUP(Facture!B18,Articles!A1:H16,6,0),"") | H18: =IFERROR(F18*G18,"")
C19: =IFERROR(VLOOKUP(Facture!B19,Articles!A2:H17,3,0),"") | F19: =IFERROR(VLOOKUP(Facture!B19,Articles!A2:H17,6,0),"") | H19: =IFERROR(F19*G19,"")
C20: =IFERROR(VLOOKUP(Facture!B20,Articles!A3:H18,3,0),"") | F20: =IFERROR(VLOOKUP(Facture!B20,Articles!A3:H18,6,0),"") | H20: =IFERROR(F20*G20,"")
C21: =IFERROR(VLOOKUP(Facture!B21,Articles!A4:H19,3,0),"") | F21: =IFERROR(VLOOKUP(Facture!B21,Articles!A4:H19,6,0),"") | H21: =IFERROR(F21*G21,"")
C22: =IFERROR(VLOOKUP(Facture!B22,Articles!A5:H20,3,0),"") | F22: =IFERROR(VLOOKUP(Facture!B22,Articles!A5:H20,6,0),"") | H22: =IFERROR(F22*G22,"")
C23: =IFERROR(VLOOKUP(Facture!B23,Articles!A6:H21,3,0),"") | F23: =IFERROR(VLOOKUP(Facture!B23,Articles!A6:H21,6,0),"") | H23: =IFERROR(F23*G23,"")
C24: =IFERROR(VLOOKUP(Facture!B24,Articles!A7:H22,3,0),"") | F24: =IFERROR(VLOOKUP(Facture!B24,Articles!A7:H22,6,0),"") | H24: =IFERROR(F24*G24,"")
C25: =IFERROR(VLOOKUP(Facture!B25,Articles!A8:H23,3,0),"") | F25: =IFERROR(VLOOKUP(Facture!B25,Articles!A8:H23,6,0),"") | H25: =IFERROR(F25*G25,"")
C26: =IFERROR(VLOOKUP(Facture!B26,Articles!A9:H24,3,0),"") | F26: =IFERROR(VLOOKUP(Facture!B26,Articles!A9:H24,6,0),"") | H26: =IFERROR(F26*G26,"")
C27: =IFERROR(VLOOKUP(Facture!B27,Articles!A10:H25,3,0),"") | F27: =IFERROR(VLOOKUP(Facture!B27,Articles!A10:H25,6,0),"") | H27: =IFERROR(F27*G27,"")
C28: =IFERROR(VLOOKUP(Facture!B28,Articles!A11:H26,3,0),"") | F28: =IFERROR(VLOOKUP(Facture!B28,Articles!A11:H26,6,0),"") | H28: =IFERROR(F28*G28,"")
C29: =IFERROR(VLOOKUP(Facture!B29,Articles!A12:H27,3,0),"") | F29: =IFERROR(VLOOKUP(Facture!B29,Articles!A12:H27,6,0),"") | H29: =IFERROR(F29*G29,"")
... C33: =IFERROR(VLOOKUP(Facture!B33,Articles!A16:H31,3,0),"") | F33: =IFERROR(VLOOKUP(Facture!B33,Articles!A16:H31,6,0),"") | H33: =IFERROR(F33*G33,"")
G35: Total HTVA : | H35: =SUM(H18:I33) -> 0
G36: TVA à payer : | H36: =H35*0.21 -> 0
G37: Total TTC : | H37: =H35+H36 -> 0

Sheet Facture (2)
A1: FACTURE
B3: HELHa Car Service SA
B4: Chaussée de Binche 159
B5: 7000 Mons
B7: Tél : 065/40.41.47
B8: Mail : serviceparts@helha.be
B9: TVA : BE 0735.896.933 | F9: Client : | G9: =IFERROR(VLOOKUP('Facture (2)'!C11,Clients!$A$1:$I$16,3,0),"") | H9: =IFERROR(VLOOKUP('Facture (2)'!$C$11,Clients!$A$1:$I$16,4,0),"")
F10: Adresse : | G10: =IFERROR(VLOOKUP('Facture (2)'!$C$11,Clients!$A$1:$I$16,5,0),"") | I10: =IFERROR(VLOOKUP('Facture (2)'!$C$11,Clients!$A$1:$I$16,6,0),"")
B11: Réf. Client : | G11: =IFERROR(VLOOKUP('Facture (2)'!$C$11,Clients!$A$1:$I$16,7,0),"") | H11: =IFERROR(VLOOKUP('Facture (2)'!$C$11,Clients!$A$1:$I$16,8,0),"")
B12: Date : | C12: =TODAY() -> 44260
B13: N° de facture :
B14: Échéance :
B15: TVA Client : | C15: =IFERROR(VLOOKUP('Facture (2)'!$C$11,Clients!$A$1:$I$16,2,0),"")
B17: Référence | C17: Désignation | F17: P.U HTVA | G17: Quantité | H17: Prix total TVAC
B18: 22 | C18: =IFERROR(VLOOKUP('Facture (2)'!B18,Articles!A1:H16,3,0),"") | F18: =IFERROR(VLOOKUP('Facture (2)'!B18,Articles!A1:H16,6,0),"") | G18: 1 | H18: =IFERROR(F18*G18,"")
C19: =IFERROR(VLOOKUP('Facture (2)'!B19,Articles!A2:H17,3,0),"") | F19: =IFERROR(VLOOKUP('Facture (2)'!B19,Articles!A2:H17,6,0),"") | H19: =IFERROR(F19*G19,"")
C20: =IFERROR(VLOOKUP('Facture (2)'!B20,Articles!A3:H18,3,0),"") | F20: =IFERROR(VLOOKUP('Facture (2)'!B20,Articles!A3:H18,6,0),"") | H20: =IFERROR(F20*G20,"")
C21: =IFERROR(VLOOKUP('Facture (2)'!B21,Articles!A4:H19,3,0),"") | F21: =IFERROR(VLOOKUP('Facture (2)'!B21,Articles!A4:H19,6,0),"") | H21: =IFERROR(F21*G21,"")
C22: =IFERROR(VLOOKUP('Facture (2)'!B22,Articles!A5:H20,3,0),"") | F22: =IFERROR(VLOOKUP('Facture (2)'!B22,Articles!A5:H20,6,0),"") | H22: =IFERROR(F22*G22,"")
C23: =IFERROR(VLOOKUP('Facture (2)'!B23,Articles!A6:H21,3,0),"") | F23: =IFERROR(VLOOKUP('Facture (2)'!B23,Articles!A6:H21,6,0),"") | H23: =IFERROR(F23*G23,"")
C24: =IFERROR(VLOOKUP('Facture (2)'!B24,Articles!A7:H22,3,0),"") | F24: =IFERROR(VLOOKUP('Facture (2)'!B24,Articles!A7:H22,6,0),"") | H24: =IFERROR(F24*G24,"")
C25: =IFERROR(VLOOKUP('Facture (2)'!B25,Articles!A8:H23,3,0),"") | F25: =IFERROR(VLOOKUP('Facture (2)'!B25,Articles!A8:H23,6,0),"") | H25: =IFERROR(F25*G25,"")
C26: =IFERROR(VLOOKUP('Facture (2)'!B26,Articles!A9:H24,3,0),"") | F26: =IFERROR(VLOOKUP('Facture (2)'!B26,Articles!A9:H24,6,0),"") | H26: =IFERROR(F26*G26,"")
C27: =IFERROR(VLOOKUP('Facture (2)'!B27,Articles!A10:H25,3,0),"") | F27: =IFERROR(VLOOKUP('Facture (2)'!B27,Articles!A10:H25,6,0),"") | H27: =IFERROR(F27*G27,"")
C28: =IFERROR(VLOOKUP('Facture (2)'!B28,Articles!A11:H26,3,0),"") | F28: =IFERROR(VLOOKUP('Facture (2)'!B28,Articles!A11:H26,6,0),"") | H28: =IFERROR(F28*G28,"")
C29: =IFERROR(VLOOKUP('Facture (2)'!B29,Articles!A12:H27,3,0),"") | F29: =IFERROR(VLOOKUP('Facture (2)'!B29,Articles!A12:H27,6,0),"") | H29: =IFERROR(F29*G29,"")
C30: =IFERROR(VLOOKUP('Facture (2)'!B30,Articles!A13:H28,3,0),"") | F30: =IFERROR(VLOOKUP('Facture (2)'!B30,Articles!A13:H28,6,0),"") | H30: =IFERROR(F30*G30,"")
... C33: =IFERROR(VLOOKUP('Facture (2)'!B33,Articles!A16:H31,3,0),"") | F33: =IFERROR(VLOOKUP('Facture (2)'!B33,Articles!A16:H31,6,0),"") | H33: =IFERROR(F33*G33,"")
G35: Total HTVA : | H35: =SUM(H18:I33) -> 0
G36: TVA à payer : | H36: =H35*0.21 -> 0
G37: Total TTC : | H37: =H35+H36 -> 0

Sheet Facture (3)
A1: FACTURE
B3: HELHa Car Service SA
B4: Chaussée de Binche 159
B5: 7000 Mons
B7: Tél : 065/40.41.47
B8: Mail : serviceparts@helha.be
B9: TVA : BE 0735.896.933 | F9: Client : | G9: =IFERROR(VLOOKUP('Facture (3)'!C11,Clients!$A$1:$I$16,3,0),"") | H9: =IFERROR(VLOOKUP('Facture (3)'!$C$11,Clients!$A$1:$I$16,4,0),"")
F10: Adresse : | G10: =IFERROR(VLOOKUP('Facture (3)'!$C$11,Clients!$A$1:$I$16,5,0),"") | I10: =IFERROR(VLOOKUP('Facture (3)'!$C$11,Clients!$A$1:$I$16,6,0),"")
B11: Réf. Client : | G11: =IFERROR(VLOOKUP('Facture (3)'!$C$11,Clients!$A$1:$I$16,7,0),"") | H11: =IFERROR(VLOOKUP('Facture (3)'!$C$11,Clients!$A$1:$I$16,8,0),"")
B12: Date : | C12: =TODAY() -> 44260
B13: N° de facture :
B14: Échéance :
B15: TVA Client : | C15: =IFERROR(VLOOKUP('Facture (3)'!$C$11,Clients!$A$1:$I$16,2,0),"")
B17: Référence | C17: Désignation | F17: P.U HTVA | G17: Quantité | H17: Prix total TVAC
B18: 6N0877051D | C18: =IFERROR(VLOOKUP('Facture (3)'!B18,Articles!A1:H16,3,0),"") -> Couvre-toit coulissant verre avec étancheité | F18: =IFERROR(VLOOKUP('Facture (3)'!B18,Articles!A1:H16,6,0),"") -> 588.13 | G18: 1 | H18: =IFERROR(F18*G18,"") -> 588.13
C19: =IFERROR(VLOOKUP('Facture (3)'!B19,Articles!A2:H17,3,0),"") | F19: =IFERROR(VLOOKUP('Facture (3)'!B19,Articles!A2:H17,6,0),"") | H19: =IFERROR(F19*G19,"")
C20: =IFERROR(VLOOKUP('Facture (3)'!B20,Articles!A3:H18,3,0),"") | F20: =IFERROR(VLOOKUP('Facture (3)'!B20,Articles!A3:H18,6,0),"") | H20: =IFERROR(F20*G20,"")
C21: =IFERROR(VLOOKUP('Facture (3)'!B21,Articles!A4:H19,3,0),"") | F21: =IFERROR(VLOOKUP('Facture (3)'!B21,Articles!A4:H19,6,0),"") | H21: =IFERROR(F21*G21,"")
C22: =IFERROR(VLOOKUP('Facture (3)'!B22,Articles!A5:H20,3,0),"") | F22: =IFERROR(VLOOKUP('Facture (3)'!B22,Articles!A5:H20,6,0),"") | H22: =IFERROR(F22*G22,"")
C23: =IFERROR(VLOOKUP('Facture (3)'!B23,Articles!A6:H21,3,0),"") | F23: =IFERROR(VLOOKUP('Facture (3)'!B23,Articles!A6:H21,6,0),"") | H23: =IFERROR(F23*G23,"")
C24: =IFERROR(VLOOKUP('Facture (3)'!B24,Articles!A7:H22,3,0),"") | F24: =IFERROR(VLOOKUP('Facture (3)'!B24,Articles!A7:H22,6,0),"") | H24: =IFERROR(F24*G24,"")
C25: =IFERROR(VLOOKUP('Facture (3)'!B25,Articles!A8:H23,3,0),"") | F25: =IFERROR(VLOOKUP('Facture (3)'!B25,Articles!A8:H23,6,0),"") | H25: =IFERROR(F25*G25,"")
C26: =IFERROR(VLOOKUP('Facture (3)'!B26,Articles!A9:H24,3,0),"") | F26: =IFERROR(VLOOKUP('Facture (3)'!B26,Articles!A9:H24,6,0),"") | H26: =IFERROR(F26*G26,"")
C27: =IFERROR(VLOOKUP('Facture (3)'!B27,Articles!A10:H25,3,0),"") | F27: =IFERROR(VLOOKUP('Facture (3)'!B27,Articles!A10:H25,6,0),"") | H27: =IFERROR(F27*G27,"")
C28: =IFERROR(VLOOKUP('Facture (3)'!B28,Articles!A11:H26,3,0),"") | F28: =IFERROR(VLOOKUP('Facture (3)'!B28,Articles!A11:H26,6,0),"") | H28: =IFERROR(F28*G28,"")
C29: =IFERROR(VLOOKUP('Facture (3)'!B29,Articles!A12:H27,3,0),"") | F29: =IFERROR(VLOOKUP('Facture (3)'!B29,Articles!A12:H27,6,0),"") | H29: =IFERROR(F29*G29,"")
C30: =IFERROR(VLOOKUP('Facture (3)'!B30,Articles!A13:H28,3,0),"") | F30: =IFERROR(VLOOKUP('Facture (3)'!B30,Articles!A13:H28,6,0),"") | H30: =IFERROR(F30*G30,"")
... C33: =IFERROR(VLOOKUP('Facture (3)'!B33,Articles!A16:H31,3,0),"") | F33: =IFERROR(VLOOKUP('Facture (3)'!B33,Articles!A16:H31,6,0),"") | H33: =IFERROR(F33*G33,"")
G35: Total HTVA : | H35: =SUM(H18:I33) -> 588.13
G36: TVA à payer : | H36: =H35*0.21 -> 123.5073
G37: Total TTC : | H37: =H35+H36 -> 711.6373

Sheet Facture (4)
A1: FACTURE
B3: HELHa Car Service SA
B4: Chaussée de Binche 159
B5: 7000 Mons
B7: Tél : 065/40.41.47
B8: Mail : serviceparts@helha.be
B9: TVA : BE 0735.896.933 | F9: Client : | G9: =IFERROR(VLOOKUP('Facture (4)'!C11,Clients!$A$1:$I$16,3,0),"") | H9: =IFERROR(VLOOKUP('Facture (4)'!$C$11,Clients!$A$1:$I$16,4,0),"")
F10: Adresse : | G10: =IFERROR(VLOOKUP('Facture (4)'!$C$11,Clients!$A$1:$I$16,5,0),"") | I10: =IFERROR(VLOOKUP('Facture (4)'!$C$11,Clients!$A$1:$I$16,6,0),"")
B11: Réf. Client : | G11: =IFERROR(VLOOKUP('Facture (4)'!$C$11,Clients!$A$1:$I$16,7,0),"") | H11: =IFERROR(VLOOKUP('Facture (4)'!$C$11,Clients!$A$1:$I$16,8,0),"")
B12: Date : | C12: =TODAY() -> 44260
B13: N° de facture :
B14: Échéance :
B15: TVA Client : | C15: =IFERROR(VLOOKUP('Facture (4)'!$C$11,Clients!$A$1:$I$16,2,0),"")
B17: Référence | C17: Désignation | F17: P.U HTVA | G17: Quantité | H17: Prix total TVAC
B18: 6N0877051D | C18: =IFERROR(VLOOKUP('Facture (4)'!B18,Articles!A1:H16,3,0),"") -> Couvre-toit coulissant verre avec étancheité | F18: =IFERROR(VLOOKUP('Facture (4)'!B18,Articles!A1:H16,6,0),"") -> 588.13 | G18: 1 | H18: =IFERROR(F18*G18,"") -> 588.13
C19: =IFERROR(VLOOKUP('Facture (4)'!B19,Articles!A2:H17,3,0),"") | F19: =IFERROR(VLOOKUP('Facture (4)'!B19,Articles!A2:H17,6,0),"") | H19: =IFERROR(F19*G19,"")
C20: =IFERROR(VLOOKUP('Facture (4)'!B20,Articles!A3:H18,3,0),"") | F20: =IFERROR(VLOOKUP('Facture (4)'!B20,Articles!A3:H18,6,0),"") | H20: =IFERROR(F20*G20,"")
C21: =IFERROR(VLOOKUP('Facture (4)'!B21,Articles!A4:H19,3,0),"") | F21: =IFERROR(VLOOKUP('Facture (4)'!B21,Articles!A4:H19,6,0),"") | H21: =IFERROR(F21*G21,"")
C22: =IFERROR(VLOOKUP('Facture (4)'!B22,Articles!A5:H20,3,0),"") | F22: =IFERROR(VLOOKUP('Facture (4)'!B22,Articles!A5:H20,6,0),"") | H22: =IFERROR(F22*G22,"")
C23: =IFERROR(VLOOKUP('Facture (4)'!B23,Articles!A6:H21,3,0),"") | F23: =IFERROR(VLOOKUP('Facture (4)'!B23,Articles!A6:H21,6,0),"") | H23: =IFERROR(F23*G23,"")
C24: =IFERROR(VLOOKUP('Facture (4)'!B24,Articles!A7:H22,3,0),"") | F24: =IFERROR(VLOOKUP('Facture (4)'!B24,Articles!A7:H22,6,0),"") | H24: =IFERROR(F24*G24,"")
C25: =IFERROR(VLOOKUP('Facture (4)'!B25,Articles!A8:H23,3,0),"") | F25: =IFERROR(VLOOKUP('Facture (4)'!B25,Articles!A8:H23,6,0),"") | H25: =IFERROR(F25*G25,"")
C26: =IFERROR(VLOOKUP('Facture (4)'!B26,Articles!A9:H24,3,0),"") | F26: =IFERROR(VLOOKUP('Facture (4)'!B26,Articles!A9:H24,6,0),"") | H26: =IFERROR(F26*G26,"")
C27: =IFERROR(VLOOKUP('Facture (4)'!B27,Articles!A10:H25,3,0),"") | F27: =IFERROR(VLOOKUP('Facture (4)'!B27,Articles!A10:H25,6,0),"") | H27: =IFERROR(F27*G27,"")
C28: =IFERROR(VLOOKUP('Facture (4)'!B28,Articles!A11:H26,3,0),"") | F28: =IFERROR(VLOOKUP('Facture (4)'!B28,Articles!A11:H26,6,0),"") | H28: =IFERROR(F28*G28,"")
C29: =IFERROR(VLOOKUP('Facture (4)'!B29,Articles!A12:H27,3,0),"") | F29: =IFERROR(VLOOKUP('Facture (4)'!B29,Articles!A12:H27,6,0),"") | H29: =IFERROR(F29*G29,"")
C30: =IFERROR(VLOOKUP('Facture (4)'!B30,Articles!A13:H28,3,0),"") | F30: =IFERROR(VLOOKUP('Facture (4)'!B30,Articles!A13:H28,6,0),"") | H30: =IFERROR(F30*G30,"")
... C33: =IFERROR(VLOOKUP('Facture (4)'!B33,Articles!A16:H31,3,0),"") | F33: =IFERROR(VLOOKUP('Facture (4)'!B33,Articles!A16:H31,6,0),"") | H33: =IFERROR(F33*G33,"")
G35: Total HTVA : | H35: =SUM(H18:I33) -> 588.13
G36: TVA à payer : | H36: =H35*0.21 -> 123.5073
G37: Total TTC : | H37: =H35+H36 -> 711.6373
D44: 6N0877051D

Sheet Facture (5)
A1: FACTURE
B3: HELHa Car Service SA
B4: Chaussée de Binche 159
B5: 7000 Mons
B7: Tél : 065/40.41.47
B8: Mail : serviceparts@helha.be
B9: TVA : BE 0735.896.933 | F9: Client : | G9: =IFERROR(VLOOKUP('Facture (5)'!C11,Clients!$A$1:$I$16,3,0),"") | H9: =IFERROR(VLOOKUP('Facture (5)'!$C$11,Clients!$A$1:$I$16,4,0),"")
F10: Adresse : | G10: =IFERROR(VLOOKUP('Facture (5)'!$C$11,Clients!$A$1:$I$16,5,0),"") | I10: =IFERROR(VLOOKUP('Facture (5)'!$C$11,Clients!$A$1:$I$16,6,0),"")
B11: Réf. Client : | G11: =IFERROR(VLOOKUP('Facture (5)'!$C$11,Clients!$A$1:$I$16,7,0),"") | H11: =IFERROR(VLOOKUP('Facture (5)'!$C$11,Clients!$A$1:$I$16,8,0),"")
B12: Date : | C12: =TODAY() -> 44260
B13: N° de facture :
B14: Échéance :
B15: TVA Client : | C15: =IFERROR(VLOOKUP('Facture (5)'!$C$11,Clients!$A$1:$I$16,2,0),"")
B17: Référence | C17: Désignation | F17: P.U HTVA | G17: Quantité | H17: Prix total TVAC
B18: 6N0877051D | C18: =IFERROR(VLOOKUP('Facture (5)'!B18,Articles!A1:H16,3,0),"") -> Couvre-toit coulissant verre avec étancheité | F18: =IFERROR(VLOOKUP('Facture (5)'!B18,Articles!A1:H16,6,0),"") -> 588.13 | G18: 1 | H18: =IFERROR(F18*G18,"") -> 588.13
C19: =IFERROR(VLOOKUP('Facture (5)'!B19,Articles!A2:H17,3,0),"") | F19: =IFERROR(VLOOKUP('Facture (5)'!B19,Articles!A2:H17,6,0),"") | H19: =IFERROR(F19*G19,"")
C20: =IFERROR(VLOOKUP('Facture (5)'!B20,Articles!A3:H18,3,0),"") | F20: =IFERROR(VLOOKUP('Facture (5)'!B20,Articles!A3:H18,6,0),"") | H20: =IFERROR(F20*G20,"")
C21: =IFERROR(VLOOKUP('Facture (5)'!B21,Articles!A4:H19,3,0),"") | F21: =IFERROR(VLOOKUP('Facture (5)'!B21,Articles!A4:H19,6,0),"") | H21: =IFERROR(F21*G21,"")
C22: =IFERROR(VLOOKUP('Facture (5)'!B22,Articles!A5:H20,3,0),"") | F22: =IFERROR(VLOOKUP('Facture (5)'!B22,Articles!A5:H20,6,0),"") | H22: =IFERROR(F22*G22,"")
C23: =IFERROR(VLOOKUP('Facture (5)'!B23,Articles!A6:H21,3,0),"") | F23: =IFERROR(VLOOKUP('Facture (5)'!B23,Articles!A6:H21,6,0),"") | H23: =IFERROR(F23*G23,"")
C24: =IFERROR(VLOOKUP('Facture (5)'!B24,Articles!A7:H22,3,0),"") | F24: =IFERROR(VLOOKUP('Facture (5)'!B24,Articles!A7:H22,6,0),"") | H24: =IFERROR(F24*G24,"")
C25: =IFERROR(VLOOKUP('Facture (5)'!B25,Articles!A8:H23,3,0),"") | F25: =IFERROR(VLOOKUP('Facture (5)'!B25,Articles!A8:H23,6,0),"") | H25: =IFERROR(F25*G25,"")
C26: =IFERROR(VLOOKUP('Facture (5)'!B26,Articles!A9:H24,3,0),"") | F26: =IFERROR(VLOOKUP('Facture (5)'!B26,Articles!A9:H24,6,0),"") | H26: =IFERROR(F26*G26,"")
C27: =IFERROR(VLOOKUP('Facture (5)'!B27,Articles!A10:H25,3,0),"") | F27: =IFERROR(VLOOKUP('Facture (5)'!B27,Articles!A10:H25,6,0),"") | H27: =IFERROR(F27*G27,"")
C28: =IFERROR(VLOOKUP('Facture (5)'!B28,Articles!A11:H26,3,0),"") | F28: =IFERROR(VLOOKUP('Facture (5)'!B28,Articles!A11:H26,6,0),"") | H28: =IFERROR(F28*G28,"")
C29: =IFERROR(VLOOKUP('Facture (5)'!B29,Articles!A12:H27,3,0),"") | F29: =IFERROR(VLOOKUP('Facture (5)'!B29,Articles!A12:H27,6,0),"") | H29: =IFERROR(F29*G29,"")
C30: =IFERROR(VLOOKUP('Facture (5)'!B30,Articles!A13:H28,3,0),"") | F30: =IFERROR(VLOOKUP('Facture (5)'!B30,Articles!A13:H28,6,0),"") | H30: =IFERROR(F30*G30,"")
... C33: =IFERROR(VLOOKUP('Facture (5)'!B33,Articles!A16:H31,3,0),"") | F33: =IFERROR(VLOOKUP('Facture (5)'!B33,Articles!A16:H31,6,0),"") | H33: =IFERROR(F33*G33,"")
G35: Total HTVA : | H35: =SUM(H18:I33) -> 588.13
G36: TVA à payer : | H36: =H35*0.21 -> 123.5073
G37: Total TTC : | H37: =H35+H36 -> 711.6373

Sheet Facture (6)
A1: FACTURE
B3: HELHa Car Service SA
B4: Chaussée de Binche 159
B5: 7000 Mons
B7: Tél : 065/40.41.47
B8: Mail : serviceparts@helha.be
B9: TVA : BE 0735.896.933 | F9: Client : | G9: =IFERROR(VLOOKUP('Facture (6)'!C11,Clients!$A$1:$I$16,3,0),"") | H9: =IFERROR(VLOOKUP('Facture (6)'!$C$11,Clients!$A$1:$I$16,4,0),"")
F10: Adresse : | G10: =IFERROR(VLOOKUP('Facture (6)'!$C$11,Clients!$A$1:$I$16,5,0),"") | I10: =IFERROR(VLOOKUP('Facture (6)'!$C$11,Clients!$A$1:$I$16,6,0),"")
B11: Réf. Client : | G11: =IFERROR(VLOOKUP('Facture (6)'!$C$11,Clients!$A$1:$I$16,7,0),"") | H11: =IFERROR(VLOOKUP('Facture (6)'!$C$11,Clients!$A$1:$I$16,8,0),"")
B12: Date : | C12: =TODAY() -> 44260
B13: N° de facture :
B14: Échéance :
B15: TVA Client : | C15: =IFERROR(VLOOKUP('Facture (6)'!$C$11,Clients!$A$1:$I$16,2,0),"")
B17: Référence | C17: Désignation | F17: P.U HTVA | G17: Quantité | H17: Prix total TVAC
B18: 6N0877051D | C18: =IFERROR(VLOOKUP('Facture (6)'!B18,Articles!A1:H16,3,0),"") -> Couvre-toit coulissant verre avec étancheité | F18: =IFERROR(VLOOKUP('Facture (6)'!B18,Articles!A1:H16,6,0),"") -> 588.13 | G18: 1 | H18: =IFERROR(F18*G18,"") -> 588.13
C19: =IFERROR(VLOOKUP('Facture (6)'!B19,Articles!A2:H17,3,0),"") | F19: =IFERROR(VLOOKUP('Facture (6)'!B19,Articles!A2:H17,6,0),"") | H19: =IFERROR(F19*G19,"")
C20: =IFERROR(VLOOKUP('Facture (6)'!B20,Articles!A3:H18,3,0),"") | F20: =IFERROR(VLOOKUP('Facture (6)'!B20,Articles!A3:H18,6,0),"") | H20: =IFERROR(F20*G20,"")
C21: =IFERROR(VLOOKUP('Facture (6)'!B21,Articles!A4:H19,3,0),"") | F21: =IFERROR(VLOOKUP('Facture (6)'!B21,Articles!A4:H19,6,0),"") | H21: =IFERROR(F21*G21,"")
C22: =IFERROR(VLOOKUP('Facture (6)'!B22,Articles!A5:H20,3,0),"") | F22: =IFERROR(VLOOKUP('Facture (6)'!B22,Articles!A5:H20,6,0),"") | H22: =IFERROR(F22*G22,"")
C23: =IFERROR(VLOOKUP('Facture (6)'!B23,Articles!A6:H21,3,0),"") | F23: =IFERROR(VLOOKUP('Facture (6)'!B23,Articles!A6:H21,6,0),"") | H23: =IFERROR(F23*G23,"")
C24: =IFERROR(VLOOKUP('Facture (6)'!B24,Articles!A7:H22,3,0),"") | F24: =IFERROR(VLOOKUP('Facture (6)'!B24,Articles!A7:H22,6,0),"") | H24: =IFERROR(F24*G24,"")
C25: =IFERROR(VLOOKUP('Facture (6)'!B25,Articles!A8:H23,3,0),"") | F25: =IFERROR(VLOOKUP('Facture (6)'!B25,Articles!A8:H23,6,0),"") | H25: =IFERROR(F25*G25,"")
C26: =IFERROR(VLOOKUP('Facture (6)'!B26,Articles!A9:H24,3,0),"") | F26: =IFERROR(VLOOKUP('Facture (6)'!B26,Articles!A9:H24,6,0),"") | H26: =IFERROR(F26*G26,"")
C27: =IFERROR(VLOOKUP('Facture (6)'!B27,Articles!A10:H25,3,0),"") | F27: =IFERROR(VLOOKUP('Facture (6)'!B27,Articles!A10:H25,6,0),"") | H27: =IFERROR(F27*G27,"")
C28: =IFERROR(VLOOKUP('Facture (6)'!B28,Articles!A11:H26,3,0),"") | F28: =IFERROR(VLOOKUP('Facture (6)'!B28,Articles!A11:H26,6,0),"") | H28: =IFERROR(F28*G28,"")
C29: =IFERROR(VLOOKUP('Facture (6)'!B29,Articles!A12:H27,3,0),"") | F29: =IFERROR(VLOOKUP('Facture (6)'!B29,Articles!A12:H27,6,0),"") | H29: =IFERROR(F29*G29,"")
C30: =IFERROR(VLOOKUP('Facture (6)'!B30,Articles!A13:H28,3,0),"") | F30: =IFERROR(VLOOKUP('Facture (6)'!B30,Articles!A13:H28,6,0),"") | H30: =IFERROR(F30*G30,"")
... C33: =IFERROR(VLOOKUP('Facture (6)'!B33,Articles!A16:H31,3,0),"") | F33: =IFERROR(VLOOKUP('Facture (6)'!B33,Articles!A16:H31,6,0),"") | H33: =IFERROR(F33*G33,"")
G35: Total HTVA : | H35: =SUM(H18:I33) -> 588.13
G36: TVA à payer : | H36: =H35*0.21 -> 123.5073
G37: Total TTC : | H37: =H35+H36 -> 711.6373

Sheet Facture (7)
A1: FACTURE
B3: HELHa Car Service SA
B4: Chaussée de Binche 159
B5: 7000 Mons
B7: Tél : 065/40.41.47
B8: Mail : serviceparts@helha.be
B9: TVA : BE 0735.896.933 | F9: Client : | G9: =IFERROR(VLOOKUP('Facture (7)'!C11,Clients!$A$1:$I$16,3,0),"") | H9: =IFERROR(VLOOKUP('Facture (7)'!$C$11,Clients!$A$1:$I$16,4,0),"")
F10: Adresse : | G10: =IFERROR(VLOOKUP('Facture (7)'!$C$11,Clients!$A$1:$I$16,5,0),"") | I10: =IFERROR(VLOOKUP('Facture (7)'!$C$11,Clients!$A$1:$I$16,6,0),"")
B11: Réf. Client : | G11: =IFERROR(VLOOKUP('Facture (7)'!$C$11,Clients!$A$1:$I$16,7,0),"") | H11: =IFERROR(VLOOKUP('Facture (7)'!$C$11,Clients!$A$1:$I$16,8,0),"")
B12: Date : | C12: =TODAY() -> 44260
B13: N° de facture :
B14: Échéance :
B15: TVA Client : | C15: =IFERROR(VLOOKUP('Facture (7)'!$C$11,Clients!$A$1:$I$16,2,0),"")
B17: Référence | C17: Désignation | F17: P.U HTVA | G17: Quantité | H17: Prix total TVAC
B18: 6N0877051D | C18: =IFERROR(VLOOKUP('Facture (7)'!B18,Articles!A1:H16,3,0),"") -> Couvre-toit coulissant verre avec étancheité | F18: =IFERROR(VLOOKUP('Facture (7)'!B18,Articles!A1:H16,6,0),"") -> 588.13 | G18: 1 | H18: =IFERROR(F18*G18,"") -> 588.13
C19: =IFERROR(VLOOKUP('Facture (7)'!B19,Articles!A2:H17,3,0),"") | F19: =IFERROR(VLOOKUP('Facture (7)'!B19,Articles!A2:H17,6,0),"") | H19: =IFERROR(F19*G19,"")
C20: =IFERROR(VLOOKUP('Facture (7)'!B20,Articles!A3:H18,3,0),"") | F20: =IFERROR(VLOOKUP('Facture (7)'!B20,Articles!A3:H18,6,0),"") | H20: =IFERROR(F20*G20,"")
C21: =IFERROR(VLOOKUP('Facture (7)'!B21,Articles!A4:H19,3,0),"") | F21: =IFERROR(VLOOKUP('Facture (7)'!B21,Articles!A4:H19,6,0),"") | H21: =IFERROR(F21*G21,"")
C22: =IFERROR(VLOOKUP('Facture (7)'!B22,Articles!A5:H20,3,0),"") | F22: =IFERROR(VLOOKUP('Facture (7)'!B22,Articles!A5:H20,6,0),"") | H22: =IFERROR(F22*G22,"")
C23: =IFERROR(VLOOKUP('Facture (7)'!B23,Articles!A6:H21,3,0),"") | F23: =IFERROR(VLOOKUP('Facture (7)'!B23,Articles!A6:H21,6,0),"") | H23: =IFERROR(F23*G23,"")
C24: =IFERROR(VLOOKUP('Facture (7)'!B24,Articles!A7:H22,3,0),"") | F24: =IFERROR(VLOOKUP('Facture (7)'!B24,Articles!A7:H22,6,0),"") | H24: =IFERROR(F24*G24,"")
C25: =IFERROR(VLOOKUP('Facture (7)'!B25,Articles!A8:H23,3,0),"") | F25: =IFERROR(VLOOKUP('Facture (7)'!B25,Articles!A8:H23,6,0),"") | H25: =IFERROR(F25*G25,"")
C26: =IFERROR(VLOOKUP('Facture (7)'!B26,Articles!A9:H24,3,0),"") | F26: =IFERROR(VLOOKUP('Facture (7)'!B26,Articles!A9:H24,6,0),"") | H26: =IFERROR(F26*G26,"")
C27: =IFERROR(VLOOKUP('Facture (7)'!B27,Articles!A10:H25,3,0),"") | F27: =IFERROR(VLOOKUP('Facture (7)'!B27,Articles!A10:H25,6,0),"") | H27: =IFERROR(F27*G27,"")
C28: =IFERROR(VLOOKUP('Facture (7)'!B28,Articles!A11:H26,3,0),"") | F28: =IFERROR(VLOOKUP('Facture (7)'!B28,Articles!A11:H26,6,0),"") | H28: =IFERROR(F28*G28,"")
C29: =IFERROR(VLOOKUP('Facture (7)'!B29,Articles!A12:H27,3,0),"") | F29: =IFERROR(VLOOKUP('Facture (7)'!B29,Articles!A12:H27,6,0),"") | H29: =IFERROR(F29*G29,"")
C30: =IFERROR(VLOOKUP('Facture (7)'!B30,Articles!A13:H28,3,0),"") | F30: =IFERROR(VLOOKUP('Facture (7)'!B30,Articles!A13:H28,6,0),"") | H30: =IFERROR(F30*G30,"")
... C33: =IFERROR(VLOOKUP('Facture (7)'!B33,Articles!A16:H31,3,0),"") | F33: =IFERROR(VLOOKUP('Facture (7)'!B33,Articles!A16:H31,6,0),"") | H33: =IFERROR(F33*G33,"")
G35: Total HTVA : | H35: =SUM(H18:I33) -> 588.13
G36: TVA à payer : | H36: =H35*0.21 -> 123.5073
G37: Total TTC : | H37: =H35+H36 -> 711.6373

Sheet Facture (8)
A1: FACTURE
B3: HELHa Car Service SA
B4: Chaussée de Binche 159
B5: 7000 Mons
B7: Tél : 065/40.41.47
B8: Mail : serviceparts@helha.be
B9: TVA : BE 0735.896.933 | F9: Client : | G9: =IFERROR(VLOOKUP('Facture (8)'!C11,Clients!$A$1:$I$16,3,0),"") | H9: =IFERROR(VLOOKUP('Facture (8)'!$C$11,Clients!$A$1:$I$16,4,0),"")
F10: Adresse : | G10: =IFERROR(VLOOKUP('Facture (8)'!$C$11,Clients!$A$1:$I$16,5,0),"") | I10: =IFERROR(VLOOKUP('Facture (8)'!$C$11,Clients!$A$1:$I$16,6,0),"")
B11: Réf. Client : | G11: =IFERROR(VLOOKUP('Facture (8)'!$C$11,Clients!$A$1:$I$16,7,0),"") | H11: =IFERROR(VLOOKUP('Facture (8)'!$C$11,Clients!$A$1:$I$16,8,0),"")
B12: Date : | C12: =TODAY() -> 44260
B13: N° de facture :
B14: Échéance :
B15: TVA Client : | C15: =IFERROR(VLOOKUP('Facture (8)'!$C$11,Clients!$A$1:$I$16,2,0),"")
B17: Référence | C17: Désignation | F17: P.U HTVA | G17: Quantité | H17: Prix total TVAC
B18: 6N0877051D | C18: =IFERROR(VLOOKUP('Facture (8)'!B18,Articles!A1:H16,3,0),"") -> Couvre-toit coulissant verre avec étancheité | F18: =IFERROR(VLOOKUP('Facture (8)'!B18,Articles!A1:H16,6,0),"") -> 588.13 | G18: 1 | H18: =IFERROR(F18*G18,"") -> 588.13
C19: =IFERROR(VLOOKUP('Facture (8)'!B19,Articles!A2:H17,3,0),"") | F19: =IFERROR(VLOOKUP('Facture (8)'!B19,Articles!A2:H17,6,0),"") | H19: =IFERROR(F19*G19,"")
C20: =IFERROR(VLOOKUP('Facture (8)'!B20,Articles!A3:H18,3,0),"") | F20: =IFERROR(VLOOKUP('Facture (8)'!B20,Articles!A3:H18,6,0),"") | H20: =IFERROR(F20*G20,"")
C21: =IFERROR(VLOOKUP('Facture (8)'!B21,Articles!A4:H19,3,0),"") | F21: =IFERROR(VLOOKUP('Facture (8)'!B21,Articles!A4:H19,6,0),"") | H21: =IFERROR(F21*G21,"")
C22: =IFERROR(VLOOKUP('Facture (8)'!B22,Articles!A5:H20,3,0),"") | F22: =IFERROR(VLOOKUP('Facture (8)'!B22,Articles!A5:H20,6,0),"") | H22: =IFERROR(F22*G22,"")
C23: =IFERROR(VLOOKUP('Facture (8)'!B23,Articles!A6:H21,3,0),"") | F23: =IFERROR(VLOOKUP('Facture (8)'!B23,Articles!A6:H21,6,0),"") | H23: =IFERROR(F23*G23,"")
C24: =IFERROR(VLOOKUP('Facture (8)'!B24,Articles!A7:H22,3,0),"") | F24: =IFERROR(VLOOKUP('Facture (8)'!B24,Articles!A7:H22,6,0),"") | H24: =IFERROR(F24*G24,"")
C25: =IFERROR(VLOOKUP('Facture (8)'!B25,Articles!A8:H23,3,0),"") | F25: =IFERROR(VLOOKUP('Facture (8)'!B25,Articles!A8:H23,6,0),"") | H25: =IFERROR(F25*G25,"")
C26: =IFERROR(VLOOKUP('Facture (8)'!B26,Articles!A9:H24,3,0),"") | F26: =IFERROR(VLOOKUP('Facture (8)'!B26,Articles!A9:H24,6,0),"") | H26: =IFERROR(F26*G26,"")
C27: =IFERROR(VLOOKUP('Facture (8)'!B27,Articles!A10:H25,3,0),"") | F27: =IFERROR(VLOOKUP('Facture (8)'!B27,Articles!A10:H25,6,0),"") | H27: =IFERROR(F27*G27,"")
C28: =IFERROR(VLOOKUP('Facture (8)'!B28,Articles!A11:H26,3,0),"") | F28: =IFERROR(VLOOKUP('Facture (8)'!B28,Articles!A11:H26,6,0),"") | H28: =IFERROR(F28*G28,"")
C29: =IFERROR(VLOOKUP('Facture (8)'!B29,Articles!A12:H27,3,0),"") | F29: =IFERROR(VLOOKUP('Facture (8)'!B29,Articles!A12:H27,6,0),"") | H29: =IFERROR(F29*G29,"")
C30: =IFERROR(VLOOKUP('Facture (8)'!B30,Articles!A13:H28,3,0),"") | F30: =IFERROR(VLOOKUP('Facture (8)'!B30,Articles!A13:H28,6,0),"") | H30: =IFERROR(F30*G30,"")
... C33: =IFERROR(VLOOKUP('Facture (8)'!B33,Articles!A16:H31,3,0),"") | F33: =IFERROR(VLOOKUP('Facture (8)'!B33,Articles!A16:H31,6,0),"") | H33: =IFERROR(F33*G33,"")
G35: Total HTVA : | H35: =SUM(H18:I33) -> 588.13
G36: TVA à payer : | H36: =H35*0.21 -> 123.5073
G37: Total TTC : | H37: =H35+H36 -> 711.6373

Sheet Facture (9)
A1: FACTURE
B3: HELHa Car Service SA
B4: Chaussée de Binche 159
B5: 7000 Mons
B7: Tél : 065/40.41.47
B8: Mail : serviceparts@helha.be
B9: TVA : BE 0735.896.933 | F9: Client : | G9: =IFERROR(VLOOKUP('Facture (9)'!C11,Clients!$A$1:$I$16,3,0),"") | H9: =IFERROR(VLOOKUP('Facture (9)'!$C$11,Clients!$A$1:$I$16,4,0),"")
F10: Adresse : | G10: =IFERROR(VLOOKUP('Facture (9)'!$C$11,Clients!$A$1:$I$16,5,0),"") | I10: =IFERROR(VLOOKUP('Facture (9)'!$C$11,Clients!$A$1:$I$16,6,0),"")
B11: Réf. Client : | G11: =IFERROR(VLOOKUP('Facture (9)'!$C$11,Clients!$A$1:$I$16,7,0),"") | H11: =IFERROR(VLOOKUP('Facture (9)'!$C$11,Clients!$A$1:$I$16,8,0),"")
B12: Date : | C12: =TODAY() -> 44260
B13: N° de facture :
B14: Échéance :
B15: TVA Client : | C15: =IFERROR(VLOOKUP('Facture (9)'!$C$11,Clients!$A$1:$I$16,2,0),"")
B17: Référence | C17: Désignation | F17: P.U HTVA | G17: Quantité | H17: Prix total TVAC
B18: 6N0877051D | C18: =IFERROR(VLOOKUP('Facture (9)'!B18,Articles!A1:H16,3,0),"") -> Couvre-toit coulissant verre avec étancheité | F18: =IFERROR(VLOOKUP('Facture (9)'!B18,Articles!A1:H16,6,0),"") -> 588.13 | G18: 1 | H18: =IFERROR(F18*G18,"") -> 588.13
C19: =IFERROR(VLOOKUP('Facture (9)'!B19,Articles!A2:H17,3,0),"") | F19: =IFERROR(VLOOKUP('Facture (9)'!B19,Articles!A2:H17,6,0),"") | H19: =IFERROR(F19*G19,"")
C20: =IFERROR(VLOOKUP('Facture (9)'!B20,Articles!A3:H18,3,0),"") | F20: =IFERROR(VLOOKUP('Facture (9)'!B20,Articles!A3:H18,6,0),"") | H20: =IFERROR(F20*G20,"")
C21: =IFERROR(VLOOKUP('Facture (9)'!B21,Articles!A4:H19,3,0),"") | F21: =IFERROR(VLOOKUP('Facture (9)'!B21,Articles!A4:H19,6,0),"") | H21: =IFERROR(F21*G21,"")
C22: =IFERROR(VLOOKUP('Facture (9)'!B22,Articles!A5:H20,3,0),"") | F22: =IFERROR(VLOOKUP('Facture (9)'!B22,Articles!A5:H20,6,0),"") | H22: =IFERROR(F22*G22,"")
C23: =IFERROR(VLOOKUP('Facture (9)'!B23,Articles!A6:H21,3,0),"") | F23: =IFERROR(VLOOKUP('Facture (9)'!B23,Articles!A6:H21,6,0),"") | H23: =IFERROR(F23*G23,"")
C24: =IFERROR(VLOOKUP('Facture (9)'!B24,Articles!A7:H22,3,0),"") | F24: =IFERROR(VLOOKUP('Facture (9)'!B24,Articles!A7:H22,6,0),"") | H24: =IFERROR(F24*G24,"")
C25: =IFERROR(VLOOKUP('Facture (9)'!B25,Articles!A8:H23,3,0),"") | F25: =IFERROR(VLOOKUP('Facture (9)'!B25,Articles!A8:H23,6,0),"") | H25: =IFERROR(F25*G25,"")
C26: =IFERROR(VLOOKUP('Facture (9)'!B26,Articles!A9:H24,3,0),"") | F26: =IFERROR(VLOOKUP('Facture (9)'!B26,Articles!A9:H24,6,0),"") | H26: =IFERROR(F26*G26,"")
C27: =IFERROR(VLOOKUP('Facture (9)'!B27,Articles!A10:H25,3,0),"") | F27: =IFERROR(VLOOKUP('Facture (9)'!B27,Articles!A10:H25,6,0),"") | H27: =IFERROR(F27*G27,"")
C28: =IFERROR(VLOOKUP('Facture (9)'!B28,Articles!A11:H26,3,0),"") | F28: =IFERROR(VLOOKUP('Facture (9)'!B28,Articles!A11:H26,6,0),"") | H28: =IFERROR(F28*G28,"")
C29: =IFERROR(VLOOKUP('Facture (9)'!B29,Articles!A12:H27,3,0),"") | F29: =IFERROR(VLOOKUP('Facture (9)'!B29,Articles!A12:H27,6,0),"") | H29: =IFERROR(F29*G29,"")
C30: =IFERROR(VLOOKUP('Facture (9)'!B30,Articles!A13:H28,3,0),"") | F30: =IFERROR(VLOOKUP('Facture (9)'!B30,Articles!A13:H28,6,0),"") | H30: =IFERROR(F30*G30,"")
... C33: =IFERROR(VLOOKUP('Facture (9)'!B33,Articles!A16:H31,3,0),"") | F33: =IFERROR(VLOOKUP('Facture (9)'!B33,Articles!A16:H31,6,0),"") | H33: =IFERROR(F33*G33,"")
G35: Total HTVA : | H35: =SUM(H18:I33) -> 588.13
G36: TVA à payer : | H36: =H35*0.21 -> 123.5073
G37: Total TTC : | H37: =H35+H36 -> 711.6373

Sheet Facture (10)
A1: FACTURE
B3: HELHa Car Service SA
B4: Chaussée de Binche 159
B5: 7000 Mons
B7: Tél : 065/40.41.47
B8: Mail : serviceparts@helha.be
B9: TVA : BE 0735.896.933 | F9: Client : | G9: =IFERROR(VLOOKUP('Facture (10)'!C11,Clients!$A$1:$I$16,3,0),"") | H9: =IFERROR(VLOOKUP('Facture (10)'!$C$11,Clients!$A$1:$I$16,4,0),"")
F10: Adresse : | G10: =IFERROR(VLOOKUP('Facture (10)'!$C$11,Clients!$A$1:$I$16,5,0),"") | I10: =IFERROR(VLOOKUP('Facture (10)'!$C$11,Clients!$A$1:$I$16,6,0),"")
B11: Réf. Client : | G11: =IFERROR(VLOOKUP('Facture (10)'!$C$11,Clients!$A$1:$I$16,7,0),"") | H11: =IFERROR(VLOOKUP('Facture (10)'!$C$11,Clients!$A$1:$I$16,8,0),"")
B12: Date : | C12: =TODAY() -> 44260
B13: N° de facture :
B14: Échéance :
B15: TVA Client : | C15: =IFERROR(VLOOKUP('Facture (10)'!$C$11,Clients!$A$1:$I$16,2,0),"")
B17: Référence | C17: Désignation | F17: P.U HTVA | G17: Quantité | H17: Prix total TVAC
B18: 6Q1423062FX | C18: =IFERROR(VLOOKUP('Facture (10)'!B18,Articles!A1:H16,3,0),"") -> Mécanisme de direction | F18: =IFERROR(VLOOKUP('Facture (10)'!B18,Articles!A1:H16,6,0),"") -> 662 | G18: 5 | H18: =IFERROR(F18*G18,"") -> 3310
B19: 6N0877051D | C19: =IFERROR(VLOOKUP('Facture (10)'!B19,Articles!A2:H17,3,0),"") -> Couvre-toit coulissant verre avec étancheité | F19: =IFERROR(VLOOKUP('Facture (10)'!B19,Articles!A2:H17,6,0),"") -> 588.13 | G19: 1 | H19: =IFERROR(F19*G19,"") -> 588.13
C20: =IFERROR(VLOOKUP('Facture (10)'!B20,Articles!A3:H18,3,0),"") | F20: =IFERROR(VLOOKUP('Facture (10)'!B20,Articles!A3:H18,6,0),"") | H20: =IFERROR(F20*G20,"")
C21: =IFERROR(VLOOKUP('Facture (10)'!B21,Articles!A4:H19,3,0),"") | F21: =IFERROR(VLOOKUP('Facture (10)'!B21,Articles!A4:H19,6,0),"") | H21: =IFERROR(F21*G21,"")
C22: =IFERROR(VLOOKUP('Facture (10)'!B22,Articles!A5:H20,3,0),"") | F22: =IFERROR(VLOOKUP('Facture (10)'!B22,Articles!A5:H20,6,0),"") | H22: =IFERROR(F22*G22,"")
C23: =IFERROR(VLOOKUP('Facture (10)'!B23,Articles!A6:H21,3,0),"") | F23: =IFERROR(VLOOKUP('Facture (10)'!B23,Articles!A6:H21,6,0),"") | H23: =IFERROR(F23*G23,"")
C24: =IFERROR(VLOOKUP('Facture (10)'!B24,Articles!A7:H22,3,0),"") | F24: =IFERROR(VLOOKUP('Facture (10)'!B24,Articles!A7:H22,6,0),"") | H24: =IFERROR(F24*G24,"")
C25: =IFERROR(VLOOKUP('Facture (10)'!B25,Articles!A8:H23,3,0),"") | F25: =IFERROR(VLOOKUP('Facture (10)'!B25,Articles!A8:H23,6,0),"") | H25: =IFERROR(F25*G25,"")
C26: =IFERROR(VLOOKUP('Facture (10)'!B26,Articles!A9:H24,3,0),"") | F26: =IFERROR(VLOOKUP('Facture (10)'!B26,Articles!A9:H24,6,0),"") | H26: =IFERROR(F26*G26,"")
C27: =IFERROR(VLOOKUP('Facture (10)'!B27,Articles!A10:H25,3,0),"") | F27: =IFERROR(VLOOKUP('Facture (10)'!B27,Articles!A10:H25,6,0),"") | H27: =IFERROR(F27*G27,"")
C28: =IFERROR(VLOOKUP('Facture (10)'!B28,Articles!A11:H26,3,0),"") | F28: =IFERROR(VLOOKUP('Facture (10)'!B28,Articles!A11:H26,6,0),"") | H28: =IFERROR(F28*G28,"")
C29: =IFERROR(VLOOKUP('Facture (10)'!B29,Articles!A12:H27,3,0),"") | F29: =IFERROR(VLOOKUP('Facture (10)'!B29,Articles!A12:H27,6,0),"") | H29: =IFERROR(F29*G29,"")
C30: =IFERROR(VLOOKUP('Facture (10)'!B30,Articles!A13:H28,3,0),"") | F30: =IFERROR(VLOOKUP('Facture (10)'!B30,Articles!A13:H28,6,0),"") | H30: =IFERROR(F30*G30,"")
C31: =IFERROR(VLOOKUP('Facture (10)'!B31,Articles!A14:H29,3,0),"") | F31: =IFERROR(VLOOKUP('Facture (10)'!B31,Articles!A14:H29,6,0),"") | H31: =IFERROR(F31*G31,"")
... C33: =IFERROR(VLOOKUP('Facture (10)'!B33,Articles!A16:H31,3,0),"") | F33: =IFERROR(VLOOKUP('Facture (10)'!B33,Articles!A16:H31,6,0),"") | H33: =IFERROR(F33*G33,"")
G35: Total HTVA : | H35: =SUM(H18:I33) -> 3898.13
G36: TVA à payer : | H36: =H35*0.21 -> 818.6073
G37: Total TTC : | H37: =H35+H36 -> 4716.7373
