Workbook
Name liste1: Feuil3!$A$2:$A$19
Name liste2: OFFSET(Feuil3!$B$2,,,COUNT(Feuil3!$B:$B))
Name priorite: Feuil2!$C$16

Sheet Feuil1
A1: No | B1: No poste | C1: Abr. SServ. | D1: S.serv | E1: Titre d'emploi | F1: Statuts - Abr. | G1: Quart | H1: Sem.1 | I1: Sem.2 | J1: No synd. | K1: Fraction | L1: Priorité
A2: 22121 | B2: 1615 | C2: Équipe volante | D2: 6095 | E2: Préposé(e) aux bénéficiaires | F2: PTC | G2: Jour | H2: 35 | I2: 35 | J2: 824 | K2: 10/14 | L2: 5
A3: 22120 | B3: 5711 | C3: Adm. des soins | D3: 6004 | E3: Préposé(e) aux bénéficiaires | F3: PTC | G3: Jour | H3: 35 | I3: 35 | J3: 824 | K3: 10/14
A4: 22119 | B4: 5712 | C4: Adm. des soins | D4: 6004 | E4: Préposé(e) aux bénéficiaires | F4: PTC | G4: Jour | H4: 35 | I4: 35 | J4: 824 | K4: 10/14
A5: 22122 | B5: 1616 | C5: Équipe volante | D5: 6095 | E5: Préposé(e) aux bénéficiaires | F5: PTC | G5: Jour | H5: 35 | I5: 35 | J5: 824 | K5: 10/14
A6: 22118 | B6: 5150 | C6: Santé CV-Méd de jour | D6: 7097 | E6: Préposé(e) aux bénéficiaires | F6: PTC | G6: Jour | H6: 35 | I6: 35 | J6: 824 | K6: 10/14 | L6: 1
A7: 22113 | B7: 8160 | C7: Admission | D7: 7524 | E7: Préposé(e) aux bénéficiaires | F7: PTP | G7: Soir | H7: 7 | I7: 7 | J7: 824 | K7: 2/14
A8: 22111 | B8: 4791 | C8: Arch.med. | D8: 7500 | E8: Préposé(e) aux bénéficiaires | F8: PTP | G8: Soir | H8: 7 | I8: 7 | J8: 824 | K8: 2/14
A9: 22117 | B9: 2001 | C9: Installations matéri | D9: 7806 | E9: Préposé(e) aux bénéficiaires | F9: PTC | G9: Jour | H9: 38.75 | I9: 38.75 | J9: 824 | K9: 10/14
A10: 22116 | B10: 2020 | C10: Plomberie | D10: 7805 | E10: Préposé(e) aux bénéficiaires | F10: PTC | G10: Jour | H10: 38.75 | I10: 38.75 | J10: 824 | K10: 10/14
A11: 22109 | B11: 3397 | C11: Urgence | D11: 6241 | E11: Préposé(e) aux bénéficiaires | F11: PTC | G11: Nuit | H11: 36.25 | I11: 36.25 | J11: 824 | K11: 10/14
A12: 22110 | B12: 5887 | C12: Équipe volante | D12: 6095 | E12: Préposé(e) aux bénéficiaires | F12: PTP | G12: Nuit | H12: 29 | I12: 21.75 | J12: 824 | K12: 7/14
A13: 22110 | B13: 5887 | C13: Urgence | D13: 6241 | E13: Préposé(e) aux bénéficiaires | F13: PTP | G13: Nuit | H13: 29 | I13: 21.75 | J13: 824 | K13: 7/14
A14: 22114 | B14: 0138 | C14: physio. respiratoire | D14: 6610 | E14: Préposé(e) aux bénéficiaires | F14: PTC | G14: Jour | H14: 35 | I14: 35 | J14: 824 | K14: 10/14
A15: 22112 | B15: 4214 | C15: Trans. des dictées m | D15: 7536 | E15: Préposé(e) aux bénéficiaires | F15: PTC | G15: Jour | H15: 35 | I15: 35 | J15: 824 | K15: 10/14 | L15: 9
A16: 22123 | B16: 1617 | C16: Électrocardiographie | D16: 6711 | E16: Préposé(e) aux bénéficiaires | F16: PTP | G16: Soir | H16: 21.75 | I16: 29 | J16: 824 | K16: 7/14
A17: 22124 | B17: 1618 | C17: Électrocardiographie | D17: 6711 | E17: Préposé(e) aux bénéficiaires | F17: PTC | G17: Jour | H17: 35 | I17: 35 | J17: 855 | K17: 10/14
A18: 22125 | B18: 1619 | C18: Électrocardiographie | D18: 6711 | E18: Préposé(e) aux bénéficiaires | F18: PTC | G18: Jour | H18: 35 | I18: 35 | J18: 855 | K18: 10/14
A19: 22115 | B19: 2023 | C19: Énergie(vent.clim.) | D19: 7803 | E19: Préposé(e) aux bénéficiaires | F19: PTC | G19: Jour | H19: 38.75 | I19: 38.75 | J19: 824 | K19: 10/14
A20: Total | B20: =SUBTOTAL(103,Feuil1!$B$2:$B$19) -> 18 | C20: =SUBTOTAL(103,Feuil1!$C$2:$C$19) -> 18 | D20: =SUBTOTAL(103,Feuil1!$D$2:$D$19) -> 18 | E20: =SUBTOTAL(103,Feuil1!$E$2:$E$19) -> 18 | F20: =SUBTOTAL(103,Feuil1!$F$2:$F$19) -> 18 | G20: =SUBTOTAL(103,Feuil1!$G$2:$G$19) -> 18 | H20: =SUBTOTAL(103,Feuil1!$H$2:$H$19) -> 18 | I20: =SUBTOTAL(103,Feuil1!$I$2:$I$19) -> 18 | J20: =SUBTOTAL(103,Feuil1!$J$2:$J$19) -> 18 | K20: =SUBTOTAL(103,Feuil1!$K$2:$K$19) -> 18 | L20: =SUBTOTAL(103,Feuil1!$L$2:$L$19) -> 3

Sheet Feuil2
A1: 1
A2: 2
A3: 3
A4: 4
A5: 5
A6: 6
A7: 7
A8: 8
A9: 9
A10: 10
A11: 11
A12: 12

Sheet Feuil3
A2: 1 | B2: {=INDEX(liste1,SMALL(IF(COUNTIF(Feuil1!L$2:L$19,liste1)=1,"",ROW(liste1)-1),ROW(1:1)))} -> 2
A3: 2 | B3: {=INDEX(liste1,SMALL(IF(COUNTIF(Feuil1!L$2:L$19,liste1)=1,"",ROW(liste1)-1),ROW(2:2)))} -> 3
A4: 3 | B4: {=INDEX(liste1,SMALL(IF(COUNTIF(Feuil1!L$2:L$19,liste1)=1,"",ROW(liste1)-1),ROW(3:3)))} -> 4
A5: 4 | B5: {=INDEX(liste1,SMALL(IF(COUNTIF(Feuil1!L$2:L$19,liste1)=1,"",ROW(liste1)-1),ROW(4:4)))} -> 6
A6: 5 | B6: {=INDEX(liste1,SMALL(IF(COUNTIF(Feuil1!L$2:L$19,liste1)=1,"",ROW(liste1)-1),ROW(5:5)))} -> 7
A7: 6 | B7: {=INDEX(liste1,SMALL(IF(COUNTIF(Feuil1!L$2:L$19,liste1)=1,"",ROW(liste1)-1),ROW(6:6)))} -> 8
A8: 7 | B8: {=INDEX(liste1,SMALL(IF(COUNTIF(Feuil1!L$2:L$19,liste1)=1,"",ROW(liste1)-1),ROW(7:7)))} -> 10
A9: 8 | B9: {=INDEX(liste1,SMALL(IF(COUNTIF(Feuil1!L$2:L$19,liste1)=1,"",ROW(liste1)-1),ROW(8:8)))} -> 11
A10: 9 | B10: {=INDEX(liste1,SMALL(IF(COUNTIF(Feuil1!L$2:L$19,liste1)=1,"",ROW(liste1)-1),ROW(9:9)))} -> 12
A11: 10 | B11: {=INDEX(liste1,SMALL(IF(COUNTIF(Feuil1!L$2:L$19,liste1)=1,"",ROW(liste1)-1),ROW(10:10)))} -> 13
A12: 11 | B12: {=INDEX(liste1,SMALL(IF(COUNTIF(Feuil1!L$2:L$19,liste1)=1,"",ROW(liste1)-1),ROW(11:11)))} -> 14
A13: 12 | B13: {=INDEX(liste1,SMALL(IF(COUNTIF(Feuil1!L$2:L$19,liste1)=1,"",ROW(liste1)-1),ROW(12:12)))} -> 15
A14: 13 | B14: {=INDEX(liste1,SMALL(IF(COUNTIF(Feuil1!L$2:L$19,liste1)=1,"",ROW(liste1)-1),ROW(13:13)))} -> 16
A15: 14 | B15: {=INDEX(liste1,SMALL(IF(COUNTIF(Feuil1!L$2:L$19,liste1)=1,"",ROW(liste1)-1),ROW(14:14)))} -> 17
A16: 15 | B16: {=INDEX(liste1,SMALL(IF(COUNTIF(Feuil1!L$2:L$19,liste1)=1,"",ROW(liste1)-1),ROW(15:15)))} -> 18
A17: 16 | B17: {=INDEX(liste1,SMALL(IF(COUNTIF(Feuil1!L$2:L$19,liste1)=1,"",ROW(liste1)-1),ROW(16:16)))} -> #NUM!
A18: 17 | B18: {=INDEX(liste1,SMALL(IF(COUNTIF(Feuil1!L$2:L$19,liste1)=1,"",ROW(liste1)-1),ROW(17:17)))} -> #NUM!
A19: 18 | B19: {=INDEX(liste1,SMALL(IF(COUNTIF(Feuil1!L$2:L$19,liste1)=1,"",ROW(liste1)-1),ROW(18:18)))} -> #NUM!
