Workbook
Name couleur: OFFSET(Feuil2!$A$2,,,COUNTIF(Feuil2!$A:$A,"><")-1)
Name equimpt: OFFSET(couleur,,1,)

Sheet Feuil1
A1: Nom | B1: Equipement | C1: tulipe
A2: ROUGE | B2: =VLOOKUP(A2,Feuil2!A:B,2,0) -> 196.158.1.100 | C2: {=IF(A2="","",INDEX(equimpt,MAX(IF(ISNUMBER(SEARCH(couleur,A2)),ROW(couleur)-1,""))))} -> 196.158.1.100
A3: ROUGED2 | B3: =VLOOKUP(A3,Feuil2!A:B,2,0) -> #N/A | C3: {=IF(A3="","",INDEX(equimpt,MAX(IF(ISNUMBER(SEARCH(couleur,A3)),ROW(couleur)-1,""))))} -> 196.158.1.100 | F3: champs dynamiques nommés dans gestionnaire de noms
A4: ROUGED1 | B4: =VLOOKUP(A4,Feuil2!A:B,2,0) -> #N/A | C4: {=IF(A4="","",INDEX(equimpt,MAX(IF(ISNUMBER(SEARCH(couleur,A4)),ROW(couleur)-1,""))))} -> 196.158.1.100 | F4: couleur => | G4: DECALER(Feuil2!$A$2;;;NB.SI(Feuil2!$A:$A;"><")-1)
A5: VERTMO | B5: =VLOOKUP(A5,Feuil2!A:B,2,0) -> #N/A | C5: {=IF(A5="","",INDEX(equimpt,MAX(IF(ISNUMBER(SEARCH(couleur,A5)),ROW(couleur)-1,""))))} -> 196.156.3.235
A6: BLEU | B6: =VLOOKUP(A6,Feuil2!A:B,2,0) -> 196.154.2.245 | C6: {=IF(A6="","",INDEX(equimpt,MAX(IF(ISNUMBER(SEARCH(couleur,A6)),ROW(couleur)-1,""))))} -> 196.154.2.245 | F6: equimpt=> | G6: DECALER(couleur;;1;)
A7: JAUNE | B7: =VLOOKUP(A7,Feuil2!A:B,2,0) -> 196.156.3.237 | C7: {=IF(A7="","",INDEX(equimpt,MAX(IF(ISNUMBER(SEARCH(couleur,A7)),ROW(couleur)-1,""))))} -> 196.156.3.237
A8: JAUNEF1 | B8: =VLOOKUP(A8,Feuil2!A:B,2,0) -> #N/A | C8: {=IF(A8="","",INDEX(equimpt,MAX(IF(ISNUMBER(SEARCH(couleur,A8)),ROW(couleur)-1,""))))} -> 196.156.3.237 | F8: la formule est matricielle validation avec Ctrl Maj Entrée en simultané
A9: JAUNEF2 | B9: =VLOOKUP(A9,Feuil2!A:B,2,0) -> #N/A | C9: {=IF(A9="","",INDEX(equimpt,MAX(IF(ISNUMBER(SEARCH(couleur,A9)),ROW(couleur)-1,""))))} -> 196.156.3.237
A10: NOIRD1 | B10: =VLOOKUP(A10,Feuil2!A:B,2,0) -> #N/A | C10: {=IF(A10="","",INDEX(equimpt,MAX(IF(ISNUMBER(SEARCH(couleur,A10)),ROW(couleur)-1,""))))} -> 196.156.3.236
A11: NOIR | B11: =VLOOKUP(A11,Feuil2!A:B,2,0) -> 196.156.3.236 | C11: {=IF(A11="","",INDEX(equimpt,MAX(IF(ISNUMBER(SEARCH(couleur,A11)),ROW(couleur)-1,""))))} -> 196.156.3.236
A12: BLANC | B12: =VLOOKUP(A12,Feuil2!A:B,2,0) -> 196.156.3.239 | C12: {=IF(A12="","",INDEX(equimpt,MAX(IF(ISNUMBER(SEARCH(couleur,A12)),ROW(couleur)-1,""))))} -> 196.156.3.239
C13: {=IF(A13="","",INDEX(equimpt,MAX(IF(ISNUMBER(SEARCH(couleur,A13)),ROW(couleur)-1,""))))}
C14: {=IF(A14="","",INDEX(equimpt,MAX(IF(ISNUMBER(SEARCH(couleur,A14)),ROW(couleur)-1,""))))}
C15: {=IF(A15="","",INDEX(equimpt,MAX(IF(ISNUMBER(SEARCH(couleur,A15)),ROW(couleur)-1,""))))}
C16: {=IF(A16="","",INDEX(equimpt,MAX(IF(ISNUMBER(SEARCH(couleur,A16)),ROW(couleur)-1,""))))}
C17: {=IF(A17="","",INDEX(equimpt,MAX(IF(ISNUMBER(SEARCH(couleur,A17)),ROW(couleur)-1,""))))}
C18: {=IF(A18="","",INDEX(equimpt,MAX(IF(ISNUMBER(SEARCH(couleur,A18)),ROW(couleur)-1,""))))}
C19: {=IF(A19="","",INDEX(equimpt,MAX(IF(ISNUMBER(SEARCH(couleur,A19)),ROW(couleur)-1,""))))}
C20: {=IF(A20="","",INDEX(equimpt,MAX(IF(ISNUMBER(SEARCH(couleur,A20)),ROW(couleur)-1,""))))}
C21: {=IF(A21="","",INDEX(equimpt,MAX(IF(ISNUMBER(SEARCH(couleur,A21)),ROW(couleur)-1,""))))}
C22: {=IF(A22="","",INDEX(equimpt,MAX(IF(ISNUMBER(SEARCH(couleur,A22)),ROW(couleur)-1,""))))}
C23: {=IF(A23="","",INDEX(equimpt,MAX(IF(ISNUMBER(SEARCH(couleur,A23)),ROW(couleur)-1,""))))}
C24: {=IF(A24="","",INDEX(equimpt,MAX(IF(ISNUMBER(SEARCH(couleur,A24)),ROW(couleur)-1,""))))}
... C26: {=IF(A26="","",INDEX(equimpt,MAX(IF(ISNUMBER(SEARCH(couleur,A26)),ROW(couleur)-1,""))))}

Sheet Feuil2
A1: Nom | B1: Equipement
A2: ROUGE | B2: 196.158.1.100
A3: BLEU | B3: 196.154.2.245
A4: VERT | B4: 196.156.3.235
A5: NOIR | B5: 196.156.3.236
A6: JAUNE | B6: 196.156.3.237
A7: VIOLET | B7: 196.156.3.238
A8: BLANC | B8: 196.156.3.239
