Workbook
Name montant: OFFSET(nom,,17,)
Name nom: OFFSET(BD!$D$2,,,COUNTIF(BD!$D:$D,"><")-1)
Name what: OFFSET(nom,,4,)

Sheet BD
D1: nom | H1: what | I1: date | U1: montant
D2: pierre l | H2: choco | I2: 43832
D3: laurent g | H3: tartine | I3: 43866
D4: valérie t | H4: tomate | I4: 43893 | U4: 100
D5: Gilles r | H5: choco | I5: 43927
D6: marcel l. | H6: tartine | I6: 43969
D7: lucie h | H7: tomate | I7: 43890 | U7: 200
D8: nadège w | H8: choco | I8: 44029
D9: pierre l | H9: tartine | I9: 44064
D10: olivier c. | H10: tomate | I10: 44026 | U10: 300
D11: christophe p. | H11: choco | I11: 44089
D12: pierre l | H12: tartine | I12: 43937
D13: lili a | H13: tartine | I13: 44177
D14: axelle p | H14: choco | I14: 44140
D15: chantal y | H15: tartine | I15: 44098
D16: Gilles r | H16: choco | I16: 44104
D17: ben t | H17: tomate | I17: 44043 | U17: 300
D18: sab u | H18: tartine | I18: 44101
D19: olivier c. | H19: choco | I19: 43884
D20: carlos t | H20: tomate | I20: 43991 | U20: 400
D21: aurore w | H21: tomate | I21: 44096 | U21: 600
D22: françoise v | H22: tomate | I22: 44128 | U22: 500
D23: axelle p | H23: tartine | I23: 44167
D24: ben t | H24: choco | I24: 44148

Sheet ALT
B1: Nom | C1: choco | D1: tartine | F1: tomate | G1: nombre
B2: {=IFERROR(INDEX(nom,MATCH(0,COUNTIF(B$1:B1,nom),0),),"")} -> pierre l | C2: =SUMPRODUCT((nom=$B2)*(BD!$H$2:$H$24=C$1)) -> 1 | D2: =SUMPRODUCT((nom=$B2)*(what=D$1)) -> 2 | F2: =SUMPRODUCT((nom=$B2)*(what=F$1)) -> 0 | G2: =SUMPRODUCT((nom=$B2)*(montant>0)*(montant)) -> 0 | I2: les noms sont extraits sans double automatiquement
B3: {=IFERROR(INDEX(nom,MATCH(0,COUNTIF(B$1:B2,nom),0),),"")} -> laurent g | C3: =SUMPRODUCT((nom=$B3)*(BD!$H$2:$H$24=C$1)) -> 0 | D3: =SUMPRODUCT((nom=$B3)*(what=D$1)) -> 1 | F3: =SUMPRODUCT((nom=$B3)*(what=F$1)) -> 0 | G3: =SUMPRODUCT((nom=$B3)*(montant>0)*(montant)) -> 0
B4: {=IFERROR(INDEX(nom,MATCH(0,COUNTIF(B$1:B3,nom),0),),"")} -> valérie t | C4: =SUMPRODUCT((nom=$B4)*(BD!$H$2:$H$24=C$1)) -> 0 | D4: =SUMPRODUCT((nom=$B4)*(what=D$1)) -> 0 | F4: =SUMPRODUCT((nom=$B4)*(what=F$1)) -> 1 | G4: =SUMPRODUCT((nom=$B4)*(montant>0)*(montant)) -> 100 | I4: possibilité de rajouter des noms en Bdd sans soucis (plages dynamiques )
B5: {=IFERROR(INDEX(nom,MATCH(0,COUNTIF(B$1:B4,nom),0),),"")} -> Gilles r | C5: =SUMPRODUCT((nom=$B5)*(BD!$H$2:$H$24=C$1)) -> 2 | D5: =SUMPRODUCT((nom=$B5)*(what=D$1)) -> 0 | F5: =SUMPRODUCT((nom=$B5)*(what=F$1)) -> 0 | G5: =SUMPRODUCT((nom=$B5)*(montant>0)*(montant)) -> 0
B6: {=IFERROR(INDEX(nom,MATCH(0,COUNTIF(B$1:B5,nom),0),),"")} -> marcel l. | C6: =SUMPRODUCT((nom=$B6)*(BD!$H$2:$H$24=C$1)) -> 0 | D6: =SUMPRODUCT((nom=$B6)*(what=D$1)) -> 1 | F6: =SUMPRODUCT((nom=$B6)*(what=F$1)) -> 0 | G6: =SUMPRODUCT((nom=$B6)*(montant>0)*(montant)) -> 0 | I6: attention a l'orthographe et au espaces (utiliser des listes de choix moins aléatoires)
B7: {=IFERROR(INDEX(nom,MATCH(0,COUNTIF(B$1:B6,nom),0),),"")} -> lucie h | C7: =SUMPRODUCT((nom=$B7)*(BD!$H$2:$H$24=C$1)) -> 0 | D7: =SUMPRODUCT((nom=$B7)*(what=D$1)) -> 0 | F7: =SUMPRODUCT((nom=$B7)*(what=F$1)) -> 1 | G7: =SUMPRODUCT((nom=$B7)*(montant>0)*(montant)) -> 200
B8: {=IFERROR(INDEX(nom,MATCH(0,COUNTIF(B$1:B7,nom),0),),"")} -> nadège w | C8: =SUMPRODUCT((nom=$B8)*(BD!$H$2:$H$24=C$1)) -> 1 | D8: =SUMPRODUCT((nom=$B8)*(what=D$1)) -> 0 | F8: =SUMPRODUCT((nom=$B8)*(what=F$1)) -> 0 | G8: =SUMPRODUCT((nom=$B8)*(montant>0)*(montant)) -> 0
B9: {=IFERROR(INDEX(nom,MATCH(0,COUNTIF(B$1:B8,nom),0),),"")} -> olivier c. | C9: =SUMPRODUCT((nom=$B9)*(BD!$H$2:$H$24=C$1)) -> 1 | D9: =SUMPRODUCT((nom=$B9)*(what=D$1)) -> 0 | F9: =SUMPRODUCT((nom=$B9)*(what=F$1)) -> 1 | G9: =SUMPRODUCT((nom=$B9)*(montant>0)*(montant)) -> 300
B10: {=IFERROR(INDEX(nom,MATCH(0,COUNTIF(B$1:B9,nom),0),),"")} -> christophe p. | C10: =SUMPRODUCT((nom=$B10)*(BD!$H$2:$H$24=C$1)) -> 1 | D10: =SUMPRODUCT((nom=$B10)*(what=D$1)) -> 0 | F10: =SUMPRODUCT((nom=$B10)*(what=F$1)) -> 0 | G10: =SUMPRODUCT((nom=$B10)*(montant>0)*(montant)) -> 0
B11: {=IFERROR(INDEX(nom,MATCH(0,COUNTIF(B$1:B10,nom),0),),"")} -> lili a | C11: =SUMPRODUCT((nom=$B11)*(BD!$H$2:$H$24=C$1)) -> 0 | D11: =SUMPRODUCT((nom=$B11)*(what=D$1)) -> 1 | F11: =SUMPRODUCT((nom=$B11)*(what=F$1)) -> 0 | G11: =SUMPRODUCT((nom=$B11)*(montant>0)*(montant)) -> 0
B12: {=IFERROR(INDEX(nom,MATCH(0,COUNTIF(B$1:B11,nom),0),),"")} -> axelle p | C12: =SUMPRODUCT((nom=$B12)*(BD!$H$2:$H$24=C$1)) -> 1 | D12: =SUMPRODUCT((nom=$B12)*(what=D$1)) -> 1 | F12: =SUMPRODUCT((nom=$B12)*(what=F$1)) -> 0 | G12: =SUMPRODUCT((nom=$B12)*(montant>0)*(montant)) -> 0
B13: {=IFERROR(INDEX(nom,MATCH(0,COUNTIF(B$1:B12,nom),0),),"")} -> chantal y | C13: =SUMPRODUCT((nom=$B13)*(BD!$H$2:$H$24=C$1)) -> 0 | D13: =SUMPRODUCT((nom=$B13)*(what=D$1)) -> 1 | F13: =SUMPRODUCT((nom=$B13)*(what=F$1)) -> 0 | G13: =SUMPRODUCT((nom=$B13)*(montant>0)*(montant)) -> 0
B14: {=IFERROR(INDEX(nom,MATCH(0,COUNTIF(B$1:B13,nom),0),),"")} -> ben t | C14: =SUMPRODUCT((nom=$B14)*(BD!$H$2:$H$24=C$1)) -> 1 | D14: =SUMPRODUCT((nom=$B14)*(what=D$1)) -> 0 | F14: =SUMPRODUCT((nom=$B14)*(what=F$1)) -> 1 | G14: =SUMPRODUCT((nom=$B14)*(montant>0)*(montant)) -> 300
B15: {=IFERROR(INDEX(nom,MATCH(0,COUNTIF(B$1:B14,nom),0),),"")} -> sab u | C15: =SUMPRODUCT((nom=$B15)*(BD!$H$2:$H$24=C$1)) -> 0 | D15: =SUMPRODUCT((nom=$B15)*(what=D$1)) -> 1 | F15: =SUMPRODUCT((nom=$B15)*(what=F$1)) -> 0 | G15: =SUMPRODUCT((nom=$B15)*(montant>0)*(montant)) -> 0
B16: {=IFERROR(INDEX(nom,MATCH(0,COUNTIF(B$1:B15,nom),0),),"")} -> carlos t | C16: =SUMPRODUCT((nom=$B16)*(BD!$H$2:$H$24=C$1)) -> 0 | D16: =SUMPRODUCT((nom=$B16)*(what=D$1)) -> 0 | F16: =SUMPRODUCT((nom=$B16)*(what=F$1)) -> 1 | G16: =SUMPRODUCT((nom=$B16)*(montant>0)*(montant)) -> 400
B17: {=IFERROR(INDEX(nom,MATCH(0,COUNTIF(B$1:B16,nom),0),),"")} -> aurore w | C17: =SUMPRODUCT((nom=$B17)*(BD!$H$2:$H$24=C$1)) -> 0 | D17: =SUMPRODUCT((nom=$B17)*(what=D$1)) -> 0 | F17: =SUMPRODUCT((nom=$B17)*(what=F$1)) -> 1 | G17: =SUMPRODUCT((nom=$B17)*(montant>0)*(montant)) -> 600
B18: {=IFERROR(INDEX(nom,MATCH(0,COUNTIF(B$1:B17,nom),0),),"")} -> françoise v | C18: =SUMPRODUCT((nom=$B18)*(BD!$H$2:$H$24=C$1)) -> 0 | D18: =SUMPRODUCT((nom=$B18)*(what=D$1)) -> 0 | F18: =SUMPRODUCT((nom=$B18)*(what=F$1)) -> 1 | G18: =SUMPRODUCT((nom=$B18)*(montant>0)*(montant)) -> 500
... B125: {=IFERROR(INDEX(nom,MATCH(0,COUNTIF(B$1:B124,nom),0),),"")} | C125: =SUMPRODUCT((nom=$B125)*(BD!$H$2:$H$24=C$1)) -> 0 | D125: =SUMPRODUCT((nom=$B125)*(what=D$1)) -> 0 | F125: =SUMPRODUCT((nom=$B125)*(what=F$1)) -> 0 | G125: =SUMPRODUCT((nom=$B125)*(montant>0)*(montant)) -> 0
