Workbook

Sheet Liste
A1: GROUPE ROY SANTE INC. | D1: =IFERROR(INDEX(Source!A$2:A$94,SMALL(Source!G$2:G$94,ROW(A1))),"") -> VIGI SANTE LTEE
A2: SANTE COURVILLE INC. | D2: =IFERROR(INDEX(Source!A$2:A$94,SMALL(Source!G$2:G$94,ROW(A2))),"") -> CIUSSS DU SAGUENAY - LAC-SAINT-JEAN
A3: GROUPE CHAMPLAIN INC. | D3: =IFERROR(INDEX(Source!A$2:A$94,SMALL(Source!G$2:G$94,ROW(A3))),"") -> CIUSSS DU NORD-DE-L'ÎLE-DE-MONTRÉAL
A4: GROUPE ROY SANTE INC. | D4: =IFERROR(INDEX(Source!A$2:A$94,SMALL(Source!G$2:G$94,ROW(A4))),"") -> CIUSSS DE L'EST-DE-L'ÎLE-DE-MONTRÉAL
A5: CHSLD PROVIDENCE NOTRE-DAME DE LOURDES INC. | D5: =IFERROR(INDEX(Source!A$2:A$94,SMALL(Source!G$2:G$94,ROW(A5))),"") -> CIUSSS DE LA CAPITALE-NATIONALE
A6: ACCUEIL DU RIVAGE INC. | D6: =IFERROR(INDEX(Source!A$2:A$94,SMALL(Source!G$2:G$94,ROW(A6))),"") -> CISSS DU BAS-SAINT-LAURENT
A7: CENTRE D'HEBERGEMENT ST-JEAN-EUDES INC. | D7: =IFERROR(INDEX(Source!A$2:A$94,SMALL(Source!G$2:G$94,ROW(A7))),"") -> CISSS DE LA MONTÉRÉGIE-EST
A8: CENTRE HOSPITALIER ST-FRANCOIS INC. | D8: =IFERROR(INDEX(Source!A$2:A$94,SMALL(Source!G$2:G$94,ROW(A8))),"") -> CISSS DE LA MONTÉRÉGIE-CENTRE
A9: CHSLD AGE3 INC. | D9: =IFERROR(INDEX(Source!A$2:A$94,SMALL(Source!G$2:G$94,ROW(A9))),"") -> CISSS DE LA GASPÉSIE
A10: CISSS DU BAS-SAINT-LAURENT | D10: =IFERROR(INDEX(Source!A$2:A$94,SMALL(Source!G$2:G$94,ROW(A10))),"") -> CISSS DE CHAUDIÈRE-APPALACHES
A11: CIUSSS DU SAGUENAY - LAC-SAINT-JEAN | D11: =IFERROR(INDEX(Source!A$2:A$94,SMALL(Source!G$2:G$94,ROW(A11))),"") -> CENTRE D'HEBERGEMENT ST-JEAN-EUDES INC.
A12: CIUSSS DE LA CAPITALE-NATIONALE | D12: =IFERROR(INDEX(Source!A$2:A$94,SMALL(Source!G$2:G$94,ROW(A12))),"") -> ACCUEIL DU RIVAGE INC.
... A26: CIUSSS DE L'EST-DE-L'ÎLE-DE-MONTRÉAL | D26: =IFERROR(INDEX(Source!A$2:A$94,SMALL(Source!G$2:G$94,ROW(A26))),"")
A27: CIUSSS DE L'OUEST-DE-L'ÎLE-DE-MONTRÉAL
A28: CIUSSS DU CENTRE-OUEST-DE-L'ÎLE-DE-MONTRÉAL
A29: CIUSSS DU CENTRE-SUD-DE-L'ÎLE-DE-MONTRÉAL
A30: CIUSSS DU NORD-DE-L'ÎLE-DE-MONTRÉAL

Sheet Source
A1: Établissement | B1: Statut | C1: Date | F1: a masquer
A2: VIGI SANTE LTEE | B2: Complété | C2: 44140 | F2: =IF(AND(C2>("31/10/2020")*1,C2<=("08/11/2020")*1,ISNUMBER(SEARCH("complété",B2)*1)),MATCH(A2,A$2:A$94,0),"") -> 1 | G2: =IF(COUNTIF(F$2:F2,F2)=COUNTIF(F$2:F$94,F2),ROW(A1),"") -> 1
A3: SANTE COURVILLE INC. | B3: Complété | C3: 44152 | F3: =IF(AND(C3>("31/10/2020")*1,C3<=("08/11/2020")*1,ISNUMBER(SEARCH("complété",B3)*1)),MATCH(A3,A$2:A$94,0),"") | G3: =IF(COUNTIF(F$2:F3,F3)=COUNTIF(F$2:F$94,F3),ROW(A2),"")
A4: GROUPE ROY SANTE INC. | B4: Complété | C4: 44152 | F4: =IF(AND(C4>("31/10/2020")*1,C4<=("08/11/2020")*1,ISNUMBER(SEARCH("complété",B4)*1)),MATCH(A4,A$2:A$94,0),"") | G4: =IF(COUNTIF(F$2:F4,F4)=COUNTIF(F$2:F$94,F4),ROW(A3),"")
A5: CIUSSS DU SAGUENAY - LAC-SAINT-JEAN | B5: Complété | C5: 44147 | F5: =IF(AND(C5>("31/10/2020")*1,C5<=("08/11/2020")*1,ISNUMBER(SEARCH("complété",B5)*1)),MATCH(A5,A$2:A$94,0),"") | G5: =IF(COUNTIF(F$2:F5,F5)=COUNTIF(F$2:F$94,F5),ROW(A4),"")
A6: CIUSSS DU SAGUENAY - LAC-SAINT-JEAN | B6: Complété | C6: 44144 | F6: =IF(AND(C6>("31/10/2020")*1,C6<=("08/11/2020")*1,ISNUMBER(SEARCH("complété",B6)*1)),MATCH(A6,A$2:A$94,0),"") | G6: =IF(COUNTIF(F$2:F6,F6)=COUNTIF(F$2:F$94,F6),ROW(A5),"")
A7: CIUSSS DU SAGUENAY - LAC-SAINT-JEAN | B7: Complété | C7: 44143 | F7: =IF(AND(C7>("31/10/2020")*1,C7<=("08/11/2020")*1,ISNUMBER(SEARCH("complété",B7)*1)),MATCH(A7,A$2:A$94,0),"") -> 4 | G7: =IF(COUNTIF(F$2:F7,F7)=COUNTIF(F$2:F$94,F7),ROW(A6),"")
A8: CIUSSS DU SAGUENAY - LAC-SAINT-JEAN | B8: Complété | C8: 44143 | F8: =IF(AND(C8>("31/10/2020")*1,C8<=("08/11/2020")*1,ISNUMBER(SEARCH("complété",B8)*1)),MATCH(A8,A$2:A$94,0),"") -> 4 | G8: =IF(COUNTIF(F$2:F8,F8)=COUNTIF(F$2:F$94,F8),ROW(A7),"")
A9: CIUSSS DU SAGUENAY - LAC-SAINT-JEAN | B9: Suivi complété | C9: 44148 | F9: =IF(AND(C9>("31/10/2020")*1,C9<=("08/11/2020")*1,ISNUMBER(SEARCH("complété",B9)*1)),MATCH(A9,A$2:A$94,0),"") | G9: =IF(COUNTIF(F$2:F9,F9)=COUNTIF(F$2:F$94,F9),ROW(A8),"")
A10: CIUSSS DU SAGUENAY - LAC-SAINT-JEAN | B10: Complété | C10: 44149 | F10: =IF(AND(C10>("31/10/2020")*1,C10<=("08/11/2020")*1,ISNUMBER(SEARCH("complété",B10)*1)),MATCH(A10,A$2:A$94,0),"") | G10: =IF(COUNTIF(F$2:F10,F10)=COUNTIF(F$2:F$94,F10),ROW(A9),"")
A11: CIUSSS DU SAGUENAY - LAC-SAINT-JEAN | B11: Complété | C11: 44149 | F11: =IF(AND(C11>("31/10/2020")*1,C11<=("08/11/2020")*1,ISNUMBER(SEARCH("complété",B11)*1)),MATCH(A11,A$2:A$94,0),"") | G11: =IF(COUNTIF(F$2:F11,F11)=COUNTIF(F$2:F$94,F11),ROW(A10),"")
A12: CIUSSS DU SAGUENAY - LAC-SAINT-JEAN | B12: Complété | C12: 44142 | F12: =IF(AND(C12>("31/10/2020")*1,C12<=("08/11/2020")*1,ISNUMBER(SEARCH("complété",B12)*1)),MATCH(A12,A$2:A$94,0),"") -> 4 | G12: =IF(COUNTIF(F$2:F12,F12)=COUNTIF(F$2:F$94,F12),ROW(A11),"")
A13: CIUSSS DU SAGUENAY - LAC-SAINT-JEAN | B13: Suivi complété | C13: 44142 | F13: =IF(AND(C13>("31/10/2020")*1,C13<=("08/11/2020")*1,ISNUMBER(SEARCH("complété",B13)*1)),MATCH(A13,A$2:A$94,0),"") -> 4 | G13: =IF(COUNTIF(F$2:F13,F13)=COUNTIF(F$2:F$94,F13),ROW(A12),"")
... A15: CIUSSS DU NORD-DE-L'ÎLE-DE-MONTRÉAL | B15: Complété | C15: 44143 | F15: =IF(AND(C15>("31/10/2020")*1,C15<=("08/11/2020")*1,ISNUMBER(SEARCH("complété",B15)*1)),MATCH(A15,A$2:A$94,0),"") -> 14 | G15: =IF(COUNTIF(F$2:F15,F15)=COUNTIF(F$2:F$94,F15),ROW(A14),"") -> 14
A16: CIUSSS DU NORD-DE-L'ÎLE-DE-MONTRÉAL | B16: En traitement | F16: =IF(AND(C16>("31/10/2020")*1,C16<=("08/11/2020")*1,ISNUMBER(SEARCH("complété",B16)*1)),MATCH(A16,A$2:A$94,0),"") | G16: =IF(COUNTIF(F$2:F16,F16)=COUNTIF(F$2:F$94,F16),ROW(A15),"")
A17: CIUSSS DU NORD-DE-L'ÎLE-DE-MONTRÉAL | B17: En traitement | F17: =IF(AND(C17>("31/10/2020")*1,C17<=("08/11/2020")*1,ISNUMBER(SEARCH("complété",B17)*1)),MATCH(A17,A$2:A$94,0),"") | G17: =IF(COUNTIF(F$2:F17,F17)=COUNTIF(F$2:F$94,F17),ROW(A16),"")
A18: CIUSSS DU CENTRE-SUD-DE-L'ÎLE-DE-MONTRÉAL | B18: Complété | C18: 44152 | F18: =IF(AND(C18>("31/10/2020")*1,C18<=("08/11/2020")*1,ISNUMBER(SEARCH("complété",B18)*1)),MATCH(A18,A$2:A$94,0),"") | G18: =IF(COUNTIF(F$2:F18,F18)=COUNTIF(F$2:F$94,F18),ROW(A17),"")
A19: CIUSSS DE L'OUEST-DE-L'ÎLE-DE-MONTRÉAL | B19: Complété | C19: 44149 | F19: =IF(AND(C19>("31/10/2020")*1,C19<=("08/11/2020")*1,ISNUMBER(SEARCH("complété",B19)*1)),MATCH(A19,A$2:A$94,0),"") | G19: =IF(COUNTIF(F$2:F19,F19)=COUNTIF(F$2:F$94,F19),ROW(A18),"")
A20: CIUSSS DE L'ESTRIE - CENTRE HOSP. UNIV. DE SHERBROOKE | B20: Complété | C20: 44149 | F20: =IF(AND(C20>("31/10/2020")*1,C20<=("08/11/2020")*1,ISNUMBER(SEARCH("complété",B20)*1)),MATCH(A20,A$2:A$94,0),"") | G20: =IF(COUNTIF(F$2:F20,F20)=COUNTIF(F$2:F$94,F20),ROW(A19),"")
A21: CIUSSS DE L'EST-DE-L'ÎLE-DE-MONTRÉAL | B21: Complété | C21: 44148 | F21: =IF(AND(C21>("31/10/2020")*1,C21<=("08/11/2020")*1,ISNUMBER(SEARCH("complété",B21)*1)),MATCH(A21,A$2:A$94,0),"") | G21: =IF(COUNTIF(F$2:F21,F21)=COUNTIF(F$2:F$94,F21),ROW(A20),"")
A22: CIUSSS DE L'EST-DE-L'ÎLE-DE-MONTRÉAL | B22: Complété | C22: 44143 | F22: =IF(AND(C22>("31/10/2020")*1,C22<=("08/11/2020")*1,ISNUMBER(SEARCH("complété",B22)*1)),MATCH(A22,A$2:A$94,0),"") -> 20 | G22: =IF(COUNTIF(F$2:F22,F22)=COUNTIF(F$2:F$94,F22),ROW(A21),"")
A23: CIUSSS DE L'EST-DE-L'ÎLE-DE-MONTRÉAL | B23: Complété | C23: 44143 | F23: =IF(AND(C23>("31/10/2020")*1,C23<=("08/11/2020")*1,ISNUMBER(SEARCH("complété",B23)*1)),MATCH(A23,A$2:A$94,0),"") -> 20 | G23: =IF(COUNTIF(F$2:F23,F23)=COUNTIF(F$2:F$94,F23),ROW(A22),"") -> 22
A24: CIUSSS DE L'EST-DE-L'ÎLE-DE-MONTRÉAL | B24: Suivi complété | C24: 44145 | F24: =IF(AND(C24>("31/10/2020")*1,C24<=("08/11/2020")*1,ISNUMBER(SEARCH("complété",B24)*1)),MATCH(A24,A$2:A$94,0),"") | G24: =IF(COUNTIF(F$2:F24,F24)=COUNTIF(F$2:F$94,F24),ROW(A23),"")
A25: CIUSSS DE LA MAURICIE-ET-DU-CENTRE-DU-QUEBEC | B25: Complété | C25: 44152 | F25: =IF(AND(C25>("31/10/2020")*1,C25<=("08/11/2020")*1,ISNUMBER(SEARCH("complété",B25)*1)),MATCH(A25,A$2:A$94,0),"") | G25: =IF(COUNTIF(F$2:F25,F25)=COUNTIF(F$2:F$94,F25),ROW(A24),"")
A26: CIUSSS DE LA MAURICIE-ET-DU-CENTRE-DU-QUEBEC | B26: En traitement | F26: =IF(AND(C26>("31/10/2020")*1,C26<=("08/11/2020")*1,ISNUMBER(SEARCH("complété",B26)*1)),MATCH(A26,A$2:A$94,0),"") | G26: =IF(COUNTIF(F$2:F26,F26)=COUNTIF(F$2:F$94,F26),ROW(A25),"")
A27: CIUSSS DE LA CAPITALE-NATIONALE | B27: Complété | C27: 44143 | F27: =IF(AND(C27>("31/10/2020")*1,C27<=("08/11/2020")*1,ISNUMBER(SEARCH("complété",B27)*1)),MATCH(A27,A$2:A$94,0),"") -> 26 | G27: =IF(COUNTIF(F$2:F27,F27)=COUNTIF(F$2:F$94,F27),ROW(A26),"")
A28: CIUSSS DE LA CAPITALE-NATIONALE | B28: Complété | C28: 44145 | F28: =IF(AND(C28>("31/10/2020")*1,C28<=("08/11/2020")*1,ISNUMBER(SEARCH("complété",B28)*1)),MATCH(A28,A$2:A$94,0),"") | G28: =IF(COUNTIF(F$2:F28,F28)=COUNTIF(F$2:F$94,F28),ROW(A27),"")
A29: CIUSSS DE LA CAPITALE-NATIONALE | B29: Complété | C29: 44138 | F29: =IF(AND(C29>("31/10/2020")*1,C29<=("08/11/2020")*1,ISNUMBER(SEARCH("complété",B29)*1)),MATCH(A29,A$2:A$94,0),"") -> 26 | G29: =IF(COUNTIF(F$2:F29,F29)=COUNTIF(F$2:F$94,F29),ROW(A28),"") -> 28
A30: CISSS DU BAS-SAINT-LAURENT | B30: Complété | C30: 44151 | F30: =IF(AND(C30>("31/10/2020")*1,C30<=("08/11/2020")*1,ISNUMBER(SEARCH("complété",B30)*1)),MATCH(A30,A$2:A$94,0),"") | G30: =IF(COUNTIF(F$2:F30,F30)=COUNTIF(F$2:F$94,F30),ROW(A29),"")
A31: CISSS DU BAS-SAINT-LAURENT | B31: Complété | C31: 44135 | F31: =IF(AND(C31>("31/10/2020")*1,C31<=("08/11/2020")*1,ISNUMBER(SEARCH("complété",B31)*1)),MATCH(A31,A$2:A$94,0),"") | G31: =IF(COUNTIF(F$2:F31,F31)=COUNTIF(F$2:F$94,F31),ROW(A30),"")
A32: CISSS DU BAS-SAINT-LAURENT | B32: Complété | C32: 44137 | F32: =IF(AND(C32>("31/10/2020")*1,C32<=("08/11/2020")*1,ISNUMBER(SEARCH("complété",B32)*1)),MATCH(A32,A$2:A$94,0),"") -> 29 | G32: =IF(COUNTIF(F$2:F32,F32)=COUNTIF(F$2:F$94,F32),ROW(A31),"")
A33: CISSS DU BAS-SAINT-LAURENT | B33: Complété | C33: 44135 | F33: =IF(AND(C33>("31/10/2020")*1,C33<=("08/11/2020")*1,ISNUMBER(SEARCH("complété",B33)*1)),MATCH(A33,A$2:A$94,0),"") | G33: =IF(COUNTIF(F$2:F33,F33)=COUNTIF(F$2:F$94,F33),ROW(A32),"")
A34: CISSS DU BAS-SAINT-LAURENT | B34: Complété | C34: 44137 | F34: =IF(AND(C34>("31/10/2020")*1,C34<=("08/11/2020")*1,ISNUMBER(SEARCH("complété",B34)*1)),MATCH(A34,A$2:A$94,0),"") -> 29 | G34: =IF(COUNTIF(F$2:F34,F34)=COUNTIF(F$2:F$94,F34),ROW(A33),"")
A35: CISSS DU BAS-SAINT-LAURENT | B35: Complété | C35: 44135 | F35: =IF(AND(C35>("31/10/2020")*1,C35<=("08/11/2020")*1,ISNUMBER(SEARCH("complété",B35)*1)),MATCH(A35,A$2:A$94,0),"") | G35: =IF(COUNTIF(F$2:F35,F35)=COUNTIF(F$2:F$94,F35),ROW(A34),"")
A36: CISSS DU BAS-SAINT-LAURENT | B36: Complété | C36: 44135 | F36: =IF(AND(C36>("31/10/2020")*1,C36<=("08/11/2020")*1,ISNUMBER(SEARCH("complété",B36)*1)),MATCH(A36,A$2:A$94,0),"") | G36: =IF(COUNTIF(F$2:F36,F36)=COUNTIF(F$2:F$94,F36),ROW(A35),"")
A37: CISSS DU BAS-SAINT-LAURENT | B37: Complété | C37: 44138 | F37: =IF(AND(C37>("31/10/2020")*1,C37<=("08/11/2020")*1,ISNUMBER(SEARCH("complété",B37)*1)),MATCH(A37,A$2:A$94,0),"") -> 29 | G37: =IF(COUNTIF(F$2:F37,F37)=COUNTIF(F$2:F$94,F37),ROW(A36),"") -> 36
A38: CISSS DU BAS-SAINT-LAURENT | B38: Complété | C38: 44135 | F38: =IF(AND(C38>("31/10/2020")*1,C38<=("08/11/2020")*1,ISNUMBER(SEARCH("complété",B38)*1)),MATCH(A38,A$2:A$94,0),"") | G38: =IF(COUNTIF(F$2:F38,F38)=COUNTIF(F$2:F$94,F38),ROW(A37),"")
... A45: CISSS DE LA MONTÉRÉGIE-OUEST | B45: Complété | C45: 44144 | F45: =IF(AND(C45>("31/10/2020")*1,C45<=("08/11/2020")*1,ISNUMBER(SEARCH("complété",B45)*1)),MATCH(A45,A$2:A$94,0),"") | G45: =IF(COUNTIF(F$2:F45,F45)=COUNTIF(F$2:F$94,F45),ROW(A44),"")
A46: CISSS DE LA MONTÉRÉGIE-OUEST | B46: En traitement | F46: =IF(AND(C46>("31/10/2020")*1,C46<=("08/11/2020")*1,ISNUMBER(SEARCH("complété",B46)*1)),MATCH(A46,A$2:A$94,0),"") | G46: =IF(COUNTIF(F$2:F46,F46)=COUNTIF(F$2:F$94,F46),ROW(A45),"")
A47: CISSS DE LA MONTÉRÉGIE-EST | B47: Complété | C47: 44143 | F47: =IF(AND(C47>("31/10/2020")*1,C47<=("08/11/2020")*1,ISNUMBER(SEARCH("complété",B47)*1)),MATCH(A47,A$2:A$94,0),"") -> 46 | G47: =IF(COUNTIF(F$2:F47,F47)=COUNTIF(F$2:F$94,F47),ROW(A46),"")
...
