Workbook
Name antenne: OFFSET(date,,12,)
Name date: OFFSET('ANNEE 20XX'!$A$2,,,COUNT('ANNEE 20XX'!$A:$A))
Name f_agent: OFFSET(p_agent,0,0,COUNTA(l_agent),1)
Name f_antenne: OFFSET(p_antenne,0,0,COUNTA(l_antenne),1)
Name f_demandeur: OFFSET(p_demandeur,0,0,COUNTA(l_demandeur),1)
Name f_statut: OFFSET(p_statut,0,0,COUNTA(l_statut),1)
Name l_agent: DONNEES!$B:$B
Name l_antenne: DONNEES!$D$1:$D$5
Name l_demandeur: DONNEES!$A:$A
Name l_statut: DONNEES!$C:$C
Name p_agent: DONNEES!$B$1
Name p_antenne: DONNEES!$D$1
Name p_demandeur: DONNEES!$A$1
Name p_statut: DONNEES!$C$1
Name statut: OFFSET(date,,9,)

Sheet ANNEE 20XX
A1: DATE 1 | B1: TYPE DE DEMANDEUR | C1: REFERENCES DU DEMANDEUR | D1: DIVISION | E1: CODE INS | F1: N parc | G1: REF | H1: Colonne8 | I1: COMMENTAIRES & OBSERVATIONS | J1: STATUT | K1: Qui | L1: DATE 2 | M1: Où | N1: DATE 3 | O1: N° NOTE | P1: Valeur Fact | Q1: DATE 4 | R1: DATE 5 | S1: DATE 6 | T1: DATE 7
A2: 43831 | D2: =IFERROR(VLOOKUP(E2,DIVISION!$F$1:$G$604,2,FALSE),"Encoder code INS >>>") -> Encoder code INS >>> | E2: 81002 | J2: 23C | K2: Francoise | M2: Antenne 1 | T2: =MATCH(MONTH(Tableau1[[#This Row],[DATE 1]]),{1;4;7;9},1) -> 1
A3: 43863 | D3: =IFERROR(VLOOKUP(E3,DIVISION!$F$1:$G$604,2,FALSE),"Encoder code INS >>>") -> Encoder code INS >>> | J3: AN | K3: Francoise | M3: Antenne 3 | T3: =MATCH(MONTH(Tableau1[[#This Row],[DATE 1]]),{1;4;7;9},1) -> 1
A4: 43866 | D4: =IFERROR(VLOOKUP(E4,DIVISION!$F$1:$G$604,2,FALSE),"Encoder code INS >>>") -> Encoder code INS >>> | J4: 23C | K4: Eric | M4: Antenne 2 | T4: =MATCH(MONTH(Tableau1[[#This Row],[DATE 1]]),{1;4;7;9},1) -> 1
A5: 43893 | D5: =IFERROR(VLOOKUP(E5,DIVISION!$F$1:$G$604,2,FALSE),"Encoder code INS >>>") -> Encoder code INS >>> | J5: COU | K5: Francoise | M5: Antenne 4 | T5: =MATCH(MONTH(Tableau1[[#This Row],[DATE 1]]),{1;4;7;9},1) -> 1
A6: 43926 | D6: =IFERROR(VLOOKUP(E6,DIVISION!$F$1:$G$604,2,FALSE),"Encoder code INS >>>") -> Encoder code INS >>> | J6: SUS | K6: Francoise | M6: Antenne 5 | T6: =MATCH(MONTH(Tableau1[[#This Row],[DATE 1]]),{1;4;7;9},1) -> 2
A7: 43958 | D7: =IFERROR(VLOOKUP(E7,DIVISION!$F$1:$G$604,2,FALSE),"Encoder code INS >>>") -> Encoder code INS >>> | J7: EXP | K7: Eric | M7: Antenne 1 | O7: 4 | T7: =MATCH(MONTH(Tableau1[[#This Row],[DATE 1]]),{1;4;7;9},1) -> 2
A8: 43990 | D8: =IFERROR(VLOOKUP(E8,DIVISION!$F$1:$G$604,2,FALSE),"Encoder code INS >>>") -> Encoder code INS >>> | J8: 23C | K8: Jonathan | M8: Antenne 3 | T8: =MATCH(MONTH(Tableau1[[#This Row],[DATE 1]]),{1;4;7;9},1) -> 2
A9: 43991 | D9: =IFERROR(VLOOKUP(E9,DIVISION!$F$1:$G$604,2,FALSE),"Encoder code INS >>>") -> Encoder code INS >>> | J9: EXP | K9: Patricia | M9: Antenne 4 | O9: 3 | P9: 600 | T9: =MATCH(MONTH(Tableau1[[#This Row],[DATE 1]]),{1;4;7;9},1) -> 2
A10: 44013 | D10: =IFERROR(VLOOKUP(E10,DIVISION!$F$1:$G$604,2,FALSE),"Encoder code INS >>>") -> Encoder code INS >>> | J10: 23C | K10: Jonathan | M10: Antenne 5 | T10: =MATCH(MONTH(Tableau1[[#This Row],[DATE 1]]),{1;4;7;9},1) -> 3
A11: 44015 | D11: =IFERROR(VLOOKUP(E11,DIVISION!$F$1:$G$604,2,FALSE),"Encoder code INS >>>") -> Encoder code INS >>> | J11: AN | K11: Jonathan | M11: Antenne 5 | T11: =MATCH(MONTH(Tableau1[[#This Row],[DATE 1]]),{1;4;7;9},1) -> 3
A12: 44016 | D12: =IFERROR(VLOOKUP(E12,DIVISION!$F$1:$G$604,2,FALSE),"Encoder code INS >>>") -> Encoder code INS >>> | J12: 23C | K12: Patricia | M12: Antenne 2 | T12: =MATCH(MONTH(Tableau1[[#This Row],[DATE 1]]),{1;4;7;9},1) -> 3
A13: 44051 | D13: =IFERROR(VLOOKUP(E13,DIVISION!$F$1:$G$604,2,FALSE),"Encoder code INS >>>") -> Encoder code INS >>> | J13: COU | K13: Patricia | M13: Antenne 3 | T13: =MATCH(MONTH(Tableau1[[#This Row],[DATE 1]]),{1;4;7;9},1) -> 3
A14: 44058 | D14: =IFERROR(VLOOKUP(E14,DIVISION!$F$1:$G$604,2,FALSE),"Encoder code INS >>>") -> Encoder code INS >>> | J14: SUS | K14: Francoise | M14: Antenne 4 | T14: =MATCH(MONTH(Tableau1[[#This Row],[DATE 1]]),{1;4;7;9},1) -> 3
A15: 44097 | D15: =IFERROR(VLOOKUP(E15,DIVISION!$F$1:$G$604,2,FALSE),"Encoder code INS >>>") -> Encoder code INS >>> | J15: COU | K15: Stephane | M15: Antenne 5 | T15: =MATCH(MONTH(Tableau1[[#This Row],[DATE 1]]),{1;4;7;10},1) -> 3
A16: 44103 | D16: =IFERROR(VLOOKUP(E16,DIVISION!$F$1:$G$604,2,FALSE),"Encoder code INS >>>") -> Encoder code INS >>> | J16: 23C | K16: Stephane | M16: Antenne 1 | T16: =MATCH(MONTH(Tableau1[[#This Row],[DATE 1]]),{1;4;7;10},1) -> 3
A17: 44114 | D17: =IFERROR(VLOOKUP(E17,DIVISION!$F$1:$G$604,2,FALSE),"Encoder code INS >>>") -> Encoder code INS >>> | J17: EXP | K17: Eric | M17: Antenne 2 | O17: 6 | P17: 601 | T17: =MATCH(MONTH(Tableau1[[#This Row],[DATE 1]]),{1;4;7;10},1) -> 4
A18: 44117 | D18: =IFERROR(VLOOKUP(E18,DIVISION!$F$1:$G$604,2,FALSE),"Encoder code INS >>>") -> Encoder code INS >>> | J18: EXP | K18: Stephane | M18: Antenne 2 | O18: 2 | T18: =MATCH(MONTH(Tableau1[[#This Row],[DATE 1]]),{1;4;7;10},1) -> 4
A19: 44118 | D19: =IFERROR(VLOOKUP(E19,DIVISION!$F$1:$G$604,2,FALSE),"Encoder code INS >>>") -> Encoder code INS >>> | J19: EXP | K19: Stephane | M19: Antenne 1 | O19: 5 | P19: 602 | T19: =MATCH(MONTH(Tableau1[[#This Row],[DATE 1]]),{1;4;7;10},1) -> 4
A20: 44147 | D20: =IFERROR(VLOOKUP(E20,DIVISION!$F$1:$G$604,2,FALSE),"Encoder code INS >>>") -> Encoder code INS >>> | J20: EXP | K20: Patricia | M20: Antenne 4 | O20: 1 | P20: 545 | T20: =MATCH(MONTH(Tableau1[[#This Row],[DATE 1]]),{1;4;7;10},1) -> 4
A21: 44164 | D21: =IFERROR(VLOOKUP(E21,DIVISION!$F$1:$G$604,2,FALSE),"Encoder code INS >>>") -> Encoder code INS >>> | J21: 23C | K21: Francoise | M21: Antenne 5 | T21: =MATCH(MONTH(Tableau1[[#This Row],[DATE 1]]),{1;4;7;10},1) -> 4
A22: 44165 | D22: =IFERROR(VLOOKUP(E22,DIVISION!$F$1:$G$604,2,FALSE),"Encoder code INS >>>") -> Encoder code INS >>> | J22: 23C | K22: Stephane | M22: Antenne 2 | T22: =MATCH(MONTH(Tableau1[[#This Row],[DATE 1]]),{1;4;7;10},1) -> 4
A23: 44166 | D23: =IFERROR(VLOOKUP(E23,DIVISION!$F$1:$G$604,2,FALSE),"Encoder code INS >>>") -> Encoder code INS >>> | J23: 23C | K23: Francoise | M23: Antenne 3 | T23: =MATCH(MONTH(Tableau1[[#This Row],[DATE 1]]),{1;4;7;10},1) -> 4
A24: 44178 | D24: =IFERROR(VLOOKUP(E24,DIVISION!$F$1:$G$604,2,FALSE),"Encoder code INS >>>") -> Encoder code INS >>> | J24: EXP | K24: Eric | M24: Antenne 1 | O24: 7 | P24: 800 | T24: =MATCH(MONTH(Tableau1[[#This Row],[DATE 1]]),{1;4;7;10},1) -> 4
A25: 44191 | D25: =IFERROR(VLOOKUP(E25,DIVISION!$F$1:$G$604,2,FALSE),"Encoder code INS >>>") -> Encoder code INS >>> | J25: 23C | K25: Jonathan | M25: Antenne 5 | T25: =MATCH(MONTH(Tableau1[[#This Row],[DATE 1]]),{1;4;7;10},1) -> 4
A26: 44195 | D26: =IFERROR(VLOOKUP(E26,DIVISION!$F$1:$G$604,2,FALSE),"Encoder code INS >>>") -> Encoder code INS >>> | J26: EXP | K26: Stephane | M26: Antenne 2 | T26: =MATCH(MONTH(Tableau1[[#This Row],[DATE 1]]),{1;4;7;10},1) -> 4

Sheet DIVISION
F1: 81001 | G1: ville 1
F2: 81002 | G2: ville 2
F3: 81003 | G3: ville 3
F4: 81004 | G4: ville 4
F5: 81005 | G5: ville 5
F6: 81006 | G6: ville 6
F7: 81007 | G7: ville 7
F8: 81008 | G8: ville 8
F9: 81009 | G9: ville 9
F10: 81010 | G10: ville 10
F11: 81011 | G11: ville 11
F12: 81012 | G12: ville 12
... F604: 93089 | G604: ville 604

Sheet DONNEES
A1: abc | B1: Eric | C1: 23C | D1: Antenne 1
A2: cde | B2: Francoise | C2: AN | D2: Antenne 2
A3: efg | B3: Jonathan | C3: COU | D3: Antenne 3
B4: Patricia | C4: EXP | D4: Antenne 4
B5: Stephane | C5: SUS | D5: Antenne 5
B6: X 1
B7: X 2
B8: X 3

Sheet STATS
A2: saisir :1 ou2;3 4 | B2: 4 | C2: ANTENNE 1 | D2: ANTENNE 2 | E2: ANTENNE 3 | F2: ANTENNE 4 | G2: ANTENNE 5
B3: NOMBRE DE RDE
B4: 23C | C4: =SUMPRODUCT((MATCH(MONTH(date),{1;4;7;10},1)=$B$2)*(statut=$B4)*(antenne=C$2)) -> 0 | D4: =SUMPRODUCT((MATCH(MONTH(date),{1;4;7;10},1)=$B$2)*(statut=$B4)*(antenne=D$2)) -> 1 | E4: =SUMPRODUCT((MATCH(MONTH(date),{1;4;7;10},1)=$B$2)*(statut=$B4)*(antenne=E$2)) -> 1 | F4: =SUMPRODUCT((MATCH(MONTH(date),{1;4;7;10},1)=$B$2)*(statut=$B4)*(antenne=F$2)) -> 0 | G4: =SUMPRODUCT((MATCH(MONTH(date),{1;4;7;10},1)=$B$2)*(statut=$B4)*(antenne=G$2)) -> 2
B5: EXP | C5: =SUMPRODUCT((MATCH(MONTH(date),{1;4;7;10},1)=$B$2)*(statut=$B5)*(antenne=C$2)) -> 2 | D5: =SUMPRODUCT((MATCH(MONTH(date),{1;4;7;10},1)=$B$2)*(statut=$B5)*(antenne=D$2)) -> 3 | E5: =SUMPRODUCT((MATCH(MONTH(date),{1;4;7;10},1)=$B$2)*(statut=$B5)*(antenne=E$2)) -> 0 | F5: =SUMPRODUCT((MATCH(MONTH(date),{1;4;7;10},1)=$B$2)*(statut=$B5)*(antenne=F$2)) -> 1 | G5: =SUMPRODUCT((MATCH(MONTH(date),{1;4;7;10},1)=$B$2)*(statut=$B5)*(antenne=G$2)) -> 0
B6: COU | C6: =SUMPRODUCT((MATCH(MONTH(date),{1;4;7;10},1)=$B$2)*(statut=$B6)*(antenne=C$2)) -> 0 | D6: =SUMPRODUCT((MATCH(MONTH(date),{1;4;7;10},1)=$B$2)*(statut=$B6)*(antenne=D$2)) -> 0 | E6: =SUMPRODUCT((MATCH(MONTH(date),{1;4;7;10},1)=$B$2)*(statut=$B6)*(antenne=E$2)) -> 0 | F6: =SUMPRODUCT((MATCH(MONTH(date),{1;4;7;10},1)=$B$2)*(statut=$B6)*(antenne=F$2)) -> 0 | G6: =SUMPRODUCT((MATCH(MONTH(date),{1;4;7;10},1)=$B$2)*(statut=$B6)*(antenne=G$2)) -> 0
B7: AN | C7: =SUMPRODUCT((MATCH(MONTH(date),{1;4;7;10},1)=$B$2)*(statut=$B7)*(antenne=C$2)) -> 0 | D7: =SUMPRODUCT((MATCH(MONTH(date),{1;4;7;10},1)=$B$2)*(statut=$B7)*(antenne=D$2)) -> 0 | E7: =SUMPRODUCT((MATCH(MONTH(date),{1;4;7;10},1)=$B$2)*(statut=$B7)*(antenne=E$2)) -> 0 | F7: =SUMPRODUCT((MATCH(MONTH(date),{1;4;7;10},1)=$B$2)*(statut=$B7)*(antenne=F$2)) -> 0 | G7: =SUMPRODUCT((MATCH(MONTH(date),{1;4;7;10},1)=$B$2)*(statut=$B7)*(antenne=G$2)) -> 0
B8: SUS | C8: =SUMPRODUCT((MATCH(MONTH(date),{1;4;7;10},1)=$B$2)*(statut=$B8)*(antenne=C$2)) -> 0 | D8: =SUMPRODUCT((MATCH(MONTH(date),{1;4;7;10},1)=$B$2)*(statut=$B8)*(antenne=D$2)) -> 0 | E8: =SUMPRODUCT((MATCH(MONTH(date),{1;4;7;10},1)=$B$2)*(statut=$B8)*(antenne=E$2)) -> 0 | F8: =SUMPRODUCT((MATCH(MONTH(date),{1;4;7;10},1)=$B$2)*(statut=$B8)*(antenne=F$2)) -> 0 | G8: =SUMPRODUCT((MATCH(MONTH(date),{1;4;7;10},1)=$B$2)*(statut=$B8)*(antenne=G$2)) -> 0
B10: VERIFICATION NOMBRE DE RDE | C10: =SUMPRODUCT(--(MATCH(MONTH(date),{1;4;7;10},1)=$B$2)) -> 10
B12: NOMBRE DE FACT REVUES | I12: Colonne p > cel vides
B13: NOMBRE DE FACT REVUES <600 | I13: Colonne p <600
B14: NOMBRE DE FACT REVUES ≥ 600 | I14: Colonne p ≥ 600
B16: VERIFICATION DES RC REVUS
