Workbook

Sheet Feuil1
B5: NOM | C5: SOMME 1 | D5: SOMME 2 | E5: SOMME 3
B6: COLLE | C6: 10 | D6: V | E6: 52 | G6: COLLE | H6: {=IF(IFERROR(MATCH($G6&"v",$B$6:$B$13&C$6:C$13,0),FALSE),"v",SUMIF($B$6:$B$13,$G6,C$6:C$13))} -> v | I6: {=IF(IFERROR(MATCH($G6&"v",$B$6:$B$13&D$6:D$13,0),FALSE),"v",SUMIF($B$6:$B$13,$G6,D$6:D$13))} -> v | J6: {=IF(IFERROR(MATCH($G6&"v",$B$6:$B$13&E$6:E$13,0),FALSE),"v",SUMIF($B$6:$B$13,$G6,E$6:E$13))} -> 132
B7: COLLE | C7: V | D7: 2 | E7: 42 | G7: CATHY | H7: {=IF(IFERROR(MATCH($G7&"v",$B$6:$B$13&C$6:C$13,0),FALSE),"v",SUMIF($B$6:$B$13,$G7,C$6:C$13))} -> v | I7: {=IF(IFERROR(MATCH($G7&"v",$B$6:$B$13&D$6:D$13,0),FALSE),"v",SUMIF($B$6:$B$13,$G7,D$6:D$13))} -> v | J7: {=IF(IFERROR(MATCH($G7&"v",$B$6:$B$13&E$6:E$13,0),FALSE),"v",SUMIF($B$6:$B$13,$G7,E$6:E$13))} -> 100
B8: CATHY | C8: v | D8: 100 | E8: 35 | G8: DENYS | H8: {=IF(IFERROR(MATCH($G8&"v",$B$6:$B$13&C$6:C$13,0),FALSE),"v",SUMIF($B$6:$B$13,$G8,C$6:C$13))} -> 12 | I8: {=IF(IFERROR(MATCH($G8&"v",$B$6:$B$13&D$6:D$13,0),FALSE),"v",SUMIF($B$6:$B$13,$G8,D$6:D$13))} -> 14 | J8: {=IF(IFERROR(MATCH($G8&"v",$B$6:$B$13&E$6:E$13,0),FALSE),"v",SUMIF($B$6:$B$13,$G8,E$6:E$13))} -> v
B9: COLLE | C9: 5 | D9: 2 | E9: 38 | G9: DAVID | H9: {=IF(IFERROR(MATCH($G9&"v",$B$6:$B$13&C$6:C$13,0),FALSE),"v",SUMIF($B$6:$B$13,$G9,C$6:C$13))} -> 55 | I9: {=IF(IFERROR(MATCH($G9&"v",$B$6:$B$13&D$6:D$13,0),FALSE),"v",SUMIF($B$6:$B$13,$G9,D$6:D$13))} -> 52 | J9: {=IF(IFERROR(MATCH($G9&"v",$B$6:$B$13&E$6:E$13,0),FALSE),"v",SUMIF($B$6:$B$13,$G9,E$6:E$13))} -> 8
B10: CATHY | C10: 8 | D10: v | E10: 65
B11: DENYS | C11: 10 | D11: 6 | E11: 2
B12: DENYS | C12: 2 | D12: 8 | E12: v
B13: DAVID | C13: 55 | D13: 52 | E13: 8
C14: =SUBTOTAL(109,Feuil1!$C$6:$C$13) -> 90 | D14: =SUBTOTAL(109,Feuil1!$D$6:$D$13) -> 170 | E14: =SUBTOTAL(109,Feuil1!$E$6:$E$13) -> 242

Sheet Feuil2
C3: tulipe | I3: mettre ton tablo de 32 colonnes au format personalisé :standard;sts;""
I4: pour planquer les 0 au cas zou
B6: NOM | C6: RESULTAT 1 | D6: RESULTAT 2 | E6: RESULTAT 3
B7: COLLE | C7: =IF(COLUMN(A:A)=SUMPRODUCT(MAX((Feuil1!$B$6:$B$13=Feuil2!$B7)*(Feuil1!C$6:C$13="v")*COLUMN(Feuil2!C:C)))-2,"V",SUMIF(Feuil1!$B$6:$B$13,$B7,Feuil1!C$6:C$13)) -> V | D7: =IF(COLUMN(B:B)=SUMPRODUCT(MAX((Feuil1!$B$6:$B$13=Feuil2!$B7)*(Feuil1!D$6:D$13="v")*COLUMN(Feuil2!D:D)))-2,"V",SUMIF(Feuil1!$B$6:$B$13,$B7,Feuil1!D$6:D$13)) -> V | E7: =IF(COLUMN(C:C)=SUMPRODUCT(MAX((Feuil1!$B$6:$B$13=Feuil2!$B7)*(Feuil1!E$6:E$13="v")*COLUMN(Feuil2!E:E)))-2,"V",SUMIF(Feuil1!$B$6:$B$13,$B7,Feuil1!E$6:E$13)) -> 132 | F7: =IF(COLUMN(D:D)=SUMPRODUCT(MAX((Feuil1!$B$6:$B$13=Feuil2!$B7)*(Feuil1!F$6:F$13="v")*COLUMN(Feuil2!F:F)))-2,"V",SUMIF(Feuil1!$B$6:$B$13,$B7,Feuil1!F$6:F$13)) -> 0 | G7: =IF(COLUMN(E:E)=SUMPRODUCT(MAX((Feuil1!$B$6:$B$13=Feuil2!$B7)*(Feuil1!G$6:G$13="v")*COLUMN(Feuil2!G:G)))-2,"V",SUMIF(Feuil1!$B$6:$B$13,$B7,Feuil1!G$6:G$13)) -> 0 | H7: =IF(COLUMN(F:F)=SUMPRODUCT(MAX((Feuil1!$B$6:$B$13=Feuil2!$B7)*(Feuil1!H$6:H$13="v")*COLUMN(Feuil2!H:H)))-2,"V",SUMIF(Feuil1!$B$6:$B$13,$B7,Feuil1!H$6:H$13)) -> V | I7: =IF(COLUMN(G:G)=SUMPRODUCT(MAX((Feuil1!$B$6:$B$13=Feuil2!$B7)*(Feuil1!I$6:I$13="v")*COLUMN(Feuil2!I:I)))-2,"V",SUMIF(Feuil1!$B$6:$B$13,$B7,Feuil1!I$6:I$13)) -> V
B8: CATHY | C8: =IF(COLUMN(A:A)=SUMPRODUCT(MAX((Feuil1!$B$6:$B$13=Feuil2!$B8)*(Feuil1!C$6:C$13="v")*COLUMN(Feuil2!C:C)))-2,"V",SUMIF(Feuil1!$B$6:$B$13,$B8,Feuil1!C$6:C$13)) -> V | D8: =IF(COLUMN(B:B)=SUMPRODUCT(MAX((Feuil1!$B$6:$B$13=Feuil2!$B8)*(Feuil1!D$6:D$13="v")*COLUMN(Feuil2!D:D)))-2,"V",SUMIF(Feuil1!$B$6:$B$13,$B8,Feuil1!D$6:D$13)) -> V | E8: =IF(COLUMN(C:C)=SUMPRODUCT(MAX((Feuil1!$B$6:$B$13=Feuil2!$B8)*(Feuil1!E$6:E$13="v")*COLUMN(Feuil2!E:E)))-2,"V",SUMIF(Feuil1!$B$6:$B$13,$B8,Feuil1!E$6:E$13)) -> 100 | F8: =IF(COLUMN(D:D)=SUMPRODUCT(MAX((Feuil1!$B$6:$B$13=Feuil2!$B8)*(Feuil1!F$6:F$13="v")*COLUMN(Feuil2!F:F)))-2,"V",SUMIF(Feuil1!$B$6:$B$13,$B8,Feuil1!F$6:F$13)) -> 0 | G8: =IF(COLUMN(E:E)=SUMPRODUCT(MAX((Feuil1!$B$6:$B$13=Feuil2!$B8)*(Feuil1!G$6:G$13="v")*COLUMN(Feuil2!G:G)))-2,"V",SUMIF(Feuil1!$B$6:$B$13,$B8,Feuil1!G$6:G$13)) -> 0 | H8: =IF(COLUMN(F:F)=SUMPRODUCT(MAX((Feuil1!$B$6:$B$13=Feuil2!$B8)*(Feuil1!H$6:H$13="v")*COLUMN(Feuil2!H:H)))-2,"V",SUMIF(Feuil1!$B$6:$B$13,$B8,Feuil1!H$6:H$13)) -> 12 | I8: =IF(COLUMN(G:G)=SUMPRODUCT(MAX((Feuil1!$B$6:$B$13=Feuil2!$B8)*(Feuil1!I$6:I$13="v")*COLUMN(Feuil2!I:I)))-2,"V",SUMIF(Feuil1!$B$6:$B$13,$B8,Feuil1!I$6:I$13)) -> 14
B9: DENYS | C9: =IF(COLUMN(A:A)=SUMPRODUCT(MAX((Feuil1!$B$6:$B$13=Feuil2!$B9)*(Feuil1!C$6:C$13="v")*COLUMN(Feuil2!C:C)))-2,"V",SUMIF(Feuil1!$B$6:$B$13,$B9,Feuil1!C$6:C$13)) -> 12 | D9: =IF(COLUMN(B:B)=SUMPRODUCT(MAX((Feuil1!$B$6:$B$13=Feuil2!$B9)*(Feuil1!D$6:D$13="v")*COLUMN(Feuil2!D:D)))-2,"V",SUMIF(Feuil1!$B$6:$B$13,$B9,Feuil1!D$6:D$13)) -> 14 | E9: =IF(COLUMN(C:C)=SUMPRODUCT(MAX((Feuil1!$B$6:$B$13=Feuil2!$B9)*(Feuil1!E$6:E$13="v")*COLUMN(Feuil2!E:E)))-2,"V",SUMIF(Feuil1!$B$6:$B$13,$B9,Feuil1!E$6:E$13)) -> V | F9: =IF(COLUMN(D:D)=SUMPRODUCT(MAX((Feuil1!$B$6:$B$13=Feuil2!$B9)*(Feuil1!F$6:F$13="v")*COLUMN(Feuil2!F:F)))-2,"V",SUMIF(Feuil1!$B$6:$B$13,$B9,Feuil1!F$6:F$13)) -> 0 | G9: =IF(COLUMN(E:E)=SUMPRODUCT(MAX((Feuil1!$B$6:$B$13=Feuil2!$B9)*(Feuil1!G$6:G$13="v")*COLUMN(Feuil2!G:G)))-2,"V",SUMIF(Feuil1!$B$6:$B$13,$B9,Feuil1!G$6:G$13)) -> 0 | H9: =IF(COLUMN(F:F)=SUMPRODUCT(MAX((Feuil1!$B$6:$B$13=Feuil2!$B9)*(Feuil1!H$6:H$13="v")*COLUMN(Feuil2!H:H)))-2,"V",SUMIF(Feuil1!$B$6:$B$13,$B9,Feuil1!H$6:H$13)) -> 0 | I9: =IF(COLUMN(G:G)=SUMPRODUCT(MAX((Feuil1!$B$6:$B$13=Feuil2!$B9)*(Feuil1!I$6:I$13="v")*COLUMN(Feuil2!I:I)))-2,"V",SUMIF(Feuil1!$B$6:$B$13,$B9,Feuil1!I$6:I$13)) -> 0
B10: DAVID | C10: =IF(COLUMN(A:A)=SUMPRODUCT(MAX((Feuil1!$B$6:$B$13=Feuil2!$B10)*(Feuil1!C$6:C$13="v")*COLUMN(Feuil2!C:C)))-2,"V",SUMIF(Feuil1!$B$6:$B$13,$B10,Feuil1!C$6:C$13)) -> 55 | D10: =IF(COLUMN(B:B)=SUMPRODUCT(MAX((Feuil1!$B$6:$B$13=Feuil2!$B10)*(Feuil1!D$6:D$13="v")*COLUMN(Feuil2!D:D)))-2,"V",SUMIF(Feuil1!$B$6:$B$13,$B10,Feuil1!D$6:D$13)) -> 52 | E10: =IF(COLUMN(C:C)=SUMPRODUCT(MAX((Feuil1!$B$6:$B$13=Feuil2!$B10)*(Feuil1!E$6:E$13="v")*COLUMN(Feuil2!E:E)))-2,"V",SUMIF(Feuil1!$B$6:$B$13,$B10,Feuil1!E$6:E$13)) -> 8 | F10: =IF(COLUMN(D:D)=SUMPRODUCT(MAX((Feuil1!$B$6:$B$13=Feuil2!$B10)*(Feuil1!F$6:F$13="v")*COLUMN(Feuil2!F:F)))-2,"V",SUMIF(Feuil1!$B$6:$B$13,$B10,Feuil1!F$6:F$13)) -> 0 | G10: =IF(COLUMN(E:E)=SUMPRODUCT(MAX((Feuil1!$B$6:$B$13=Feuil2!$B10)*(Feuil1!G$6:G$13="v")*COLUMN(Feuil2!G:G)))-2,"V",SUMIF(Feuil1!$B$6:$B$13,$B10,Feuil1!G$6:G$13)) -> 0 | H10: =IF(COLUMN(F:F)=SUMPRODUCT(MAX((Feuil1!$B$6:$B$13=Feuil2!$B10)*(Feuil1!H$6:H$13="v")*COLUMN(Feuil2!H:H)))-2,"V",SUMIF(Feuil1!$B$6:$B$13,$B10,Feuil1!H$6:H$13)) -> 0 | I10: =IF(COLUMN(G:G)=SUMPRODUCT(MAX((Feuil1!$B$6:$B$13=Feuil2!$B10)*(Feuil1!I$6:I$13="v")*COLUMN(Feuil2!I:I)))-2,"V",SUMIF(Feuil1!$B$6:$B$13,$B10,Feuil1!I$6:I$13)) -> 0
