Workbook
Name bddfruit: Feuil2!$C$24:$R$38
Name bddville: Feuil2!$C$40:$R$54
Name bdx: Feuil2!$B$3:$AD$18
Name fruits: Feuil2!$B$2:$AD$2
Name vendeur: Feuil2!$A$3:$A$18
Name vendeur1: Feuil1!$A$3:$A$18
Name vendeur2: Feuil2!$C$39:$R$39
Name ville: Feuil1!$B$2:$Q$2
Name xville: Feuil1!$B$3:$Q$18

Sheet Feuil1
B2: Ville 1 | C2: Ville 2 | D2: Ville 3 | E2: Ville 4 | F2: Ville 5 | G2: Ville 6 | H2: Ville 7 | I2: Ville 8 | J2: Ville 9 | K2: Ville 10 | L2: Ville 11 | M2: Ville 12 | N2: Ville 13 | O2: Ville 14 | P2: Ville 15 | Q2: Ville 16
A3: Vendeur 1 | B3: x
A4: Vendeur 2 | C4: x | D4: x | E4: x | H4: x | J4: x | L4: x
A5: Vendeur 3 | K5: x
A6: Vendeur 4 | B6: x | K6: x
A7: Vendeur 5 | C7: x | D7: x | E7: x | H7: x | J7: x
A8: Vendeur 6 | B8: x
A9: Vendeur 7 | B9: x | C9: x | D9: x | E9: x | H9: x | J9: x
A10: Vendeur 8 | C10: x | D10: x | E10: x | H10: x | J10: x | L10: x
A11: Vendeur 9 | F11: x | G11: x
A12: Vendeur 10
A13: Vendeur 11 | B13: x | L13: x
A14: Vendeur 12 | C14: x | D14: x | E14: x | F14: x | G14: x | H14: x | J14: x
A15: Vendeur 13 | B15: x | L15: x
A16: Vendeur 14 | B16: x | C16: x | D16: x | E16: x | F16: x | G16: x | H16: x | J16: x
A17: Vendeur 15 | B17: x | C17: x | D17: x | E17: x | F17: x | G17: x | H17: x | J17: x
A18: Vendeur 16

Sheet Feuil2
B2: Fruit 1 | C2: Fruit 2 | D2: Fruit 3 | E2: Fruit 4 | F2: Fruit 5 | G2: Fruit 6 | H2: Fruit 7 | I2: Fruit 8 | J2: Fruit 9 | K2: Fruit 10 | L2: Fruit 11 | M2: Fruit 12 | N2: Fruit 13 | O2: Fruit 14 | P2: Fruit 15 | Q2: Fruit 16 | R2: Fruit 17 | S2: Fruit 18 | T2: Fruit 19 | U2: Fruit 20 | V2: Fruit 21 | W2: Fruit 22 | X2: Fruit 23 | Y2: Fruit 24 | Z2: Fruit 25 | AA2: Fruit 26 | AB2: Fruit 27 | AC2: Fruit 28 | AD2: Fruit 29
A3: Vendeur 1 | B3: x | O3: x | P3: x | AC3: x
A4: Vendeur 2 | B4: x | C4: x | G4: x | J4: x | K4: x | N4: x | O4: x | P4: x | Q4: x | U4: x | X4: x | Y4: x | AB4: x | AC4: x
A5: Vendeur 3 | C5: x | D5: x | G5: x | J5: x | K5: x | M5: x | N5: x | Q5: x | R5: x | U5: x | X5: x | Y5: x | AA5: x | AB5: x
A6: Vendeur 4 | B6: x | D6: x | F6: x | I6: x | M6: x | O6: x | P6: x | R6: x | T6: x | W6: x | AA6: x | AC6: x
A7: Vendeur 5 | B7: x | C7: x | F7: x | G7: x | I7: x | J7: x | K7: x | N7: x | O7: x | P7: x | Q7: x | T7: x | U7: x | W7: x | X7: x | Y7: x | AB7: x | AC7: x
A8: Vendeur 6 | C8: x | D8: x | G8: x | J8: x | K8: x | M8: x | N8: x | Q8: x | R8: x | U8: x | X8: x | Y8: x | AA8: x | AB8: x
A9: Vendeur 7 | D9: x | F9: x | I9: x | M9: x | R9: x | T9: x | W9: x | AA9: x
A10: Vendeur 8 | F10: x | I10: x | T10: x | W10: x
A11: Vendeur 9 | B11: x | O11: x | P11: x | AC11: x
A12: Vendeur 10 | B12: x | C12: x | G12: x | J12: x | K12: x | N12: x | O12: x | P12: x | Q12: x | U12: x | X12: x | Y12: x | AB12: x | AC12: x
A13: Vendeur 11 | C13: x | D13: x | G13: x | J13: x | K13: x | M13: x | N13: x | Q13: x | R13: x | U13: x | X13: x | Y13: x | AA13: x | AB13: x
A14: Vendeur 12 | D14: x | F14: x | I14: x | M14: x | R14: x | T14: x | W14: x | AA14: x
A15: Vendeur 13 | F15: x | I15: x | T15: x | W15: x
A16: Vendeur 14 | B16: x | O16: x | P16: x | AC16: x
A17: Vendeur 15 | C17: x | G17: x | J17: x | K17: x | N17: x | Q17: x | U17: x | X17: x | Y17: x | AB17: x
A18: Vendeur 16 | B18: x | C18: x | G18: x | J18: x | K18: x | N18: x | O18: x | P18: x | Q18: x | U18: x
C23: Vendeur 1 | D23: Vendeur 2 | E23: Vendeur 3 | F23: Vendeur 4 | G23: Vendeur 5 | H23: Vendeur 6 | I23: Vendeur 7 | J23: Vendeur 8 | K23: Vendeur 9 | L23: Vendeur 10 | M23: Vendeur 11 | N23: Vendeur 12 | O23: Vendeur 13 | P23: Vendeur 14 | Q23: Vendeur 15 | R23: Vendeur 16
C24: {=IFERROR(INDEX(fruits,,SMALL(IF((vendeur=C$23)*(bdx="x"),COLUMN(fruits)-1,""),ROW($A1))),"")} -> Fruit 1 | D24: {=IFERROR(INDEX(fruits,,SMALL(IF((vendeur=D$23)*(bdx="x"),COLUMN(fruits)-1,""),ROW($A1))),"")} -> Fruit 1 | E24: {=IFERROR(INDEX(fruits,,SMALL(IF((vendeur=E$23)*(bdx="x"),COLUMN(fruits)-1,""),ROW($A1))),"")} -> Fruit 2 | F24: {=IFERROR(INDEX(fruits,,SMALL(IF((vendeur=F$23)*(bdx="x"),COLUMN(fruits)-1,""),ROW($A1))),"")} -> Fruit 1 | G24: {=IFERROR(INDEX(fruits,,SMALL(IF((vendeur=G$23)*(bdx="x"),COLUMN(fruits)-1,""),ROW($A1))),"")} -> Fruit 1 | H24: {=IFERROR(INDEX(fruits,,SMALL(IF((vendeur=H$23)*(bdx="x"),COLUMN(fruits)-1,""),ROW($A1))),"")} -> Fruit 2 | I24: {=IFERROR(INDEX(fruits,,SMALL(IF((vendeur=I$23)*(bdx="x"),COLUMN(fruits)-1,""),ROW($A1))),"")} -> Fruit 3 | J24: {=IFERROR(INDEX(fruits,,SMALL(IF((vendeur=J$23)*(bdx="x"),COLUMN(fruits)-1,""),ROW($A1))),"")} -> Fruit 5 | ... R24: {=IFERROR(INDEX(fruits,,SMALL(IF((vendeur=R$23)*(bdx="x"),COLUMN(fruits)-1,""),ROW($A1))),"")} -> Fruit 1
C25: {=IFERROR(INDEX(fruits,,SMALL(IF((vendeur=C$23)*(bdx="x"),COLUMN(fruits)-1,""),ROW($A2))),"")} -> Fruit 14 | D25: {=IFERROR(INDEX(fruits,,SMALL(IF((vendeur=D$23)*(bdx="x"),COLUMN(fruits)-1,""),ROW($A2))),"")} -> Fruit 2 | E25: {=IFERROR(INDEX(fruits,,SMALL(IF((vendeur=E$23)*(bdx="x"),COLUMN(fruits)-1,""),ROW($A2))),"")} -> Fruit 3 | F25: {=IFERROR(INDEX(fruits,,SMALL(IF((vendeur=F$23)*(bdx="x"),COLUMN(fruits)-1,""),ROW($A2))),"")} -> Fruit 3 | G25: {=IFERROR(INDEX(fruits,,SMALL(IF((vendeur=G$23)*(bdx="x"),COLUMN(fruits)-1,""),ROW($A2))),"")} -> Fruit 2 | H25: {=IFERROR(INDEX(fruits,,SMALL(IF((vendeur=H$23)*(bdx="x"),COLUMN(fruits)-1,""),ROW($A2))),"")} -> Fruit 3 | I25: {=IFERROR(INDEX(fruits,,SMALL(IF((vendeur=I$23)*(bdx="x"),COLUMN(fruits)-1,""),ROW($A2))),"")} -> Fruit 5 | J25: {=IFERROR(INDEX(fruits,,SMALL(IF((vendeur=J$23)*(bdx="x"),COLUMN(fruits)-1,""),ROW($A2))),"")} -> Fruit 8 | ... R25: {=IFERROR(INDEX(fruits,,SMALL(IF((vendeur=R$23)*(bdx="x"),COLUMN(fruits)-1,""),ROW($A2))),"")} -> Fruit 2
C26: {=IFERROR(INDEX(fruits,,SMALL(IF((vendeur=C$23)*(bdx="x"),COLUMN(fruits)-1,""),ROW($A3))),"")} -> Fruit 15 | D26: {=IFERROR(INDEX(fruits,,SMALL(IF((vendeur=D$23)*(bdx="x"),COLUMN(fruits)-1,""),ROW($A3))),"")} -> Fruit 6 | E26: {=IFERROR(INDEX(fruits,,SMALL(IF((vendeur=E$23)*(bdx="x"),COLUMN(fruits)-1,""),ROW($A3))),"")} -> Fruit 6 | F26: {=IFERROR(INDEX(fruits,,SMALL(IF((vendeur=F$23)*(bdx="x"),COLUMN(fruits)-1,""),ROW($A3))),"")} -> Fruit 5 | G26: {=IFERROR(INDEX(fruits,,SMALL(IF((vendeur=G$23)*(bdx="x"),COLUMN(fruits)-1,""),ROW($A3))),"")} -> Fruit 5 | H26: {=IFERROR(INDEX(fruits,,SMALL(IF((vendeur=H$23)*(bdx="x"),COLUMN(fruits)-1,""),ROW($A3))),"")} -> Fruit 6 | I26: {=IFERROR(INDEX(fruits,,SMALL(IF((vendeur=I$23)*(bdx="x"),COLUMN(fruits)-1,""),ROW($A3))),"")} -> Fruit 8 | J26: {=IFERROR(INDEX(fruits,,SMALL(IF((vendeur=J$23)*(bdx="x"),COLUMN(fruits)-1,""),ROW($A3))),"")} -> Fruit 19 | ... R26: {=IFERROR(INDEX(fruits,,SMALL(IF((vendeur=R$23)*(bdx="x"),COLUMN(fruits)-1,""),ROW($A3))),"")} -> Fruit 6
C27: {=IFERROR(INDEX(fruits,,SMALL(IF((vendeur=C$23)*(bdx="x"),COLUMN(fruits)-1,""),ROW($A4))),"")} -> Fruit 28 | D27: {=IFERROR(INDEX(fruits,,SMALL(IF((vendeur=D$23)*(bdx="x"),COLUMN(fruits)-1,""),ROW($A4))),"")} -> Fruit 9 | E27: {=IFERROR(INDEX(fruits,,SMALL(IF((vendeur=E$23)*(bdx="x"),COLUMN(fruits)-1,""),ROW($A4))),"")} -> Fruit 9 | F27: {=IFERROR(INDEX(fruits,,SMALL(IF((vendeur=F$23)*(bdx="x"),COLUMN(fruits)-1,""),ROW($A4))),"")} -> Fruit 8 | G27: {=IFERROR(INDEX(fruits,,SMALL(IF((vendeur=G$23)*(bdx="x"),COLUMN(fruits)-1,""),ROW($A4))),"")} -> Fruit 6 | H27: {=IFERROR(INDEX(fruits,,SMALL(IF((vendeur=H$23)*(bdx="x"),COLUMN(fruits)-1,""),ROW($A4))),"")} -> Fruit 9 | I27: {=IFERROR(INDEX(fruits,,SMALL(IF((vendeur=I$23)*(bdx="x"),COLUMN(fruits)-1,""),ROW($A4))),"")} -> Fruit 12 | J27: {=IFERROR(INDEX(fruits,,SMALL(IF((vendeur=J$23)*(bdx="x"),COLUMN(fruits)-1,""),ROW($A4))),"")} -> Fruit 22 | ... R27: {=IFERROR(INDEX(fruits,,SMALL(IF((vendeur=R$23)*(bdx="x"),COLUMN(fruits)-1,""),ROW($A4))),"")} -> Fruit 9
C28: {=IFERROR(INDEX(fruits,,SMALL(IF((vendeur=C$23)*(bdx="x"),COLUMN(fruits)-1,""),ROW($A5))),"")} | D28: {=IFERROR(INDEX(fruits,,SMALL(IF((vendeur=D$23)*(bdx="x"),COLUMN(fruits)-1,""),ROW($A5))),"")} -> Fruit 10 | E28: {=IFERROR(INDEX(fruits,,SMALL(IF((vendeur=E$23)*(bdx="x"),COLUMN(fruits)-1,""),ROW($A5))),"")} -> Fruit 10 | F28: {=IFERROR(INDEX(fruits,,SMALL(IF((vendeur=F$23)*(bdx="x"),COLUMN(fruits)-1,""),ROW($A5))),"")} -> Fruit 12 | G28: {=IFERROR(INDEX(fruits,,SMALL(IF((vendeur=G$23)*(bdx="x"),COLUMN(fruits)-1,""),ROW($A5))),"")} -> Fruit 8 | H28: {=IFERROR(INDEX(fruits,,SMALL(IF((vendeur=H$23)*(bdx="x"),COLUMN(fruits)-1,""),ROW($A5))),"")} -> Fruit 10 | I28: {=IFERROR(INDEX(fruits,,SMALL(IF((vendeur=I$23)*(bdx="x"),COLUMN(fruits)-1,""),ROW($A5))),"")} -> Fruit 17 | J28: {=IFERROR(INDEX(fruits,,SMALL(IF((vendeur=J$23)*(bdx="x"),COLUMN(fruits)-1,""),ROW($A5))),"")} | ... R28: {=IFERROR(INDEX(fruits,,SMALL(IF((vendeur=R$23)*(bdx="x"),COLUMN(fruits)-1,""),ROW($A5))),"")} -> Fruit 10
C29: {=IFERROR(INDEX(fruits,,SMALL(IF((vendeur=C$23)*(bdx="x"),COLUMN(fruits)-1,""),ROW($A6))),"")} | D29: {=IFERROR(INDEX(fruits,,SMALL(IF((vendeur=D$23)*(bdx="x"),COLUMN(fruits)-1,""),ROW($A6))),"")} -> Fruit 13 | E29: {=IFERROR(INDEX(fruits,,SMALL(IF((vendeur=E$23)*(bdx="x"),COLUMN(fruits)-1,""),ROW($A6))),"")} -> Fruit 12 | F29: {=IFERROR(INDEX(fruits,,SMALL(IF((vendeur=F$23)*(bdx="x"),COLUMN(fruits)-1,""),ROW($A6))),"")} -> Fruit 14 | G29: {=IFERROR(INDEX(fruits,,SMALL(IF((vendeur=G$23)*(bdx="x"),COLUMN(fruits)-1,""),ROW($A6))),"")} -> Fruit 9 | H29: {=IFERROR(INDEX(fruits,,SMALL(IF((vendeur=H$23)*(bdx="x"),COLUMN(fruits)-1,""),ROW($A6))),"")} -> Fruit 12 | I29: {=IFERROR(INDEX(fruits,,SMALL(IF((vendeur=I$23)*(bdx="x"),COLUMN(fruits)-1,""),ROW($A6))),"")} -> Fruit 19 | J29: {=IFERROR(INDEX(fruits,,SMALL(IF((vendeur=J$23)*(bdx="x"),COLUMN(fruits)-1,""),ROW($A6))),"")} | ... R29: {=IFERROR(INDEX(fruits,,SMALL(IF((vendeur=R$23)*(bdx="x"),COLUMN(fruits)-1,""),ROW($A6))),"")} -> Fruit 13
C30: {=IFERROR(INDEX(fruits,,SMALL(IF((vendeur=C$23)*(bdx="x"),COLUMN(fruits)-1,""),ROW($A7))),"")} | D30: {=IFERROR(INDEX(fruits,,SMALL(IF((vendeur=D$23)*(bdx="x"),COLUMN(fruits)-1,""),ROW($A7))),"")} -> Fruit 14 | E30: {=IFERROR(INDEX(fruits,,SMALL(IF((vendeur=E$23)*(bdx="x"),COLUMN(fruits)-1,""),ROW($A7))),"")} -> Fruit 13 | F30: {=IFERROR(INDEX(fruits,,SMALL(IF((vendeur=F$23)*(bdx="x"),COLUMN(fruits)-1,""),ROW($A7))),"")} -> Fruit 15 | G30: {=IFERROR(INDEX(fruits,,SMALL(IF((vendeur=G$23)*(bdx="x"),COLUMN(fruits)-1,""),ROW($A7))),"")} -> Fruit 10 | H30: {=IFERROR(INDEX(fruits,,SMALL(IF((vendeur=H$23)*(bdx="x"),COLUMN(fruits)-1,""),ROW($A7))),"")} -> Fruit 13 | I30: {=IFERROR(INDEX(fruits,,SMALL(IF((vendeur=I$23)*(bdx="x"),COLUMN(fruits)-1,""),ROW($A7))),"")} -> Fruit 22 | J30: {=IFERROR(INDEX(fruits,,SMALL(IF((vendeur=J$23)*(bdx="x"),COLUMN(fruits)-1,""),ROW($A7))),"")} | ... R30: {=IFERROR(INDEX(fruits,,SMALL(IF((vendeur=R$23)*(bdx="x"),COLUMN(fruits)-1,""),ROW($A7))),"")} -> Fruit 14
C31: {=IFERROR(INDEX(fruits,,SMALL(IF((vendeur=C$23)*(bdx="x"),COLUMN(fruits)-1,""),ROW($A8))),"")} | D31: {=IFERROR(INDEX(fruits,,SMALL(IF((vendeur=D$23)*(bdx="x"),COLUMN(fruits)-1,""),ROW($A8))),"")} -> Fruit 15 | E31: {=IFERROR(INDEX(fruits,,SMALL(IF((vendeur=E$23)*(bdx="x"),COLUMN(fruits)-1,""),ROW($A8))),"")} -> Fruit 16 | F31: {=IFERROR(INDEX(fruits,,SMALL(IF((vendeur=F$23)*(bdx="x"),COLUMN(fruits)-1,""),ROW($A8))),"")} -> Fruit 17 | G31: {=IFERROR(INDEX(fruits,,SMALL(IF((vendeur=G$23)*(bdx="x"),COLUMN(fruits)-1,""),ROW($A8))),"")} -> Fruit 13 | H31: {=IFERROR(INDEX(fruits,,SMALL(IF((vendeur=H$23)*(bdx="x"),COLUMN(fruits)-1,""),ROW($A8))),"")} -> Fruit 16 | I31: {=IFERROR(INDEX(fruits,,SMALL(IF((vendeur=I$23)*(bdx="x"),COLUMN(fruits)-1,""),ROW($A8))),"")} -> Fruit 26 | J31: {=IFERROR(INDEX(fruits,,SMALL(IF((vendeur=J$23)*(bdx="x"),COLUMN(fruits)-1,""),ROW($A8))),"")} | ... R31: {=IFERROR(INDEX(fruits,,SMALL(IF((vendeur=R$23)*(bdx="x"),COLUMN(fruits)-1,""),ROW($A8))),"")} -> Fruit 15
C32: {=IFERROR(INDEX(fruits,,SMALL(IF((vendeur=C$23)*(bdx="x"),COLUMN(fruits)-1,""),ROW($A9))),"")} | D32: {=IFERROR(INDEX(fruits,,SMALL(IF((vendeur=D$23)*(bdx="x"),COLUMN(fruits)-1,""),ROW($A9))),"")} -> Fruit 16 | E32: {=IFERROR(INDEX(fruits,,SMALL(IF((vendeur=E$23)*(bdx="x"),COLUMN(fruits)-1,""),ROW($A9))),"")} -> Fruit 17 | F32: {=IFERROR(INDEX(fruits,,SMALL(IF((vendeur=F$23)*(bdx="x"),COLUMN(fruits)-1,""),ROW($A9))),"")} -> Fruit 19 | G32: {=IFERROR(INDEX(fruits,,SMALL(IF((vendeur=G$23)*(bdx="x"),COLUMN(fruits)-1,""),ROW($A9))),"")} -> Fruit 14 | H32: {=IFERROR(INDEX(fruits,,SMALL(IF((vendeur=H$23)*(bdx="x"),COLUMN(fruits)-1,""),ROW($A9))),"")} -> Fruit 17 | I32: {=IFERROR(INDEX(fruits,,SMALL(IF((vendeur=I$23)*(bdx="x"),COLUMN(fruits)-1,""),ROW($A9))),"")} | J32: {=IFERROR(INDEX(fruits,,SMALL(IF((vendeur=J$23)*(bdx="x"),COLUMN(fruits)-1,""),ROW($A9))),"")} | ... R32: {=IFERROR(INDEX(fruits,,SMALL(IF((vendeur=R$23)*(bdx="x"),COLUMN(fruits)-1,""),ROW($A9))),"")} -> Fruit 16
C33: {=IFERROR(INDEX(fruits,,SMALL(IF((vendeur=C$23)*(bdx="x"),COLUMN(fruits)-1,""),ROW($A10))),"")} | D33: {=IFERROR(INDEX(fruits,,SMALL(IF((vendeur=D$23)*(bdx="x"),COLUMN(fruits)-1,""),ROW($A10))),"")} -> Fruit 20 | E33: {=IFERROR(INDEX(fruits,,SMALL(IF((vendeur=E$23)*(bdx="x"),COLUMN(fruits)-1,""),ROW($A10))),"")} -> Fruit 20 | F33: {=IFERROR(INDEX(fruits,,SMALL(IF((vendeur=F$23)*(bdx="x"),COLUMN(fruits)-1,""),ROW($A10))),"")} -> Fruit 22 | G33: {=IFERROR(INDEX(fruits,,SMALL(IF((vendeur=G$23)*(bdx="x"),COLUMN(fruits)-1,""),ROW($A10))),"")} -> Fruit 15 | H33: {=IFERROR(INDEX(fruits,,SMALL(IF((vendeur=H$23)*(bdx="x"),COLUMN(fruits)-1,""),ROW($A10))),"")} -> Fruit 20 | I33: {=IFERROR(INDEX(fruits,,SMALL(IF((vendeur=I$23)*(bdx="x"),COLUMN(fruits)-1,""),ROW($A10))),"")} | J33: {=IFERROR(INDEX(fruits,,SMALL(IF((vendeur=J$23)*(bdx="x"),COLUMN(fruits)-1,""),ROW($A10))),"")} | ... R33: {=IFERROR(INDEX(fruits,,SMALL(IF((vendeur=R$23)*(bdx="x"),COLUMN(fruits)-1,""),ROW($A10))),"")} -> Fruit 20
C34: {=IFERROR(INDEX(fruits,,SMALL(IF((vendeur=C$23)*(bdx="x"),COLUMN(fruits)-1,""),ROW($A11))),"")} | D34: {=IFERROR(INDEX(fruits,,SMALL(IF((vendeur=D$23)*(bdx="x"),COLUMN(fruits)-1,""),ROW($A11))),"")} -> Fruit 23 | E34: {=IFERROR(INDEX(fruits,,SMALL(IF((vendeur=E$23)*(bdx="x"),COLUMN(fruits)-1,""),ROW($A11))),"")} -> Fruit 23 | F34: {=IFERROR(INDEX(fruits,,SMALL(IF((vendeur=F$23)*(bdx="x"),COLUMN(fruits)-1,""),ROW($A11))),"")} -> Fruit 26 | G34: {=IFERROR(INDEX(fruits,,SMALL(IF((vendeur=G$23)*(bdx="x"),COLUMN(fruits)-1,""),ROW($A11))),"")} -> Fruit 16 | H34: {=IFERROR(INDEX(fruits,,SMALL(IF((vendeur=H$23)*(bdx="x"),COLUMN(fruits)-1,""),ROW($A11))),"")} -> Fruit 23 | I34: {=IFERROR(INDEX(fruits,,SMALL(IF((vendeur=I$23)*(bdx="x"),COLUMN(fruits)-1,""),ROW($A11))),"")} | J34: {=IFERROR(INDEX(fruits,,SMALL(IF((vendeur=J$23)*(bdx="x"),COLUMN(fruits)-1,""),ROW($A11))),"")} | ... R34: {=IFERROR(INDEX(fruits,,SMALL(IF((vendeur=R$23)*(bdx="x"),COLUMN(fruits)-1,""),ROW($A11))),"")}
C35: {=IFERROR(INDEX(fruits,,SMALL(IF((vendeur=C$23)*(bdx="x"),COLUMN(fruits)-1,""),ROW($A12))),"")} | D35: {=IFERROR(INDEX(fruits,,SMALL(IF((vendeur=D$23)*(bdx="x"),COLUMN(fruits)-1,""),ROW($A12))),"")} -> Fruit 24 | E35: {=IFERROR(INDEX(fruits,,SMALL(IF((vendeur=E$23)*(bdx="x"),COLUMN(fruits)-1,""),ROW($A12))),"")} -> Fruit 24 | F35: {=IFERROR(INDEX(fruits,,SMALL(IF((vendeur=F$23)*(bdx="x"),COLUMN(fruits)-1,""),ROW($A12))),"")} -> Fruit 28 | G35: {=IFERROR(INDEX(fruits,,SMALL(IF((vendeur=G$23)*(bdx="x"),COLUMN(fruits)-1,""),ROW($A12))),"")} -> Fruit 19 | H35: {=IFERROR(INDEX(fruits,,SMALL(IF((vendeur=H$23)*(bdx="x"),COLUMN(fruits)-1,""),ROW($A12))),"")} -> Fruit 24 | I35: {=IFERROR(INDEX(fruits,,SMALL(IF((vendeur=I$23)*(bdx="x"),COLUMN(fruits)-1,""),ROW($A12))),"")} | J35: {=IFERROR(INDEX(fruits,,SMALL(IF((vendeur=J$23)*(bdx="x"),COLUMN(fruits)-1,""),ROW($A12))),"")} | ... R35: {=IFERROR(INDEX(fruits,,SMALL(IF((vendeur=R$23)*(bdx="x"),COLUMN(fruits)-1,""),ROW($A12))),"")}
... C38: {=IFERROR(INDEX(fruits,,SMALL(IF((vendeur=C$23)*(bdx="x"),COLUMN(fruits)-1,""),ROW($A15))),"")} | D38: {=IFERROR(INDEX(fruits,,SMALL(IF((vendeur=D$23)*(bdx="x"),COLUMN(fruits)-1,""),ROW($A15))),"")} | E38: {=IFERROR(INDEX(fruits,,SMALL(IF((vendeur=E$23)*(bdx="x"),COLUMN(fruits)-1,""),ROW($A15))),"")} | F38: {=IFERROR(INDEX(fruits,,SMALL(IF((vendeur=F$23)*(bdx="x"),COLUMN(fruits)-1,""),ROW($A15))),"")} | G38: {=IFERROR(INDEX(fruits,,SMALL(IF((vendeur=G$23)*(bdx="x"),COLUMN(fruits)-1,""),ROW($A15))),"")} -> Fruit 23 | H38: {=IFERROR(INDEX(fruits,,SMALL(IF((vendeur=H$23)*(bdx="x"),COLUMN(fruits)-1,""),ROW($A15))),"")} | I38: {=IFERROR(INDEX(fruits,,SMALL(IF((vendeur=I$23)*(bdx="x"),COLUMN(fruits)-1,""),ROW($A15))),"")} | J38: {=IFERROR(INDEX(fruits,,SMALL(IF((vendeur=J$23)*(bdx="x"),COLUMN(fruits)-1,""),ROW($A15))),"")} | ... R38: {=IFERROR(INDEX(fruits,,SMALL(IF((vendeur=R$23)*(bdx="x"),COLUMN(fruits)-1,""),ROW($A15))),"")}
C39: Vendeur 1 | D39: Vendeur 2 | E39: Vendeur 3 | F39: Vendeur 4 | G39: Vendeur 5 | H39: Vendeur 6 | I39: Vendeur 7 | J39: Vendeur 8 | K39: Vendeur 9 | L39: Vendeur 10 | M39: Vendeur 11 | N39: Vendeur 12 | O39: Vendeur 13 | P39: Vendeur 14 | Q39: Vendeur 15 | R39: Vendeur 16
C40: {=IFERROR(INDEX(ville,SMALL(IF((vendeur1=C$39)*(xville="x"),COLUMN(ville)-1,""),ROW(A1))),"")} -> Ville 1 | D40: {=IFERROR(INDEX(ville,SMALL(IF((vendeur1=D$39)*(xville="x"),COLUMN(ville)-1,""),ROW(B1))),"")} -> Ville 2 | E40: {=IFERROR(INDEX(ville,SMALL(IF((vendeur1=E$39)*(xville="x"),COLUMN(ville)-1,""),ROW(C1))),"")} -> Ville 10 | F40: {=IFERROR(INDEX(ville,SMALL(IF((vendeur1=F$39)*(xville="x"),COLUMN(ville)-1,""),ROW(D1))),"")} -> Ville 1 | G40: {=IFERROR(INDEX(ville,SMALL(IF((vendeur1=G$39)*(xville="x"),COLUMN(ville)-1,""),ROW(E1))),"")} -> Ville 2 | H40: {=IFERROR(INDEX(ville,SMALL(IF((vendeur1=H$39)*(xville="x"),COLUMN(ville)-1,""),ROW(F1))),"")} -> Ville 1 | I40: {=IFERROR(INDEX(ville,SMALL(IF((vendeur1=I$39)*(xville="x"),COLUMN(ville)-1,""),ROW(G1))),"")} -> Ville 1 | J40: {=IFERROR(INDEX(ville,SMALL(IF((vendeur1=J$39)*(xville="x"),COLUMN(ville)-1,""),ROW(H1))),"")} -> Ville 2 | ... R40: {=IFERROR(INDEX(ville,SMALL(IF((vendeur1=R$39)*(xville="x"),COLUMN(ville)-1,""),ROW(P1))),"")}
C41: {=IFERROR(INDEX(ville,SMALL(IF((vendeur1=C$39)*(xville="x"),COLUMN(ville)-1,""),ROW(A2))),"")} | D41: {=IFERROR(INDEX(ville,SMALL(IF((vendeur1=D$39)*(xville="x"),COLUMN(ville)-1,""),ROW(B2))),"")} -> Ville 3 | E41: {=IFERROR(INDEX(ville,SMALL(IF((vendeur1=E$39)*(xville="x"),COLUMN(ville)-1,""),ROW(C2))),"")} | F41: {=IFERROR(INDEX(ville,SMALL(IF((vendeur1=F$39)*(xville="x"),COLUMN(ville)-1,""),ROW(D2))),"")} -> Ville 10 | G41: {=IFERROR(INDEX(ville,SMALL(IF((vendeur1=G$39)*(xville="x"),COLUMN(ville)-1,""),ROW(E2))),"")} -> Ville 3 | H41: {=IFERROR(INDEX(ville,SMALL(IF((vendeur1=H$39)*(xville="x"),COLUMN(ville)-1,""),ROW(F2))),"")} | I41: {=IFERROR(INDEX(ville,SMALL(IF((vendeur1=I$39)*(xville="x"),COLUMN(ville)-1,""),ROW(G2))),"")} -> Ville 2 | J41: {=IFERROR(INDEX(ville,SMALL(IF((vendeur1=J$39)*(xville="x"),COLUMN(ville)-1,""),ROW(H2))),"")} -> Ville 3 | ... R41: {=IFERROR(INDEX(ville,SMALL(IF((vendeur1=R$39)*(xville="x"),COLUMN(ville)-1,""),ROW(P2))),"")}
C42: {=IFERROR(INDEX(ville,SMALL(IF((vendeur1=C$39)*(xville="x"),COLUMN(ville)-1,""),ROW(A3))),"")} | D42: {=IFERROR(INDEX(ville,SMALL(IF((vendeur1=D$39)*(xville="x"),COLUMN(ville)-1,""),ROW(B3))),"")} -> Ville 4 | E42: {=IFERROR(INDEX(ville,SMALL(IF((vendeur1=E$39)*(xville="x"),COLUMN(ville)-1,""),ROW(C3))),"")} | F42: {=IFERROR(INDEX(ville,SMALL(IF((vendeur1=F$39)*(xville="x"),COLUMN(ville)-1,""),ROW(D3))),"")} | G42: {=IFERROR(INDEX(ville,SMALL(IF((vendeur1=G$39)*(xville="x"),COLUMN(ville)-1,""),ROW(E3))),"")} -> Ville 4 | H42: {=IFERROR(INDEX(ville,SMALL(IF((vendeur1=H$39)*(xville="x"),COLUMN(ville)-1,""),ROW(F3))),"")} | I42: {=IFERROR(INDEX(ville,SMALL(IF((vendeur1=I$39)*(xville="x"),COLUMN(ville)-1,""),ROW(G3))),"")} -> Ville 3 | J42: {=IFERROR(INDEX(ville,SMALL(IF((vendeur1=J$39)*(xville="x"),COLUMN(ville)-1,""),ROW(H3))),"")} -> Ville 4 | ... R42: {=IFERROR(INDEX(ville,SMALL(IF((vendeur1=R$39)*(xville="x"),COLUMN(ville)-1,""),ROW(P3))),"")}
C43: {=IFERROR(INDEX(ville,SMALL(IF((vendeur1=C$39)*(xville="x"),COLUMN(ville)-1,""),ROW(A4))),"")} | D43: {=IFERROR(INDEX(ville,SMALL(IF((vendeur1=D$39)*(xville="x"),COLUMN(ville)-1,""),ROW(B4))),"")} -> Ville 7 | E43: {=IFERROR(INDEX(ville,SMALL(IF((vendeur1=E$39)*(xville="x"),COLUMN(ville)-1,""),ROW(C4))),"")} | F43: {=IFERROR(INDEX(ville,SMALL(IF((vendeur1=F$39)*(xville="x"),COLUMN(ville)-1,""),ROW(D4))),"")} | G43: {=IFERROR(INDEX(ville,SMALL(IF((vendeur1=G$39)*(xville="x"),COLUMN(ville)-1,""),ROW(E4))),"")} -> Ville 7 | H43: {=IFERROR(INDEX(ville,SMALL(IF((vendeur1=H$39)*(xville="x"),COLUMN(ville)-1,""),ROW(F4))),"")} | I43: {=IFERROR(INDEX(ville,SMALL(IF((vendeur1=I$39)*(xville="x"),COLUMN(ville)-1,""),ROW(G4))),"")} -> Ville 4 | J43: {=IFERROR(INDEX(ville,SMALL(IF((vendeur1=J$39)*(xville="x"),COLUMN(ville)-1,""),ROW(H4))),"")} -> Ville 7 | ... R43: {=IFERROR(INDEX(ville,SMALL(IF((vendeur1=R$39)*(xville="x"),COLUMN(ville)-1,""),ROW(P4))),"")}
C44: {=IFERROR(INDEX(ville,SMALL(IF((vendeur1=C$39)*(xville="x"),COLUMN(ville)-1,""),ROW(A5))),"")} | D44: {=IFERROR(INDEX(ville,SMALL(IF((vendeur1=D$39)*(xville="x"),COLUMN(ville)-1,""),ROW(B5))),"")} -> Ville 9 | E44: {=IFERROR(INDEX(ville,SMALL(IF((vendeur1=E$39)*(xville="x"),COLUMN(ville)-1,""),ROW(C5))),"")} | F44: {=IFERROR(INDEX(ville,SMALL(IF((vendeur1=F$39)*(xville="x"),COLUMN(ville)-1,""),ROW(D5))),"")} | G44: {=IFERROR(INDEX(ville,SMALL(IF((vendeur1=G$39)*(xville="x"),COLUMN(ville)-1,""),ROW(E5))),"")} -> Ville 9 | H44: {=IFERROR(INDEX(ville,SMALL(IF((vendeur1=H$39)*(xville="x"),COLUMN(ville)-1,""),ROW(F5))),"")} | I44: {=IFERROR(INDEX(ville,SMALL(IF((vendeur1=I$39)*(xville="x"),COLUMN(ville)-1,""),ROW(G5))),"")} -> Ville 7 | J44: {=IFERROR(INDEX(ville,SMALL(IF((vendeur1=J$39)*(xville="x"),COLUMN(ville)-1,""),ROW(H5))),"")} -> Ville 9 | ... R44: {=IFERROR(INDEX(ville,SMALL(IF((vendeur1=R$39)*(xville="x"),COLUMN(ville)-1,""),ROW(P5))),"")}
C45: {=IFERROR(INDEX(ville,SMALL(IF((vendeur1=C$39)*(xville="x"),COLUMN(ville)-1,""),ROW(A6))),"")} | D45: {=IFERROR(INDEX(ville,SMALL(IF((vendeur1=D$39)*(xville="x"),COLUMN(ville)-1,""),ROW(B6))),"")} -> Ville 11 | E45: {=IFERROR(INDEX(ville,SMALL(IF((vendeur1=E$39)*(xville="x"),COLUMN(ville)-1,""),ROW(C6))),"")} | F45: {=IFERROR(INDEX(ville,SMALL(IF((vendeur1=F$39)*(xville="x"),COLUMN(ville)-1,""),ROW(D6))),"")} | G45: {=IFERROR(INDEX(ville,SMALL(IF((vendeur1=G$39)*(xville="x"),COLUMN(ville)-1,""),ROW(E6))),"")} | H45: {=IFERROR(INDEX(ville,SMALL(IF((vendeur1=H$39)*(xville="x"),COLUMN(ville)-1,""),ROW(F6))),"")} | I45: {=IFERROR(INDEX(ville,SMALL(IF((vendeur1=I$39)*(xville="x"),COLUMN(ville)-1,""),ROW(G6))),"")} -> Ville 9 | J45: {=IFERROR(INDEX(ville,SMALL(IF((vendeur1=J$39)*(xville="x"),COLUMN(ville)-1,""),ROW(H6))),"")} -> Ville 11 | ... R45: {=IFERROR(INDEX(ville,SMALL(IF((vendeur1=R$39)*(xville="x"),COLUMN(ville)-1,""),ROW(P6))),"")}
C46: {=IFERROR(INDEX(ville,SMALL(IF((vendeur1=C$39)*(xville="x"),COLUMN(ville)-1,""),ROW(A7))),"")} | D46: {=IFERROR(INDEX(ville,SMALL(IF((vendeur1=D$39)*(xville="x"),COLUMN(ville)-1,""),ROW(B7))),"")} | E46: {=IFERROR(INDEX(ville,SMALL(IF((vendeur1=E$39)*(xville="x"),COLUMN(ville)-1,""),ROW(C7))),"")} | F46: {=IFERROR(INDEX(ville,SMALL(IF((vendeur1=F$39)*(xville="x"),COLUMN(ville)-1,""),ROW(D7))),"")} | G46: {=IFERROR(INDEX(ville,SMALL(IF((vendeur1=G$39)*(xville="x"),COLUMN(ville)-1,""),ROW(E7))),"")} | H46: {=IFERROR(INDEX(ville,SMALL(IF((vendeur1=H$39)*(xville="x"),COLUMN(ville)-1,""),ROW(F7))),"")} | I46: {=IFERROR(INDEX(ville,SMALL(IF((vendeur1=I$39)*(xville="x"),COLUMN(ville)-1,""),ROW(G7))),"")} | J46: {=IFERROR(INDEX(ville,SMALL(IF((vendeur1=J$39)*(xville="x"),COLUMN(ville)-1,""),ROW(H7))),"")} | ... R46: {=IFERROR(INDEX(ville,SMALL(IF((vendeur1=R$39)*(xville="x"),COLUMN(ville)-1,""),ROW(P7))),"")}
C47: {=IFERROR(INDEX(ville,SMALL(IF((vendeur1=C$39)*(xville="x"),COLUMN(ville)-1,""),ROW(A8))),"")} | D47: {=IFERROR(INDEX(ville,SMALL(IF((vendeur1=D$39)*(xville="x"),COLUMN(ville)-1,""),ROW(B8))),"")} | E47: {=IFERROR(INDEX(ville,SMALL(IF((vendeur1=E$39)*(xville="x"),COLUMN(ville)-1,""),ROW(C8))),"")} | F47: {=IFERROR(INDEX(ville,SMALL(IF((vendeur1=F$39)*(xville="x"),COLUMN(ville)-1,""),ROW(D8))),"")} | G47: {=IFERROR(INDEX(ville,SMALL(IF((vendeur1=G$39)*(xville="x"),COLUMN(ville)-1,""),ROW(E8))),"")} | H47: {=IFERROR(INDEX(ville,SMALL(IF((vendeur1=H$39)*(xville="x"),COLUMN(ville)-1,""),ROW(F8))),"")} | I47: {=IFERROR(INDEX(ville,SMALL(IF((vendeur1=I$39)*(xville="x"),COLUMN(ville)-1,""),ROW(G8))),"")} | J47: {=IFERROR(INDEX(ville,SMALL(IF((vendeur1=J$39)*(xville="x"),COLUMN(ville)-1,""),ROW(H8))),"")} | ... R47: {=IFERROR(INDEX(ville,SMALL(IF((vendeur1=R$39)*(xville="x"),COLUMN(ville)-1,""),ROW(P8))),"")}
C48: {=IFERROR(INDEX(ville,SMALL(IF((vendeur1=C$39)*(xville="x"),COLUMN(ville)-1,""),ROW(A9))),"")} | D48: {=IFERROR(INDEX(ville,SMALL(IF((vendeur1=D$39)*(xville="x"),COLUMN(ville)-1,""),ROW(B9))),"")} | E48: {=IFERROR(INDEX(ville,SMALL(IF((vendeur1=E$39)*(xville="x"),COLUMN(ville)-1,""),ROW(C9))),"")} | F48: {=IFERROR(INDEX(ville,SMALL(IF((vendeur1=F$39)*(xville="x"),COLUMN(ville)-1,""),ROW(D9))),"")} | G48: {=IFERROR(INDEX(ville,SMALL(IF((vendeur1=G$39)*(xville="x"),COLUMN(ville)-1,""),ROW(E9))),"")} | H48: {=IFERROR(INDEX(ville,SMALL(IF((vendeur1=H$39)*(xville="x"),COLUMN(ville)-1,""),ROW(F9))),"")} | I48: {=IFERROR(INDEX(ville,SMALL(IF((vendeur1=I$39)*(xville="x"),COLUMN(ville)-1,""),ROW(G9))),"")} | J48: {=IFERROR(INDEX(ville,SMALL(IF((vendeur1=J$39)*(xville="x"),COLUMN(ville)-1,""),ROW(H9))),"")} | ... R48: {=IFERROR(INDEX(ville,SMALL(IF((vendeur1=R$39)*(xville="x"),COLUMN(ville)-1,""),ROW(P9))),"")}
C49: {=IFERROR(INDEX(ville,SMALL(IF((vendeur1=C$39)*(xville="x"),COLUMN(ville)-1,""),ROW(A10))),"")} | D49: {=IFERROR(INDEX(ville,SMALL(IF((vendeur1=D$39)*(xville="x"),COLUMN(ville)-1,""),ROW(B10))),"")} | E49: {=IFERROR(INDEX(ville,SMALL(IF((vendeur1=E$39)*(xville="x"),COLUMN(ville)-1,""),ROW(C10))),"")} | F49: {=IFERROR(INDEX(ville,SMALL(IF((vendeur1=F$39)*(xville="x"),COLUMN(ville)-1,""),ROW(D10))),"")} | G49: {=IFERROR(INDEX(ville,SMALL(IF((vendeur1=G$39)*(xville="x"),COLUMN(ville)-1,""),ROW(E10))),"")} | H49: {=IFERROR(INDEX(ville,SMALL(IF((vendeur1=H$39)*(xville="x"),COLUMN(ville)-1,""),ROW(F10))),"")} | I49: {=IFERROR(INDEX(ville,SMALL(IF((vendeur1=I$39)*(xville="x"),COLUMN(ville)-1,""),ROW(G10))),"")} | J49: {=IFERROR(INDEX(ville,SMALL(IF((vendeur1=J$39)*(xville="x"),COLUMN(ville)-1,""),ROW(H10))),"")} | ... R49: {=IFERROR(INDEX(ville,SMALL(IF((vendeur1=R$39)*(xville="x"),COLUMN(ville)-1,""),ROW(P10))),"")}
C50: {=IFERROR(INDEX(ville,SMALL(IF((vendeur1=C$39)*(xville="x"),COLUMN(ville)-1,""),ROW(A11))),"")} | D50: {=IFERROR(INDEX(ville,SMALL(IF((vendeur1=D$39)*(xville="x"),COLUMN(ville)-1,""),ROW(B11))),"")} | E50: {=IFERROR(INDEX(ville,SMALL(IF((vendeur1=E$39)*(xville="x"),COLUMN(ville)-1,""),ROW(C11))),"")} | F50: {=IFERROR(INDEX(ville,SMALL(IF((vendeur1=F$39)*(xville="x"),COLUMN(ville)-1,""),ROW(D11))),"")} | G50: {=IFERROR(INDEX(ville,SMALL(IF((vendeur1=G$39)*(xville="x"),COLUMN(ville)-1,""),ROW(E11))),"")} | H50: {=IFERROR(INDEX(ville,SMALL(IF((vendeur1=H$39)*(xville="x"),COLUMN(ville)-1,""),ROW(F11))),"")} | I50: {=IFERROR(INDEX(ville,SMALL(IF((vendeur1=I$39)*(xville="x"),COLUMN(ville)-1,""),ROW(G11))),"")} | J50: {=IFERROR(INDEX(ville,SMALL(IF((vendeur1=J$39)*(xville="x"),COLUMN(ville)-1,""),ROW(H11))),"")} | ... R50: {=IFERROR(INDEX(ville,SMALL(IF((vendeur1=R$39)*(xville="x"),COLUMN(ville)-1,""),ROW(P11))),"")}
C51: {=IFERROR(INDEX(ville,SMALL(IF((vendeur1=C$39)*(xville="x"),COLUMN(ville)-1,""),ROW(A12))),"")} | D51: {=IFERROR(INDEX(ville,SMALL(IF((vendeur1=D$39)*(xville="x"),COLUMN(ville)-1,""),ROW(B12))),"")} | E51: {=IFERROR(INDEX(ville,SMALL(IF((vendeur1=E$39)*(xville="x"),COLUMN(ville)-1,""),ROW(C12))),"")} | F51: {=IFERROR(INDEX(ville,SMALL(IF((vendeur1=F$39)*(xville="x"),COLUMN(ville)-1,""),ROW(D12))),"")} | G51: {=IFERROR(INDEX(ville,SMALL(IF((vendeur1=G$39)*(xville="x"),COLUMN(ville)-1,""),ROW(E12))),"")} | H51: {=IFERROR(INDEX(ville,SMALL(IF((vendeur1=H$39)*(xville="x"),COLUMN(ville)-1,""),ROW(F12))),"")} | I51: {=IFERROR(INDEX(ville,SMALL(IF((vendeur1=I$39)*(xville="x"),COLUMN(ville)-1,""),ROW(G12))),"")} | J51: {=IFERROR(INDEX(ville,SMALL(IF((vendeur1=J$39)*(xville="x"),COLUMN(ville)-1,""),ROW(H12))),"")} | ... R51: {=IFERROR(INDEX(ville,SMALL(IF((vendeur1=R$39)*(xville="x"),COLUMN(ville)-1,""),ROW(P12))),"")}
... C54: {=IFERROR(INDEX(ville,SMALL(IF((vendeur1=C$39)*(xville="x"),COLUMN(ville)-1,""),ROW(A15))),"")} | D54: {=IFERROR(INDEX(ville,SMALL(IF((vendeur1=D$39)*(xville="x"),COLUMN(ville)-1,""),ROW(B15))),"")} | E54: {=IFERROR(INDEX(ville,SMALL(IF((vendeur1=E$39)*(xville="x"),COLUMN(ville)-1,""),ROW(C15))),"")} | F54: {=IFERROR(INDEX(ville,SMALL(IF((vendeur1=F$39)*(xville="x"),COLUMN(ville)-1,""),ROW(D15))),"")} | G54: {=IFERROR(INDEX(ville,SMALL(IF((vendeur1=G$39)*(xville="x"),COLUMN(ville)-1,""),ROW(E15))),"")} | H54: {=IFERROR(INDEX(ville,SMALL(IF((vendeur1=H$39)*(xville="x"),COLUMN(ville)-1,""),ROW(F15))),"")} | I54: {=IFERROR(INDEX(ville,SMALL(IF((vendeur1=I$39)*(xville="x"),COLUMN(ville)-1,""),ROW(G15))),"")} | J54: {=IFERROR(INDEX(ville,SMALL(IF((vendeur1=J$39)*(xville="x"),COLUMN(ville)-1,""),ROW(H15))),"")} | ... R54: {=IFERROR(INDEX(ville,SMALL(IF((vendeur1=R$39)*(xville="x"),COLUMN(ville)-1,""),ROW(P15))),"")}

Sheet Feuil3
B2: Fruit 1 | C2: Fruit 2 | D2: Fruit 3 | E2: Fruit 4 | F2: Fruit 5 | G2: Fruit 6 | H2: Fruit 7 | I2: Fruit 8 | J2: Fruit 9 | K2: Fruit 10 | L2: Fruit 11 | M2: Fruit 12 | N2: Fruit 13 | O2: Fruit 14 | P2: Fruit 15 | Q2: Fruit 16 | R2: Fruit 17 | S2: Fruit 18 | T2: Fruit 19 | U2: Fruit 20 | V2: Fruit 21 | W2: Fruit 22 | X2: Fruit 23 | Y2: Fruit 24 | Z2: Fruit 25 | AA2: Fruit 26 | AB2: Fruit 27 | AC2: Fruit 28 | AD2: Fruit 29
A3: Ville 1 | B3: {=INDEX(Feuil4!$O$2:$O$500,MATCH($A3&B$2,Feuil4!$A$2:$A$500&Feuil4!$B$2:$B$500,0))} -> Vendeur 1 Vendeur 4 Vendeur 14 | C3: {=INDEX(Feuil4!$O$2:$O$500,MATCH($A3&C$2,Feuil4!$A$2:$A$500&Feuil4!$B$2:$B$500,0))} -> Vendeur 6 Vendeur 11 Vendeur 15 | D3: {=INDEX(Feuil4!$O$2:$O$500,MATCH($A3&D$2,Feuil4!$A$2:$A$500&Feuil4!$B$2:$B$500,0))} -> Vendeur 7 | E3: {=INDEX(Feuil4!$O$2:$O$500,MATCH($A3&E$2,Feuil4!$A$2:$A$500&Feuil4!$B$2:$B$500,0))} | F3: {=INDEX(Feuil4!$O$2:$O$500,MATCH($A3&F$2,Feuil4!$A$2:$A$500&Feuil4!$B$2:$B$500,0))} -> Vendeur 13 | G3: {=INDEX(Feuil4!$O$2:$O$500,MATCH($A3&G$2,Feuil4!$A$2:$A$500&Feuil4!$B$2:$B$500,0))} | H3: {=INDEX(Feuil4!$O$2:$O$500,MATCH($A3&H$2,Feuil4!$A$2:$A$500&Feuil4!$B$2:$B$500,0))} | I3: {=INDEX(Feuil4!$O$2:$O$500,MATCH($A3&I$2,Feuil4!$A$2:$A$500&Feuil4!$B$2:$B$500,0))} | ... AD3: {=INDEX(Feuil4!$O$2:$O$500,MATCH($A3&AD$2,Feuil4!$A$2:$A$500&Feuil4!$B$2:$B$500,0))} -> #N/A
A4: Ville 2 | B4: {=INDEX(Feuil4!$O$2:$O$500,MATCH($A4&B$2,Feuil4!$A$2:$A$500&Feuil4!$B$2:$B$500,0))} -> Vendeur 2 Vendeur 5 | C4: {=INDEX(Feuil4!$O$2:$O$500,MATCH($A4&C$2,Feuil4!$A$2:$A$500&Feuil4!$B$2:$B$500,0))} | D4: {=INDEX(Feuil4!$O$2:$O$500,MATCH($A4&D$2,Feuil4!$A$2:$A$500&Feuil4!$B$2:$B$500,0))} -> Vendeur 12 | E4: {=INDEX(Feuil4!$O$2:$O$500,MATCH($A4&E$2,Feuil4!$A$2:$A$500&Feuil4!$B$2:$B$500,0))} | F4: {=INDEX(Feuil4!$O$2:$O$500,MATCH($A4&F$2,Feuil4!$A$2:$A$500&Feuil4!$B$2:$B$500,0))} -> Vendeur 7 Vendeur 8 | G4: {=INDEX(Feuil4!$O$2:$O$500,MATCH($A4&G$2,Feuil4!$A$2:$A$500&Feuil4!$B$2:$B$500,0))} -> Vendeur 15 | H4: {=INDEX(Feuil4!$O$2:$O$500,MATCH($A4&H$2,Feuil4!$A$2:$A$500&Feuil4!$B$2:$B$500,0))} | I4: {=INDEX(Feuil4!$O$2:$O$500,MATCH($A4&I$2,Feuil4!$A$2:$A$500&Feuil4!$B$2:$B$500,0))} | ... AD4: {=INDEX(Feuil4!$O$2:$O$500,MATCH($A4&AD$2,Feuil4!$A$2:$A$500&Feuil4!$B$2:$B$500,0))}
A5: Ville 3 | B5: {=INDEX(Feuil4!$O$2:$O$500,MATCH($A5&B$2,Feuil4!$A$2:$A$500&Feuil4!$B$2:$B$500,0))} | C5: {=INDEX(Feuil4!$O$2:$O$500,MATCH($A5&C$2,Feuil4!$A$2:$A$500&Feuil4!$B$2:$B$500,0))} -> Vendeur 2 Vendeur 5 | D5: {=INDEX(Feuil4!$O$2:$O$500,MATCH($A5&D$2,Feuil4!$A$2:$A$500&Feuil4!$B$2:$B$500,0))} | E5: {=INDEX(Feuil4!$O$2:$O$500,MATCH($A5&E$2,Feuil4!$A$2:$A$500&Feuil4!$B$2:$B$500,0))} | F5: {=INDEX(Feuil4!$O$2:$O$500,MATCH($A5&F$2,Feuil4!$A$2:$A$500&Feuil4!$B$2:$B$500,0))} -> Vendeur 12 | G5: {=INDEX(Feuil4!$O$2:$O$500,MATCH($A5&G$2,Feuil4!$A$2:$A$500&Feuil4!$B$2:$B$500,0))} | H5: {=INDEX(Feuil4!$O$2:$O$500,MATCH($A5&H$2,Feuil4!$A$2:$A$500&Feuil4!$B$2:$B$500,0))} | I5: {=INDEX(Feuil4!$O$2:$O$500,MATCH($A5&I$2,Feuil4!$A$2:$A$500&Feuil4!$B$2:$B$500,0))} -> Vendeur 7 Vendeur 8 | ... AD5: {=INDEX(Feuil4!$O$2:$O$500,MATCH($A5&AD$2,Feuil4!$A$2:$A$500&Feuil4!$B$2:$B$500,0))}
A6: Ville 4 | B6: {=INDEX(Feuil4!$O$2:$O$500,MATCH($A6&B$2,Feuil4!$A$2:$A$500&Feuil4!$B$2:$B$500,0))} | C6: {=INDEX(Feuil4!$O$2:$O$500,MATCH($A6&C$2,Feuil4!$A$2:$A$500&Feuil4!$B$2:$B$500,0))} | D6: {=INDEX(Feuil4!$O$2:$O$500,MATCH($A6&D$2,Feuil4!$A$2:$A$500&Feuil4!$B$2:$B$500,0))} | E6: {=INDEX(Feuil4!$O$2:$O$500,MATCH($A6&E$2,Feuil4!$A$2:$A$500&Feuil4!$B$2:$B$500,0))} | F6: {=INDEX(Feuil4!$O$2:$O$500,MATCH($A6&F$2,Feuil4!$A$2:$A$500&Feuil4!$B$2:$B$500,0))} -> Vendeur 5 | G6: {=INDEX(Feuil4!$O$2:$O$500,MATCH($A6&G$2,Feuil4!$A$2:$A$500&Feuil4!$B$2:$B$500,0))} -> Vendeur 2 | H6: {=INDEX(Feuil4!$O$2:$O$500,MATCH($A6&H$2,Feuil4!$A$2:$A$500&Feuil4!$B$2:$B$500,0))} | I6: {=INDEX(Feuil4!$O$2:$O$500,MATCH($A6&I$2,Feuil4!$A$2:$A$500&Feuil4!$B$2:$B$500,0))} -> Vendeur 12 | ... AD6: {=INDEX(Feuil4!$O$2:$O$500,MATCH($A6&AD$2,Feuil4!$A$2:$A$500&Feuil4!$B$2:$B$500,0))}
A7: Ville 5 | B7: {=INDEX(Feuil4!$O$2:$O$500,MATCH($A7&B$2,Feuil4!$A$2:$A$500&Feuil4!$B$2:$B$500,0))} -> Vendeur 9 | C7: {=INDEX(Feuil4!$O$2:$O$500,MATCH($A7&C$2,Feuil4!$A$2:$A$500&Feuil4!$B$2:$B$500,0))} | D7: {=INDEX(Feuil4!$O$2:$O$500,MATCH($A7&D$2,Feuil4!$A$2:$A$500&Feuil4!$B$2:$B$500,0))} | E7: {=INDEX(Feuil4!$O$2:$O$500,MATCH($A7&E$2,Feuil4!$A$2:$A$500&Feuil4!$B$2:$B$500,0))} | F7: {=INDEX(Feuil4!$O$2:$O$500,MATCH($A7&F$2,Feuil4!$A$2:$A$500&Feuil4!$B$2:$B$500,0))} | G7: {=INDEX(Feuil4!$O$2:$O$500,MATCH($A7&G$2,Feuil4!$A$2:$A$500&Feuil4!$B$2:$B$500,0))} | H7: {=INDEX(Feuil4!$O$2:$O$500,MATCH($A7&H$2,Feuil4!$A$2:$A$500&Feuil4!$B$2:$B$500,0))} | I7: {=INDEX(Feuil4!$O$2:$O$500,MATCH($A7&I$2,Feuil4!$A$2:$A$500&Feuil4!$B$2:$B$500,0))} | ... AD7: {=INDEX(Feuil4!$O$2:$O$500,MATCH($A7&AD$2,Feuil4!$A$2:$A$500&Feuil4!$B$2:$B$500,0))}
A8: Ville 6 | B8: {=INDEX(Feuil4!$O$2:$O$500,MATCH($A8&B$2,Feuil4!$A$2:$A$500&Feuil4!$B$2:$B$500,0))} | C8: {=INDEX(Feuil4!$O$2:$O$500,MATCH($A8&C$2,Feuil4!$A$2:$A$500&Feuil4!$B$2:$B$500,0))} | D8: {=INDEX(Feuil4!$O$2:$O$500,MATCH($A8&D$2,Feuil4!$A$2:$A$500&Feuil4!$B$2:$B$500,0))} | E8: {=INDEX(Feuil4!$O$2:$O$500,MATCH($A8&E$2,Feuil4!$A$2:$A$500&Feuil4!$B$2:$B$500,0))} | F8: {=INDEX(Feuil4!$O$2:$O$500,MATCH($A8&F$2,Feuil4!$A$2:$A$500&Feuil4!$B$2:$B$500,0))} | G8: {=INDEX(Feuil4!$O$2:$O$500,MATCH($A8&G$2,Feuil4!$A$2:$A$500&Feuil4!$B$2:$B$500,0))} | H8: {=INDEX(Feuil4!$O$2:$O$500,MATCH($A8&H$2,Feuil4!$A$2:$A$500&Feuil4!$B$2:$B$500,0))} | I8: {=INDEX(Feuil4!$O$2:$O$500,MATCH($A8&I$2,Feuil4!$A$2:$A$500&Feuil4!$B$2:$B$500,0))} | ... AD8: {=INDEX(Feuil4!$O$2:$O$500,MATCH($A8&AD$2,Feuil4!$A$2:$A$500&Feuil4!$B$2:$B$500,0))}
A9: Ville 7 | B9: {=INDEX(Feuil4!$O$2:$O$500,MATCH($A9&B$2,Feuil4!$A$2:$A$500&Feuil4!$B$2:$B$500,0))} | C9: {=INDEX(Feuil4!$O$2:$O$500,MATCH($A9&C$2,Feuil4!$A$2:$A$500&Feuil4!$B$2:$B$500,0))} | D9: {=INDEX(Feuil4!$O$2:$O$500,MATCH($A9&D$2,Feuil4!$A$2:$A$500&Feuil4!$B$2:$B$500,0))} | E9: {=INDEX(Feuil4!$O$2:$O$500,MATCH($A9&E$2,Feuil4!$A$2:$A$500&Feuil4!$B$2:$B$500,0))} | F9: {=INDEX(Feuil4!$O$2:$O$500,MATCH($A9&F$2,Feuil4!$A$2:$A$500&Feuil4!$B$2:$B$500,0))} | G9: {=INDEX(Feuil4!$O$2:$O$500,MATCH($A9&G$2,Feuil4!$A$2:$A$500&Feuil4!$B$2:$B$500,0))} -> Vendeur 5 | H9: {=INDEX(Feuil4!$O$2:$O$500,MATCH($A9&H$2,Feuil4!$A$2:$A$500&Feuil4!$B$2:$B$500,0))} | I9: {=INDEX(Feuil4!$O$2:$O$500,MATCH($A9&I$2,Feuil4!$A$2:$A$500&Feuil4!$B$2:$B$500,0))} | ... AD9: {=INDEX(Feuil4!$O$2:$O$500,MATCH($A9&AD$2,Feuil4!$A$2:$A$500&Feuil4!$B$2:$B$500,0))}
A10: Ville 8 | B10: {=INDEX(Feuil4!$O$2:$O$500,MATCH($A10&B$2,Feuil4!$A$2:$A$500&Feuil4!$B$2:$B$500,0))} | C10: {=INDEX(Feuil4!$O$2:$O$500,MATCH($A10&C$2,Feuil4!$A$2:$A$500&Feuil4!$B$2:$B$500,0))} | D10: {=INDEX(Feuil4!$O$2:$O$500,MATCH($A10&D$2,Feuil4!$A$2:$A$500&Feuil4!$B$2:$B$500,0))} | E10: {=INDEX(Feuil4!$O$2:$O$500,MATCH($A10&E$2,Feuil4!$A$2:$A$500&Feuil4!$B$2:$B$500,0))} | F10: {=INDEX(Feuil4!$O$2:$O$500,MATCH($A10&F$2,Feuil4!$A$2:$A$500&Feuil4!$B$2:$B$500,0))} | G10: {=INDEX(Feuil4!$O$2:$O$500,MATCH($A10&G$2,Feuil4!$A$2:$A$500&Feuil4!$B$2:$B$500,0))} | H10: {=INDEX(Feuil4!$O$2:$O$500,MATCH($A10&H$2,Feuil4!$A$2:$A$500&Feuil4!$B$2:$B$500,0))} | I10: {=INDEX(Feuil4!$O$2:$O$500,MATCH($A10&I$2,Feuil4!$A$2:$A$500&Feuil4!$B$2:$B$500,0))} | ... AD10: {=INDEX(Feuil4!$O$2:$O$500,MATCH($A10&AD$2,Feuil4!$A$2:$A$500&Feuil4!$B$2:$B$500,0))}
A11: Ville 9 | B11: {=INDEX(Feuil4!$O$2:$O$500,MATCH($A11&B$2,Feuil4!$A$2:$A$500&Feuil4!$B$2:$B$500,0))} | C11: {=INDEX(Feuil4!$O$2:$O$500,MATCH($A11&C$2,Feuil4!$A$2:$A$500&Feuil4!$B$2:$B$500,0))} | D11: {=INDEX(Feuil4!$O$2:$O$500,MATCH($A11&D$2,Feuil4!$A$2:$A$500&Feuil4!$B$2:$B$500,0))} | E11: {=INDEX(Feuil4!$O$2:$O$500,MATCH($A11&E$2,Feuil4!$A$2:$A$500&Feuil4!$B$2:$B$500,0))} | F11: {=INDEX(Feuil4!$O$2:$O$500,MATCH($A11&F$2,Feuil4!$A$2:$A$500&Feuil4!$B$2:$B$500,0))} | G11: {=INDEX(Feuil4!$O$2:$O$500,MATCH($A11&G$2,Feuil4!$A$2:$A$500&Feuil4!$B$2:$B$500,0))} | H11: {=INDEX(Feuil4!$O$2:$O$500,MATCH($A11&H$2,Feuil4!$A$2:$A$500&Feuil4!$B$2:$B$500,0))} | I11: {=INDEX(Feuil4!$O$2:$O$500,MATCH($A11&I$2,Feuil4!$A$2:$A$500&Feuil4!$B$2:$B$500,0))} -> Vendeur 5 | ... AD11: {=INDEX(Feuil4!$O$2:$O$500,MATCH($A11&AD$2,Feuil4!$A$2:$A$500&Feuil4!$B$2:$B$500,0))}
A12: Ville 10 | B12: {=INDEX(Feuil4!$O$2:$O$500,MATCH($A12&B$2,Feuil4!$A$2:$A$500&Feuil4!$B$2:$B$500,0))} | C12: {=INDEX(Feuil4!$O$2:$O$500,MATCH($A12&C$2,Feuil4!$A$2:$A$500&Feuil4!$B$2:$B$500,0))} -> Vendeur 3 | D12: {=INDEX(Feuil4!$O$2:$O$500,MATCH($A12&D$2,Feuil4!$A$2:$A$500&Feuil4!$B$2:$B$500,0))} -> Vendeur 4 | E12: {=INDEX(Feuil4!$O$2:$O$500,MATCH($A12&E$2,Feuil4!$A$2:$A$500&Feuil4!$B$2:$B$500,0))} | F12: {=INDEX(Feuil4!$O$2:$O$500,MATCH($A12&F$2,Feuil4!$A$2:$A$500&Feuil4!$B$2:$B$500,0))} | G12: {=INDEX(Feuil4!$O$2:$O$500,MATCH($A12&G$2,Feuil4!$A$2:$A$500&Feuil4!$B$2:$B$500,0))} | H12: {=INDEX(Feuil4!$O$2:$O$500,MATCH($A12&H$2,Feuil4!$A$2:$A$500&Feuil4!$B$2:$B$500,0))} | I12: {=INDEX(Feuil4!$O$2:$O$500,MATCH($A12&I$2,Feuil4!$A$2:$A$500&Feuil4!$B$2:$B$500,0))} | ... AD12: {=INDEX(Feuil4!$O$2:$O$500,MATCH($A12&AD$2,Feuil4!$A$2:$A$500&Feuil4!$B$2:$B$500,0))}
A13: Ville 11 | B13: {=INDEX(Feuil4!$O$2:$O$500,MATCH($A13&B$2,Feuil4!$A$2:$A$500&Feuil4!$B$2:$B$500,0))} | C13: {=INDEX(Feuil4!$O$2:$O$500,MATCH($A13&C$2,Feuil4!$A$2:$A$500&Feuil4!$B$2:$B$500,0))} | D13: {=INDEX(Feuil4!$O$2:$O$500,MATCH($A13&D$2,Feuil4!$A$2:$A$500&Feuil4!$B$2:$B$500,0))} -> Vendeur 11 | E13: {=INDEX(Feuil4!$O$2:$O$500,MATCH($A13&E$2,Feuil4!$A$2:$A$500&Feuil4!$B$2:$B$500,0))} | F13: {=INDEX(Feuil4!$O$2:$O$500,MATCH($A13&F$2,Feuil4!$A$2:$A$500&Feuil4!$B$2:$B$500,0))} | G13: {=INDEX(Feuil4!$O$2:$O$500,MATCH($A13&G$2,Feuil4!$A$2:$A$500&Feuil4!$B$2:$B$500,0))} | H13: {=INDEX(Feuil4!$O$2:$O$500,MATCH($A13&H$2,Feuil4!$A$2:$A$500&Feuil4!$B$2:$B$500,0))} | I13: {=INDEX(Feuil4!$O$2:$O$500,MATCH($A13&I$2,Feuil4!$A$2:$A$500&Feuil4!$B$2:$B$500,0))} -> Vendeur 13 | ... AD13: {=INDEX(Feuil4!$O$2:$O$500,MATCH($A13&AD$2,Feuil4!$A$2:$A$500&Feuil4!$B$2:$B$500,0))}
A14: Ville 12 | B14: {=INDEX(Feuil4!$O$2:$O$500,MATCH($A14&B$2,Feuil4!$A$2:$A$500&Feuil4!$B$2:$B$500,0))} | C14: {=INDEX(Feuil4!$O$2:$O$500,MATCH($A14&C$2,Feuil4!$A$2:$A$500&Feuil4!$B$2:$B$500,0))} | D14: {=INDEX(Feuil4!$O$2:$O$500,MATCH($A14&D$2,Feuil4!$A$2:$A$500&Feuil4!$B$2:$B$500,0))} | E14: {=INDEX(Feuil4!$O$2:$O$500,MATCH($A14&E$2,Feuil4!$A$2:$A$500&Feuil4!$B$2:$B$500,0))} | F14: {=INDEX(Feuil4!$O$2:$O$500,MATCH($A14&F$2,Feuil4!$A$2:$A$500&Feuil4!$B$2:$B$500,0))} | G14: {=INDEX(Feuil4!$O$2:$O$500,MATCH($A14&G$2,Feuil4!$A$2:$A$500&Feuil4!$B$2:$B$500,0))} | H14: {=INDEX(Feuil4!$O$2:$O$500,MATCH($A14&H$2,Feuil4!$A$2:$A$500&Feuil4!$B$2:$B$500,0))} | I14: {=INDEX(Feuil4!$O$2:$O$500,MATCH($A14&I$2,Feuil4!$A$2:$A$500&Feuil4!$B$2:$B$500,0))} | ... AD14: {=INDEX(Feuil4!$O$2:$O$500,MATCH($A14&AD$2,Feuil4!$A$2:$A$500&Feuil4!$B$2:$B$500,0))}
... A17: Ville 15 | B17: {=INDEX(Feuil4!$O$2:$O$500,MATCH($A17&B$2,Feuil4!$A$2:$A$500&Feuil4!$B$2:$B$500,0))} | C17: {=INDEX(Feuil4!$O$2:$O$500,MATCH($A17&C$2,Feuil4!$A$2:$A$500&Feuil4!$B$2:$B$500,0))} | D17: {=INDEX(Feuil4!$O$2:$O$500,MATCH($A17&D$2,Feuil4!$A$2:$A$500&Feuil4!$B$2:$B$500,0))} | E17: {=INDEX(Feuil4!$O$2:$O$500,MATCH($A17&E$2,Feuil4!$A$2:$A$500&Feuil4!$B$2:$B$500,0))} | F17: {=INDEX(Feuil4!$O$2:$O$500,MATCH($A17&F$2,Feuil4!$A$2:$A$500&Feuil4!$B$2:$B$500,0))} | G17: {=INDEX(Feuil4!$O$2:$O$500,MATCH($A17&G$2,Feuil4!$A$2:$A$500&Feuil4!$B$2:$B$500,0))} | H17: {=INDEX(Feuil4!$O$2:$O$500,MATCH($A17&H$2,Feuil4!$A$2:$A$500&Feuil4!$B$2:$B$500,0))} | I17: {=INDEX(Feuil4!$O$2:$O$500,MATCH($A17&I$2,Feuil4!$A$2:$A$500&Feuil4!$B$2:$B$500,0))} | ... AD17: {=INDEX(Feuil4!$O$2:$O$500,MATCH($A17&AD$2,Feuil4!$A$2:$A$500&Feuil4!$B$2:$B$500,0))}

Sheet Feuil4
A2: =OFFSET(Feuil3!$A$3,INT(ROW(A1)/29),,) -> Ville 1 | B2: =OFFSET(Feuil3!$A$2,,COUNTIF(A$2:A2,Feuil4!A2),,) -> Fruit 1 | C2: {=IFERROR(INDEX(vendeur2,,SMALL(IF((bddville=$A2)*(bddfruit=$B2),COLUMN(vendeur2)-2,""),COLUMN(A:A))),"")} -> Vendeur 1 | D2: {=IFERROR(INDEX(vendeur2,,SMALL(IF((bddville=$A2)*(bddfruit=$B2),COLUMN(vendeur2)-2,""),COLUMN(B:B))),"")} -> Vendeur 4 | E2: {=IFERROR(INDEX(vendeur2,,SMALL(IF((bddville=$A2)*(bddfruit=$B2),COLUMN(vendeur2)-2,""),COLUMN(C:C))),"")} -> Vendeur 14 | F2: {=IFERROR(INDEX(vendeur2,,SMALL(IF((bddville=$A2)*(bddfruit=$B2),COLUMN(vendeur2)-2,""),COLUMN(D:D))),"")} | G2: {=IFERROR(INDEX(vendeur2,,SMALL(IF((bddville=$A2)*(bddfruit=$B2),COLUMN(vendeur2)-2,""),COLUMN(E:E))),"")} | H2: {=IFERROR(INDEX(vendeur2,,SMALL(IF((bddville=$A2)*(bddfruit=$B2),COLUMN(vendeur2)-2,""),COLUMN(F:F))),"")} | I2: {=IFERROR(INDEX(vendeur2,,SMALL(IF((bddville=$A2)*(bddfruit=$B2),COLUMN(vendeur2)-2,""),COLUMN(G:G))),"")} | J2: {=IFERROR(INDEX(vendeur2,,SMALL(IF((bddville=$A2)*(bddfruit=$B2),COLUMN(vendeur2)-2,""),COLUMN(H:H))),"")} | K2: {=IFERROR(INDEX(vendeur2,,SMALL(IF((bddville=$A2)*(bddfruit=$B2),COLUMN(vendeur2)-2,""),COLUMN(I:I))),"")} | L2: {=IFERROR(INDEX(vendeur2,,SMALL(IF((bddville=$A2)*(bddfruit=$B2),COLUMN(vendeur2)-2,""),COLUMN(J:J))),"")} | M2: {=IFERROR(INDEX(vendeur2,,SMALL(IF((bddville=$A2)*(bddfruit=$B2),COLUMN(vendeur2)-2,""),COLUMN(K:K))),"")} | N2: {=IFERROR(INDEX(vendeur2,,SMALL(IF((bddville=$A2)*(bddfruit=$B2),COLUMN(vendeur2)-2,""),COLUMN(L:L))),"")} | O2: =C2&" "&D2&" "&E2&" "&F2&" "&I2&" "&J2&" "&K2&" "&L2 -> Vendeur 1 Vendeur 4 Vendeur 14
A3: =OFFSET(Feuil3!$A$3,INT(ROW(A2)/29),,) -> Ville 1 | B3: =OFFSET(Feuil3!$A$2,,COUNTIF(A$2:A3,Feuil4!A3),,) -> Fruit 2 | C3: {=IFERROR(INDEX(vendeur2,,SMALL(IF((bddville=$A3)*(bddfruit=$B3),COLUMN(vendeur2)-2,""),COLUMN(A:A))),"")} -> Vendeur 6 | D3: {=IFERROR(INDEX(vendeur2,,SMALL(IF((bddville=$A3)*(bddfruit=$B3),COLUMN(vendeur2)-2,""),COLUMN(B:B))),"")} -> Vendeur 11 | E3: {=IFERROR(INDEX(vendeur2,,SMALL(IF((bddville=$A3)*(bddfruit=$B3),COLUMN(vendeur2)-2,""),COLUMN(C:C))),"")} -> Vendeur 15 | F3: {=IFERROR(INDEX(vendeur2,,SMALL(IF((bddville=$A3)*(bddfruit=$B3),COLUMN(vendeur2)-2,""),COLUMN(D:D))),"")} | G3: {=IFERROR(INDEX(vendeur2,,SMALL(IF((bddville=$A3)*(bddfruit=$B3),COLUMN(vendeur2)-2,""),COLUMN(E:E))),"")} | H3: {=IFERROR(INDEX(vendeur2,,SMALL(IF((bddville=$A3)*(bddfruit=$B3),COLUMN(vendeur2)-2,""),COLUMN(F:F))),"")} | I3: {=IFERROR(INDEX(vendeur2,,SMALL(IF((bddville=$A3)*(bddfruit=$B3),COLUMN(vendeur2)-2,""),COLUMN(G:G))),"")} | J3: {=IFERROR(INDEX(vendeur2,,SMALL(IF((bddville=$A3)*(bddfruit=$B3),COLUMN(vendeur2)-2,""),COLUMN(H:H))),"")} | K3: {=IFERROR(INDEX(vendeur2,,SMALL(IF((bddville=$A3)*(bddfruit=$B3),COLUMN(vendeur2)-2,""),COLUMN(I:I))),"")} | L3: {=IFERROR(INDEX(vendeur2,,SMALL(IF((bddville=$A3)*(bddfruit=$B3),COLUMN(vendeur2)-2,""),COLUMN(J:J))),"")} | M3: {=IFERROR(INDEX(vendeur2,,SMALL(IF((bddville=$A3)*(bddfruit=$B3),COLUMN(vendeur2)-2,""),COLUMN(K:K))),"")} | N3: {=IFERROR(INDEX(vendeur2,,SMALL(IF((bddville=$A3)*(bddfruit=$B3),COLUMN(vendeur2)-2,""),COLUMN(L:L))),"")} | O3: =C3&" "&D3&" "&E3&" "&F3&" "&I3&" "&J3&" "&K3&" "&L3 -> Vendeur 6 Vendeur 11 Vendeur 15
A4: =OFFSET(Feuil3!$A$3,INT(ROW(A3)/29),,) -> Ville 1 | B4: =OFFSET(Feuil3!$A$2,,COUNTIF(A$2:A4,Feuil4!A4),,) -> Fruit 3 | C4: {=IFERROR(INDEX(vendeur2,,SMALL(IF((bddville=$A4)*(bddfruit=$B4),COLUMN(vendeur2)-2,""),COLUMN(A:A))),"")} -> Vendeur 7 | D4: {=IFERROR(INDEX(vendeur2,,SMALL(IF((bddville=$A4)*(bddfruit=$B4),COLUMN(vendeur2)-2,""),COLUMN(B:B))),"")} | E4: {=IFERROR(INDEX(vendeur2,,SMALL(IF((bddville=$A4)*(bddfruit=$B4),COLUMN(vendeur2)-2,""),COLUMN(C:C))),"")} | F4: {=IFERROR(INDEX(vendeur2,,SMALL(IF((bddville=$A4)*(bddfruit=$B4),COLUMN(vendeur2)-2,""),COLUMN(D:D))),"")} | G4: {=IFERROR(INDEX(vendeur2,,SMALL(IF((bddville=$A4)*(bddfruit=$B4),COLUMN(vendeur2)-2,""),COLUMN(E:E))),"")} | H4: {=IFERROR(INDEX(vendeur2,,SMALL(IF((bddville=$A4)*(bddfruit=$B4),COLUMN(vendeur2)-2,""),COLUMN(F:F))),"")} | I4: {=IFERROR(INDEX(vendeur2,,SMALL(IF((bddville=$A4)*(bddfruit=$B4),COLUMN(vendeur2)-2,""),COLUMN(G:G))),"")} | J4: {=IFERROR(INDEX(vendeur2,,SMALL(IF((bddville=$A4)*(bddfruit=$B4),COLUMN(vendeur2)-2,""),COLUMN(H:H))),"")} | K4: {=IFERROR(INDEX(vendeur2,,SMALL(IF((bddville=$A4)*(bddfruit=$B4),COLUMN(vendeur2)-2,""),COLUMN(I:I))),"")} | L4: {=IFERROR(INDEX(vendeur2,,SMALL(IF((bddville=$A4)*(bddfruit=$B4),COLUMN(vendeur2)-2,""),COLUMN(J:J))),"")} | M4: {=IFERROR(INDEX(vendeur2,,SMALL(IF((bddville=$A4)*(bddfruit=$B4),COLUMN(vendeur2)-2,""),COLUMN(K:K))),"")} | N4: {=IFERROR(INDEX(vendeur2,,SMALL(IF((bddville=$A4)*(bddfruit=$B4),COLUMN(vendeur2)-2,""),COLUMN(L:L))),"")} | O4: =C4&" "&D4&" "&E4&" "&F4&" "&I4&" "&J4&" "&K4&" "&L4 -> Vendeur 7
A5: =OFFSET(Feuil3!$A$3,INT(ROW(A4)/29),,) -> Ville 1 | B5: =OFFSET(Feuil3!$A$2,,COUNTIF(A$2:A5,Feuil4!A5),,) -> Fruit 4 | C5: {=IFERROR(INDEX(vendeur2,,SMALL(IF((bddville=$A5)*(bddfruit=$B5),COLUMN(vendeur2)-2,""),COLUMN(A:A))),"")} | D5: {=IFERROR(INDEX(vendeur2,,SMALL(IF((bddville=$A5)*(bddfruit=$B5),COLUMN(vendeur2)-2,""),COLUMN(B:B))),"")} | E5: {=IFERROR(INDEX(vendeur2,,SMALL(IF((bddville=$A5)*(bddfruit=$B5),COLUMN(vendeur2)-2,""),COLUMN(C:C))),"")} | F5: {=IFERROR(INDEX(vendeur2,,SMALL(IF((bddville=$A5)*(bddfruit=$B5),COLUMN(vendeur2)-2,""),COLUMN(D:D))),"")} | G5: {=IFERROR(INDEX(vendeur2,,SMALL(IF((bddville=$A5)*(bddfruit=$B5),COLUMN(vendeur2)-2,""),COLUMN(E:E))),"")} | H5: {=IFERROR(INDEX(vendeur2,,SMALL(IF((bddville=$A5)*(bddfruit=$B5),COLUMN(vendeur2)-2,""),COLUMN(F:F))),"")} | I5: {=IFERROR(INDEX(vendeur2,,SMALL(IF((bddville=$A5)*(bddfruit=$B5),COLUMN(vendeur2)-2,""),COLUMN(G:G))),"")} | J5: {=IFERROR(INDEX(vendeur2,,SMALL(IF((bddville=$A5)*(bddfruit=$B5),COLUMN(vendeur2)-2,""),COLUMN(H:H))),"")} | K5: {=IFERROR(INDEX(vendeur2,,SMALL(IF((bddville=$A5)*(bddfruit=$B5),COLUMN(vendeur2)-2,""),COLUMN(I:I))),"")} | L5: {=IFERROR(INDEX(vendeur2,,SMALL(IF((bddville=$A5)*(bddfruit=$B5),COLUMN(vendeur2)-2,""),COLUMN(J:J))),"")} | M5: {=IFERROR(INDEX(vendeur2,,SMALL(IF((bddville=$A5)*(bddfruit=$B5),COLUMN(vendeur2)-2,""),COLUMN(K:K))),"")} | N5: {=IFERROR(INDEX(vendeur2,,SMALL(IF((bddville=$A5)*(bddfruit=$B5),COLUMN(vendeur2)-2,""),COLUMN(L:L))),"")} | O5: =C5&" "&D5&" "&E5&" "&F5&" "&I5&" "&J5&" "&K5&" "&L5
A6: =OFFSET(Feuil3!$A$3,INT(ROW(A5)/29),,) -> Ville 1 | B6: =OFFSET(Feuil3!$A$2,,COUNTIF(A$2:A6,Feuil4!A6),,) -> Fruit 5 | C6: {=IFERROR(INDEX(vendeur2,,SMALL(IF((bddville=$A6)*(bddfruit=$B6),COLUMN(vendeur2)-2,""),COLUMN(A:A))),"")} -> Vendeur 13 | D6: {=IFERROR(INDEX(vendeur2,,SMALL(IF((bddville=$A6)*(bddfruit=$B6),COLUMN(vendeur2)-2,""),COLUMN(B:B))),"")} | E6: {=IFERROR(INDEX(vendeur2,,SMALL(IF((bddville=$A6)*(bddfruit=$B6),COLUMN(vendeur2)-2,""),COLUMN(C:C))),"")} | F6: {=IFERROR(INDEX(vendeur2,,SMALL(IF((bddville=$A6)*(bddfruit=$B6),COLUMN(vendeur2)-2,""),COLUMN(D:D))),"")} | G6: {=IFERROR(INDEX(vendeur2,,SMALL(IF((bddville=$A6)*(bddfruit=$B6),COLUMN(vendeur2)-2,""),COLUMN(E:E))),"")} | H6: {=IFERROR(INDEX(vendeur2,,SMALL(IF((bddville=$A6)*(bddfruit=$B6),COLUMN(vendeur2)-2,""),COLUMN(F:F))),"")} | I6: {=IFERROR(INDEX(vendeur2,,SMALL(IF((bddville=$A6)*(bddfruit=$B6),COLUMN(vendeur2)-2,""),COLUMN(G:G))),"")} | J6: {=IFERROR(INDEX(vendeur2,,SMALL(IF((bddville=$A6)*(bddfruit=$B6),COLUMN(vendeur2)-2,""),COLUMN(H:H))),"")} | K6: {=IFERROR(INDEX(vendeur2,,SMALL(IF((bddville=$A6)*(bddfruit=$B6),COLUMN(vendeur2)-2,""),COLUMN(I:I))),"")} | L6: {=IFERROR(INDEX(vendeur2,,SMALL(IF((bddville=$A6)*(bddfruit=$B6),COLUMN(vendeur2)-2,""),COLUMN(J:J))),"")} | M6: {=IFERROR(INDEX(vendeur2,,SMALL(IF((bddville=$A6)*(bddfruit=$B6),COLUMN(vendeur2)-2,""),COLUMN(K:K))),"")} | N6: {=IFERROR(INDEX(vendeur2,,SMALL(IF((bddville=$A6)*(bddfruit=$B6),COLUMN(vendeur2)-2,""),COLUMN(L:L))),"")} | O6: =C6&" "&D6&" "&E6&" "&F6&" "&I6&" "&J6&" "&K6&" "&L6 -> Vendeur 13
A7: =OFFSET(Feuil3!$A$3,INT(ROW(A6)/29),,) -> Ville 1 | B7: =OFFSET(Feuil3!$A$2,,COUNTIF(A$2:A7,Feuil4!A7),,) -> Fruit 6 | C7: {=IFERROR(INDEX(vendeur2,,SMALL(IF((bddville=$A7)*(bddfruit=$B7),COLUMN(vendeur2)-2,""),COLUMN(A:A))),"")} | D7: {=IFERROR(INDEX(vendeur2,,SMALL(IF((bddville=$A7)*(bddfruit=$B7),COLUMN(vendeur2)-2,""),COLUMN(B:B))),"")} | E7: {=IFERROR(INDEX(vendeur2,,SMALL(IF((bddville=$A7)*(bddfruit=$B7),COLUMN(vendeur2)-2,""),COLUMN(C:C))),"")} | F7: {=IFERROR(INDEX(vendeur2,,SMALL(IF((bddville=$A7)*(bddfruit=$B7),COLUMN(vendeur2)-2,""),COLUMN(D:D))),"")} | G7: {=IFERROR(INDEX(vendeur2,,SMALL(IF((bddville=$A7)*(bddfruit=$B7),COLUMN(vendeur2)-2,""),COLUMN(E:E))),"")} | H7: {=IFERROR(INDEX(vendeur2,,SMALL(IF((bddville=$A7)*(bddfruit=$B7),COLUMN(vendeur2)-2,""),COLUMN(F:F))),"")} | I7: {=IFERROR(INDEX(vendeur2,,SMALL(IF((bddville=$A7)*(bddfruit=$B7),COLUMN(vendeur2)-2,""),COLUMN(G:G))),"")} | J7: {=IFERROR(INDEX(vendeur2,,SMALL(IF((bddville=$A7)*(bddfruit=$B7),COLUMN(vendeur2)-2,""),COLUMN(H:H))),"")} | K7: {=IFERROR(INDEX(vendeur2,,SMALL(IF((bddville=$A7)*(bddfruit=$B7),COLUMN(vendeur2)-2,""),COLUMN(I:I))),"")} | L7: {=IFERROR(INDEX(vendeur2,,SMALL(IF((bddville=$A7)*(bddfruit=$B7),COLUMN(vendeur2)-2,""),COLUMN(J:J))),"")} | M7: {=IFERROR(INDEX(vendeur2,,SMALL(IF((bddville=$A7)*(bddfruit=$B7),COLUMN(vendeur2)-2,""),COLUMN(K:K))),"")} | N7: {=IFERROR(INDEX(vendeur2,,SMALL(IF((bddville=$A7)*(bddfruit=$B7),COLUMN(vendeur2)-2,""),COLUMN(L:L))),"")} | O7: =C7&" "&D7&" "&E7&" "&F7&" "&I7&" "&J7&" "&K7&" "&L7
A8: =OFFSET(Feuil3!$A$3,INT(ROW(A7)/29),,) -> Ville 1 | B8: =OFFSET(Feuil3!$A$2,,COUNTIF(A$2:A8,Feuil4!A8),,) -> Fruit 7 | C8: {=IFERROR(INDEX(vendeur2,,SMALL(IF((bddville=$A8)*(bddfruit=$B8),COLUMN(vendeur2)-2,""),COLUMN(A:A))),"")} | D8: {=IFERROR(INDEX(vendeur2,,SMALL(IF((bddville=$A8)*(bddfruit=$B8),COLUMN(vendeur2)-2,""),COLUMN(B:B))),"")} | E8: {=IFERROR(INDEX(vendeur2,,SMALL(IF((bddville=$A8)*(bddfruit=$B8),COLUMN(vendeur2)-2,""),COLUMN(C:C))),"")} | F8: {=IFERROR(INDEX(vendeur2,,SMALL(IF((bddville=$A8)*(bddfruit=$B8),COLUMN(vendeur2)-2,""),COLUMN(D:D))),"")} | G8: {=IFERROR(INDEX(vendeur2,,SMALL(IF((bddville=$A8)*(bddfruit=$B8),COLUMN(vendeur2)-2,""),COLUMN(E:E))),"")} | H8: {=IFERROR(INDEX(vendeur2,,SMALL(IF((bddville=$A8)*(bddfruit=$B8),COLUMN(vendeur2)-2,""),COLUMN(F:F))),"")} | I8: {=IFERROR(INDEX(vendeur2,,SMALL(IF((bddville=$A8)*(bddfruit=$B8),COLUMN(vendeur2)-2,""),COLUMN(G:G))),"")} | J8: {=IFERROR(INDEX(vendeur2,,SMALL(IF((bddville=$A8)*(bddfruit=$B8),COLUMN(vendeur2)-2,""),COLUMN(H:H))),"")} | K8: {=IFERROR(INDEX(vendeur2,,SMALL(IF((bddville=$A8)*(bddfruit=$B8),COLUMN(vendeur2)-2,""),COLUMN(I:I))),"")} | L8: {=IFERROR(INDEX(vendeur2,,SMALL(IF((bddville=$A8)*(bddfruit=$B8),COLUMN(vendeur2)-2,""),COLUMN(J:J))),"")} | M8: {=IFERROR(INDEX(vendeur2,,SMALL(IF((bddville=$A8)*(bddfruit=$B8),COLUMN(vendeur2)-2,""),COLUMN(K:K))),"")} | N8: {=IFERROR(INDEX(vendeur2,,SMALL(IF((bddville=$A8)*(bddfruit=$B8),COLUMN(vendeur2)-2,""),COLUMN(L:L))),"")} | O8: =C8&" "&D8&" "&E8&" "&F8&" "&I8&" "&J8&" "&K8&" "&L8
A9: =OFFSET(Feuil3!$A$3,INT(ROW(A8)/29),,) -> Ville 1 | B9: =OFFSET(Feuil3!$A$2,,COUNTIF(A$2:A9,Feuil4!A9),,) -> Fruit 8 | C9: {=IFERROR(INDEX(vendeur2,,SMALL(IF((bddville=$A9)*(bddfruit=$B9),COLUMN(vendeur2)-2,""),COLUMN(A:A))),"")} | D9: {=IFERROR(INDEX(vendeur2,,SMALL(IF((bddville=$A9)*(bddfruit=$B9),COLUMN(vendeur2)-2,""),COLUMN(B:B))),"")} | E9: {=IFERROR(INDEX(vendeur2,,SMALL(IF((bddville=$A9)*(bddfruit=$B9),COLUMN(vendeur2)-2,""),COLUMN(C:C))),"")} | F9: {=IFERROR(INDEX(vendeur2,,SMALL(IF((bddville=$A9)*(bddfruit=$B9),COLUMN(vendeur2)-2,""),COLUMN(D:D))),"")} | G9: {=IFERROR(INDEX(vendeur2,,SMALL(IF((bddville=$A9)*(bddfruit=$B9),COLUMN(vendeur2)-2,""),COLUMN(E:E))),"")} | H9: {=IFERROR(INDEX(vendeur2,,SMALL(IF((bddville=$A9)*(bddfruit=$B9),COLUMN(vendeur2)-2,""),COLUMN(F:F))),"")} | I9: {=IFERROR(INDEX(vendeur2,,SMALL(IF((bddville=$A9)*(bddfruit=$B9),COLUMN(vendeur2)-2,""),COLUMN(G:G))),"")} | J9: {=IFERROR(INDEX(vendeur2,,SMALL(IF((bddville=$A9)*(bddfruit=$B9),COLUMN(vendeur2)-2,""),COLUMN(H:H))),"")} | K9: {=IFERROR(INDEX(vendeur2,,SMALL(IF((bddville=$A9)*(bddfruit=$B9),COLUMN(vendeur2)-2,""),COLUMN(I:I))),"")} | L9: {=IFERROR(INDEX(vendeur2,,SMALL(IF((bddville=$A9)*(bddfruit=$B9),COLUMN(vendeur2)-2,""),COLUMN(J:J))),"")} | M9: {=IFERROR(INDEX(vendeur2,,SMALL(IF((bddville=$A9)*(bddfruit=$B9),COLUMN(vendeur2)-2,""),COLUMN(K:K))),"")} | N9: {=IFERROR(INDEX(vendeur2,,SMALL(IF((bddville=$A9)*(bddfruit=$B9),COLUMN(vendeur2)-2,""),COLUMN(L:L))),"")} | O9: =C9&" "&D9&" "&E9&" "&F9&" "&I9&" "&J9&" "&K9&" "&L9
A10: =OFFSET(Feuil3!$A$3,INT(ROW(A9)/29),,) -> Ville 1 | B10: =OFFSET(Feuil3!$A$2,,COUNTIF(A$2:A10,Feuil4!A10),,) -> Fruit 9 | C10: {=IFERROR(INDEX(vendeur2,,SMALL(IF((bddville=$A10)*(bddfruit=$B10),COLUMN(vendeur2)-2,""),COLUMN(A:A))),"")} | D10: {=IFERROR(INDEX(vendeur2,,SMALL(IF((bddville=$A10)*(bddfruit=$B10),COLUMN(vendeur2)-2,""),COLUMN(B:B))),"")} | E10: {=IFERROR(INDEX(vendeur2,,SMALL(IF((bddville=$A10)*(bddfruit=$B10),COLUMN(vendeur2)-2,""),COLUMN(C:C))),"")} | F10: {=IFERROR(INDEX(vendeur2,,SMALL(IF((bddville=$A10)*(bddfruit=$B10),COLUMN(vendeur2)-2,""),COLUMN(D:D))),"")} | G10: {=IFERROR(INDEX(vendeur2,,SMALL(IF((bddville=$A10)*(bddfruit=$B10),COLUMN(vendeur2)-2,""),COLUMN(E:E))),"")} | H10: {=IFERROR(INDEX(vendeur2,,SMALL(IF((bddville=$A10)*(bddfruit=$B10),COLUMN(vendeur2)-2,""),COLUMN(F:F))),"")} | I10: {=IFERROR(INDEX(vendeur2,,SMALL(IF((bddville=$A10)*(bddfruit=$B10),COLUMN(vendeur2)-2,""),COLUMN(G:G))),"")} | J10: {=IFERROR(INDEX(vendeur2,,SMALL(IF((bddville=$A10)*(bddfruit=$B10),COLUMN(vendeur2)-2,""),COLUMN(H:H))),"")} | K10: {=IFERROR(INDEX(vendeur2,,SMALL(IF((bddville=$A10)*(bddfruit=$B10),COLUMN(vendeur2)-2,""),COLUMN(I:I))),"")} | L10: {=IFERROR(INDEX(vendeur2,,SMALL(IF((bddville=$A10)*(bddfruit=$B10),COLUMN(vendeur2)-2,""),COLUMN(J:J))),"")} | M10: {=IFERROR(INDEX(vendeur2,,SMALL(IF((bddville=$A10)*(bddfruit=$B10),COLUMN(vendeur2)-2,""),COLUMN(K:K))),"")} | N10: {=IFERROR(INDEX(vendeur2,,SMALL(IF((bddville=$A10)*(bddfruit=$B10),COLUMN(vendeur2)-2,""),COLUMN(L:L))),"")} | O10: =C10&" "&D10&" "&E10&" "&F10&" "&I10&" "&J10&" "&K10&" "&L10
A11: =OFFSET(Feuil3!$A$3,INT(ROW(A10)/29),,) -> Ville 1 | B11: =OFFSET(Feuil3!$A$2,,COUNTIF(A$2:A11,Feuil4!A11),,) -> Fruit 10 | C11: {=IFERROR(INDEX(vendeur2,,SMALL(IF((bddville=$A11)*(bddfruit=$B11),COLUMN(vendeur2)-2,""),COLUMN(A:A))),"")} | D11: {=IFERROR(INDEX(vendeur2,,SMALL(IF((bddville=$A11)*(bddfruit=$B11),COLUMN(vendeur2)-2,""),COLUMN(B:B))),"")} | E11: {=IFERROR(INDEX(vendeur2,,SMALL(IF((bddville=$A11)*(bddfruit=$B11),COLUMN(vendeur2)-2,""),COLUMN(C:C))),"")} | F11: {=IFERROR(INDEX(vendeur2,,SMALL(IF((bddville=$A11)*(bddfruit=$B11),COLUMN(vendeur2)-2,""),COLUMN(D:D))),"")} | G11: {=IFERROR(INDEX(vendeur2,,SMALL(IF((bddville=$A11)*(bddfruit=$B11),COLUMN(vendeur2)-2,""),COLUMN(E:E))),"")} | H11: {=IFERROR(INDEX(vendeur2,,SMALL(IF((bddville=$A11)*(bddfruit=$B11),COLUMN(vendeur2)-2,""),COLUMN(F:F))),"")} | I11: {=IFERROR(INDEX(vendeur2,,SMALL(IF((bddville=$A11)*(bddfruit=$B11),COLUMN(vendeur2)-2,""),COLUMN(G:G))),"")} | J11: {=IFERROR(INDEX(vendeur2,,SMALL(IF((bddville=$A11)*(bddfruit=$B11),COLUMN(vendeur2)-2,""),COLUMN(H:H))),"")} | K11: {=IFERROR(INDEX(vendeur2,,SMALL(IF((bddville=$A11)*(bddfruit=$B11),COLUMN(vendeur2)-2,""),COLUMN(I:I))),"")} | L11: {=IFERROR(INDEX(vendeur2,,SMALL(IF((bddville=$A11)*(bddfruit=$B11),COLUMN(vendeur2)-2,""),COLUMN(J:J))),"")} | M11: {=IFERROR(INDEX(vendeur2,,SMALL(IF((bddville=$A11)*(bddfruit=$B11),COLUMN(vendeur2)-2,""),COLUMN(K:K))),"")} | N11: {=IFERROR(INDEX(vendeur2,,SMALL(IF((bddville=$A11)*(bddfruit=$B11),COLUMN(vendeur2)-2,""),COLUMN(L:L))),"")} | O11: =C11&" "&D11&" "&E11&" "&F11&" "&I11&" "&J11&" "&K11&" "&L11
A12: =OFFSET(Feuil3!$A$3,INT(ROW(A11)/29),,) -> Ville 1 | B12: =OFFSET(Feuil3!$A$2,,COUNTIF(A$2:A12,Feuil4!A12),,) -> Fruit 11 | C12: {=IFERROR(INDEX(vendeur2,,SMALL(IF((bddville=$A12)*(bddfruit=$B12),COLUMN(vendeur2)-2,""),COLUMN(A:A))),"")} | D12: {=IFERROR(INDEX(vendeur2,,SMALL(IF((bddville=$A12)*(bddfruit=$B12),COLUMN(vendeur2)-2,""),COLUMN(B:B))),"")} | E12: {=IFERROR(INDEX(vendeur2,,SMALL(IF((bddville=$A12)*(bddfruit=$B12),COLUMN(vendeur2)-2,""),COLUMN(C:C))),"")} | F12: {=IFERROR(INDEX(vendeur2,,SMALL(IF((bddville=$A12)*(bddfruit=$B12),COLUMN(vendeur2)-2,""),COLUMN(D:D))),"")} | G12: {=IFERROR(INDEX(vendeur2,,SMALL(IF((bddville=$A12)*(bddfruit=$B12),COLUMN(vendeur2)-2,""),COLUMN(E:E))),"")} | H12: {=IFERROR(INDEX(vendeur2,,SMALL(IF((bddville=$A12)*(bddfruit=$B12),COLUMN(vendeur2)-2,""),COLUMN(F:F))),"")} | I12: {=IFERROR(INDEX(vendeur2,,SMALL(IF((bddville=$A12)*(bddfruit=$B12),COLUMN(vendeur2)-2,""),COLUMN(G:G))),"")} | J12: {=IFERROR(INDEX(vendeur2,,SMALL(IF((bddville=$A12)*(bddfruit=$B12),COLUMN(vendeur2)-2,""),COLUMN(H:H))),"")} | K12: {=IFERROR(INDEX(vendeur2,,SMALL(IF((bddville=$A12)*(bddfruit=$B12),COLUMN(vendeur2)-2,""),COLUMN(I:I))),"")} | L12: {=IFERROR(INDEX(vendeur2,,SMALL(IF((bddville=$A12)*(bddfruit=$B12),COLUMN(vendeur2)-2,""),COLUMN(J:J))),"")} | M12: {=IFERROR(INDEX(vendeur2,,SMALL(IF((bddville=$A12)*(bddfruit=$B12),COLUMN(vendeur2)-2,""),COLUMN(K:K))),"")} | N12: {=IFERROR(INDEX(vendeur2,,SMALL(IF((bddville=$A12)*(bddfruit=$B12),COLUMN(vendeur2)-2,""),COLUMN(L:L))),"")} | O12: =C12&" "&D12&" "&E12&" "&F12&" "&I12&" "&J12&" "&K12&" "&L12
A13: =OFFSET(Feuil3!$A$3,INT(ROW(A12)/29),,) -> Ville 1 | B13: =OFFSET(Feuil3!$A$2,,COUNTIF(A$2:A13,Feuil4!A13),,) -> Fruit 12 | C13: {=IFERROR(INDEX(vendeur2,,SMALL(IF((bddville=$A13)*(bddfruit=$B13),COLUMN(vendeur2)-2,""),COLUMN(A:A))),"")} | D13: {=IFERROR(INDEX(vendeur2,,SMALL(IF((bddville=$A13)*(bddfruit=$B13),COLUMN(vendeur2)-2,""),COLUMN(B:B))),"")} | E13: {=IFERROR(INDEX(vendeur2,,SMALL(IF((bddville=$A13)*(bddfruit=$B13),COLUMN(vendeur2)-2,""),COLUMN(C:C))),"")} | F13: {=IFERROR(INDEX(vendeur2,,SMALL(IF((bddville=$A13)*(bddfruit=$B13),COLUMN(vendeur2)-2,""),COLUMN(D:D))),"")} | G13: {=IFERROR(INDEX(vendeur2,,SMALL(IF((bddville=$A13)*(bddfruit=$B13),COLUMN(vendeur2)-2,""),COLUMN(E:E))),"")} | H13: {=IFERROR(INDEX(vendeur2,,SMALL(IF((bddville=$A13)*(bddfruit=$B13),COLUMN(vendeur2)-2,""),COLUMN(F:F))),"")} | I13: {=IFERROR(INDEX(vendeur2,,SMALL(IF((bddville=$A13)*(bddfruit=$B13),COLUMN(vendeur2)-2,""),COLUMN(G:G))),"")} | J13: {=IFERROR(INDEX(vendeur2,,SMALL(IF((bddville=$A13)*(bddfruit=$B13),COLUMN(vendeur2)-2,""),COLUMN(H:H))),"")} | K13: {=IFERROR(INDEX(vendeur2,,SMALL(IF((bddville=$A13)*(bddfruit=$B13),COLUMN(vendeur2)-2,""),COLUMN(I:I))),"")} | L13: {=IFERROR(INDEX(vendeur2,,SMALL(IF((bddville=$A13)*(bddfruit=$B13),COLUMN(vendeur2)-2,""),COLUMN(J:J))),"")} | M13: {=IFERROR(INDEX(vendeur2,,SMALL(IF((bddville=$A13)*(bddfruit=$B13),COLUMN(vendeur2)-2,""),COLUMN(K:K))),"")} | N13: {=IFERROR(INDEX(vendeur2,,SMALL(IF((bddville=$A13)*(bddfruit=$B13),COLUMN(vendeur2)-2,""),COLUMN(L:L))),"")} | O13: =C13&" "&D13&" "&E13&" "&F13&" "&I13&" "&J13&" "&K13&" "&L13
... A464: =OFFSET(Feuil3!$A$3,INT(ROW(A463)/29),,) -> 0 | B464: =OFFSET(Feuil3!$A$2,,COUNTIF(A$2:A464,Feuil4!A464),,) -> Fruit 29 | C464: {=IFERROR(INDEX(vendeur2,,SMALL(IF((bddville=$A464)*(bddfruit=$B464),COLUMN(vendeur2)-2,""),COLUMN(A:A))),"")} | D464: {=IFERROR(INDEX(vendeur2,,SMALL(IF((bddville=$A464)*(bddfruit=$B464),COLUMN(vendeur2)-2,""),COLUMN(B:B))),"")} | E464: {=IFERROR(INDEX(vendeur2,,SMALL(IF((bddville=$A464)*(bddfruit=$B464),COLUMN(vendeur2)-2,""),COLUMN(C:C))),"")} | F464: {=IFERROR(INDEX(vendeur2,,SMALL(IF((bddville=$A464)*(bddfruit=$B464),COLUMN(vendeur2)-2,""),COLUMN(D:D))),"")} | G464: {=IFERROR(INDEX(vendeur2,,SMALL(IF((bddville=$A464)*(bddfruit=$B464),COLUMN(vendeur2)-2,""),COLUMN(E:E))),"")} | H464: {=IFERROR(INDEX(vendeur2,,SMALL(IF((bddville=$A464)*(bddfruit=$B464),COLUMN(vendeur2)-2,""),COLUMN(F:F))),"")} | I464: {=IFERROR(INDEX(vendeur2,,SMALL(IF((bddville=$A464)*(bddfruit=$B464),COLUMN(vendeur2)-2,""),COLUMN(G:G))),"")} | J464: {=IFERROR(INDEX(vendeur2,,SMALL(IF((bddville=$A464)*(bddfruit=$B464),COLUMN(vendeur2)-2,""),COLUMN(H:H))),"")} | K464: {=IFERROR(INDEX(vendeur2,,SMALL(IF((bddville=$A464)*(bddfruit=$B464),COLUMN(vendeur2)-2,""),COLUMN(I:I))),"")} | L464: {=IFERROR(INDEX(vendeur2,,SMALL(IF((bddville=$A464)*(bddfruit=$B464),COLUMN(vendeur2)-2,""),COLUMN(J:J))),"")} | M464: {=IFERROR(INDEX(vendeur2,,SMALL(IF((bddville=$A464)*(bddfruit=$B464),COLUMN(vendeur2)-2,""),COLUMN(K:K))),"")} | N464: {=IFERROR(INDEX(vendeur2,,SMALL(IF((bddville=$A464)*(bddfruit=$B464),COLUMN(vendeur2)-2,""),COLUMN(L:L))),"")} | O464: =C464&" "&D464&" "&E464&" "&F464&" "&I464&" "&J464&" "&K464&" "&L464
A465: =OFFSET(Feuil3!$A$3,INT(ROW(A464)/29),,) -> 0 | B465: =OFFSET(Feuil3!$A$2,,COUNTIF(A$2:A465,Feuil4!A465),,) -> 0
A466: =OFFSET(Feuil3!$A$3,INT(ROW(A465)/29),,) -> 0 | B466: =OFFSET(Feuil3!$A$2,,COUNTIF(A$2:A466,Feuil4!A466),,) -> 0
A467: =OFFSET(Feuil3!$A$3,INT(ROW(A466)/29),,) -> 0 | B467: =OFFSET(Feuil3!$A$2,,COUNTIF(A$2:A467,Feuil4!A467),,) -> 0
