Workbook
Name c_noms: DIVISION!$F:$F
Name dept: DIVISION!$F$1
Name f_agent: OFFSET(p_agent,0,0,COUNTA(l_agent),1)
Name f_antenne: OFFSET(p_antenne,0,0,COUNTA(l_antenne),1)
Name f_demandeur: OFFSET(p_demandeur,0,0,COUNTA(l_demandeur),1)
Name f_statut: OFFSET(p_statut,0,0,COUNTA(l_statut),1)
Name INS: OFFSET(DIVISION!$F$1,,,COUNTA(DIVISION!$A:$A)-1,1)
Name l_agent: DONNEES!$B:$B
Name l_antenne: DONNEES!$D$1:$D$5
Name l_demandeur: DONNEES!$A:$A
Name l_noms: OFFSET(dept,0,0,COUNTA(c_noms)-1,1)
Name l_statut: DONNEES!$C:$C
Name p_agent: DONNEES!$B$1
Name p_antenne: DONNEES!$D$1
Name p_demandeur: DONNEES!$A$1
Name p_statut: DONNEES!$C$1
Name prétri: OFFSET(DIVISION!$H$2,,,COUNT(DIVISION!$H:$H))

Sheet ANNEE 20XX
A1: N° | C1: DATE DE RECEPTION DE LA DEMANDE | D1: TYPE DE DEMANDEUR | E1: REFERENCES DU DEMANDEUR | F1: DIVISION | G1: CODE INS DIVISION | I1: STATUT | K1: COMMENTAIRES & OBSERVATIONS | L1: DATE DE PRISE EN CHARGE | N1: DATE ENVOI DE LA NOTE | O1: N° NOTE | Q1: DATE DE RECEPTION | R1: DATE D'ENVOI
A2: 1 | B2: b | F2: =IFERROR(VLOOKUP(G2,DIVISION!$F$1:$G$604,2,FALSE),"Encoder code INS >>>") -> ville 1 | G2: 81001
A3: 2 | F3: =IFERROR(VLOOKUP(G3,DIVISION!$F$1:$G$604,2,FALSE),"Encoder code INS >>>") -> Encoder code INS >>>
A4: 3 | F4: =IFERROR(VLOOKUP(G4,DIVISION!$F$1:$G$604,2,FALSE),"Encoder code INS >>>") -> ville 234 | G4: 91001
A5: 4 | F5: =IFERROR(VLOOKUP(G5,DIVISION!$F$1:$G$604,2,FALSE),"Encoder code INS >>>") -> Encoder code INS >>>
A6: 5 | F6: =IFERROR(VLOOKUP(G6,DIVISION!$F$1:$G$604,2,FALSE),"Encoder code INS >>>") -> Encoder code INS >>>
A7: 6 | F7: =IFERROR(VLOOKUP(G7,DIVISION!$F$1:$G$604,2,FALSE),"Encoder code INS >>>") -> Encoder code INS >>> | G7: 91
A8: 7 | F8: =IFERROR(VLOOKUP(G8,DIVISION!$F$1:$G$604,2,FALSE),"Encoder code INS >>>") -> Encoder code INS >>>
A9: 8 | F9: =IFERROR(VLOOKUP(G9,DIVISION!$F$1:$G$604,2,FALSE),"Encoder code INS >>>") -> Encoder code INS >>>
A10: 9 | F10: =IFERROR(VLOOKUP(G10,DIVISION!$F$1:$G$604,2,FALSE),"Encoder code INS >>>") -> Encoder code INS >>>
A11: 10 | F11: =IFERROR(VLOOKUP(G11,DIVISION!$F$1:$G$604,2,FALSE),"Encoder code INS >>>") -> Encoder code INS >>>
A12: 11 | F12: =IFERROR(VLOOKUP(G12,DIVISION!$F$1:$G$604,2,FALSE),"Encoder code INS >>>") -> Encoder code INS >>>
A13: 12 | F13: =IFERROR(VLOOKUP(G13,DIVISION!$F$1:$G$604,2,FALSE),"Encoder code INS >>>") -> Encoder code INS >>>
A14: 13 | F14: =IFERROR(VLOOKUP(G14,DIVISION!$F$1:$G$604,2,FALSE),"Encoder code INS >>>") -> Encoder code INS >>>
A15: 14 | F15: =IFERROR(VLOOKUP(G15,DIVISION!$F$1:$G$604,2,FALSE),"Encoder code INS >>>") -> Encoder code INS >>>
A16: 15 | F16: =IFERROR(VLOOKUP(G16,DIVISION!$F$1:$G$604,2,FALSE),"Encoder code INS >>>") -> Encoder code INS >>>
A17: 16 | F17: =IFERROR(VLOOKUP(G17,DIVISION!$F$1:$G$604,2,FALSE),"Encoder code INS >>>") -> Encoder code INS >>>
A18: 17 | F18: =IFERROR(VLOOKUP(G18,DIVISION!$F$1:$G$604,2,FALSE),"Encoder code INS >>>") -> Encoder code INS >>>
A19: 18 | F19: =IFERROR(VLOOKUP(G19,DIVISION!$F$1:$G$604,2,FALSE),"Encoder code INS >>>") -> Encoder code INS >>>
... A30: 29 | F30: =IFERROR(VLOOKUP(G30,DIVISION!$F$1:$G$604,2,FALSE),"Encoder code INS >>>") -> Encoder code INS >>>
A31: 30
A32: 31
A33: 32
A34: 33
A35: 34
A36: 35
A37: 36
A38: 37
A39: 38
A40: 39
A41: 40
A42: 41
... A521: 520

Sheet DIVISION
F1: 81001 | G1: ville 1
F2: 81002 | G2: ville 2 | H2: {=LEFT(INDEX(l_noms,SMALL(IF(MATCH(LEFT(l_noms,1),LEFT(l_noms,1),0)=ROW(l_noms),ROW(l_noms),""),ROW(A1))))*1} -> 8
F3: 81003 | G3: ville 3 | H3: {=LEFT(INDEX(l_noms,SMALL(IF(MATCH(LEFT(l_noms,1),LEFT(l_noms,1),0)=ROW(l_noms),ROW(l_noms),""),ROW(A2))))*1} -> 9
F4: 81004 | G4: ville 4 | H4: {=LEFT(INDEX(l_noms,SMALL(IF(MATCH(LEFT(l_noms,1),LEFT(l_noms,1),0)=ROW(l_noms),ROW(l_noms),""),ROW(A3))))*1} -> #NUM!
F5: 81005 | G5: ville 5 | H5: {=LEFT(INDEX(l_noms,SMALL(IF(MATCH(LEFT(l_noms,1),LEFT(l_noms,1),0)=ROW(l_noms),ROW(l_noms),""),ROW(A4))))*1} -> #NUM!
F6: 81006 | G6: ville 6 | H6: {=LEFT(INDEX(l_noms,SMALL(IF(MATCH(LEFT(l_noms,1),LEFT(l_noms,1),0)=ROW(l_noms),ROW(l_noms),""),ROW(A5))))*1} -> #NUM!
F7: 81007 | G7: ville 7 | H7: {=LEFT(INDEX(l_noms,SMALL(IF(MATCH(LEFT(l_noms,1),LEFT(l_noms,1),0)=ROW(l_noms),ROW(l_noms),""),ROW(A6))))*1} -> #NUM!
F8: 81008 | G8: ville 8 | H8: {=LEFT(INDEX(l_noms,SMALL(IF(MATCH(LEFT(l_noms,1),LEFT(l_noms,1),0)=ROW(l_noms),ROW(l_noms),""),ROW(A7))))*1} -> #NUM!
F9: 81009 | G9: ville 9 | H9: {=LEFT(INDEX(l_noms,SMALL(IF(MATCH(LEFT(l_noms,1),LEFT(l_noms,1),0)=ROW(l_noms),ROW(l_noms),""),ROW(A8))))*1} -> #NUM!
F10: 81010 | G10: ville 10 | H10: {=LEFT(INDEX(l_noms,SMALL(IF(MATCH(LEFT(l_noms,1),LEFT(l_noms,1),0)=ROW(l_noms),ROW(l_noms),""),ROW(A9))))*1} -> #NUM!
F11: 81011 | G11: ville 11 | H11: {=LEFT(INDEX(l_noms,SMALL(IF(MATCH(LEFT(l_noms,1),LEFT(l_noms,1),0)=ROW(l_noms),ROW(l_noms),""),ROW(A10))))*1} -> #NUM!
F12: 81012 | G12: ville 12 | H12: {=LEFT(INDEX(l_noms,SMALL(IF(MATCH(LEFT(l_noms,1),LEFT(l_noms,1),0)=ROW(l_noms),ROW(l_noms),""),ROW(A11))))*1} -> #NUM!
F13: 81013 | G13: ville 13 | H13: {=LEFT(INDEX(l_noms,SMALL(IF(MATCH(LEFT(l_noms,1),LEFT(l_noms,1),0)=ROW(l_noms),ROW(l_noms),""),ROW(A12))))*1} -> #NUM!
... F19: 81019 | G19: ville 19 | H19: {=LEFT(INDEX(l_noms,SMALL(IF(MATCH(LEFT(l_noms,1),LEFT(l_noms,1),0)=ROW(l_noms),ROW(l_noms),""),ROW(A18))))*1} -> #NUM!
F20: 81020 | G20: ville 20
F21: 81021 | G21: ville 21
F22: 81022 | G22: ville 22
F23: 81023 | G23: ville 23
F24: 81408 | G24: ville 24
F25: 82001 | G25: ville 25
F26: 82003 | G26: ville 26
F27: 82004 | G27: ville 27
F28: 82005 | G28: ville 28
F29: 82006 | G29: ville 29
F30: 82007 | G30: ville 30
F31: 82008 | G31: ville 31
... F604: 93089 | G604: ville 604

Sheet DONNEES
A1: abc | B1: ab | C1: 1 | D1: Antenne 1
A2: cde | B2: bc | C2: 2 | D2: Antenne 2
A3: efg | B3: cd | C3: 3 | D3: Antenne 3
B4: de | C4: 4 | D4: Antenne 4
B5: ef | C5: 5 | D5: Antenne 5
B6: X 1
B7: X 2
B8: X 3
