Workbook
Name bdd: Feuil1!$B$3:$T$53
Name diametre: Feuil1!$B$2:$T$2
Name nbfois: Feuil1!$A$3:$A$53

Sheet Feuil1
A2: Colonne1 | B2: 25 | C2: 50 | D2: 100 | E2: 150 | F2: 200 | G2: 250 | H2: 300 | I2: 350 | J2: 400 | K2: 450 | L2: 500 | M2: 600 | N2: 700 | O2: 800 | P2: 900 | Q2: 1000 | R2: 1200 | S2: 1400 | T2: 1600
A3: 1 | B3: =Feuil1!$B$2*Feuil1!$A$3:$A$53 -> 25 | C3: =Feuil1!$C$2*Feuil1!$A$3:$A$53 -> 50 | D3: =Feuil1!$A$3:$A$53*Feuil1!$D$2 -> 100 | E3: =Feuil1!$A$3:$A$53*Feuil1!$E$2 -> 150 | F3: =Feuil1!$A$3:$A$53*Feuil1!$F$2 -> 200 | G3: =Feuil1!$A$3:$A$53*Feuil1!$G$2 -> 250 | H3: =Feuil1!$A$3:$A$53*Feuil1!$H$2 -> 300 | I3: =Feuil1!$A$3:$A$53*Feuil1!$I$2 -> 350 | J3: =Feuil1!$A$3:$A$53*Feuil1!$J$2 -> 400 | K3: =Feuil1!$A$3:$A$53*Feuil1!$K$2 -> 450 | L3: =Feuil1!$A$3:$A$53*Feuil1!$L$2 -> 500 | M3: =Feuil1!$A$3:$A$53*Feuil1!$M$2 -> 600 | N3: =Feuil1!$A$3:$A$53*Feuil1!$N$2 -> 700 | O3: =Feuil1!$A$3:$A$53*Feuil1!$O$2 -> 800 | P3: =Feuil1!$A$3:$A$53*Feuil1!$P$2 -> 900 | Q3: =Feuil1!$A$3:$A$53*Feuil1!$Q$2 -> 1000 | R3: =Feuil1!$A$3:$A$53*Feuil1!$R$2 -> 1200 | S3: =Feuil1!$A$3:$A$53*Feuil1!$S$2 -> 1400 | T3: =Feuil1!$A$3:$A$53*Feuil1!$T$2 -> 1600
A4: 2 | B4: =Feuil1!$B$2*Feuil1!$A$3:$A$53 -> 50 | C4: =Feuil1!$C$2*Feuil1!$A$3:$A$53 -> 100 | D4: =Feuil1!$A$3:$A$53*Feuil1!$D$2 -> 200 | E4: =Feuil1!$A$3:$A$53*Feuil1!$E$2 -> 300 | F4: =Feuil1!$A$3:$A$53*Feuil1!$F$2 -> 400 | G4: =Feuil1!$A$3:$A$53*Feuil1!$G$2 -> 500 | H4: =Feuil1!$A$3:$A$53*Feuil1!$H$2 -> 600 | I4: =Feuil1!$A$3:$A$53*Feuil1!$I$2 -> 700 | J4: =Feuil1!$A$3:$A$53*Feuil1!$J$2 -> 800 | K4: =Feuil1!$A$3:$A$53*Feuil1!$K$2 -> 900 | L4: =Feuil1!$A$3:$A$53*Feuil1!$L$2 -> 1000 | M4: =Feuil1!$A$3:$A$53*Feuil1!$M$2 -> 1200 | N4: =Feuil1!$A$3:$A$53*Feuil1!$N$2 -> 1400 | O4: =Feuil1!$A$3:$A$53*Feuil1!$O$2 -> 1600 | P4: =Feuil1!$A$3:$A$53*Feuil1!$P$2 -> 1800 | Q4: =Feuil1!$A$3:$A$53*Feuil1!$Q$2 -> 2000 | R4: =Feuil1!$A$3:$A$53*Feuil1!$R$2 -> 2400 | S4: =Feuil1!$A$3:$A$53*Feuil1!$S$2 -> 2800 | T4: =Feuil1!$A$3:$A$53*Feuil1!$T$2 -> 3200
A5: 3 | B5: =Feuil1!$B$2*Feuil1!$A$3:$A$53 -> 75 | C5: =Feuil1!$C$2*Feuil1!$A$3:$A$53 -> 150 | D5: =Feuil1!$A$3:$A$53*Feuil1!$D$2 -> 300 | E5: =Feuil1!$A$3:$A$53*Feuil1!$E$2 -> 450 | F5: =Feuil1!$A$3:$A$53*Feuil1!$F$2 -> 600 | G5: =Feuil1!$A$3:$A$53*Feuil1!$G$2 -> 750 | H5: =Feuil1!$A$3:$A$53*Feuil1!$H$2 -> 900 | I5: =Feuil1!$A$3:$A$53*Feuil1!$I$2 -> 1050 | J5: =Feuil1!$A$3:$A$53*Feuil1!$J$2 -> 1200 | K5: =Feuil1!$A$3:$A$53*Feuil1!$K$2 -> 1350 | L5: =Feuil1!$A$3:$A$53*Feuil1!$L$2 -> 1500 | M5: =Feuil1!$A$3:$A$53*Feuil1!$M$2 -> 1800 | N5: =Feuil1!$A$3:$A$53*Feuil1!$N$2 -> 2100 | O5: =Feuil1!$A$3:$A$53*Feuil1!$O$2 -> 2400 | P5: =Feuil1!$A$3:$A$53*Feuil1!$P$2 -> 2700 | Q5: =Feuil1!$A$3:$A$53*Feuil1!$Q$2 -> 3000 | R5: =Feuil1!$A$3:$A$53*Feuil1!$R$2 -> 3600 | S5: =Feuil1!$A$3:$A$53*Feuil1!$S$2 -> 4200 | T5: =Feuil1!$A$3:$A$53*Feuil1!$T$2 -> 4800
A6: 4 | B6: =Feuil1!$B$2*Feuil1!$A$3:$A$53 -> 100 | C6: =Feuil1!$C$2*Feuil1!$A$3:$A$53 -> 200 | D6: =Feuil1!$A$3:$A$53*Feuil1!$D$2 -> 400 | E6: =Feuil1!$A$3:$A$53*Feuil1!$E$2 -> 600 | F6: =Feuil1!$A$3:$A$53*Feuil1!$F$2 -> 800 | G6: =Feuil1!$A$3:$A$53*Feuil1!$G$2 -> 1000 | H6: =Feuil1!$A$3:$A$53*Feuil1!$H$2 -> 1200 | I6: =Feuil1!$A$3:$A$53*Feuil1!$I$2 -> 1400 | J6: =Feuil1!$A$3:$A$53*Feuil1!$J$2 -> 1600 | K6: =Feuil1!$A$3:$A$53*Feuil1!$K$2 -> 1800 | L6: =Feuil1!$A$3:$A$53*Feuil1!$L$2 -> 2000 | M6: =Feuil1!$A$3:$A$53*Feuil1!$M$2 -> 2400 | N6: =Feuil1!$A$3:$A$53*Feuil1!$N$2 -> 2800 | O6: =Feuil1!$A$3:$A$53*Feuil1!$O$2 -> 3200 | P6: =Feuil1!$A$3:$A$53*Feuil1!$P$2 -> 3600 | Q6: =Feuil1!$A$3:$A$53*Feuil1!$Q$2 -> 4000 | R6: =Feuil1!$A$3:$A$53*Feuil1!$R$2 -> 4800 | S6: =Feuil1!$A$3:$A$53*Feuil1!$S$2 -> 5600 | T6: =Feuil1!$A$3:$A$53*Feuil1!$T$2 -> 6400
A7: 5 | B7: =Feuil1!$B$2*Feuil1!$A$3:$A$53 -> 125 | C7: =Feuil1!$C$2*Feuil1!$A$3:$A$53 -> 250 | D7: =Feuil1!$A$3:$A$53*Feuil1!$D$2 -> 500 | E7: =Feuil1!$A$3:$A$53*Feuil1!$E$2 -> 750 | F7: =Feuil1!$A$3:$A$53*Feuil1!$F$2 -> 1000 | G7: =Feuil1!$A$3:$A$53*Feuil1!$G$2 -> 1250 | H7: =Feuil1!$A$3:$A$53*Feuil1!$H$2 -> 1500 | I7: =Feuil1!$A$3:$A$53*Feuil1!$I$2 -> 1750 | J7: =Feuil1!$A$3:$A$53*Feuil1!$J$2 -> 2000 | K7: =Feuil1!$A$3:$A$53*Feuil1!$K$2 -> 2250 | L7: =Feuil1!$A$3:$A$53*Feuil1!$L$2 -> 2500 | M7: =Feuil1!$A$3:$A$53*Feuil1!$M$2 -> 3000 | N7: =Feuil1!$A$3:$A$53*Feuil1!$N$2 -> 3500 | O7: =Feuil1!$A$3:$A$53*Feuil1!$O$2 -> 4000 | P7: =Feuil1!$A$3:$A$53*Feuil1!$P$2 -> 4500 | Q7: =Feuil1!$A$3:$A$53*Feuil1!$Q$2 -> 5000 | R7: =Feuil1!$A$3:$A$53*Feuil1!$R$2 -> 6000 | S7: =Feuil1!$A$3:$A$53*Feuil1!$S$2 -> 7000 | T7: =Feuil1!$A$3:$A$53*Feuil1!$T$2 -> 8000
A8: 6 | B8: =Feuil1!$B$2*Feuil1!$A$3:$A$53 -> 150 | C8: =Feuil1!$C$2*Feuil1!$A$3:$A$53 -> 300 | D8: =Feuil1!$A$3:$A$53*Feuil1!$D$2 -> 600 | E8: =Feuil1!$A$3:$A$53*Feuil1!$E$2 -> 900 | F8: =Feuil1!$A$3:$A$53*Feuil1!$F$2 -> 1200 | G8: =Feuil1!$A$3:$A$53*Feuil1!$G$2 -> 1500 | H8: =Feuil1!$A$3:$A$53*Feuil1!$H$2 -> 1800 | I8: =Feuil1!$A$3:$A$53*Feuil1!$I$2 -> 2100 | J8: =Feuil1!$A$3:$A$53*Feuil1!$J$2 -> 2400 | K8: =Feuil1!$A$3:$A$53*Feuil1!$K$2 -> 2700 | L8: =Feuil1!$A$3:$A$53*Feuil1!$L$2 -> 3000 | M8: =Feuil1!$A$3:$A$53*Feuil1!$M$2 -> 3600 | N8: =Feuil1!$A$3:$A$53*Feuil1!$N$2 -> 4200 | O8: =Feuil1!$A$3:$A$53*Feuil1!$O$2 -> 4800 | P8: =Feuil1!$A$3:$A$53*Feuil1!$P$2 -> 5400 | Q8: =Feuil1!$A$3:$A$53*Feuil1!$Q$2 -> 6000 | R8: =Feuil1!$A$3:$A$53*Feuil1!$R$2 -> 7200 | S8: =Feuil1!$A$3:$A$53*Feuil1!$S$2 -> 8400 | T8: =Feuil1!$A$3:$A$53*Feuil1!$T$2 -> 9600
A9: 7 | B9: =Feuil1!$B$2*Feuil1!$A$3:$A$53 -> 175 | C9: =Feuil1!$C$2*Feuil1!$A$3:$A$53 -> 350 | D9: =Feuil1!$A$3:$A$53*Feuil1!$D$2 -> 700 | E9: =Feuil1!$A$3:$A$53*Feuil1!$E$2 -> 1050 | F9: =Feuil1!$A$3:$A$53*Feuil1!$F$2 -> 1400 | G9: =Feuil1!$A$3:$A$53*Feuil1!$G$2 -> 1750 | H9: =Feuil1!$A$3:$A$53*Feuil1!$H$2 -> 2100 | I9: =Feuil1!$A$3:$A$53*Feuil1!$I$2 -> 2450 | J9: =Feuil1!$A$3:$A$53*Feuil1!$J$2 -> 2800 | K9: =Feuil1!$A$3:$A$53*Feuil1!$K$2 -> 3150 | L9: =Feuil1!$A$3:$A$53*Feuil1!$L$2 -> 3500 | M9: =Feuil1!$A$3:$A$53*Feuil1!$M$2 -> 4200 | N9: =Feuil1!$A$3:$A$53*Feuil1!$N$2 -> 4900 | O9: =Feuil1!$A$3:$A$53*Feuil1!$O$2 -> 5600 | P9: =Feuil1!$A$3:$A$53*Feuil1!$P$2 -> 6300 | Q9: =Feuil1!$A$3:$A$53*Feuil1!$Q$2 -> 7000 | R9: =Feuil1!$A$3:$A$53*Feuil1!$R$2 -> 8400 | S9: =Feuil1!$A$3:$A$53*Feuil1!$S$2 -> 9800 | T9: =Feuil1!$A$3:$A$53*Feuil1!$T$2 -> 11200
A10: 8 | B10: =Feuil1!$B$2*Feuil1!$A$3:$A$53 -> 200 | C10: =Feuil1!$C$2*Feuil1!$A$3:$A$53 -> 400 | D10: =Feuil1!$A$3:$A$53*Feuil1!$D$2 -> 800 | E10: =Feuil1!$A$3:$A$53*Feuil1!$E$2 -> 1200 | F10: =Feuil1!$A$3:$A$53*Feuil1!$F$2 -> 1600 | G10: =Feuil1!$A$3:$A$53*Feuil1!$G$2 -> 2000 | H10: =Feuil1!$A$3:$A$53*Feuil1!$H$2 -> 2400 | I10: =Feuil1!$A$3:$A$53*Feuil1!$I$2 -> 2800 | J10: =Feuil1!$A$3:$A$53*Feuil1!$J$2 -> 3200 | K10: =Feuil1!$A$3:$A$53*Feuil1!$K$2 -> 3600 | L10: =Feuil1!$A$3:$A$53*Feuil1!$L$2 -> 4000 | M10: =Feuil1!$A$3:$A$53*Feuil1!$M$2 -> 4800 | N10: =Feuil1!$A$3:$A$53*Feuil1!$N$2 -> 5600 | O10: =Feuil1!$A$3:$A$53*Feuil1!$O$2 -> 6400 | P10: =Feuil1!$A$3:$A$53*Feuil1!$P$2 -> 7200 | Q10: =Feuil1!$A$3:$A$53*Feuil1!$Q$2 -> 8000 | R10: =Feuil1!$A$3:$A$53*Feuil1!$R$2 -> 9600 | S10: =Feuil1!$A$3:$A$53*Feuil1!$S$2 -> 11200 | T10: =Feuil1!$A$3:$A$53*Feuil1!$T$2 -> 12800
A11: 9 | B11: =Feuil1!$B$2*Feuil1!$A$3:$A$53 -> 225 | C11: =Feuil1!$C$2*Feuil1!$A$3:$A$53 -> 450 | D11: =Feuil1!$A$3:$A$53*Feuil1!$D$2 -> 900 | E11: =Feuil1!$A$3:$A$53*Feuil1!$E$2 -> 1350 | F11: =Feuil1!$A$3:$A$53*Feuil1!$F$2 -> 1800 | G11: =Feuil1!$A$3:$A$53*Feuil1!$G$2 -> 2250 | H11: =Feuil1!$A$3:$A$53*Feuil1!$H$2 -> 2700 | I11: =Feuil1!$A$3:$A$53*Feuil1!$I$2 -> 3150 | J11: =Feuil1!$A$3:$A$53*Feuil1!$J$2 -> 3600 | K11: =Feuil1!$A$3:$A$53*Feuil1!$K$2 -> 4050 | L11: =Feuil1!$A$3:$A$53*Feuil1!$L$2 -> 4500 | M11: =Feuil1!$A$3:$A$53*Feuil1!$M$2 -> 5400 | N11: =Feuil1!$A$3:$A$53*Feuil1!$N$2 -> 6300 | O11: =Feuil1!$A$3:$A$53*Feuil1!$O$2 -> 7200 | P11: =Feuil1!$A$3:$A$53*Feuil1!$P$2 -> 8100 | Q11: =Feuil1!$A$3:$A$53*Feuil1!$Q$2 -> 9000 | R11: =Feuil1!$A$3:$A$53*Feuil1!$R$2 -> 10800 | S11: =Feuil1!$A$3:$A$53*Feuil1!$S$2 -> 12600 | T11: =Feuil1!$A$3:$A$53*Feuil1!$T$2 -> 14400
A12: 10 | B12: =Feuil1!$B$2*Feuil1!$A$3:$A$53 -> 250 | C12: =Feuil1!$C$2*Feuil1!$A$3:$A$53 -> 500 | D12: =Feuil1!$A$3:$A$53*Feuil1!$D$2 -> 1000 | E12: =Feuil1!$A$3:$A$53*Feuil1!$E$2 -> 1500 | F12: =Feuil1!$A$3:$A$53*Feuil1!$F$2 -> 2000 | G12: =Feuil1!$A$3:$A$53*Feuil1!$G$2 -> 2500 | H12: =Feuil1!$A$3:$A$53*Feuil1!$H$2 -> 3000 | I12: =Feuil1!$A$3:$A$53*Feuil1!$I$2 -> 3500 | J12: =Feuil1!$A$3:$A$53*Feuil1!$J$2 -> 4000 | K12: =Feuil1!$A$3:$A$53*Feuil1!$K$2 -> 4500 | L12: =Feuil1!$A$3:$A$53*Feuil1!$L$2 -> 5000 | M12: =Feuil1!$A$3:$A$53*Feuil1!$M$2 -> 6000 | N12: =Feuil1!$A$3:$A$53*Feuil1!$N$2 -> 7000 | O12: =Feuil1!$A$3:$A$53*Feuil1!$O$2 -> 8000 | P12: =Feuil1!$A$3:$A$53*Feuil1!$P$2 -> 9000 | Q12: =Feuil1!$A$3:$A$53*Feuil1!$Q$2 -> 10000 | R12: =Feuil1!$A$3:$A$53*Feuil1!$R$2 -> 12000 | S12: =Feuil1!$A$3:$A$53*Feuil1!$S$2 -> 14000 | T12: =Feuil1!$A$3:$A$53*Feuil1!$T$2 -> 16000
A13: 11 | B13: =Feuil1!$B$2*Feuil1!$A$3:$A$53 -> 275 | C13: =Feuil1!$C$2*Feuil1!$A$3:$A$53 -> 550 | D13: =Feuil1!$A$3:$A$53*Feuil1!$D$2 -> 1100 | E13: =Feuil1!$A$3:$A$53*Feuil1!$E$2 -> 1650 | F13: =Feuil1!$A$3:$A$53*Feuil1!$F$2 -> 2200 | G13: =Feuil1!$A$3:$A$53*Feuil1!$G$2 -> 2750 | H13: =Feuil1!$A$3:$A$53*Feuil1!$H$2 -> 3300 | I13: =Feuil1!$A$3:$A$53*Feuil1!$I$2 -> 3850 | J13: =Feuil1!$A$3:$A$53*Feuil1!$J$2 -> 4400 | K13: =Feuil1!$A$3:$A$53*Feuil1!$K$2 -> 4950 | L13: =Feuil1!$A$3:$A$53*Feuil1!$L$2 -> 5500 | M13: =Feuil1!$A$3:$A$53*Feuil1!$M$2 -> 6600 | N13: =Feuil1!$A$3:$A$53*Feuil1!$N$2 -> 7700 | O13: =Feuil1!$A$3:$A$53*Feuil1!$O$2 -> 8800 | P13: =Feuil1!$A$3:$A$53*Feuil1!$P$2 -> 9900 | Q13: =Feuil1!$A$3:$A$53*Feuil1!$Q$2 -> 11000 | R13: =Feuil1!$A$3:$A$53*Feuil1!$R$2 -> 13200 | S13: =Feuil1!$A$3:$A$53*Feuil1!$S$2 -> 15400 | T13: =Feuil1!$A$3:$A$53*Feuil1!$T$2 -> 17600
A14: 12 | B14: =Feuil1!$B$2*Feuil1!$A$3:$A$53 -> 300 | C14: =Feuil1!$C$2*Feuil1!$A$3:$A$53 -> 600 | D14: =Feuil1!$A$3:$A$53*Feuil1!$D$2 -> 1200 | E14: =Feuil1!$A$3:$A$53*Feuil1!$E$2 -> 1800 | F14: =Feuil1!$A$3:$A$53*Feuil1!$F$2 -> 2400 | G14: =Feuil1!$A$3:$A$53*Feuil1!$G$2 -> 3000 | H14: =Feuil1!$A$3:$A$53*Feuil1!$H$2 -> 3600 | I14: =Feuil1!$A$3:$A$53*Feuil1!$I$2 -> 4200 | J14: =Feuil1!$A$3:$A$53*Feuil1!$J$2 -> 4800 | K14: =Feuil1!$A$3:$A$53*Feuil1!$K$2 -> 5400 | L14: =Feuil1!$A$3:$A$53*Feuil1!$L$2 -> 6000 | M14: =Feuil1!$A$3:$A$53*Feuil1!$M$2 -> 7200 | N14: =Feuil1!$A$3:$A$53*Feuil1!$N$2 -> 8400 | O14: =Feuil1!$A$3:$A$53*Feuil1!$O$2 -> 9600 | P14: =Feuil1!$A$3:$A$53*Feuil1!$P$2 -> 10800 | Q14: =Feuil1!$A$3:$A$53*Feuil1!$Q$2 -> 12000 | R14: =Feuil1!$A$3:$A$53*Feuil1!$R$2 -> 14400 | S14: =Feuil1!$A$3:$A$53*Feuil1!$S$2 -> 16800 | T14: =Feuil1!$A$3:$A$53*Feuil1!$T$2 -> 19200
... A53: 51 | B53: =Feuil1!$B$2*Feuil1!$A$3:$A$53 -> 1275 | C53: =Feuil1!$C$2*Feuil1!$A$3:$A$53 -> 2550 | D53: =Feuil1!$A$3:$A$53*Feuil1!$D$2 -> 5100 | E53: =Feuil1!$A$3:$A$53*Feuil1!$E$2 -> 7650 | F53: =Feuil1!$A$3:$A$53*Feuil1!$F$2 -> 10200 | G53: =Feuil1!$A$3:$A$53*Feuil1!$G$2 -> 12750 | H53: =Feuil1!$A$3:$A$53*Feuil1!$H$2 -> 15300 | I53: =Feuil1!$A$3:$A$53*Feuil1!$I$2 -> 17850 | J53: =Feuil1!$A$3:$A$53*Feuil1!$J$2 -> 20400 | K53: =Feuil1!$A$3:$A$53*Feuil1!$K$2 -> 22950 | L53: =Feuil1!$A$3:$A$53*Feuil1!$L$2 -> 25500 | M53: =Feuil1!$A$3:$A$53*Feuil1!$M$2 -> 30600 | N53: =Feuil1!$A$3:$A$53*Feuil1!$N$2 -> 35700 | O53: =Feuil1!$A$3:$A$53*Feuil1!$O$2 -> 40800 | P53: =Feuil1!$A$3:$A$53*Feuil1!$P$2 -> 45900 | Q53: =Feuil1!$A$3:$A$53*Feuil1!$Q$2 -> 51000 | R53: =Feuil1!$A$3:$A$53*Feuil1!$R$2 -> 61200 | S53: =Feuil1!$A$3:$A$53*Feuil1!$S$2 -> 71400 | T53: =Feuil1!$A$3:$A$53*Feuil1!$T$2 -> 81600

Sheet lautre feuil
A2: choix1 | B2: 6
D3: =SUMPRODUCT((nbfois=B2)*(diametre=B4)*(bdd)) -> 2400
A4: choix2 | B4: 400
