Workbook

Sheet Feuil1
J2: les noms sont extrait sans validation matricielle
B3: nom | C3: chambre | H3: liste des chambres
B4: nom1 | C4: 2 | F4: la liste des chambres | H4: {=IFERROR(INDEX(C$4:C$13,MATCH(0,COUNTIF(C$4:C$13,"<"&C$4:C$13)-SUM(COUNTIF(H$3:H3,C$4:C$13)),0)),"")} -> 1 | I4: =IFERROR(INDEX($B$4:$B$13,SUMPRODUCT(SMALL(($C$4:$C$13=$H4)*(ROW($C$4:$C$13)-3),COUNTIF($C$4:$C$13,"<>"&$H4)+COLUMN(A:A)))),"") -> nom3 | J4: =IFERROR(INDEX($B$4:$B$13,SUMPRODUCT(SMALL(($C$4:$C$13=$H4)*(ROW($C$4:$C$13)-3),COUNTIF($C$4:$C$13,"<>"&$H4)+COLUMN(B:B)))),"") -> nom7 | K4: =IFERROR(INDEX($B$4:$B$13,SUMPRODUCT(SMALL(($C$4:$C$13=$H4)*(ROW($C$4:$C$13)-3),COUNTIF($C$4:$C$13,"<>"&$H4)+COLUMN(C:C)))),"") | L4: =IFERROR(INDEX($B$4:$B$13,SUMPRODUCT(SMALL(($C$4:$C$13=$H4)*(ROW($C$4:$C$13)-3),COUNTIF($C$4:$C$13,"<>"&$H4)+COLUMN(D:D)))),"") | M4: =IFERROR(INDEX($B$4:$B$13,SUMPRODUCT(SMALL(($C$4:$C$13=$H4)*(ROW($C$4:$C$13)-3),COUNTIF($C$4:$C$13,"<>"&$H4)+COLUMN(E:E)))),"")
B5: nom2 | C5: 3 | F5: est extraite et classée | H5: {=IFERROR(INDEX(C$4:C$13,MATCH(0,COUNTIF(C$4:C$13,"<"&C$4:C$13)-SUM(COUNTIF(H$3:H4,C$4:C$13)),0)),"")} -> 2 | I5: =IFERROR(INDEX($B$4:$B$13,SUMPRODUCT(SMALL(($C$4:$C$13=$H5)*(ROW($C$4:$C$13)-3),COUNTIF($C$4:$C$13,"<>"&$H5)+COLUMN(A:A)))),"") -> nom1 | J5: =IFERROR(INDEX($B$4:$B$13,SUMPRODUCT(SMALL(($C$4:$C$13=$H5)*(ROW($C$4:$C$13)-3),COUNTIF($C$4:$C$13,"<>"&$H5)+COLUMN(B:B)))),"") | K5: =IFERROR(INDEX($B$4:$B$13,SUMPRODUCT(SMALL(($C$4:$C$13=$H5)*(ROW($C$4:$C$13)-3),COUNTIF($C$4:$C$13,"<>"&$H5)+COLUMN(C:C)))),"") | L5: =IFERROR(INDEX($B$4:$B$13,SUMPRODUCT(SMALL(($C$4:$C$13=$H5)*(ROW($C$4:$C$13)-3),COUNTIF($C$4:$C$13,"<>"&$H5)+COLUMN(D:D)))),"") | M5: =IFERROR(INDEX($B$4:$B$13,SUMPRODUCT(SMALL(($C$4:$C$13=$H5)*(ROW($C$4:$C$13)-3),COUNTIF($C$4:$C$13,"<>"&$H5)+COLUMN(E:E)))),"")
B6: nom3 | C6: 1 | F6: auto | H6: {=IFERROR(INDEX(C$4:C$13,MATCH(0,COUNTIF(C$4:C$13,"<"&C$4:C$13)-SUM(COUNTIF(H$3:H5,C$4:C$13)),0)),"")} -> 3 | I6: =IFERROR(INDEX($B$4:$B$13,SUMPRODUCT(SMALL(($C$4:$C$13=$H6)*(ROW($C$4:$C$13)-3),COUNTIF($C$4:$C$13,"<>"&$H6)+COLUMN(A:A)))),"") -> nom2 | J6: =IFERROR(INDEX($B$4:$B$13,SUMPRODUCT(SMALL(($C$4:$C$13=$H6)*(ROW($C$4:$C$13)-3),COUNTIF($C$4:$C$13,"<>"&$H6)+COLUMN(B:B)))),"") -> nom10 | K6: =IFERROR(INDEX($B$4:$B$13,SUMPRODUCT(SMALL(($C$4:$C$13=$H6)*(ROW($C$4:$C$13)-3),COUNTIF($C$4:$C$13,"<>"&$H6)+COLUMN(C:C)))),"") | L6: =IFERROR(INDEX($B$4:$B$13,SUMPRODUCT(SMALL(($C$4:$C$13=$H6)*(ROW($C$4:$C$13)-3),COUNTIF($C$4:$C$13,"<>"&$H6)+COLUMN(D:D)))),"") | M6: =IFERROR(INDEX($B$4:$B$13,SUMPRODUCT(SMALL(($C$4:$C$13=$H6)*(ROW($C$4:$C$13)-3),COUNTIF($C$4:$C$13,"<>"&$H6)+COLUMN(E:E)))),"")
B7: nom4 | C7: 6 | F7: formule matricielle | H7: {=IFERROR(INDEX(C$4:C$13,MATCH(0,COUNTIF(C$4:C$13,"<"&C$4:C$13)-SUM(COUNTIF(H$3:H6,C$4:C$13)),0)),"")} -> 4 | I7: =IFERROR(INDEX($B$4:$B$13,SUMPRODUCT(SMALL(($C$4:$C$13=$H7)*(ROW($C$4:$C$13)-3),COUNTIF($C$4:$C$13,"<>"&$H7)+COLUMN(A:A)))),"") -> nom5 | J7: =IFERROR(INDEX($B$4:$B$13,SUMPRODUCT(SMALL(($C$4:$C$13=$H7)*(ROW($C$4:$C$13)-3),COUNTIF($C$4:$C$13,"<>"&$H7)+COLUMN(B:B)))),"") -> nom9 | K7: =IFERROR(INDEX($B$4:$B$13,SUMPRODUCT(SMALL(($C$4:$C$13=$H7)*(ROW($C$4:$C$13)-3),COUNTIF($C$4:$C$13,"<>"&$H7)+COLUMN(C:C)))),"") | L7: =IFERROR(INDEX($B$4:$B$13,SUMPRODUCT(SMALL(($C$4:$C$13=$H7)*(ROW($C$4:$C$13)-3),COUNTIF($C$4:$C$13,"<>"&$H7)+COLUMN(D:D)))),"") | M7: =IFERROR(INDEX($B$4:$B$13,SUMPRODUCT(SMALL(($C$4:$C$13=$H7)*(ROW($C$4:$C$13)-3),COUNTIF($C$4:$C$13,"<>"&$H7)+COLUMN(E:E)))),"")
B8: nom5 | C8: 4 | H8: {=IFERROR(INDEX(C$4:C$13,MATCH(0,COUNTIF(C$4:C$13,"<"&C$4:C$13)-SUM(COUNTIF(H$3:H7,C$4:C$13)),0)),"")} -> 5 | I8: =IFERROR(INDEX($B$4:$B$13,SUMPRODUCT(SMALL(($C$4:$C$13=$H8)*(ROW($C$4:$C$13)-3),COUNTIF($C$4:$C$13,"<>"&$H8)+COLUMN(A:A)))),"") -> nom8 | J8: =IFERROR(INDEX($B$4:$B$13,SUMPRODUCT(SMALL(($C$4:$C$13=$H8)*(ROW($C$4:$C$13)-3),COUNTIF($C$4:$C$13,"<>"&$H8)+COLUMN(B:B)))),"") | K8: =IFERROR(INDEX($B$4:$B$13,SUMPRODUCT(SMALL(($C$4:$C$13=$H8)*(ROW($C$4:$C$13)-3),COUNTIF($C$4:$C$13,"<>"&$H8)+COLUMN(C:C)))),"") | L8: =IFERROR(INDEX($B$4:$B$13,SUMPRODUCT(SMALL(($C$4:$C$13=$H8)*(ROW($C$4:$C$13)-3),COUNTIF($C$4:$C$13,"<>"&$H8)+COLUMN(D:D)))),"") | M8: =IFERROR(INDEX($B$4:$B$13,SUMPRODUCT(SMALL(($C$4:$C$13=$H8)*(ROW($C$4:$C$13)-3),COUNTIF($C$4:$C$13,"<>"&$H8)+COLUMN(E:E)))),"")
B9: nom6 | C9: 6 | H9: {=IFERROR(INDEX(C$4:C$13,MATCH(0,COUNTIF(C$4:C$13,"<"&C$4:C$13)-SUM(COUNTIF(H$3:H8,C$4:C$13)),0)),"")} -> 6 | I9: =IFERROR(INDEX($B$4:$B$13,SUMPRODUCT(SMALL(($C$4:$C$13=$H9)*(ROW($C$4:$C$13)-3),COUNTIF($C$4:$C$13,"<>"&$H9)+COLUMN(A:A)))),"") -> nom4 | J9: =IFERROR(INDEX($B$4:$B$13,SUMPRODUCT(SMALL(($C$4:$C$13=$H9)*(ROW($C$4:$C$13)-3),COUNTIF($C$4:$C$13,"<>"&$H9)+COLUMN(B:B)))),"") -> nom6 | K9: =IFERROR(INDEX($B$4:$B$13,SUMPRODUCT(SMALL(($C$4:$C$13=$H9)*(ROW($C$4:$C$13)-3),COUNTIF($C$4:$C$13,"<>"&$H9)+COLUMN(C:C)))),"") | L9: =IFERROR(INDEX($B$4:$B$13,SUMPRODUCT(SMALL(($C$4:$C$13=$H9)*(ROW($C$4:$C$13)-3),COUNTIF($C$4:$C$13,"<>"&$H9)+COLUMN(D:D)))),"") | M9: =IFERROR(INDEX($B$4:$B$13,SUMPRODUCT(SMALL(($C$4:$C$13=$H9)*(ROW($C$4:$C$13)-3),COUNTIF($C$4:$C$13,"<>"&$H9)+COLUMN(E:E)))),"")
B10: nom7 | C10: 1 | H10: {=IFERROR(INDEX(C$4:C$13,MATCH(0,COUNTIF(C$4:C$13,"<"&C$4:C$13)-SUM(COUNTIF(H$3:H9,C$4:C$13)),0)),"")} | I10: =IFERROR(INDEX($B$4:$B$13,SUMPRODUCT(SMALL(($C$4:$C$13=$H10)*(ROW($C$4:$C$13)-3),COUNTIF($C$4:$C$13,"<>"&$H10)+COLUMN(A:A)))),"") | J10: =IFERROR(INDEX($B$4:$B$13,SUMPRODUCT(SMALL(($C$4:$C$13=$H10)*(ROW($C$4:$C$13)-3),COUNTIF($C$4:$C$13,"<>"&$H10)+COLUMN(B:B)))),"") | K10: =IFERROR(INDEX($B$4:$B$13,SUMPRODUCT(SMALL(($C$4:$C$13=$H10)*(ROW($C$4:$C$13)-3),COUNTIF($C$4:$C$13,"<>"&$H10)+COLUMN(C:C)))),"") | L10: =IFERROR(INDEX($B$4:$B$13,SUMPRODUCT(SMALL(($C$4:$C$13=$H10)*(ROW($C$4:$C$13)-3),COUNTIF($C$4:$C$13,"<>"&$H10)+COLUMN(D:D)))),"") | M10: =IFERROR(INDEX($B$4:$B$13,SUMPRODUCT(SMALL(($C$4:$C$13=$H10)*(ROW($C$4:$C$13)-3),COUNTIF($C$4:$C$13,"<>"&$H10)+COLUMN(E:E)))),"")
B11: nom8 | C11: 5 | H11: {=IFERROR(INDEX(C$4:C$13,MATCH(0,COUNTIF(C$4:C$13,"<"&C$4:C$13)-SUM(COUNTIF(H$3:H10,C$4:C$13)),0)),"")} | I11: =IFERROR(INDEX($B$4:$B$13,SUMPRODUCT(SMALL(($C$4:$C$13=$H11)*(ROW($C$4:$C$13)-3),COUNTIF($C$4:$C$13,"<>"&$H11)+COLUMN(A:A)))),"") | J11: =IFERROR(INDEX($B$4:$B$13,SUMPRODUCT(SMALL(($C$4:$C$13=$H11)*(ROW($C$4:$C$13)-3),COUNTIF($C$4:$C$13,"<>"&$H11)+COLUMN(B:B)))),"") | K11: =IFERROR(INDEX($B$4:$B$13,SUMPRODUCT(SMALL(($C$4:$C$13=$H11)*(ROW($C$4:$C$13)-3),COUNTIF($C$4:$C$13,"<>"&$H11)+COLUMN(C:C)))),"") | L11: =IFERROR(INDEX($B$4:$B$13,SUMPRODUCT(SMALL(($C$4:$C$13=$H11)*(ROW($C$4:$C$13)-3),COUNTIF($C$4:$C$13,"<>"&$H11)+COLUMN(D:D)))),"") | M11: =IFERROR(INDEX($B$4:$B$13,SUMPRODUCT(SMALL(($C$4:$C$13=$H11)*(ROW($C$4:$C$13)-3),COUNTIF($C$4:$C$13,"<>"&$H11)+COLUMN(E:E)))),"")
B12: nom9 | C12: 4 | H12: {=IFERROR(INDEX(C$4:C$13,MATCH(0,COUNTIF(C$4:C$13,"<"&C$4:C$13)-SUM(COUNTIF(H$3:H11,C$4:C$13)),0)),"")} | I12: =IFERROR(INDEX($B$4:$B$13,SUMPRODUCT(SMALL(($C$4:$C$13=$H12)*(ROW($C$4:$C$13)-3),COUNTIF($C$4:$C$13,"<>"&$H12)+COLUMN(A:A)))),"") | J12: =IFERROR(INDEX($B$4:$B$13,SUMPRODUCT(SMALL(($C$4:$C$13=$H12)*(ROW($C$4:$C$13)-3),COUNTIF($C$4:$C$13,"<>"&$H12)+COLUMN(B:B)))),"") | K12: =IFERROR(INDEX($B$4:$B$13,SUMPRODUCT(SMALL(($C$4:$C$13=$H12)*(ROW($C$4:$C$13)-3),COUNTIF($C$4:$C$13,"<>"&$H12)+COLUMN(C:C)))),"") | L12: =IFERROR(INDEX($B$4:$B$13,SUMPRODUCT(SMALL(($C$4:$C$13=$H12)*(ROW($C$4:$C$13)-3),COUNTIF($C$4:$C$13,"<>"&$H12)+COLUMN(D:D)))),"") | M12: =IFERROR(INDEX($B$4:$B$13,SUMPRODUCT(SMALL(($C$4:$C$13=$H12)*(ROW($C$4:$C$13)-3),COUNTIF($C$4:$C$13,"<>"&$H12)+COLUMN(E:E)))),"")
B13: nom10 | C13: 3 | H13: {=IFERROR(INDEX(C$4:C$13,MATCH(0,COUNTIF(C$4:C$13,"<"&C$4:C$13)-SUM(COUNTIF(H$3:H12,C$4:C$13)),0)),"")} | I13: =IFERROR(INDEX($B$4:$B$13,SUMPRODUCT(SMALL(($C$4:$C$13=$H13)*(ROW($C$4:$C$13)-3),COUNTIF($C$4:$C$13,"<>"&$H13)+COLUMN(A:A)))),"") | J13: =IFERROR(INDEX($B$4:$B$13,SUMPRODUCT(SMALL(($C$4:$C$13=$H13)*(ROW($C$4:$C$13)-3),COUNTIF($C$4:$C$13,"<>"&$H13)+COLUMN(B:B)))),"") | K13: =IFERROR(INDEX($B$4:$B$13,SUMPRODUCT(SMALL(($C$4:$C$13=$H13)*(ROW($C$4:$C$13)-3),COUNTIF($C$4:$C$13,"<>"&$H13)+COLUMN(C:C)))),"") | L13: =IFERROR(INDEX($B$4:$B$13,SUMPRODUCT(SMALL(($C$4:$C$13=$H13)*(ROW($C$4:$C$13)-3),COUNTIF($C$4:$C$13,"<>"&$H13)+COLUMN(D:D)))),"") | M13: =IFERROR(INDEX($B$4:$B$13,SUMPRODUCT(SMALL(($C$4:$C$13=$H13)*(ROW($C$4:$C$13)-3),COUNTIF($C$4:$C$13,"<>"&$H13)+COLUMN(E:E)))),"")
H14: {=IFERROR(INDEX(C$4:C$13,MATCH(0,COUNTIF(C$4:C$13,"<"&C$4:C$13)-SUM(COUNTIF(H$3:H13,C$4:C$13)),0)),"")} | I14: =IFERROR(INDEX($B$4:$B$13,SUMPRODUCT(SMALL(($C$4:$C$13=$H14)*(ROW($C$4:$C$13)-3),COUNTIF($C$4:$C$13,"<>"&$H14)+COLUMN(A:A)))),"") | J14: =IFERROR(INDEX($B$4:$B$13,SUMPRODUCT(SMALL(($C$4:$C$13=$H14)*(ROW($C$4:$C$13)-3),COUNTIF($C$4:$C$13,"<>"&$H14)+COLUMN(B:B)))),"") | K14: =IFERROR(INDEX($B$4:$B$13,SUMPRODUCT(SMALL(($C$4:$C$13=$H14)*(ROW($C$4:$C$13)-3),COUNTIF($C$4:$C$13,"<>"&$H14)+COLUMN(C:C)))),"") | L14: =IFERROR(INDEX($B$4:$B$13,SUMPRODUCT(SMALL(($C$4:$C$13=$H14)*(ROW($C$4:$C$13)-3),COUNTIF($C$4:$C$13,"<>"&$H14)+COLUMN(D:D)))),"") | M14: =IFERROR(INDEX($B$4:$B$13,SUMPRODUCT(SMALL(($C$4:$C$13=$H14)*(ROW($C$4:$C$13)-3),COUNTIF($C$4:$C$13,"<>"&$H14)+COLUMN(E:E)))),"")

Sheet Feuil2
F3: Chambres
D4: 1 | E4: 2 | F4: 3 | G4: 4 | H4: 5 | I4: 6
C5: collaborateur 1 | D5: {=IFERROR(INDIRECT("Feuil1!B"&SMALL(IF(Feuil1!$C$4:$C$99=Feuil2!D$4,ROW($C$4:$C$99)),ROWS($1:1))),"")} -> nom3 | E5: {=IFERROR(INDIRECT("Feuil1!B"&SMALL(IF(Feuil1!$C$4:$C$99=Feuil2!E$4,ROW($C$4:$C$99)),ROWS($1:1))),"")} -> nom1 | F5: {=IFERROR(INDIRECT("Feuil1!B"&SMALL(IF(Feuil1!$C$4:$C$99=Feuil2!F$4,ROW($C$4:$C$99)),ROWS($1:1))),"")} -> nom2 | G5: {=IFERROR(INDIRECT("Feuil1!B"&SMALL(IF(Feuil1!$C$4:$C$99=Feuil2!G$4,ROW($C$4:$C$99)),ROWS($1:1))),"")} -> nom5 | H5: {=IFERROR(INDIRECT("Feuil1!B"&SMALL(IF(Feuil1!$C$4:$C$99=Feuil2!H$4,ROW($C$4:$C$99)),ROWS($1:1))),"")} -> nom8 | I5: {=IFERROR(INDIRECT("Feuil1!B"&SMALL(IF(Feuil1!$C$4:$C$99=Feuil2!I$4,ROW($C$4:$C$99)),ROWS($1:1))),"")} -> nom4
C6: collaborateur 2 | D6: {=IFERROR(INDIRECT("Feuil1!B"&SMALL(IF(Feuil1!$C$4:$C$99=Feuil2!D$4,ROW($C$4:$C$99)),ROWS($1:2))),"")} -> nom7 | E6: {=IFERROR(INDIRECT("Feuil1!B"&SMALL(IF(Feuil1!$C$4:$C$99=Feuil2!E$4,ROW($C$4:$C$99)),ROWS($1:2))),"")} | F6: {=IFERROR(INDIRECT("Feuil1!B"&SMALL(IF(Feuil1!$C$4:$C$99=Feuil2!F$4,ROW($C$4:$C$99)),ROWS($1:2))),"")} -> nom10 | G6: {=IFERROR(INDIRECT("Feuil1!B"&SMALL(IF(Feuil1!$C$4:$C$99=Feuil2!G$4,ROW($C$4:$C$99)),ROWS($1:2))),"")} -> nom9 | H6: {=IFERROR(INDIRECT("Feuil1!B"&SMALL(IF(Feuil1!$C$4:$C$99=Feuil2!H$4,ROW($C$4:$C$99)),ROWS($1:2))),"")} | I6: {=IFERROR(INDIRECT("Feuil1!B"&SMALL(IF(Feuil1!$C$4:$C$99=Feuil2!I$4,ROW($C$4:$C$99)),ROWS($1:2))),"")} -> nom6

Sheet Feuil3
