Workbook

Sheet Role Dep
A1: Role | B1: Department | G1: Name | H1: Role | I1: Department
A2: user | B2: {=INDEX(I$2:I$13,MATCH(MAX(IF(H$2:H$13=A2,COUNTIF(I$2:I$13,I$2:I$13),"")),IF(H$2:H$13=A2,COUNTIF(I$2:I$13,I$2:I$13),""),0))} -> Management | G2: Charles | H2: user | I2: =VLOOKUP(G2,'Name Dep'!A:B,2,0) -> Accounting
A3: admin | B3: {=INDEX(I$2:I$13,MATCH(MAX(IF(H$2:H$13=A3,COUNTIF(I$2:I$13,I$2:I$13),"")),IF(H$2:H$13=A3,COUNTIF(I$2:I$13,I$2:I$13),""),0))} -> Management | G3: Charles | H3: admin | I3: =VLOOKUP(G3,'Name Dep'!A:B,2,0) -> Accounting
A4: reader | B4: {=INDEX(I$2:I$13,MATCH(MAX(IF(H$2:H$13=A4,COUNTIF(I$2:I$13,I$2:I$13),"")),IF(H$2:H$13=A4,COUNTIF(I$2:I$13,I$2:I$13),""),0))} -> Management | G4: Josh | H4: admin | I4: =VLOOKUP(G4,'Name Dep'!A:B,2,0) -> HR
A5: editor | B5: {=INDEX(I$2:I$13,MATCH(MAX(IF(H$2:H$13=A5,COUNTIF(I$2:I$13,I$2:I$13),"")),IF(H$2:H$13=A5,COUNTIF(I$2:I$13,I$2:I$13),""),0))} -> Management | G5: Josh | H5: reader | I5: =VLOOKUP(G5,'Name Dep'!A:B,2,0) -> HR
G6: Josh | H6: editor | I6: =VLOOKUP(G6,'Name Dep'!A:B,2,0) -> HR
G7: Kevin | H7: user | I7: =VLOOKUP(G7,'Name Dep'!A:B,2,0) -> Management
G8: Kevin | H8: admin | I8: =VLOOKUP(G8,'Name Dep'!A:B,2,0) -> Management
G9: Kevin | H9: reader | I9: =VLOOKUP(G9,'Name Dep'!A:B,2,0) -> Management
G10: Kevin | H10: editor | I10: =VLOOKUP(G10,'Name Dep'!A:B,2,0) -> Management
G11: Sophie | H11: user | I11: =VLOOKUP(G11,'Name Dep'!A:B,2,0) -> Management
G12: Sophie | H12: reader | I12: =VLOOKUP(G12,'Name Dep'!A:B,2,0) -> Management
G13: Sophie | H13: editor | I13: =VLOOKUP(G13,'Name Dep'!A:B,2,0) -> Management | K13: <<<< Mapping copié collé pour mieux voir

Sheet Mapping
A1: Name | B1: Role | C1: Department
A2: Charles | B2: user | C2: =VLOOKUP(A2,'Name Dep'!A:B,2,0) -> Accounting
A3: Charles | B3: admin | C3: =VLOOKUP(A3,'Name Dep'!A:B,2,0) -> Accounting
A4: Josh | B4: admin | C4: =VLOOKUP(A4,'Name Dep'!A:B,2,0) -> HR
A5: Josh | B5: reader | C5: =VLOOKUP(A5,'Name Dep'!A:B,2,0) -> HR
A6: Josh | B6: editor | C6: =VLOOKUP(A6,'Name Dep'!A:B,2,0) -> HR
A7: Kevin | B7: user | C7: =VLOOKUP(A7,'Name Dep'!A:B,2,0) -> Management
A8: Kevin | B8: admin | C8: =VLOOKUP(A8,'Name Dep'!A:B,2,0) -> Management
A9: Kevin | B9: reader | C9: =VLOOKUP(A9,'Name Dep'!A:B,2,0) -> Management
A10: Kevin | B10: editor | C10: =VLOOKUP(A10,'Name Dep'!A:B,2,0) -> Management
A11: Sophie | B11: user | C11: =VLOOKUP(A11,'Name Dep'!A:B,2,0) -> Management
A12: Sophie | B12: reader | C12: =VLOOKUP(A12,'Name Dep'!A:B,2,0) -> Management
A13: Sophie | B13: editor | C13: =VLOOKUP(A13,'Name Dep'!A:B,2,0) -> Management

Sheet Name Dep
A1: Name | B1: Dep
A2: Charles | B2: Accounting
A3: Josh | B3: HR
A4: Kevin | B4: Management
A5: Sophie | B5: Management
