Workbook
Name onglet1: OFFSET(param!$A$2,,,COUNTA(param!$A:$A))

Sheet Agents
A1: Alain
A2: Laurent
A3: Didier
A4: Stephane
A5: Patrick
A6: Christophe
A7: Pierre
A8: Henri
A9: Martin
A10: Louis
A14: ANDRÉ
A15: SÉVERINE
A16: XXXX

Sheet MASTER
A2: PLACEMENT DES AGENTS POUR LES MATCHES SAISON | J2: 2017/2018
B3: =Agents!A1 -> Alain | C3: =Agents!A2 -> Laurent | D3: =Agents!A3 -> Didier | E3: =Agents!A4 -> Stephane | F3: =Agents!A5 -> Patrick | G3: =Agents!A6 -> Christophe | H3: =Agents!A7 -> Pierre | I3: =Agents!A8 -> Henri | J3: =Agents!A9 -> Martin | K3: =Agents!A10 -> Louis | L3: =TODAY() -> 42764
A4: ENTREE PRINCIPALE : | B4: =SUMPRODUCT(SUMIF(INDIRECT("'"&onglet1&"'!b39:b48"),B$3,INDIRECT("'"&onglet1&"'!f39:f48"))) -> 0 | C4: =SUMPRODUCT(SUMIF(INDIRECT("'"&onglet1&"'!b39:b48"),C$3,INDIRECT("'"&onglet1&"'!f39:f48"))) -> 0 | D4: =SUMPRODUCT(SUMIF(INDIRECT("'"&onglet1&"'!b39:b48"),D$3,INDIRECT("'"&onglet1&"'!f39:f48"))) -> 0 | E4: =SUMPRODUCT(SUMIF(INDIRECT("'"&onglet1&"'!b39:b48"),E$3,INDIRECT("'"&onglet1&"'!f39:f48"))) -> 0 | F4: =SUMPRODUCT(SUMIF(INDIRECT("'"&onglet1&"'!b39:b48"),F$3,INDIRECT("'"&onglet1&"'!f39:f48"))) -> 0 | G4: =SUMPRODUCT(SUMIF(INDIRECT("'"&onglet1&"'!b39:b48"),G$3,INDIRECT("'"&onglet1&"'!f39:f48"))) -> 0 | H4: =SUMPRODUCT(SUMIF(INDIRECT("'"&onglet1&"'!b39:b48"),H$3,INDIRECT("'"&onglet1&"'!f39:f48"))) -> 2 | I4: =SUMPRODUCT(SUMIF(INDIRECT("'"&onglet1&"'!b39:b48"),I$3,INDIRECT("'"&onglet1&"'!f39:f48"))) -> 0 | ... K4: =SUMPRODUCT(SUMIF(INDIRECT("'"&onglet1&"'!b39:b48"),K$3,INDIRECT("'"&onglet1&"'!f39:f48"))) -> 2 | L4: ENTREE PRINCIPALE :
A5: ACCES VIP | B5: =SUMPRODUCT(SUMIF(INDIRECT("'"&onglet1&"'!b50:b59"),B$3,INDIRECT("'"&onglet1&"'!f50:f59"))) -> 0 | C5: =SUMPRODUCT(SUMIF(INDIRECT("'"&onglet1&"'!b50:b59"),C$3,INDIRECT("'"&onglet1&"'!f50:f59"))) -> 2 | D5: =SUMPRODUCT(SUMIF(INDIRECT("'"&onglet1&"'!b50:b59"),D$3,INDIRECT("'"&onglet1&"'!f50:f59"))) -> 0 | E5: =SUMPRODUCT(SUMIF(INDIRECT("'"&onglet1&"'!b50:b59"),E$3,INDIRECT("'"&onglet1&"'!f50:f59"))) -> 0 | F5: =SUMPRODUCT(SUMIF(INDIRECT("'"&onglet1&"'!b50:b59"),F$3,INDIRECT("'"&onglet1&"'!f50:f59"))) -> 0 | G5: =SUMPRODUCT(SUMIF(INDIRECT("'"&onglet1&"'!b50:b59"),G$3,INDIRECT("'"&onglet1&"'!f50:f59"))) -> 1 | H5: =SUMPRODUCT(SUMIF(INDIRECT("'"&onglet1&"'!b50:b59"),H$3,INDIRECT("'"&onglet1&"'!f50:f59"))) -> 0 | I5: =SUMPRODUCT(SUMIF(INDIRECT("'"&onglet1&"'!b50:b59"),I$3,INDIRECT("'"&onglet1&"'!f50:f59"))) -> 0 | ... K5: =SUMPRODUCT(SUMIF(INDIRECT("'"&onglet1&"'!b50:b59"),K$3,INDIRECT("'"&onglet1&"'!f50:f59"))) -> 0 | L5: PATE D’OIE :
A6: VISITEURS : | B6: =SUMPRODUCT(SUMIF(INDIRECT("'"&onglet1&"'!b61:b70"),B$3,INDIRECT("'"&onglet1&"'!f61:f70"))) -> 0 | C6: =SUMPRODUCT(SUMIF(INDIRECT("'"&onglet1&"'!b61:b70"),C$3,INDIRECT("'"&onglet1&"'!f61:f70"))) -> 0 | D6: =SUMPRODUCT(SUMIF(INDIRECT("'"&onglet1&"'!b61:b70"),D$3,INDIRECT("'"&onglet1&"'!f61:f70"))) -> 2 | E6: =SUMPRODUCT(SUMIF(INDIRECT("'"&onglet1&"'!b61:b70"),E$3,INDIRECT("'"&onglet1&"'!f61:f70"))) -> 0 | F6: =SUMPRODUCT(SUMIF(INDIRECT("'"&onglet1&"'!b61:b70"),F$3,INDIRECT("'"&onglet1&"'!f61:f70"))) -> 0 | G6: =SUMPRODUCT(SUMIF(INDIRECT("'"&onglet1&"'!b61:b70"),G$3,INDIRECT("'"&onglet1&"'!f61:f70"))) -> 0 | H6: =SUMPRODUCT(SUMIF(INDIRECT("'"&onglet1&"'!b61:b70"),H$3,INDIRECT("'"&onglet1&"'!f61:f70"))) -> 0 | I6: =SUMPRODUCT(SUMIF(INDIRECT("'"&onglet1&"'!b61:b70"),I$3,INDIRECT("'"&onglet1&"'!f61:f70"))) -> 0 | ... K6: =SUMPRODUCT(SUMIF(INDIRECT("'"&onglet1&"'!b61:b70"),K$3,INDIRECT("'"&onglet1&"'!f61:f70"))) -> 0 | L6: VISITEURS :
A7: HALL 1 | B7: =SUMPRODUCT(SUMIF(INDIRECT("'"&onglet1&"'!b72:b81"),B$3,INDIRECT("'"&onglet1&"'!f72:f81"))) -> 0 | C7: =SUMPRODUCT(SUMIF(INDIRECT("'"&onglet1&"'!b72:b81"),C$3,INDIRECT("'"&onglet1&"'!f72:f81"))) -> 0 | D7: =SUMPRODUCT(SUMIF(INDIRECT("'"&onglet1&"'!b72:b81"),D$3,INDIRECT("'"&onglet1&"'!f72:f81"))) -> 0 | E7: =SUMPRODUCT(SUMIF(INDIRECT("'"&onglet1&"'!b72:b81"),E$3,INDIRECT("'"&onglet1&"'!f72:f81"))) -> 0 | F7: =SUMPRODUCT(SUMIF(INDIRECT("'"&onglet1&"'!b72:b81"),F$3,INDIRECT("'"&onglet1&"'!f72:f81"))) -> 2 | G7: =SUMPRODUCT(SUMIF(INDIRECT("'"&onglet1&"'!b72:b81"),G$3,INDIRECT("'"&onglet1&"'!f72:f81"))) -> 0 | H7: =SUMPRODUCT(SUMIF(INDIRECT("'"&onglet1&"'!b72:b81"),H$3,INDIRECT("'"&onglet1&"'!f72:f81"))) -> 0 | I7: =SUMPRODUCT(SUMIF(INDIRECT("'"&onglet1&"'!b72:b81"),I$3,INDIRECT("'"&onglet1&"'!f72:f81"))) -> 0 | ... K7: =SUMPRODUCT(SUMIF(INDIRECT("'"&onglet1&"'!b72:b81"),K$3,INDIRECT("'"&onglet1&"'!f72:f81"))) -> 0 | L7: PISTE EST :
A8: HALL 2 | B8: =SUMPRODUCT(SUMIF(INDIRECT("'"&onglet1&"'!b83:b92"),B$3,INDIRECT("'"&onglet1&"'!f82:f92"))) -> 0 | C8: =SUMPRODUCT(SUMIF(INDIRECT("'"&onglet1&"'!b83:b92"),C$3,INDIRECT("'"&onglet1&"'!f82:f92"))) -> 0 | D8: =SUMPRODUCT(SUMIF(INDIRECT("'"&onglet1&"'!b83:b92"),D$3,INDIRECT("'"&onglet1&"'!f82:f92"))) -> 0 | E8: =SUMPRODUCT(SUMIF(INDIRECT("'"&onglet1&"'!b83:b92"),E$3,INDIRECT("'"&onglet1&"'!f82:f92"))) -> 0 | F8: =SUMPRODUCT(SUMIF(INDIRECT("'"&onglet1&"'!b83:b92"),F$3,INDIRECT("'"&onglet1&"'!f82:f92"))) -> 0 | G8: =SUMPRODUCT(SUMIF(INDIRECT("'"&onglet1&"'!b83:b92"),G$3,INDIRECT("'"&onglet1&"'!f82:f92"))) -> 2 | H8: =SUMPRODUCT(SUMIF(INDIRECT("'"&onglet1&"'!b83:b92"),H$3,INDIRECT("'"&onglet1&"'!f82:f92"))) -> 0 | I8: =SUMPRODUCT(SUMIF(INDIRECT("'"&onglet1&"'!b83:b92"),I$3,INDIRECT("'"&onglet1&"'!f82:f92"))) -> 0 | ... K8: =SUMPRODUCT(SUMIF(INDIRECT("'"&onglet1&"'!b83:b92"),K$3,INDIRECT("'"&onglet1&"'!f82:f92"))) -> 0 | L8: PISTE SUD :
A9: HALL 3 | B9: =SUMPRODUCT(SUMIF(INDIRECT("'"&onglet1&"'!b94:b103"),B$3,INDIRECT("'"&onglet1&"'!f94:f103"))) -> 0 | C9: =SUMPRODUCT(SUMIF(INDIRECT("'"&onglet1&"'!b94:b103"),C$3,INDIRECT("'"&onglet1&"'!f94:f103"))) -> 0 | D9: =SUMPRODUCT(SUMIF(INDIRECT("'"&onglet1&"'!b94:b103"),D$3,INDIRECT("'"&onglet1&"'!f94:f103"))) -> 0 | E9: =SUMPRODUCT(SUMIF(INDIRECT("'"&onglet1&"'!b94:b103"),E$3,INDIRECT("'"&onglet1&"'!f94:f103"))) -> 0 | F9: =SUMPRODUCT(SUMIF(INDIRECT("'"&onglet1&"'!b94:b103"),F$3,INDIRECT("'"&onglet1&"'!f94:f103"))) -> 0 | G9: =SUMPRODUCT(SUMIF(INDIRECT("'"&onglet1&"'!b94:b103"),G$3,INDIRECT("'"&onglet1&"'!f94:f103"))) -> 0 | H9: =SUMPRODUCT(SUMIF(INDIRECT("'"&onglet1&"'!b94:b103"),H$3,INDIRECT("'"&onglet1&"'!f94:f103"))) -> 0 | I9: =SUMPRODUCT(SUMIF(INDIRECT("'"&onglet1&"'!b94:b103"),I$3,INDIRECT("'"&onglet1&"'!f94:f103"))) -> 0 | ... K9: =SUMPRODUCT(SUMIF(INDIRECT("'"&onglet1&"'!b94:b103"),K$3,INDIRECT("'"&onglet1&"'!f94:f103"))) -> 0 | L9: PISTE NORD :
A10: HALL 4 | B10: =SUMPRODUCT(SUMIF(INDIRECT("'"&onglet1&"'!b105:b114"),B$3,INDIRECT("'"&onglet1&"'!f105:f114"))) -> 0 | C10: =SUMPRODUCT(SUMIF(INDIRECT("'"&onglet1&"'!b105:b114"),C$3,INDIRECT("'"&onglet1&"'!f105:f114"))) -> 0 | D10: =SUMPRODUCT(SUMIF(INDIRECT("'"&onglet1&"'!b105:b114"),D$3,INDIRECT("'"&onglet1&"'!f105:f114"))) -> 0 | E10: =SUMPRODUCT(SUMIF(INDIRECT("'"&onglet1&"'!b105:b114"),E$3,INDIRECT("'"&onglet1&"'!f105:f114"))) -> 0 | F10: =SUMPRODUCT(SUMIF(INDIRECT("'"&onglet1&"'!b105:b114"),F$3,INDIRECT("'"&onglet1&"'!f105:f114"))) -> 0 | G10: =SUMPRODUCT(SUMIF(INDIRECT("'"&onglet1&"'!b105:b114"),G$3,INDIRECT("'"&onglet1&"'!f105:f114"))) -> 0 | H10: =SUMPRODUCT(SUMIF(INDIRECT("'"&onglet1&"'!b105:b114"),H$3,INDIRECT("'"&onglet1&"'!f105:f114"))) -> 0 | I10: =SUMPRODUCT(SUMIF(INDIRECT("'"&onglet1&"'!b105:b114"),I$3,INDIRECT("'"&onglet1&"'!f105:f114"))) -> 0 | ... K10: =SUMPRODUCT(SUMIF(INDIRECT("'"&onglet1&"'!b105:b114"),K$3,INDIRECT("'"&onglet1&"'!f105:f114"))) -> 0 | L10: CAR :
A11: MAINTENANCE : | B11: =SUMPRODUCT(SUMIF(INDIRECT("'"&onglet1&"'!b116:b125"),B$3,INDIRECT("'"&onglet1&"'!f116:f125"))) -> 0 | C11: =SUMPRODUCT(SUMIF(INDIRECT("'"&onglet1&"'!b116:b125"),C$3,INDIRECT("'"&onglet1&"'!f116:f125"))) -> 0 | D11: =SUMPRODUCT(SUMIF(INDIRECT("'"&onglet1&"'!b116:b125"),D$3,INDIRECT("'"&onglet1&"'!f116:f125"))) -> 0 | E11: =SUMPRODUCT(SUMIF(INDIRECT("'"&onglet1&"'!b116:b125"),E$3,INDIRECT("'"&onglet1&"'!f116:f125"))) -> 0 | F11: =SUMPRODUCT(SUMIF(INDIRECT("'"&onglet1&"'!b116:b125"),F$3,INDIRECT("'"&onglet1&"'!f116:f125"))) -> 0 | G11: =SUMPRODUCT(SUMIF(INDIRECT("'"&onglet1&"'!b116:b125"),G$3,INDIRECT("'"&onglet1&"'!f116:f125"))) -> 0 | H11: =SUMPRODUCT(SUMIF(INDIRECT("'"&onglet1&"'!b116:b125"),H$3,INDIRECT("'"&onglet1&"'!f116:f125"))) -> 0 | I11: =SUMPRODUCT(SUMIF(INDIRECT("'"&onglet1&"'!b116:b125"),I$3,INDIRECT("'"&onglet1&"'!f116:f125"))) -> 2 | ... K11: =SUMPRODUCT(SUMIF(INDIRECT("'"&onglet1&"'!b116:b125"),K$3,INDIRECT("'"&onglet1&"'!f116:f125"))) -> 0 | L11: MAINTENANCE :
A12: =TODAY() -> 42764 | B12: =SUMPRODUCT(SUMIF(INDIRECT("'"&onglet1&"'!b116:b125"),B$3,INDIRECT("'"&onglet1&"'!f116:f125"))) -> 0 | C12: =SUM(C4:C11) -> 2 | D12: =SUM(D4:D11) -> 2 | E12: =SUM(E4:E11) -> 0 | F12: =SUM(F4:F11) -> 2 | G12: =SUM(G4:G11) -> 3 | H12: =SUM(H4:H11) -> 2 | I12: =SUM(I4:I11) -> 2 | J12: =SUM(J4:J11) -> 4 | K12: =SUM(K4:K11) -> 2
A13: ÉQUIPE DE JOURNÉE : | B13: =SUMPRODUCT(SUMIF(INDIRECT("'"&onglet1&"'!b127:b136"),B$3,INDIRECT("'"&onglet1&"'!f127:f136"))) -> 0 | C13: =SUMPRODUCT(SUMIF(INDIRECT("'"&onglet1&"'!b127:b136"),C$3,INDIRECT("'"&onglet1&"'!f127:f136"))) -> 0 | D13: =SUMPRODUCT(SUMIF(INDIRECT("'"&onglet1&"'!b127:b136"),D$3,INDIRECT("'"&onglet1&"'!f127:f136"))) -> 2 | E13: =SUMPRODUCT(SUMIF(INDIRECT("'"&onglet1&"'!b127:b136"),E$3,INDIRECT("'"&onglet1&"'!f127:f136"))) -> 2 | F13: =SUMPRODUCT(SUMIF(INDIRECT("'"&onglet1&"'!b127:b136"),F$3,INDIRECT("'"&onglet1&"'!f127:f136"))) -> 0 | G13: =SUMPRODUCT(SUMIF(INDIRECT("'"&onglet1&"'!b127:b136"),G$3,INDIRECT("'"&onglet1&"'!f127:f136"))) -> 0 | H13: =SUMPRODUCT(SUMIF(INDIRECT("'"&onglet1&"'!b127:b136"),H$3,INDIRECT("'"&onglet1&"'!f127:f136"))) -> 0 | I13: =SUMPRODUCT(SUMIF(INDIRECT("'"&onglet1&"'!b127:b136"),I$3,INDIRECT("'"&onglet1&"'!f127:f136"))) -> 0 | ... K13: =SUMPRODUCT(SUMIF(INDIRECT("'"&onglet1&"'!b127:b136"),K$3,INDIRECT("'"&onglet1&"'!f127:f136"))) -> 0 | L13: ÉQUIPE DE JOURNÉE :
D15: 2016/2017
D16: 2017/2018
D17: 2018/2019
D18: 2019/2020
D19: 2020/2021
D20: 2021/2022
D21: 2022/2023
D22: 2023/2024
D23: 2024/2025
D24: 2025/2026
D25: 2026/2027
D26: 2027/2028
... D48: 2049/2050
A51: PARTICIPATION DES AGENTS
B53: =Agents!A1 -> Alain | C53: =Agents!A2 -> Laurent | D53: =Agents!A3 -> Didier | E53: =Agents!A4 -> Stephane | F53: =Agents!A5 -> Patrick | G53: =Agents!A6 -> Christophe | H53: =Agents!A7 -> Pierre | I53: =Agents!A8 -> Henri | J53: =Agents!A9 -> Martin | K53: =Agents!A10 -> Louis
C54: 1 | D54: 1 | E54: 1 | F54: 1 | H54: 1 | I54: 1 | J54: 1 | K54: 1

Sheet T
B2: PLACEMENT DU PERSONNEL | O2: SAISON 2014/2015
O3: SAISON 2015/2016
O4: SAISON 2017/2018
O5: SAISON 2018/2019
O6: SAISON 2019/2020
O7: SAISON 2020/2021
B8: SAISON 2017/2018 | O8: SAISON 2021/2022
O9: SAISON 2022/2023
O10: SAISON 2023/2024
O11: SAISON 2024/2025
O12: SAISON 2025/2026
H13: =TODAY() -> 42764 | O13: SAISON 2026/2027
O14: SAISON 2027/2028
B15: PLACEMENT DU PERSONNEL | O15: SAISON 2028/2029
O16: SAISON 2029/2030
B17: RESPONSABLES : | F17: ANDRÉ | K17: =Agents!A1 -> Alain | O17: SAISON 2030/2031 | S17: =SIERREUR(DECALER(F$18;EQUIV(0;NB.SI(R$17:R17;$F$19:$F$26);0););"")
K18: =Agents!A2 -> Laurent | O18: SAISON 2031/2032 | R18: {=IFERROR(OFFSET(F$18,MATCH(0,COUNTIF(R$17:R17,$F$19:$F$26),0),),"")} -> Louis
B19: ENTREE PRINCIPALE : | F19: Louis | G19: / | H19: Pierre | K19: =Agents!A3 -> Didier | O19: SAISON 2032/2033 | R19: {=IFERROR(OFFSET(F$18,MATCH(0,COUNTIF(R$17:R18,$F$19:$F$26),0),),"")} -> Laurent | T19: en jaune j'ai reporter votre formule mais ce n'ai pas ce que je cherche
B20: ACCES VIP : | F20: Laurent | I20: 1 | K20: =Agents!A4 -> Stephane | L20: / | R20: {=IFERROR(OFFSET(F$18,MATCH(0,COUNTIF(R$17:R19,$F$19:$F$26),0),),"")} -> Didier | T20: cela fonction mais j'aimerai dans la feuille que le calcule se face autrement soit
B21: VISITEURS : | F21: Didier | I21: 1 | K21: =Agents!A5 -> Patrick | R21: {=IFERROR(OFFSET(F$18,MATCH(0,COUNTIF(R$17:R20,$F$19:$F$26),0),),"")} -> Patrick | T21: 1 pour louis ; 1 pour laurent etc ce qui me permetrai de compatablisé en fin d'année le nombre de participation et comme vous pouvez le voir les poste sont doublé et donc dans la feuille MASTER il sont compatbilisé 2 fois
B22: HALL 1 : | F22: Patrick | I22: 1 | K22: =Agents!A6 -> Christophe | R22: {=IFERROR(OFFSET(F$18,MATCH(0,COUNTIF(R$17:R21,$F$19:$F$26),0),),"")} -> Martin
B23: HALL 2 : | F23: Patrick | I23: 1 | K23: =Agents!A7 -> Pierre | R23: {=IFERROR(OFFSET(F$18,MATCH(0,COUNTIF(R$17:R22,$F$19:$F$26),0),),"")} -> Henri
B24: HALL 3 : | F24: Martin | I24: 1 | K24: =Agents!A8 -> Henri | R24: {=IFERROR(OFFSET(F$18,MATCH(0,COUNTIF(R$17:R23,$F$19:$F$26),0),),"")} | T24: pour l'instant ce n'est pas fait mails il y aura un 20 onglets et le master prendra en compte les 20 onglets pour le calculs equitables par poste
B25: HALL 4: | F25: Martin | I25: 1 | K25: =Agents!A9 -> Martin | R25: {=IFERROR(OFFSET(F$18,MATCH(0,COUNTIF(R$17:R24,$F$19:$F$26),0),),"")}
B26: MAINTENANCE : | F26: Henri | I26: 1 | K26: =Agents!A10 -> Louis | R26: =IFERROR(OFFSET(F$18,MATCH(0,COUNTIF(R$17:R25,$F$19:$F$27),0),),"")
B27: ÉQUIPE DE JOURNÉE : | F27: Stephane | G27: / | H27: Didier | R27: =IFERROR(OFFSET(F$18,MATCH(0,COUNTIF(R$17:R26,$F$19:$F$27),0),),"")
B29: NOTES
K32: =Agents!A14 -> ANDRÉ
K33: =Agents!A15 -> SÉVERINE
K34: =Agents!A16 -> XXXX
B39: =$K$17 -> Alain | C39: =COUNTIF($F$19,K17) -> 0 | E39: =COUNTIF($H$19,K17) -> 0 | F39: =SUM(C39:E39) -> 0
B40: =$K$18 -> Laurent | C40: =COUNTIF($F$19,K18) -> 0 | E40: =COUNTIF($H$19,K18) -> 0 | F40: =SUM(C40:E40) -> 0
B41: =$K$19 -> Didier | C41: =COUNTIF($F$19,K19) -> 0 | E41: =COUNTIF($H$19,K19) -> 0 | F41: =SUM(C41:E41) -> 0
B42: =$K$20 -> Stephane | C42: =COUNTIF($F$19,K20) -> 0 | E42: =COUNTIF($H$19,K20) -> 0 | F42: =SUM(C42:E42) -> 0
B43: =$K$21 -> Patrick | C43: =COUNTIF($F$19,K21) -> 0 | E43: =COUNTIF($H$19,K21) -> 0 | F43: =SUM(C43:E43) -> 0 | H43: ENTREE PRINCIPALE :
B44: =$K$22 -> Christophe | C44: =COUNTIF($F$19,K22) -> 0 | E44: =COUNTIF($H$19,K22) -> 0 | F44: =SUM(C44:E44) -> 0
B45: =$K$23 -> Pierre | C45: =COUNTIF($F$19,K23) -> 0 | E45: =COUNTIF($H$19,K23) -> 1 | F45: =SUM(C45:E45) -> 1
B46: =$K$24 -> Henri | C46: =COUNTIF($F$19,K24) -> 0 | E46: =COUNTIF($H$19,K24) -> 0 | F46: =SUM(C46:E46) -> 0
B47: =$K$25 -> Martin | C47: =COUNTIF($F$19,K25) -> 0 | E47: =COUNTIF($H$19,K25) -> 0 | F47: =SUM(C47:E47) -> 0
B48: =$K$26 -> Louis | C48: =COUNTIF($F$19,K26) -> 1 | E48: =COUNTIF($H$19,K26) -> 0 | F48: =SUM(C48:E48) -> 1
B50: =$K$17 -> Alain | C50: =COUNTIF($F$20,K17) -> 0 | E50: =COUNTIF($H$20,K17) -> 0 | F50: =SUM(C50:E50) -> 0
B51: =$K$18 -> Laurent | C51: =COUNTIF($F$20,K18) -> 1 | E51: =COUNTIF($H$20,K18) -> 0 | F51: =SUM(C51:E51) -> 1
B52: =$K$19 -> Didier | C52: =COUNTIF($F$20,K19) -> 0 | E52: =COUNTIF($H$20,K19) -> 0 | F52: =SUM(C52:E52) -> 0
B53: =$K$20 -> Stephane | C53: =COUNTIF($F$20,K20) -> 0 | E53: =COUNTIF($H$20,K20) -> 0 | F53: =SUM(C53:E53) -> 0
B54: =$K$21 -> Patrick | C54: =COUNTIF($F$20,K21) -> 0 | E54: =COUNTIF($H$20,K21) -> 0 | F54: =SUM(C54:E54) -> 0 | H54: ACCES VIP :
B55: =$K$22 -> Christophe | C55: =COUNTIF($F$20,K22) -> 0 | E55: =COUNTIF($H$20,K22) -> 0 | F55: =SUM(C55:E55) -> 0
B56: =$K$23 -> Pierre | C56: =COUNTIF($F$20,K23) -> 0 | E56: =COUNTIF($H$20,K23) -> 0 | F56: =SUM(C56:E56) -> 0
B57: =$K$24 -> Henri | C57: =COUNTIF($F$20,K24) -> 0 | E57: =COUNTIF($H$20,K24) -> 0 | F57: =SUM(C57:E57) -> 0
B58: =$K$25 -> Martin | C58: =COUNTIF($F$20,K25) -> 0 | E58: =COUNTIF($H$20,K25) -> 0 | F58: =SUM(C58:E58) -> 0
B59: =$K$26 -> Louis | C59: =COUNTIF($F$20,K26) -> 0 | E59: =COUNTIF($H$20,K26) -> 0 | F59: =SUM(C59:E59) -> 0
B61: =$K$17 -> Alain | C61: =COUNTIF($F$21,K17) -> 0 | E61: =COUNTIF($H$21,K17) -> 0 | F61: =SUM(C61:E61) -> 0
B62: =$K$18 -> Laurent | C62: =COUNTIF($F$21,K18) -> 0 | E62: =COUNTIF($H$21,K18) -> 0 | F62: =SUM(C62:E62) -> 0
B63: =$K$19 -> Didier | C63: =COUNTIF($F$21,K19) -> 1 | E63: =COUNTIF($H$21,K19) -> 0 | F63: =SUM(C63:E63) -> 1
B64: =$K$20 -> Stephane | C64: =COUNTIF($F$21,K20) -> 0 | E64: =COUNTIF($H$21,K20) -> 0 | F64: =SUM(C64:E64) -> 0
B65: =$K$21 -> Patrick | C65: =COUNTIF($F$21,K21) -> 0 | E65: =COUNTIF($H$21,K21) -> 0 | F65: =SUM(C65:E65) -> 0 | H65: VISITEURS :
B66: =$K$22 -> Christophe | C66: =COUNTIF($F$21,K22) -> 0 | E66: =COUNTIF($H$21,K22) -> 0 | F66: =SUM(C66:E66) -> 0
B67: =$K$23 -> Pierre | C67: =COUNTIF($F$21,K23) -> 0 | E67: =COUNTIF($H$21,K23) -> 0 | F67: =SUM(C67:E67) -> 0
B68: =$K$24 -> Henri | C68: =COUNTIF($F$21,K24) -> 0 | E68: =COUNTIF($H$21,K24) -> 0 | F68: =SUM(C68:E68) -> 0
B69: =$K$25 -> Martin | C69: =COUNTIF($F$21,K25) -> 0 | E69: =COUNTIF($H$21,K25) -> 0 | F69: =SUM(C69:E69) -> 0
B70: =$K$26 -> Louis | C70: =COUNTIF($F$21,K26) -> 0 | E70: =COUNTIF($H$21,K26) -> 0 | F70: =SUM(C70:E70) -> 0
B72: =$K$17 -> Alain | C72: =COUNTIF($F$22,K17) -> 0 | E72: =COUNTIF($H$22,K17) -> 0 | F72: =SUM(C72:E72) -> 0
B73: =$K$18 -> Laurent | C73: =COUNTIF($F$22,K18) -> 0 | E73: =COUNTIF($H$22,K18) -> 0 | F73: =SUM(C73:E73) -> 0
B74: =$K$19 -> Didier | C74: =COUNTIF($F$22,K19) -> 0 | E74: =COUNTIF($H$22,K19) -> 0 | F74: =SUM(C74:E74) -> 0
B75: =$K$20 -> Stephane | C75: =COUNTIF($F$22,K20) -> 0 | E75: =COUNTIF($H$22,K20) -> 0 | F75: =SUM(C75:E75) -> 0
B76: =$K$21 -> Patrick | C76: =COUNTIF($F$22,K21) -> 1 | E76: =COUNTIF($H$22,K21) -> 0 | F76: =SUM(C76:E76) -> 1 | H76: HALL 1 :
B77: =$K$22 -> Christophe | C77: =COUNTIF($F$22,K22) -> 0 | E77: =COUNTIF($H$22,K22) -> 0 | F77: =SUM(C77:E77) -> 0
B78: =$K$23 -> Pierre | C78: =COUNTIF($F$22,K23) -> 0 | E78: =COUNTIF($H$22,K23) -> 0 | F78: =SUM(C78:E78) -> 0
B79: =$K$24 -> Henri | C79: =COUNTIF($F$22,K24) -> 0 | E79: =COUNTIF($H$22,K24) -> 0 | F79: =SUM(C79:E79) -> 0
B80: =$K$25 -> Martin | C80: =COUNTIF($F$22,K25) -> 0 | E80: =COUNTIF($H$22,K25) -> 0 | F80: =SUM(C80:E80) -> 0
B81: =$K$26 -> Louis | C81: =COUNTIF($F$22,K26) -> 0 | E81: =COUNTIF($H$22,K26) -> 0 | F81: =SUM(C81:E81) -> 0
B83: =$K$17 -> Alain | C83: =COUNTIF($F$23,K17) -> 0 | E83: =COUNTIF($H$23,K17) -> 0 | F83: =SUM(C83:E83) -> 0
B84: =$K$18 -> Laurent | C84: =COUNTIF($F$23,K18) -> 0 | E84: =COUNTIF($H$23,K18) -> 0 | F84: =SUM(C84:E84) -> 0
B85: =$K$19 -> Didier | C85: =COUNTIF($F$23,K19) -> 0 | E85: =COUNTIF($H$23,K19) -> 0 | F85: =SUM(C85:E85) -> 0
B86: =$K$20 -> Stephane | C86: =COUNTIF($F$23,K20) -> 0 | E86: =COUNTIF($H$23,K20) -> 0 | F86: =SUM(C86:E86) -> 0
B87: =$K$21 -> Patrick | C87: =COUNTIF($F$23,K21) -> 1 | E87: =COUNTIF($H$23,K21) -> 0 | F87: =SUM(C87:E87) -> 1 | H87: HALL 2 :
B88: =$K$22 -> Christophe | C88: =COUNTIF($F$23,K22) -> 0 | E88: =COUNTIF($H$23,K22) -> 0 | F88: =SUM(C88:E88) -> 0
B89: =$K$23 -> Pierre | C89: =COUNTIF($F$23,K23) -> 0 | E89: =COUNTIF($H$23,K23) -> 0 | F89: =SUM(C89:E89) -> 0
B90: =$K$24 -> Henri | C90: =COUNTIF($F$23,K24) -> 0 | E90: =COUNTIF($H$23,K24) -> 0 | F90: =SUM(C90:E90) -> 0
B91: =$K$25 -> Martin | C91: =COUNTIF($F$23,K25) -> 0 | E91: =COUNTIF($H$23,K25) -> 0 | F91: =SUM(C91:E91) -> 0
B92: =$K$26 -> Louis | C92: =COUNTIF($F$23,K26) -> 0 | E92: =COUNTIF($H$23,K26) -> 0 | F92: =SUM(C92:E92) -> 0
B94: =$K$17 -> Alain | C94: =COUNTIF($F$24,K17) -> 0 | E94: =COUNTIF($H$24,K17) -> 0 | F94: =SUM(C94:E94) -> 0
B95: =$K$18 -> Laurent | C95: =COUNTIF($F$24,K18) -> 0 | E95: =COUNTIF($H$24,K18) -> 0 | F95: =SUM(C95:E95) -> 0
B96: =$K$19 -> Didier | C96: =COUNTIF($F$24,K19) -> 0 | E96: =COUNTIF($H$24,K19) -> 0 | F96: =SUM(C96:E96) -> 0
B97: =$K$20 -> Stephane | C97: =COUNTIF($F$24,K20) -> 0 | E97: =COUNTIF($H$24,K20) -> 0 | F97: =SUM(C97:E97) -> 0
B98: =$K$21 -> Patrick | C98: =COUNTIF($F$24,K21) -> 0 | E98: =COUNTIF($H$24,K21) -> 0 | F98: =SUM(C98:E98) -> 0 | H98: HALL 3 :
B99: =$K$22 -> Christophe | C99: =COUNTIF($F$24,K22) -> 0 | E99: =COUNTIF($H$24,K22) -> 0 | F99: =SUM(C99:E99) -> 0
B100: =$K$23 -> Pierre | C100: =COUNTIF($F$24,K23) -> 0 | E100: =COUNTIF($H$24,K23) -> 0 | F100: =SUM(C100:E100) -> 0
B101: =$K$24 -> Henri | C101: =COUNTIF($F$24,K24) -> 0 | E101: =COUNTIF($H$24,K24) -> 0 | F101: =SUM(C101:E101) -> 0
B102: =$K$25 -> Martin | C102: =COUNTIF($F$24,K25) -> 1 | E102: =COUNTIF($H$24,K25) -> 0 | F102: =SUM(C102:E102) -> 1
B103: =$K$26 -> Louis | C103: =COUNTIF($F$24,K26) -> 0 | E103: =COUNTIF($H$24,K26) -> 0 | F103: =SUM(C103:E103) -> 0
B105: =$K$17 -> Alain | C105: =COUNTIF($F$25,K17) -> 0 | E105: =COUNTIF($H$25,K17) -> 0 | F105: =SUM(C105:E105) -> 0
B106: =$K$18 -> Laurent | C106: =COUNTIF($F$25,K18) -> 0 | E106: =COUNTIF($H$25,K18) -> 0 | F106: =SUM(C106:E106) -> 0
B107: =$K$19 -> Didier | C107: =COUNTIF($F$25,K19) -> 0 | E107: =COUNTIF($H$25,K19) -> 0 | F107: =SUM(C107:E107) -> 0
B108: =$K$20 -> Stephane | C108: =COUNTIF($F$25,K20) -> 0 | E108: =COUNTIF($H$25,K20) -> 0 | F108: =SUM(C108:E108) -> 0
B109: =$K$21 -> Patrick | C109: =COUNTIF($F$25,K21) -> 0 | E109: =COUNTIF($H$25,K21) -> 0 | F109: =SUM(C109:E109) -> 0
B110: =$K$22 -> Christophe | C110: =COUNTIF($F$25,K22) -> 0 | E110: =COUNTIF($H$25,K22) -> 0 | F110: =SUM(C110:E110) -> 0 | H110: HALL 4 :
B111: =$K$23 -> Pierre | C111: =COUNTIF($F$25,K23) -> 0 | E111: =COUNTIF($H$25,K23) -> 0 | F111: =SUM(C111:E111) -> 0
B112: =$K$24 -> Henri | C112: =COUNTIF($F$25,K24) -> 0 | E112: =COUNTIF($H$25,K24) -> 0 | F112: =SUM(C112:E112) -> 0
B113: =$K$25 -> Martin | C113: =COUNTIF($F$25,K25) -> 1 | E113: =COUNTIF($H$25,K25) -> 0 | F113: =SUM(C113:E113) -> 1
B114: =$K$26 -> Louis | C114: =COUNTIF($F$25,K26) -> 0 | E114: =COUNTIF($H$25,K26) -> 0 | F114: =SUM(C114:E114) -> 0
...

Sheet T (2)
B2: PLACEMENT DU PERSONNEL | O2: SAISON 2014/2015
O3: SAISON 2015/2016
O4: SAISON 2017/2018
O5: SAISON 2018/2019
O6: SAISON 2019/2020
O7: SAISON 2020/2021
O8: SAISON 2021/2022
O9: SAISON 2022/2023
O10: SAISON 2023/2024
O11: SAISON 2024/2025
O12: SAISON 2025/2026
H13: =TODAY() -> 42764 | O13: SAISON 2026/2027
O14: SAISON 2027/2028
B15: PLACEMENT DU PERSONNEL | O15: SAISON 2028/2029
O16: SAISON 2029/2030
B17: RESPONSABLES : | F17: ANDRÉ | K17: =Agents!A1 -> Alain | O17: SAISON 2030/2031 | S17: =SIERREUR(DECALER(F$18;EQUIV(0;NB.SI(R$17:R17;$F$19:$F$26);0););"")
K18: =Agents!A2 -> Laurent | O18: SAISON 2031/2032 | R18: {=IFERROR(OFFSET(F$18,MATCH(0,COUNTIF(R$17:R17,$F$19:$F$26),0),),"")} -> Louis
B19: ENTREE PRINCIPALE : | F19: Louis | G19: / | H19: Pierre | K19: =Agents!A3 -> Didier | O19: SAISON 2032/2033 | R19: {=IFERROR(OFFSET(F$18,MATCH(0,COUNTIF(R$17:R18,$F$19:$F$26),0),),"")} -> Laurent | T19: en jaune j'ai reporter votre formule mais ce n'ai pas ce que je cherche :-)
B20: ACCES VIP : | F20: Laurent | H20: Christophe | K20: =Agents!A4 -> Stephane | L20: / | R20: {=IFERROR(OFFSET(F$18,MATCH(0,COUNTIF(R$17:R19,$F$19:$F$26),0),),"")} -> Didier | T20: cela fonction mais j'aimerai dans la feuille que le calcule se face autrement soit
B21: VISITEURS : | F21: Didier | K21: =Agents!A5 -> Patrick | R21: {=IFERROR(OFFSET(F$18,MATCH(0,COUNTIF(R$17:R20,$F$19:$F$26),0),),"")} -> Patrick | T21: compatbilisé 1 pour louis ; 1 pour laurent ; 1 pour Didier etc.... ce qui me permetrai de compatablisé en fin d'année le nombre de participation et comme vous pouvez le voir les postes sont doublés et donc dans la feuille MASTER il sont compatbilisé 2 fois
B22: HALL 1 : | F22: Patrick | K22: =Agents!A6 -> Christophe | R22: {=IFERROR(OFFSET(F$18,MATCH(0,COUNTIF(R$17:R21,$F$19:$F$26),0),),"")} -> Martin
B23: HALL 2 : | F23: Patrick | K23: =Agents!A7 -> Pierre | R23: {=IFERROR(OFFSET(F$18,MATCH(0,COUNTIF(R$17:R22,$F$19:$F$26),0),),"")} -> Henri | T23: j'aimerai qu'il y ai une formule par feuille qui compatbilise le nombre de participation par agent sans les doublon des poste et ensuite un report sur le master ,
B24: HALL 3 : | F24: Martin | K24: =Agents!A8 -> Henri | R24: {=IFERROR(OFFSET(F$18,MATCH(0,COUNTIF(R$17:R23,$F$19:$F$26),0),),"")}
B25: HALL 4: | F25: Martin | K25: =Agents!A9 -> Martin | R25: {=IFERROR(OFFSET(F$18,MATCH(0,COUNTIF(R$17:R24,$F$19:$F$26),0),),"")}
B26: MAINTENANCE : | F26: Henri | K26: =Agents!A10 -> Louis | R26: =IFERROR(OFFSET(F$18,MATCH(0,COUNTIF(R$17:R25,$F$19:$F$27),0),),"")
B27: ÉQUIPE DE JOURNÉE : | F27: Stephane | G27: / | H27: Didier | R27: =IFERROR(OFFSET(F$18,MATCH(0,COUNTIF(R$17:R26,$F$19:$F$27),0),),"") | T27: pour l'instant ce n'est pas fait mails il y aura un 20 onglets et le master prendra en compte les 20 onglets pour le calculs equitables par poste
B29: NOTES
K32: =Agents!A14 -> ANDRÉ
K33: =Agents!A15 -> SÉVERINE
K34: =Agents!A16 -> XXXX
B39: =$K$17 -> Alain | C39: =COUNTIF($F$19,K17) -> 0 | E39: =COUNTIF($H$19,K17) -> 0 | F39: =SUM(C39:E39) -> 0
B40: =$K$18 -> Laurent | C40: =COUNTIF($F$19,K18) -> 0 | E40: =COUNTIF($H$19,K18) -> 0 | F40: =SUM(C40:E40) -> 0
B41: =$K$19 -> Didier | C41: =COUNTIF($F$19,K19) -> 0 | E41: =COUNTIF($H$19,K19) -> 0 | F41: =SUM(C41:E41) -> 0
B42: =$K$20 -> Stephane | C42: =COUNTIF($F$19,K20) -> 0 | E42: =COUNTIF($H$19,K20) -> 0 | F42: =SUM(C42:E42) -> 0
B43: =$K$21 -> Patrick | C43: =COUNTIF($F$19,K21) -> 0 | E43: =COUNTIF($H$19,K21) -> 0 | F43: =SUM(C43:E43) -> 0 | H43: ENTREE PRINCIPALE :
B44: =$K$22 -> Christophe | C44: =COUNTIF($F$19,K22) -> 0 | E44: =COUNTIF($H$19,K22) -> 0 | F44: =SUM(C44:E44) -> 0
B45: =$K$23 -> Pierre | C45: =COUNTIF($F$19,K23) -> 0 | E45: =COUNTIF($H$19,K23) -> 1 | F45: =SUM(C45:E45) -> 1
B46: =$K$24 -> Henri | C46: =COUNTIF($F$19,K24) -> 0 | E46: =COUNTIF($H$19,K24) -> 0 | F46: =SUM(C46:E46) -> 0
B47: =$K$25 -> Martin | C47: =COUNTIF($F$19,K25) -> 0 | E47: =COUNTIF($H$19,K25) -> 0 | F47: =SUM(C47:E47) -> 0
B48: =$K$26 -> Louis | C48: =COUNTIF($F$19,K26) -> 1 | E48: =COUNTIF($H$19,K26) -> 0 | F48: =SUM(C48:E48) -> 1
B50: =$K$17 -> Alain | C50: =COUNTIF($F$20,K17) -> 0 | E50: =COUNTIF($H$20,K17) -> 0 | F50: =SUM(C50:E50) -> 0
B51: =$K$18 -> Laurent | C51: =COUNTIF($F$20,K18) -> 1 | E51: =COUNTIF($H$20,K18) -> 0 | F51: =SUM(C51:E51) -> 1
B52: =$K$19 -> Didier | C52: =COUNTIF($F$20,K19) -> 0 | E52: =COUNTIF($H$20,K19) -> 0 | F52: =SUM(C52:E52) -> 0
B53: =$K$20 -> Stephane | C53: =COUNTIF($F$20,K20) -> 0 | E53: =COUNTIF($H$20,K20) -> 0 | F53: =SUM(C53:E53) -> 0
B54: =$K$21 -> Patrick | C54: =COUNTIF($F$20,K21) -> 0 | E54: =COUNTIF($H$20,K21) -> 0 | F54: =SUM(C54:E54) -> 0 | H54: ACCES VIP :
B55: =$K$22 -> Christophe | C55: =COUNTIF($F$20,K22) -> 0 | E55: =COUNTIF($H$20,K22) -> 1 | F55: =SUM(C55:E55) -> 1
B56: =$K$23 -> Pierre | C56: =COUNTIF($F$20,K23) -> 0 | E56: =COUNTIF($H$20,K23) -> 0 | F56: =SUM(C56:E56) -> 0
B57: =$K$24 -> Henri | C57: =COUNTIF($F$20,K24) -> 0 | E57: =COUNTIF($H$20,K24) -> 0 | F57: =SUM(C57:E57) -> 0
B58: =$K$25 -> Martin | C58: =COUNTIF($F$20,K25) -> 0 | E58: =COUNTIF($H$20,K25) -> 0 | F58: =SUM(C58:E58) -> 0
B59: =$K$26 -> Louis | C59: =COUNTIF($F$20,K26) -> 0 | E59: =COUNTIF($H$20,K26) -> 0 | F59: =SUM(C59:E59) -> 0
B61: =$K$17 -> Alain | C61: =COUNTIF($F$21,K17) -> 0 | E61: =COUNTIF($H$21,K17) -> 0 | F61: =SUM(C61:E61) -> 0
B62: =$K$18 -> Laurent | C62: =COUNTIF($F$21,K18) -> 0 | E62: =COUNTIF($H$21,K18) -> 0 | F62: =SUM(C62:E62) -> 0
B63: =$K$19 -> Didier | C63: =COUNTIF($F$21,K19) -> 1 | E63: =COUNTIF($H$21,K19) -> 0 | F63: =SUM(C63:E63) -> 1
B64: =$K$20 -> Stephane | C64: =COUNTIF($F$21,K20) -> 0 | E64: =COUNTIF($H$21,K20) -> 0 | F64: =SUM(C64:E64) -> 0
B65: =$K$21 -> Patrick | C65: =COUNTIF($F$21,K21) -> 0 | E65: =COUNTIF($H$21,K21) -> 0 | F65: =SUM(C65:E65) -> 0 | H65: VISITEURS :
B66: =$K$22 -> Christophe | C66: =COUNTIF($F$21,K22) -> 0 | E66: =COUNTIF($H$21,K22) -> 0 | F66: =SUM(C66:E66) -> 0
B67: =$K$23 -> Pierre | C67: =COUNTIF($F$21,K23) -> 0 | E67: =COUNTIF($H$21,K23) -> 0 | F67: =SUM(C67:E67) -> 0
B68: =$K$24 -> Henri | C68: =COUNTIF($F$21,K24) -> 0 | E68: =COUNTIF($H$21,K24) -> 0 | F68: =SUM(C68:E68) -> 0
B69: =$K$25 -> Martin | C69: =COUNTIF($F$21,K25) -> 0 | E69: =COUNTIF($H$21,K25) -> 0 | F69: =SUM(C69:E69) -> 0
B70: =$K$26 -> Louis | C70: =COUNTIF($F$21,K26) -> 0 | E70: =COUNTIF($H$21,K26) -> 0 | F70: =SUM(C70:E70) -> 0
B72: =$K$17 -> Alain | C72: =COUNTIF($F$22,K17) -> 0 | E72: =COUNTIF($H$22,K17) -> 0 | F72: =SUM(C72:E72) -> 0
B73: =$K$18 -> Laurent | C73: =COUNTIF($F$22,K18) -> 0 | E73: =COUNTIF($H$22,K18) -> 0 | F73: =SUM(C73:E73) -> 0
B74: =$K$19 -> Didier | C74: =COUNTIF($F$22,K19) -> 0 | E74: =COUNTIF($H$22,K19) -> 0 | F74: =SUM(C74:E74) -> 0
B75: =$K$20 -> Stephane | C75: =COUNTIF($F$22,K20) -> 0 | E75: =COUNTIF($H$22,K20) -> 0 | F75: =SUM(C75:E75) -> 0
B76: =$K$21 -> Patrick | C76: =COUNTIF($F$22,K21) -> 1 | E76: =COUNTIF($H$22,K21) -> 0 | F76: =SUM(C76:E76) -> 1 | H76: HALL 1 :
B77: =$K$22 -> Christophe | C77: =COUNTIF($F$22,K22) -> 0 | E77: =COUNTIF($H$22,K22) -> 0 | F77: =SUM(C77:E77) -> 0
B78: =$K$23 -> Pierre | C78: =COUNTIF($F$22,K23) -> 0 | E78: =COUNTIF($H$22,K23) -> 0 | F78: =SUM(C78:E78) -> 0
B79: =$K$24 -> Henri | C79: =COUNTIF($F$22,K24) -> 0 | E79: =COUNTIF($H$22,K24) -> 0 | F79: =SUM(C79:E79) -> 0
B80: =$K$25 -> Martin | C80: =COUNTIF($F$22,K25) -> 0 | E80: =COUNTIF($H$22,K25) -> 0 | F80: =SUM(C80:E80) -> 0
B81: =$K$26 -> Louis | C81: =COUNTIF($F$22,K26) -> 0 | E81: =COUNTIF($H$22,K26) -> 0 | F81: =SUM(C81:E81) -> 0
B83: =$K$17 -> Alain | C83: =COUNTIF($F$23,K17) -> 0 | E83: =COUNTIF($H$23,K17) -> 0 | F83: =SUM(C83:E83) -> 0
B84: =$K$18 -> Laurent | C84: =COUNTIF($F$23,K18) -> 0 | E84: =COUNTIF($H$23,K18) -> 0 | F84: =SUM(C84:E84) -> 0
B85: =$K$19 -> Didier | C85: =COUNTIF($F$23,K19) -> 0 | E85: =COUNTIF($H$23,K19) -> 0 | F85: =SUM(C85:E85) -> 0
B86: =$K$20 -> Stephane | C86: =COUNTIF($F$23,K20) -> 0 | E86: =COUNTIF($H$23,K20) -> 0 | F86: =SUM(C86:E86) -> 0
B87: =$K$21 -> Patrick | C87: =COUNTIF($F$23,K21) -> 1 | E87: =COUNTIF($H$23,K21) -> 0 | F87: =SUM(C87:E87) -> 1 | H87: HALL 2 :
B88: =$K$22 -> Christophe | C88: =COUNTIF($F$23,K22) -> 0 | E88: =COUNTIF($H$23,K22) -> 0 | F88: =SUM(C88:E88) -> 0
B89: =$K$23 -> Pierre | C89: =COUNTIF($F$23,K23) -> 0 | E89: =COUNTIF($H$23,K23) -> 0 | F89: =SUM(C89:E89) -> 0
B90: =$K$24 -> Henri | C90: =COUNTIF($F$23,K24) -> 0 | E90: =COUNTIF($H$23,K24) -> 0 | F90: =SUM(C90:E90) -> 0
B91: =$K$25 -> Martin | C91: =COUNTIF($F$23,K25) -> 0 | E91: =COUNTIF($H$23,K25) -> 0 | F91: =SUM(C91:E91) -> 0
B92: =$K$26 -> Louis | C92: =COUNTIF($F$23,K26) -> 0 | E92: =COUNTIF($H$23,K26) -> 0 | F92: =SUM(C92:E92) -> 0
B94: =$K$17 -> Alain | C94: =COUNTIF($F$24,K17) -> 0 | E94: =COUNTIF($H$24,K17) -> 0 | F94: =SUM(C94:E94) -> 0
B95: =$K$18 -> Laurent | C95: =COUNTIF($F$24,K18) -> 0 | E95: =COUNTIF($H$24,K18) -> 0 | F95: =SUM(C95:E95) -> 0
B96: =$K$19 -> Didier | C96: =COUNTIF($F$24,K19) -> 0 | E96: =COUNTIF($H$24,K19) -> 0 | F96: =SUM(C96:E96) -> 0
B97: =$K$20 -> Stephane | C97: =COUNTIF($F$24,K20) -> 0 | E97: =COUNTIF($H$24,K20) -> 0 | F97: =SUM(C97:E97) -> 0
B98: =$K$21 -> Patrick | C98: =COUNTIF($F$24,K21) -> 0 | E98: =COUNTIF($H$24,K21) -> 0 | F98: =SUM(C98:E98) -> 0 | H98: HALL 3 :
B99: =$K$22 -> Christophe | C99: =COUNTIF($F$24,K22) -> 0 | E99: =COUNTIF($H$24,K22) -> 0 | F99: =SUM(C99:E99) -> 0
B100: =$K$23 -> Pierre | C100: =COUNTIF($F$24,K23) -> 0 | E100: =COUNTIF($H$24,K23) -> 0 | F100: =SUM(C100:E100) -> 0
B101: =$K$24 -> Henri | C101: =COUNTIF($F$24,K24) -> 0 | E101: =COUNTIF($H$24,K24) -> 0 | F101: =SUM(C101:E101) -> 0
B102: =$K$25 -> Martin | C102: =COUNTIF($F$24,K25) -> 1 | E102: =COUNTIF($H$24,K25) -> 0 | F102: =SUM(C102:E102) -> 1
B103: =$K$26 -> Louis | C103: =COUNTIF($F$24,K26) -> 0 | E103: =COUNTIF($H$24,K26) -> 0 | F103: =SUM(C103:E103) -> 0
B105: =$K$17 -> Alain | C105: =COUNTIF($F$25,K17) -> 0 | E105: =COUNTIF($H$25,K17) -> 0 | F105: =SUM(C105:E105) -> 0
B106: =$K$18 -> Laurent | C106: =COUNTIF($F$25,K18) -> 0 | E106: =COUNTIF($H$25,K18) -> 0 | F106: =SUM(C106:E106) -> 0
B107: =$K$19 -> Didier | C107: =COUNTIF($F$25,K19) -> 0 | E107: =COUNTIF($H$25,K19) -> 0 | F107: =SUM(C107:E107) -> 0
B108: =$K$20 -> Stephane | C108: =COUNTIF($F$25,K20) -> 0 | E108: =COUNTIF($H$25,K20) -> 0 | F108: =SUM(C108:E108) -> 0
B109: =$K$21 -> Patrick | C109: =COUNTIF($F$25,K21) -> 0 | E109: =COUNTIF($H$25,K21) -> 0 | F109: =SUM(C109:E109) -> 0
B110: =$K$22 -> Christophe | C110: =COUNTIF($F$25,K22) -> 0 | E110: =COUNTIF($H$25,K22) -> 0 | F110: =SUM(C110:E110) -> 0 | H110: HALL 4 :
B111: =$K$23 -> Pierre | C111: =COUNTIF($F$25,K23) -> 0 | E111: =COUNTIF($H$25,K23) -> 0 | F111: =SUM(C111:E111) -> 0
B112: =$K$24 -> Henri | C112: =COUNTIF($F$25,K24) -> 0 | E112: =COUNTIF($H$25,K24) -> 0 | F112: =SUM(C112:E112) -> 0
B113: =$K$25 -> Martin | C113: =COUNTIF($F$25,K25) -> 1 | E113: =COUNTIF($H$25,K25) -> 0 | F113: =SUM(C113:E113) -> 1
B114: =$K$26 -> Louis | C114: =COUNTIF($F$25,K26) -> 0 | E114: =COUNTIF($H$25,K26) -> 0 | F114: =SUM(C114:E114) -> 0
...

Sheet Placement Du Perso MATCH COUPE
B2: CHAMPIONNAT NATIONAL | I2: 1 | K2: BARALLE | L2: 41859 | M2: US CRETEIL / Châteauroux | N2: Châteauroux | O2: SAISON 2014/2015
I3: 2 | K3: BENSALEM | L3: 41873 | M3: US CRETEIL / Chamois Niortais | N3: Chamois Niortais | O3: SAISON 2015/2016
B4: SAISON 2016/2017 | I4: 3 | K4: CADEILLAN | L4: 41901 | M4: US CRETEIL / Clermont Foot | N4: Clermont Foot | O4: SAISON 2016/2017
I5: 4 | K5: CRESPIN | L5: 41908 | M5: US CRETEIL / AC Ajaccio | N5: AC Ajaccio | O5: SAISON 2017/2018
I6: 5 | K6: DRIF | L6: 41929 | M6: US CRETEIL / ESTAC Troyes | N6: ESTAC Troyes | O6: SAISON 2018/2019
I7: 6 | K7: ESPOSITO | L7: 41943 | M7: US CRETEIL / FC Sochaux-Montbéliard | N7: FC Sochaux-Montbéliard | O7: SAISON 2019/2020
B8: Coupe de France | I8: 7 | K8: FINATEU | L8: 41964 | M8: US CRETEIL / Nîmes Olympique | N8: Nîmes Olympique | O8: SAISON 2020/2021
B9: 43039 | I9: 8 | K9: JOURNET | L9: 41985 | M9: US CRETEIL / AC Arles-Avignon | N9: AC Arles-Avignon | O9: SAISON 2021/2022
I10: 9 | K10: LAUDY | L10: 42013 | M10: US CRETEIL / AJ Auxerre | N10: AJ Auxerre | O10: SAISON 2022/2023
B11: US CRÉTEIL LUSITANOS | I11: 10 | K11: PROPOSE | L11: 42027 | M11: US CRETEIL / Stade Lavallois | N11: Stade Lavallois | O11: SAISON 2023/2024
B12: ……………………….. | I12: 11 | K12: SAEZ-GARCIA | L12: 42041 | M12: US CRETEIL / Havre AC | N12: Havre AC | O12: SAISON 2024/2025
B13: 0.83333333 | O13: SAISON 2025/2026
B14: Auteur : M. Esposito Didier | H14: =TODAY() -> 42764 | O14: SAISON 2026/2027
I15: 12 | L15: 42048 | M15: US CRETEIL / Valenciennes FC | N15: Valenciennes FC | O15: SAISON 2027/2028
I16: 13 | L16: 42062 | M16: US CRETEIL / Dijon FCO | N16: Dijon FCO | O16: SAISON 2028/2029
B17: PLACEMENT DU PERSONNEL | I17: 14 | K17: BOUDA Fadhi | L17: 42076 | M17: US CRETEIL / Angers SCO | N17: Angers SCO | O17: SAISON 2029/2030
I18: 15 | K18: LAMAND Sébastien | L18: 42097 | M18: US CRETEIL / US Orléans | N18: US Orléans | O18: SAISON 2030/2031
B19: RESPONSABLES : | F19: LAMAND / BOUDA | I19: 16 | K19: LAMAND / BOUDA | L19: 42111 | M19: US CRETEIL / AS Nancy-Lorraine | N19: AS Nancy-Lorraine | O19: SAISON 2031/2032
I20: 17 | L20: 42122 | M20: US CRETEIL / Stade Brestois 29 | N20: Stade Brestois 29 | O20: SAISON 2032/2033
B21: ENTREE PRINCIPALE : | G21: / | I21: 18 | L21: 42132 | M21: US CRETEIL / GFC Ajaccio | N21: GFC Ajaccio
I22: 19 | L22: 42146 | M22: US CRETEIL / Tours FC | N22: Tours FC
B23: PATE D’OIE : | I23: 20 | L23: /
I24: 21 | L24: Coupe de la Ligue
B25: VISITEURS : | I25: 22 | L25: Coupe de France
I26: 23
B27: PISTE EST : | I27: 24
I28: 25
B29: PISTE SUD : | I29: 26
I30: 27
B31: PISTE NORD : | I31: 28
I32: 29
B33: CAR : | I33: 30
I34: 31
B35: MAINTENANCE : | I35: 32
I36: 33
B37: NOTES | I37: 34
I38: 35
B39: Résultat du Match : | F39: Informations Complémentaires | I39: 36
I40: 37
B41: Nombre Spéctateurs : | I41: 38
I42: 39
B43: Nombre Visiteurs :
B46: =IF(B8="","",INDEX(#REF!,B8)) -> #REF!
B47: =IF(B8="","",INDEX(#REF!,B8)) -> #REF!
B48: =IF(B8="","",INDEX(#REF!,B8)) -> #REF!
B49: =IF(B8="","",INDEX(#REF!,B8)) -> #REF!
B50: =IF(B8="","",INDEX(#REF!,B8)) -> #REF!
B51: =IF(B8="","",INDEX(#REF!,B8)) &" - "& IF(B8="","",INDEX(#REF!,B8)) &" - "& IF(B8="","",INDEX(#REF!,B8)) -> #REF!

Sheet param
A2: T
A3: T (2)
