Workbook

Sheet Feuil1
C3: Produit | G3: Quantité
C5: Porte de garage éléctrique | G5: 1
C6: Porte de garage manuelle | G6: 0
C7: Porte 90x200 | G7: 7
C8: Porte 70x200 | G8: 0
C9: Fenetre 120x105 | G9: 5
C10: Fenetre 80x105 | G10: 1
C11: Volets coulissants | G11: 6
C12: Volets bois | G12: 0
C13: Portail éléctrique | G13: 0
C14: Portail bois | G14: 0
C15: Portail metalique | G15: 1

Sheet recap
C2: {=IFERROR(INDEX(Feuil1!$C$5:$C$15,SMALL(IF(Feuil1!$G$5:$G$15>0,ROW(Feuil1!$G$5:$G$15)-4,""),ROW($A1))),"")} -> Porte de garage éléctrique | D2: {=IFERROR(INDEX(Feuil1!$G$5:$G$15,SMALL(IF(Feuil1!$G$5:$G$15>0,ROW(Feuil1!$G$5:$G$15)-4,""),ROW($A1))),"")} -> 1
C3: {=IFERROR(INDEX(Feuil1!$C$5:$C$15,SMALL(IF(Feuil1!$G$5:$G$15>0,ROW(Feuil1!$G$5:$G$15)-4,""),ROW($A2))),"")} -> Porte 90x200 | D3: {=IFERROR(INDEX(Feuil1!$G$5:$G$15,SMALL(IF(Feuil1!$G$5:$G$15>0,ROW(Feuil1!$G$5:$G$15)-4,""),ROW($A2))),"")} -> 7
C4: {=IFERROR(INDEX(Feuil1!$C$5:$C$15,SMALL(IF(Feuil1!$G$5:$G$15>0,ROW(Feuil1!$G$5:$G$15)-4,""),ROW($A3))),"")} -> Fenetre 120x105 | D4: {=IFERROR(INDEX(Feuil1!$G$5:$G$15,SMALL(IF(Feuil1!$G$5:$G$15>0,ROW(Feuil1!$G$5:$G$15)-4,""),ROW($A3))),"")} -> 5
C5: {=IFERROR(INDEX(Feuil1!$C$5:$C$15,SMALL(IF(Feuil1!$G$5:$G$15>0,ROW(Feuil1!$G$5:$G$15)-4,""),ROW($A4))),"")} -> Fenetre 80x105 | D5: {=IFERROR(INDEX(Feuil1!$G$5:$G$15,SMALL(IF(Feuil1!$G$5:$G$15>0,ROW(Feuil1!$G$5:$G$15)-4,""),ROW($A4))),"")} -> 1
C6: {=IFERROR(INDEX(Feuil1!$C$5:$C$15,SMALL(IF(Feuil1!$G$5:$G$15>0,ROW(Feuil1!$G$5:$G$15)-4,""),ROW($A5))),"")} -> Volets coulissants | D6: {=IFERROR(INDEX(Feuil1!$G$5:$G$15,SMALL(IF(Feuil1!$G$5:$G$15>0,ROW(Feuil1!$G$5:$G$15)-4,""),ROW($A5))),"")} -> 6
C7: {=IFERROR(INDEX(Feuil1!$C$5:$C$15,SMALL(IF(Feuil1!$G$5:$G$15>0,ROW(Feuil1!$G$5:$G$15)-4,""),ROW($A6))),"")} -> Portail metalique | D7: {=IFERROR(INDEX(Feuil1!$G$5:$G$15,SMALL(IF(Feuil1!$G$5:$G$15>0,ROW(Feuil1!$G$5:$G$15)-4,""),ROW($A6))),"")} -> 1
C8: {=IFERROR(INDEX(Feuil1!$C$5:$C$15,SMALL(IF(Feuil1!$G$5:$G$15>0,ROW(Feuil1!$G$5:$G$15)-4,""),ROW($A7))),"")} | D8: {=IFERROR(INDEX(Feuil1!$G$5:$G$15,SMALL(IF(Feuil1!$G$5:$G$15>0,ROW(Feuil1!$G$5:$G$15)-4,""),ROW($A7))),"")}
C9: {=IFERROR(INDEX(Feuil1!$C$5:$C$15,SMALL(IF(Feuil1!$G$5:$G$15>0,ROW(Feuil1!$G$5:$G$15)-4,""),ROW($A8))),"")} | D9: {=IFERROR(INDEX(Feuil1!$G$5:$G$15,SMALL(IF(Feuil1!$G$5:$G$15>0,ROW(Feuil1!$G$5:$G$15)-4,""),ROW($A8))),"")} | F9: matricielle a valider en faisant les touches Ctrl Maj Entrée en memetemps
C10: {=IFERROR(INDEX(Feuil1!$C$5:$C$15,SMALL(IF(Feuil1!$G$5:$G$15>0,ROW(Feuil1!$G$5:$G$15)-4,""),ROW($A9))),"")} | D10: {=IFERROR(INDEX(Feuil1!$G$5:$G$15,SMALL(IF(Feuil1!$G$5:$G$15>0,ROW(Feuil1!$G$5:$G$15)-4,""),ROW($A9))),"")} | F10: ensuite tu tires vers le bas
C11: {=IFERROR(INDEX(Feuil1!$C$5:$C$15,SMALL(IF(Feuil1!$G$5:$G$15>0,ROW(Feuil1!$G$5:$G$15)-4,""),ROW($A10))),"")} | D11: {=IFERROR(INDEX(Feuil1!$G$5:$G$15,SMALL(IF(Feuil1!$G$5:$G$15>0,ROW(Feuil1!$G$5:$G$15)-4,""),ROW($A10))),"")}
C12: {=IFERROR(INDEX(Feuil1!$C$5:$C$15,SMALL(IF(Feuil1!$G$5:$G$15>0,ROW(Feuil1!$G$5:$G$15)-4,""),ROW($A11))),"")} | D12: {=IFERROR(INDEX(Feuil1!$G$5:$G$15,SMALL(IF(Feuil1!$G$5:$G$15>0,ROW(Feuil1!$G$5:$G$15)-4,""),ROW($A11))),"")}
C13: {=IFERROR(INDEX(Feuil1!$C$5:$C$15,SMALL(IF(Feuil1!$G$5:$G$15>0,ROW(Feuil1!$G$5:$G$15)-4,""),ROW($A12))),"")} | D13: {=IFERROR(INDEX(Feuil1!$G$5:$G$15,SMALL(IF(Feuil1!$G$5:$G$15>0,ROW(Feuil1!$G$5:$G$15)-4,""),ROW($A12))),"")}
C14: {=IFERROR(INDEX(Feuil1!C$5:E$15,SMALL(IF(Feuil1!G$5:G$15>0,ROW(Feuil1!G$5:G$15)-4,""),ROW(A13)),1),"")}
C15: {=IFERROR(INDEX(Feuil1!C$5:E$15,SMALL(IF(Feuil1!G$5:G$15>0,ROW(Feuil1!G$5:G$15)-4,""),ROW(A14)),1),"")}
C16: {=IFERROR(INDEX(Feuil1!C$5:E$15,SMALL(IF(Feuil1!G$5:G$15>0,ROW(Feuil1!G$5:G$15)-4,""),ROW(A15)),1),"")}
C17: {=IFERROR(INDEX(Feuil1!C$5:E$15,SMALL(IF(Feuil1!G$5:G$15>0,ROW(Feuil1!G$5:G$15)-4,""),ROW(A16)),1),"")}
