Workbook

Sheet Données
B2: Nombre de jours depuis le dernier AT avec arrêt | H2: Nombre de jours depuis le dernier AT déclaré
B3: US | C3: ULPV | D3: U1 | E3: U2 | H3: US | I3: ULPV | J3: U1 | K3: U2
A4: 42005 | B4: 23 | C4: 176 | D4: 54 | E4: 81 | G4: 42005 | H4: 23 | I4: 176 | J4: 54 | K4: 79
A5: 42006 | B5: =B4+1 -> 24 | C5: =C4+1 -> 177 | D5: =D4+1 -> 55 | E5: =E4+1 -> 82 | G5: 42006 | H5: =H4+1 -> 24 | I5: =I4+1 -> 177 | J5: =J4+1 -> 55 | K5: =K4+1 -> 80
A6: 42007 | B6: =B5+1 -> 25 | C6: =C5+1 -> 178 | D6: =D5+1 -> 56 | E6: =E5+1 -> 83 | G6: 42007 | H6: =H5+1 -> 25 | I6: =I5+1 -> 178 | J6: =J5+1 -> 56 | K6: =K5+1 -> 81
A7: 42008 | B7: =B6+1 -> 26 | C7: =C6+1 -> 179 | D7: =D6+1 -> 57 | E7: =E6+1 -> 84 | G7: 42008 | H7: =H6+1 -> 26 | I7: =I6+1 -> 179 | J7: =J6+1 -> 57 | K7: =K6+1 -> 82
A8: 42009 | B8: =B7+1 -> 27 | C8: =C7+1 -> 180 | D8: =D7+1 -> 58 | E8: =E7+1 -> 85 | G8: 42009 | H8: =H7+1 -> 27 | I8: =I7+1 -> 180 | J8: =J7+1 -> 58 | K8: =K7+1 -> 83
A9: 42010 | B9: =B8+1 -> 28 | C9: =C8+1 -> 181 | D9: =D8+1 -> 59 | E9: =E8+1 -> 86 | G9: 42010 | H9: =H8+1 -> 28 | I9: =I8+1 -> 181 | J9: =J8+1 -> 59 | K9: =K8+1 -> 84
A10: 42011 | B10: =B9+1 -> 29 | C10: =C9+1 -> 182 | D10: =D9+1 -> 60 | E10: =E9+1 -> 87 | G10: 42011 | H10: =H9+1 -> 29 | I10: =I9+1 -> 182 | J10: =J9+1 -> 60 | K10: =K9+1 -> 85
A11: 42012 | B11: =B10+1 -> 30 | C11: =C10+1 -> 183 | D11: =D10+1 -> 61 | E11: =E10+1 -> 88 | G11: 42012 | H11: =H10+1 -> 30 | I11: =I10+1 -> 183 | J11: =J10+1 -> 61 | K11: =K10+1 -> 86
A12: 42013 | B12: =B11+1 -> 31 | C12: =C11+1 -> 184 | D12: =D11+1 -> 62 | E12: =E11+1 -> 89 | G12: 42013 | H12: =H11+1 -> 31 | I12: =I11+1 -> 184 | J12: =J11+1 -> 62 | K12: =K11+1 -> 87
A13: 42014 | B13: =B12+1 -> 32 | C13: =C12+1 -> 185 | D13: =D12+1 -> 63 | E13: =E12+1 -> 90 | G13: 42014 | H13: =H12+1 -> 32 | I13: =I12+1 -> 185 | J13: =J12+1 -> 63 | K13: =K12+1 -> 88
A14: 42015 | B14: =B13+1 -> 33 | C14: =C13+1 -> 186 | D14: =D13+1 -> 64 | E14: =E13+1 -> 91 | G14: 42015 | H14: =H13+1 -> 33 | I14: =I13+1 -> 186 | J14: =J13+1 -> 64 | K14: =K13+1 -> 89
A15: 42016 | B15: =B14+1 -> 34 | C15: =C14+1 -> 187 | D15: =D14+1 -> 65 | E15: =E14+1 -> 92 | G15: 42016 | H15: =H14+1 -> 34 | I15: =I14+1 -> 187 | J15: =J14+1 -> 65 | K15: =K14+1 -> 90
A16: 42017 | B16: =B15+1 -> 35 | C16: =C15+1 -> 188 | D16: =D15+1 -> 66 | E16: =E15+1 -> 93 | G16: 42017 | H16: =H15+1 -> 35 | I16: =I15+1 -> 188 | J16: =J15+1 -> 66 | K16: =K15+1 -> 91
... A18: 42019 | B18: =B17+1 -> 37 | C18: =C17+1 -> 190 | D18: =D17+1 -> 68 | E18: =E17+1 -> 95 | G18: 42019 | H18: =H17+1 -> 37 | I18: =I17+1 -> 190 | J18: =J17+1 -> 68 | K18: =K17+1 -> 93
A19: 42020 | B19: =B18+1 -> 38 | C19: =C18+1 -> 191 | D19: 0 | E19: =E18+1 -> 96 | G19: 42020 | H19: =H18+1 -> 38 | I19: =I18+1 -> 191 | J19: 0 | K19: =K18+1 -> 94
A20: 42021 | B20: =B19+1 -> 39 | C20: =C19+1 -> 192 | D20: =D19+1 -> 1 | E20: =E19+1 -> 97 | G20: 42021 | H20: =H19+1 -> 39 | I20: =I19+1 -> 192 | J20: =J19+1 -> 1 | K20: =K19+1 -> 95
A21: 42022 | B21: =B20+1 -> 40 | C21: =C20+1 -> 193 | D21: =D20+1 -> 2 | E21: =E20+1 -> 98 | G21: 42022 | H21: =H20+1 -> 40 | I21: =I20+1 -> 193 | J21: =J20+1 -> 2 | K21: =K20+1 -> 96
A22: 42023 | B22: =B21+1 -> 41 | C22: =C21+1 -> 194 | D22: =D21+1 -> 3 | E22: =E21+1 -> 99 | G22: 42023 | H22: =H21+1 -> 41 | I22: =I21+1 -> 194 | J22: =J21+1 -> 3 | K22: =K21+1 -> 97
A23: 42024 | B23: =B22+1 -> 42 | C23: =C22+1 -> 195 | D23: =D22+1 -> 4 | E23: =E22+1 -> 100 | G23: 42024 | H23: =H22+1 -> 42 | I23: =I22+1 -> 195 | J23: =J22+1 -> 4 | K23: =K22+1 -> 98
A24: 42025 | B24: =B23+1 -> 43 | C24: =C23+1 -> 196 | D24: =D23+1 -> 5 | E24: =E23+1 -> 101 | G24: 42025 | H24: =H23+1 -> 43 | I24: =I23+1 -> 196 | J24: =J23+1 -> 5 | K24: =K23+1 -> 99
A25: 42026 | B25: =B24+1 -> 44 | C25: =C24+1 -> 197 | D25: =D24+1 -> 6 | E25: =E24+1 -> 102 | G25: 42026 | H25: =H24+1 -> 44 | I25: =I24+1 -> 197 | J25: =J24+1 -> 6 | K25: =K24+1 -> 100
A26: 42027 | B26: =B25+1 -> 45 | C26: =C25+1 -> 198 | D26: =D25+1 -> 7 | E26: =E25+1 -> 103 | G26: 42027 | H26: =H25+1 -> 45 | I26: =I25+1 -> 198 | J26: =J25+1 -> 7 | K26: =K25+1 -> 101
A27: 42028 | B27: =B26+1 -> 46 | C27: =C26+1 -> 199 | D27: =D26+1 -> 8 | E27: =E26+1 -> 104 | G27: 42028 | H27: =H26+1 -> 46 | I27: =I26+1 -> 199 | J27: =J26+1 -> 8 | K27: =K26+1 -> 102
A28: 42029 | B28: =B27+1 -> 47 | C28: =C27+1 -> 200 | D28: =D27+1 -> 9 | E28: =E27+1 -> 105 | G28: 42029 | H28: =H27+1 -> 47 | I28: =I27+1 -> 200 | J28: =J27+1 -> 9 | K28: =K27+1 -> 103
A29: 42030 | B29: =B28+1 -> 48 | C29: =C28+1 -> 201 | D29: =D28+1 -> 10 | E29: =E28+1 -> 106 | G29: 42030 | H29: =H28+1 -> 48 | I29: =I28+1 -> 201 | J29: =J28+1 -> 10 | K29: =K28+1 -> 104
A30: 42031 | B30: =B29+1 -> 49 | C30: =C29+1 -> 202 | D30: =D29+1 -> 11 | E30: 0 | G30: 42031 | H30: =H29+1 -> 49 | I30: =I29+1 -> 202 | J30: =J29+1 -> 11 | K30: 0
A31: 42032 | B31: =B30+1 -> 50 | C31: =C30+1 -> 203 | D31: =D30+1 -> 12 | E31: =E30+1 -> 1 | G31: 42032 | H31: =H30+1 -> 50 | I31: =I30+1 -> 203 | J31: =J30+1 -> 12 | K31: =K30+1 -> 1
A32: 42033 | B32: =B31+1 -> 51 | C32: =C31+1 -> 204 | D32: =D31+1 -> 13 | E32: =E31+1 -> 2 | G32: 42033 | H32: =H31+1 -> 51 | I32: =I31+1 -> 204 | J32: =J31+1 -> 13 | K32: =K31+1 -> 2
A33: 42034 | B33: =B32+1 -> 52 | C33: =C32+1 -> 205 | D33: =D32+1 -> 14 | E33: =E32+1 -> 3 | G33: 42034 | H33: =H32+1 -> 52 | I33: =I32+1 -> 205 | J33: =J32+1 -> 14 | K33: =K32+1 -> 3
A34: 42035 | B34: =B33+1 -> 53 | C34: =C33+1 -> 206 | D34: =D33+1 -> 15 | E34: =E33+1 -> 4 | G34: 42035 | H34: =H33+1 -> 53 | I34: =I33+1 -> 206 | J34: =J33+1 -> 15 | K34: =K33+1 -> 4
A35: 42036 | B35: =B34+1 -> 54 | C35: =C34+1 -> 207 | D35: =D34+1 -> 16 | E35: =E34+1 -> 5 | G35: 42036 | H35: =H34+1 -> 54 | I35: =I34+1 -> 207 | J35: =J34+1 -> 16 | K35: =K34+1 -> 5
A36: 42037 | B36: =B35+1 -> 55 | C36: =C35+1 -> 208 | D36: =D35+1 -> 17 | E36: 0 | G36: 42037 | H36: =H35+1 -> 55 | I36: =I35+1 -> 208 | J36: =J35+1 -> 17 | K36: 0
A37: 42038 | B37: =B36+1 -> 56 | C37: =C36+1 -> 209 | D37: =D36+1 -> 18 | E37: =E36+1 -> 1 | G37: 42038 | H37: =H36+1 -> 56 | I37: =I36+1 -> 209 | J37: =J36+1 -> 18 | K37: =K36+1 -> 1
A38: 42039 | B38: =B37+1 -> 57 | C38: =C37+1 -> 210 | D38: =D37+1 -> 19 | E38: =E37+1 -> 2 | G38: 42039 | H38: =H37+1 -> 57 | I38: =I37+1 -> 210 | J38: =J37+1 -> 19 | K38: =K37+1 -> 2
A39: 42040 | B39: =B38+1 -> 58 | C39: =C38+1 -> 211 | D39: =D38+1 -> 20 | E39: =E38+1 -> 3 | G39: 42040 | H39: =H38+1 -> 58 | I39: =I38+1 -> 211 | J39: =J38+1 -> 20 | K39: =K38+1 -> 3
A40: 42041 | B40: =B39+1 -> 59 | C40: =C39+1 -> 212 | D40: =D39+1 -> 21 | E40: =E39+1 -> 4 | G40: 42041 | H40: =H39+1 -> 59 | I40: =I39+1 -> 212 | J40: =J39+1 -> 21 | K40: =K39+1 -> 4
A41: 42042 | B41: =B40+1 -> 60 | C41: =C40+1 -> 213 | D41: =D40+1 -> 22 | E41: =E40+1 -> 5 | G41: 42042 | H41: =H40+1 -> 60 | I41: =I40+1 -> 213 | J41: =J40+1 -> 22 | K41: =K40+1 -> 5
A42: 42043 | B42: =B41+1 -> 61 | C42: =C41+1 -> 214 | D42: =D41+1 -> 23 | E42: =E41+1 -> 6 | G42: 42043 | H42: =H41+1 -> 61 | I42: =I41+1 -> 214 | J42: =J41+1 -> 23 | K42: =K41+1 -> 6
...

Sheet recap auto
A1: =TODAY() -> 42206 | B1: US | C1: ULPV | D1: U1 | E1: U2
A2: Nombre de jour sans accident avec arrêt depuis le dernier accident | B2: =VLOOKUP('recap auto'!A1,Données!A4:E368,2,FALSE) -> 40 | C2: =VLOOKUP('recap auto'!A1,Données!A4:E368,3,FALSE) -> 41 | D2: =VLOOKUP('recap auto'!A1,Données!A4:E368,4,FALSE) -> 27 | E2: =VLOOKUP('recap auto'!A1,Données!A4:E368,5,FALSE) -> 19
A3: Record du nombre de jour sans accident avec arrêt jusqu’à aujourd'hui | B3: =SUMPRODUCT(MAX((Données!$G4:$G368<=TODAY())*(Données!H4:H368))) -> 183 | C3: =SUMPRODUCT(MAX((Données!$G4:$G368<=TODAY())*(Données!I4:I368))) -> 223 | D3: =SUMPRODUCT(MAX((Données!$G4:$G368<=TODAY())*(Données!J4:J368))) -> 68 | E3: =SUMPRODUCT(MAX((Données!$G4:$G368<=TODAY())*(Données!K4:K368))) -> 104 | G3: la formule sera toujours la meme ;mais je ne vois pour quelle colonne l'appliquer
A5: Nombre de jour sans accident simple depuis le dernier accident | B5: =VLOOKUP('recap auto'!A1,Données!G4:K368,2,FALSE) -> 40 | C5: =VLOOKUP('recap auto'!A1,Données!G4:K368,3,FALSE) -> 41 | D5: =VLOOKUP('recap auto'!A1,Données!G4:M368,4,FALSE) -> 27 | E5: =VLOOKUP('recap auto'!A1,Données!G4:N368,5,FALSE) -> 6
A6: Record du nombre de jour sans accident simple jusqu’à aujourd'hui
