Workbook

Sheet Données
B2: Nombre de jours depuis le dernier AT avec arrêt | H2: Nombre de jours depuis le dernier AT déclaré
B3: US | C3: ULPV | D3: U1 | E3: U2 | H3: US | I3: ULPV | J3: U1 | K3: U2
A4: 42005 | B4: 23 | C4: 176 | D4: 54 | E4: 81 | G4: 42005 | H4: 23 | I4: 176 | J4: 54 | K4: 79
A5: 42006 | B5: =B4+1 -> 24 | C5: =C4+1 -> 177 | D5: =D4+1 -> 55 | E5: =E4+1 -> 82 | G5: 42006 | H5: =H4+1 -> 24 | I5: =I4+1 -> 177 | J5: =J4+1 -> 55 | K5: =K4+1 -> 80
A6: 42007 | B6: =B5+1 -> 25 | C6: =C5+1 -> 178 | D6: =D5+1 -> 56 | E6: =E5+1 -> 83 | G6: 42007 | H6: =H5+1 -> 25 | I6: =I5+1 -> 178 | J6: =J5+1 -> 56 | K6: =K5+1 -> 81
A7: 42008 | B7: =B6+1 -> 26 | C7: =C6+1 -> 179 | D7: =D6+1 -> 57 | E7: =E6+1 -> 84 | G7: 42008 | H7: =H6+1 -> 26 | I7: =I6+1 -> 179 | J7: =J6+1 -> 57 | K7: =K6+1 -> 82
A8: 42009 | B8: =B7+1 -> 27 | C8: =C7+1 -> 180 | D8: =D7+1 -> 58 | E8: =E7+1 -> 85 | G8: 42009 | H8: =H7+1 -> 27 | I8: =I7+1 -> 180 | J8: =J7+1 -> 58 | K8: =K7+1 -> 83
A9: 42010 | B9: =B8+1 -> 28 | C9: =C8+1 -> 181 | D9: =D8+1 -> 59 | E9: =E8+1 -> 86 | G9: 42010 | H9: =H8+1 -> 28 | I9: =I8+1 -> 181 | J9: =J8+1 -> 59 | K9: =K8+1 -> 84
A10: 42011 | B10: =B9+1 -> 29 | C10: =C9+1 -> 182 | D10: =D9+1 -> 60 | E10: =E9+1 -> 87 | G10: 42011 | H10: =H9+1 -> 29 | I10: =I9+1 -> 182 | J10: =J9+1 -> 60 | K10: =K9+1 -> 85
A11: 42012 | B11: =B10+1 -> 30 | C11: =C10+1 -> 183 | D11: =D10+1 -> 61 | E11: =E10+1 -> 88 | G11: 42012 | H11: =H10+1 -> 30 | I11: =I10+1 -> 183 | J11: =J10+1 -> 61 | K11: =K10+1 -> 86
A12: 42013 | B12: =B11+1 -> 31 | C12: =C11+1 -> 184 | D12: =D11+1 -> 62 | E12: =E11+1 -> 89 | G12: 42013 | H12: =H11+1 -> 31 | I12: =I11+1 -> 184 | J12: =J11+1 -> 62 | K12: =K11+1 -> 87
A13: 42014 | B13: =B12+1 -> 32 | C13: =C12+1 -> 185 | D13: =D12+1 -> 63 | E13: =E12+1 -> 90 | G13: 42014 | H13: =H12+1 -> 32 | I13: =I12+1 -> 185 | J13: =J12+1 -> 63 | K13: =K12+1 -> 88
A14: 42015 | B14: =B13+1 -> 33 | C14: =C13+1 -> 186 | D14: =D13+1 -> 64 | E14: =E13+1 -> 91 | G14: 42015 | H14: =H13+1 -> 33 | I14: =I13+1 -> 186 | J14: =J13+1 -> 64 | K14: =K13+1 -> 89
A15: 42016 | B15: =B14+1 -> 34 | C15: =C14+1 -> 187 | D15: =D14+1 -> 65 | E15: =E14+1 -> 92 | G15: 42016 | H15: =H14+1 -> 34 | I15: =I14+1 -> 187 | J15: =J14+1 -> 65 | K15: =K14+1 -> 90
A16: 42017 | B16: =B15+1 -> 35 | C16: =C15+1 -> 188 | D16: =D15+1 -> 66 | E16: =E15+1 -> 93 | G16: 42017 | H16: =H15+1 -> 35 | I16: =I15+1 -> 188 | J16: =J15+1 -> 66 | K16: =K15+1 -> 91
... A18: 42019 | B18: =B17+1 -> 37 | C18: =C17+1 -> 190 | D18: =D17+1 -> 68 | E18: =E17+1 -> 95 | G18: 42019 | H18: =H17+1 -> 37 | I18: =I17+1 -> 190 | J18: =J17+1 -> 68 | K18: =K17+1 -> 93
A19: 42020 | B19: =B18+1 -> 38 | C19: =C18+1 -> 191 | D19: 0 | E19: =E18+1 -> 96 | G19: 42020 | H19: =H18+1 -> 38 | I19: =I18+1 -> 191 | J19: 0 | K19: =K18+1 -> 94
A20: 42021 | B20: =B19+1 -> 39 | C20: =C19+1 -> 192 | D20: =D19+1 -> 1 | E20: =E19+1 -> 97 | G20: 42021 | H20: =H19+1 -> 39 | I20: =I19+1 -> 192 | J20: =J19+1 -> 1 | K20: =K19+1 -> 95
A21: 42022 | B21: =B20+1 -> 40 | C21: =C20+1 -> 193 | D21: =D20+1 -> 2 | E21: =E20+1 -> 98 | G21: 42022 | H21: =H20+1 -> 40 | I21: =I20+1 -> 193 | J21: =J20+1 -> 2 | K21: =K20+1 -> 96
A22: 42023 | B22: =B21+1 -> 41 | C22: =C21+1 -> 194 | D22: =D21+1 -> 3 | E22: =E21+1 -> 99 | G22: 42023 | H22: =H21+1 -> 41 | I22: =I21+1 -> 194 | J22: =J21+1 -> 3 | K22: =K21+1 -> 97
A23: 42024 | B23: =B22+1 -> 42 | C23: =C22+1 -> 195 | D23: =D22+1 -> 4 | E23: =E22+1 -> 100 | G23: 42024 | H23: =H22+1 -> 42 | I23: =I22+1 -> 195 | J23: =J22+1 -> 4 | K23: =K22+1 -> 98
A24: 42025 | B24: =B23+1 -> 43 | C24: =C23+1 -> 196 | D24: =D23+1 -> 5 | E24: =E23+1 -> 101 | G24: 42025 | H24: =H23+1 -> 43 | I24: =I23+1 -> 196 | J24: =J23+1 -> 5 | K24: =K23+1 -> 99
A25: 42026 | B25: =B24+1 -> 44 | C25: =C24+1 -> 197 | D25: =D24+1 -> 6 | E25: =E24+1 -> 102 | G25: 42026 | H25: =H24+1 -> 44 | I25: =I24+1 -> 197 | J25: =J24+1 -> 6 | K25: =K24+1 -> 100
A26: 42027 | B26: =B25+1 -> 45 | C26: =C25+1 -> 198 | D26: =D25+1 -> 7 | E26: =E25+1 -> 103 | G26: 42027 | H26: =H25+1 -> 45 | I26: =I25+1 -> 198 | J26: =J25+1 -> 7 | K26: =K25+1 -> 101
A27: 42028 | B27: =B26+1 -> 46 | C27: =C26+1 -> 199 | D27: =D26+1 -> 8 | E27: =E26+1 -> 104 | G27: 42028 | H27: =H26+1 -> 46 | I27: =I26+1 -> 199 | J27: =J26+1 -> 8 | K27: =K26+1 -> 102
A28: 42029 | B28: =B27+1 -> 47 | C28: =C27+1 -> 200 | D28: =D27+1 -> 9 | E28: =E27+1 -> 105 | G28: 42029 | H28: =H27+1 -> 47 | I28: =I27+1 -> 200 | J28: =J27+1 -> 9 | K28: =K27+1 -> 103
A29: 42030 | B29: =B28+1 -> 48 | C29: =C28+1 -> 201 | D29: =D28+1 -> 10 | E29: =E28+1 -> 106 | G29: 42030 | H29: =H28+1 -> 48 | I29: =I28+1 -> 201 | J29: =J28+1 -> 10 | K29: =K28+1 -> 104
A30: 42031 | B30: =B29+1 -> 49 | C30: =C29+1 -> 202 | D30: =D29+1 -> 11 | E30: 0 | G30: 42031 | H30: =H29+1 -> 49 | I30: =I29+1 -> 202 | J30: =J29+1 -> 11 | K30: 0
A31: 42032 | B31: =B30+1 -> 50 | C31: =C30+1 -> 203 | D31: =D30+1 -> 12 | E31: =E30+1 -> 1 | G31: 42032 | H31: =H30+1 -> 50 | I31: =I30+1 -> 203 | J31: =J30+1 -> 12 | K31: =K30+1 -> 1
A32: 42033 | B32: =B31+1 -> 51 | C32: =C31+1 -> 204 | D32: =D31+1 -> 13 | E32: =E31+1 -> 2 | G32: 42033 | H32: =H31+1 -> 51 | I32: =I31+1 -> 204 | J32: =J31+1 -> 13 | K32: =K31+1 -> 2
A33: 42034 | B33: =B32+1 -> 52 | C33: =C32+1 -> 205 | D33: =D32+1 -> 14 | E33: =E32+1 -> 3 | G33: 42034 | H33: =H32+1 -> 52 | I33: =I32+1 -> 205 | J33: =J32+1 -> 14 | K33: =K32+1 -> 3
A34: 42035 | B34: =B33+1 -> 53 | C34: =C33+1 -> 206 | D34: =D33+1 -> 15 | E34: =E33+1 -> 4 | G34: 42035 | H34: =H33+1 -> 53 | I34: =I33+1 -> 206 | J34: =J33+1 -> 15 | K34: =K33+1 -> 4
A35: 42036 | B35: =B34+1 -> 54 | C35: =C34+1 -> 207 | D35: =D34+1 -> 16 | E35: =E34+1 -> 5 | G35: 42036 | H35: =H34+1 -> 54 | I35: =I34+1 -> 207 | J35: =J34+1 -> 16 | K35: =K34+1 -> 5
A36: 42037 | B36: =B35+1 -> 55 | C36: =C35+1 -> 208 | D36: =D35+1 -> 17 | E36: 0 | G36: 42037 | H36: =H35+1 -> 55 | I36: =I35+1 -> 208 | J36: =J35+1 -> 17 | K36: 0
A37: 42038 | B37: =B36+1 -> 56 | C37: =C36+1 -> 209 | D37: =D36+1 -> 18 | E37: =E36+1 -> 1 | G37: 42038 | H37: =H36+1 -> 56 | I37: =I36+1 -> 209 | J37: =J36+1 -> 18 | K37: =K36+1 -> 1
A38: 42039 | B38: =B37+1 -> 57 | C38: =C37+1 -> 210 | D38: =D37+1 -> 19 | E38: =E37+1 -> 2 | G38: 42039 | H38: =H37+1 -> 57 | I38: =I37+1 -> 210 | J38: =J37+1 -> 19 | K38: =K37+1 -> 2
A39: 42040 | B39: =B38+1 -> 58 | C39: =C38+1 -> 211 | D39: =D38+1 -> 20 | E39: =E38+1 -> 3 | G39: 42040 | H39: =H38+1 -> 58 | I39: =I38+1 -> 211 | J39: =J38+1 -> 20 | K39: =K38+1 -> 3
A40: 42041 | B40: =B39+1 -> 59 | C40: =C39+1 -> 212 | D40: =D39+1 -> 21 | E40: =E39+1 -> 4 | G40: 42041 | H40: =H39+1 -> 59 | I40: =I39+1 -> 212 | J40: =J39+1 -> 21 | K40: =K39+1 -> 4
A41: 42042 | B41: =B40+1 -> 60 | C41: =C40+1 -> 213 | D41: =D40+1 -> 22 | E41: =E40+1 -> 5 | G41: 42042 | H41: =H40+1 -> 60 | I41: =I40+1 -> 213 | J41: =J40+1 -> 22 | K41: =K40+1 -> 5
A42: 42043 | B42: =B41+1 -> 61 | C42: =C41+1 -> 214 | D42: =D41+1 -> 23 | E42: =E41+1 -> 6 | G42: 42043 | H42: =H41+1 -> 61 | I42: =I41+1 -> 214 | J42: =J41+1 -> 23 | K42: =K41+1 -> 6
A43: 42044 | B43: =B42+1 -> 62 | C43: =C42+1 -> 215 | D43: =D42+1 -> 24 | E43: =E42+1 -> 7 | G43: 42044 | H43: =H42+1 -> 62 | I43: =I42+1 -> 215 | J43: =J42+1 -> 24 | K43: =K42+1 -> 7
A44: 42045 | B44: =B43+1 -> 63 | C44: =C43+1 -> 216 | D44: =D43+1 -> 25 | E44: =E43+1 -> 8 | G44: 42045 | H44: =H43+1 -> 63 | I44: =I43+1 -> 216 | J44: =J43+1 -> 25 | K44: =K43+1 -> 8
A45: 42046 | B45: =B44+1 -> 64 | C45: =C44+1 -> 217 | D45: =D44+1 -> 26 | E45: =E44+1 -> 9 | G45: 42046 | H45: =H44+1 -> 64 | I45: =I44+1 -> 217 | J45: =J44+1 -> 26 | K45: =K44+1 -> 9
A46: 42047 | B46: =B45+1 -> 65 | C46: =C45+1 -> 218 | D46: =D45+1 -> 27 | E46: =E45+1 -> 10 | G46: 42047 | H46: =H45+1 -> 65 | I46: =I45+1 -> 218 | J46: =J45+1 -> 27 | K46: =K45+1 -> 10
A47: 42048 | B47: =B46+1 -> 66 | C47: =C46+1 -> 219 | D47: =D46+1 -> 28 | E47: =E46+1 -> 11 | G47: 42048 | H47: =H46+1 -> 66 | I47: =I46+1 -> 219 | J47: =J46+1 -> 28 | K47: =K46+1 -> 11
A48: 42049 | B48: =B47+1 -> 67 | C48: =C47+1 -> 220 | D48: =D47+1 -> 29 | E48: =E47+1 -> 12 | G48: 42049 | H48: =H47+1 -> 67 | I48: =I47+1 -> 220 | J48: =J47+1 -> 29 | K48: =K47+1 -> 12
... A51: 42052 | B51: =B50+1 -> 70 | C51: =C50+1 -> 223 | D51: =D50+1 -> 32 | E51: =E50+1 -> 15 | G51: 42052 | H51: =H50+1 -> 70 | I51: =I50+1 -> 223 | J51: =J50+1 -> 32 | K51: =K50+1 -> 15
A52: 42053 | B52: =B51+1 -> 71 | C52: =C51+1 -> 224 | D52: =D51+1 -> 33 | E52: =E51+1 -> 16 | G52: 42053 | H52: =H51+1 -> 71 | I52: 0 | J52: 0 | K52: =K51+1 -> 16
A53: 42054 | B53: =B52+1 -> 72 | C53: =C52+1 -> 225 | D53: =D52+1 -> 34 | E53: =E52+1 -> 17 | G53: 42054 | H53: =H52+1 -> 72 | I53: 0 | J53: =J52+1 -> 1 | K53: =K52+1 -> 17
A54: 42055 | B54: =B53+1 -> 73 | C54: =C53+1 -> 226 | D54: =D53+1 -> 35 | E54: =E53+1 -> 18 | G54: 42055 | H54: =H53+1 -> 73 | I54: =I53+1 -> 1 | J54: 0 | K54: =K53+1 -> 18
A55: 42056 | B55: =B54+1 -> 74 | C55: =C54+1 -> 227 | D55: =D54+1 -> 36 | E55: =E54+1 -> 19 | G55: 42056 | H55: =H54+1 -> 74 | I55: =I54+1 -> 2 | J55: =J54+1 -> 1 | K55: =K54+1 -> 19
A56: 42057 | B56: =B55+1 -> 75 | C56: =C55+1 -> 228 | D56: =D55+1 -> 37 | E56: =E55+1 -> 20 | G56: 42057 | H56: =H55+1 -> 75 | I56: =I55+1 -> 3 | J56: =J55+1 -> 2 | K56: =K55+1 -> 20
A57: 42058 | B57: =B56+1 -> 76 | C57: =C56+1 -> 229 | D57: =D56+1 -> 38 | E57: =E56+1 -> 21 | G57: 42058 | H57: =H56+1 -> 76 | I57: =I56+1 -> 4 | J57: =J56+1 -> 3 | K57: =K56+1 -> 21
A58: 42059 | B58: =B57+1 -> 77 | C58: =C57+1 -> 230 | D58: =D57+1 -> 39 | E58: =E57+1 -> 22 | G58: 42059 | H58: =H57+1 -> 77 | I58: =I57+1 -> 5 | J58: =J57+1 -> 4 | K58: =K57+1 -> 22
A59: 42060 | B59: =B58+1 -> 78 | C59: =C58+1 -> 231 | D59: =D58+1 -> 40 | E59: 0 | G59: 42060 | H59: =H58+1 -> 78 | I59: =I58+1 -> 6 | J59: 0 | K59: 0
A60: 42061 | B60: =B59+1 -> 79 | C60: =C59+1 -> 232 | D60: =D59+1 -> 41 | E60: =E59+1 -> 1 | G60: 42061 | H60: =H59+1 -> 79 | I60: =I59+1 -> 7 | J60: =J59+1 -> 1 | K60: =K59+1 -> 1
A61: 42062 | B61: =B60+1 -> 80 | C61: =C60+1 -> 233 | D61: =D60+1 -> 42 | E61: =E60+1 -> 2 | G61: 42062 | H61: =H60+1 -> 80 | I61: =I60+1 -> 8 | J61: =J60+1 -> 2 | K61: =K60+1 -> 2
A62: 42063 | B62: =B61+1 -> 81 | C62: =C61+1 -> 234 | D62: =D61+1 -> 43 | E62: =E61+1 -> 3 | G62: 42063 | H62: =H61+1 -> 81 | I62: =I61+1 -> 9 | J62: =J61+1 -> 3 | K62: =K61+1 -> 3
A63: 42064 | B63: =B62+1 -> 82 | C63: =C62+1 -> 235 | D63: =D62+1 -> 44 | E63: =E62+1 -> 4 | G63: 42064 | H63: =H62+1 -> 82 | I63: =I62+1 -> 10 | J63: =J62+1 -> 4 | K63: =K62+1 -> 4
A64: 42065 | B64: =B63+1 -> 83 | C64: =C63+1 -> 236 | D64: =D63+1 -> 45 | E64: =E63+1 -> 5 | G64: 42065 | H64: =H63+1 -> 83 | I64: =I63+1 -> 11 | J64: =J63+1 -> 5 | K64: =K63+1 -> 5
A65: 42066 | B65: =B64+1 -> 84 | C65: =C64+1 -> 237 | D65: =D64+1 -> 46 | E65: =E64+1 -> 6 | G65: 42066 | H65: =H64+1 -> 84 | I65: =I64+1 -> 12 | J65: =J64+1 -> 6 | K65: =K64+1 -> 6
A66: 42067 | B66: =B65+1 -> 85 | C66: =C65+1 -> 238 | D66: =D65+1 -> 47 | E66: =E65+1 -> 7 | G66: 42067 | H66: =H65+1 -> 85 | I66: =I65+1 -> 13 | J66: =J65+1 -> 7 | K66: =K65+1 -> 7
A67: 42068 | B67: =B66+1 -> 86 | C67: =C66+1 -> 239 | D67: =D66+1 -> 48 | E67: =E66+1 -> 8 | G67: 42068 | H67: =H66+1 -> 86 | I67: =I66+1 -> 14 | J67: =J66+1 -> 8 | K67: =K66+1 -> 8
A68: 42069 | B68: =B67+1 -> 87 | C68: =C67+1 -> 240 | D68: =D67+1 -> 49 | E68: =E67+1 -> 9 | G68: 42069 | H68: =H67+1 -> 87 | I68: =I67+1 -> 15 | J68: =J67+1 -> 9 | K68: 0
A69: 42070 | B69: =B68+1 -> 88 | C69: =C68+1 -> 241 | D69: =D68+1 -> 50 | E69: =E68+1 -> 10 | G69: 42070 | H69: =H68+1 -> 88 | I69: =I68+1 -> 16 | J69: =J68+1 -> 10 | K69: =K68+1 -> 1
A70: 42071 | B70: =B69+1 -> 89 | C70: =C69+1 -> 242 | D70: =D69+1 -> 51 | E70: =E69+1 -> 11 | G70: 42071 | H70: =H69+1 -> 89 | I70: =I69+1 -> 17 | J70: =J69+1 -> 11 | K70: =K69+1 -> 2
A71: 42072 | B71: =B70+1 -> 90 | C71: =C70+1 -> 243 | D71: =D70+1 -> 52 | E71: 0 | G71: 42072 | H71: =H70+1 -> 90 | I71: =I70+1 -> 18 | J71: =J70+1 -> 12 | K71: 0
A72: 42073 | B72: =B71+1 -> 91 | C72: =C71+1 -> 244 | D72: =D71+1 -> 53 | E72: =E71+1 -> 1 | G72: 42073 | H72: =H71+1 -> 91 | I72: =I71+1 -> 19 | J72: =J71+1 -> 13 | K72: =K71+1 -> 1
A73: 42074 | B73: =B72+1 -> 92 | C73: =C72+1 -> 245 | D73: =D72+1 -> 54 | E73: =E72+1 -> 2 | G73: 42074 | H73: =H72+1 -> 92 | I73: =I72+1 -> 20 | J73: =J72+1 -> 14 | K73: =K72+1 -> 2
A74: 42075 | B74: =B73+1 -> 93 | C74: =C73+1 -> 246 | D74: =D73+1 -> 55 | E74: =E73+1 -> 3 | G74: 42075 | H74: =H73+1 -> 93 | I74: =I73+1 -> 21 | J74: =J73+1 -> 15 | K74: =K73+1 -> 3
A75: 42076 | B75: =B74+1 -> 94 | C75: =C74+1 -> 247 | D75: =D74+1 -> 56 | E75: =E74+1 -> 4 | G75: 42076 | H75: =H74+1 -> 94 | I75: =I74+1 -> 22 | J75: =J74+1 -> 16 | K75: =K74+1 -> 4
A76: 42077 | B76: =B75+1 -> 95 | C76: =C75+1 -> 248 | D76: =D75+1 -> 57 | E76: =E75+1 -> 5 | G76: 42077 | H76: =H75+1 -> 95 | I76: =I75+1 -> 23 | J76: =J75+1 -> 17 | K76: =K75+1 -> 5
A77: 42078 | B77: =B76+1 -> 96 | C77: =C76+1 -> 249 | D77: =D76+1 -> 58 | E77: =E76+1 -> 6 | G77: 42078 | H77: =H76+1 -> 96 | I77: =I76+1 -> 24 | J77: =J76+1 -> 18 | K77: =K76+1 -> 6
A78: 42079 | B78: =B77+1 -> 97 | C78: =C77+1 -> 250 | D78: =D77+1 -> 59 | E78: =E77+1 -> 7 | G78: 42079 | H78: =H77+1 -> 97 | I78: =I77+1 -> 25 | J78: =J77+1 -> 19 | K78: =K77+1 -> 7
A79: 42080 | B79: =B78+1 -> 98 | C79: =C78+1 -> 251 | D79: =D78+1 -> 60 | E79: =E78+1 -> 8 | G79: 42080 | H79: =H78+1 -> 98 | I79: =I78+1 -> 26 | J79: =J78+1 -> 20 | K79: =K78+1 -> 8
A80: 42081 | B80: =B79+1 -> 99 | C80: =C79+1 -> 252 | D80: =D79+1 -> 61 | E80: =E79+1 -> 9 | G80: 42081 | H80: =H79+1 -> 99 | I80: =I79+1 -> 27 | J80: =J79+1 -> 21 | K80: =K79+1 -> 9
A81: 42082 | B81: =B80+1 -> 100 | C81: =C80+1 -> 253 | D81: =D80+1 -> 62 | E81: =E80+1 -> 10 | G81: 42082 | H81: =H80+1 -> 100 | I81: =I80+1 -> 28 | J81: =J80+1 -> 22 | K81: =K80+1 -> 10
A82: 42083 | B82: =B81+1 -> 101 | C82: =C81+1 -> 254 | D82: =D81+1 -> 63 | E82: =E81+1 -> 11 | G82: 42083 | H82: =H81+1 -> 101 | I82: =I81+1 -> 29 | J82: =J81+1 -> 23 | K82: =K81+1 -> 11
A83: 42084 | B83: =B82+1 -> 102 | C83: =C82+1 -> 255 | D83: =D82+1 -> 64 | E83: =E82+1 -> 12 | G83: 42084 | H83: =H82+1 -> 102 | I83: =I82+1 -> 30 | J83: =J82+1 -> 24 | K83: =K82+1 -> 12
... A92: 42093 | B92: =B91+1 -> 111 | C92: =C91+1 -> 264 | D92: =D91+1 -> 73 | E92: =E91+1 -> 21 | G92: 42093 | H92: =H91+1 -> 111 | I92: =I91+1 -> 39 | J92: =J91+1 -> 33 | K92: =K91+1 -> 21
A93: 42094 | B93: =B92+1 -> 112 | C93: =C92+1 -> 265 | D93: 0 | E93: =E92+1 -> 22 | G93: 42094 | H93: =H92+1 -> 112 | I93: =I92+1 -> 40 | J93: 0 | K93: =K92+1 -> 22
A94: 42095 | B94: =B93+1 -> 113 | C94: =C93+1 -> 266 | D94: =D93+1 -> 1 | E94: =E93+1 -> 23 | G94: 42095 | H94: =H93+1 -> 113 | I94: =I93+1 -> 41 | J94: =J93+1 -> 1 | K94: =K93+1 -> 23
A95: 42096 | B95: =B94+1 -> 114 | C95: =C94+1 -> 267 | D95: =D94+1 -> 2 | E95: =E94+1 -> 24 | G95: 42096 | H95: =H94+1 -> 114 | I95: =I94+1 -> 42 | J95: =J94+1 -> 2 | K95: =K94+1 -> 24
A96: 42097 | B96: =B95+1 -> 115 | C96: =C95+1 -> 268 | D96: =D95+1 -> 3 | E96: =E95+1 -> 25 | G96: 42097 | H96: =H95+1 -> 115 | I96: =I95+1 -> 43 | J96: =J95+1 -> 3 | K96: =K95+1 -> 25
A97: 42098 | B97: =B96+1 -> 116 | C97: =C96+1 -> 269 | D97: =D96+1 -> 4 | E97: =E96+1 -> 26 | G97: 42098 | H97: =H96+1 -> 116 | I97: =I96+1 -> 44 | J97: =J96+1 -> 4 | K97: =K96+1 -> 26
A98: 42099 | B98: =B97+1 -> 117 | C98: =C97+1 -> 270 | D98: =D97+1 -> 5 | E98: =E97+1 -> 27 | G98: 42099 | H98: =H97+1 -> 117 | I98: =I97+1 -> 45 | J98: =J97+1 -> 5 | K98: =K97+1 -> 27
A99: 42100 | B99: =B98+1 -> 118 | C99: =C98+1 -> 271 | D99: =D98+1 -> 6 | E99: =E98+1 -> 28 | G99: 42100 | H99: =H98+1 -> 118 | I99: =I98+1 -> 46 | J99: =J98+1 -> 6 | K99: =K98+1 -> 28
A100: 42101 | B100: =B99+1 -> 119 | C100: =C99+1 -> 272 | D100: =D99+1 -> 7 | E100: =E99+1 -> 29 | G100: 42101 | H100: =H99+1 -> 119 | I100: =I99+1 -> 47 | J100: =J99+1 -> 7 | K100: =K99+1 -> 29
A101: 42102 | B101: =B100+1 -> 120 | C101: =C100+1 -> 273 | D101: =D100+1 -> 8 | E101: =E100+1 -> 30 | G101: 42102 | H101: =H100+1 -> 120 | I101: =I100+1 -> 48 | J101: =J100+1 -> 8 | K101: =K100+1 -> 30
A102: 42103 | B102: =B101+1 -> 121 | C102: =C101+1 -> 274 | D102: =D101+1 -> 9 | E102: =E101+1 -> 31 | G102: 42103 | H102: =H101+1 -> 121 | I102: =I101+1 -> 49 | J102: =J101+1 -> 9 | K102: =K101+1 -> 31
A103: 42104 | B103: =B102+1 -> 122 | C103: =C102+1 -> 275 | D103: =D102+1 -> 10 | E103: =E102+1 -> 32 | G103: 42104 | H103: =H102+1 -> 122 | I103: =I102+1 -> 50 | J103: =J102+1 -> 10 | K103: =K102+1 -> 32
A104: 42105 | B104: =B103+1 -> 123 | C104: =C103+1 -> 276 | D104: =D103+1 -> 11 | E104: =E103+1 -> 33 | G104: 42105 | H104: =H103+1 -> 123 | I104: =I103+1 -> 51 | J104: =J103+1 -> 11 | K104: =K103+1 -> 33
A105: 42106 | B105: =B104+1 -> 124 | C105: =C104+1 -> 277 | D105: =D104+1 -> 12 | E105: =E104+1 -> 34 | G105: 42106 | H105: =H104+1 -> 124 | I105: =I104+1 -> 52 | J105: =J104+1 -> 12 | K105: =K104+1 -> 34
... A108: 42109 | B108: =B107+1 -> 127 | C108: =C107+1 -> 280 | D108: =D107+1 -> 15 | E108: =E107+1 -> 37 | G108: 42109 | H108: =H107+1 -> 127 | I108: =I107+1 -> 55 | J108: =J107+1 -> 15 | K108: =K107+1 -> 37
A109: 42110 | B109: =B108+1 -> 128 | C109: =C108+1 -> 281 | D109: =D108+1 -> 16 | E109: 0 | G109: 42110 | H109: =H108+1 -> 128 | I109: =I108+1 -> 56 | J109: =J108+1 -> 16 | K109: 0
A110: 42111 | B110: =B109+1 -> 129 | C110: =C109+1 -> 282 | D110: =D109+1 -> 17 | E110: =E109+1 -> 1 | G110: 42111 | H110: =H109+1 -> 129 | I110: =I109+1 -> 57 | J110: =J109+1 -> 17 | K110: =K109+1 -> 1
A111: 42112 | B111: =B110+1 -> 130 | C111: =C110+1 -> 283 | D111: =D110+1 -> 18 | E111: =E110+1 -> 2 | G111: 42112 | H111: =H110+1 -> 130 | I111: =I110+1 -> 58 | J111: =J110+1 -> 18 | K111: =K110+1 -> 2
A112: 42113 | B112: =B111+1 -> 131 | C112: =C111+1 -> 284 | D112: =D111+1 -> 19 | E112: =E111+1 -> 3 | G112: 42113 | H112: =H111+1 -> 131 | I112: =I111+1 -> 59 | J112: =J111+1 -> 19 | K112: =K111+1 -> 3
A113: 42114 | B113: =B112+1 -> 132 | C113: =C112+1 -> 285 | D113: =D112+1 -> 20 | E113: =E112+1 -> 4 | G113: 42114 | H113: =H112+1 -> 132 | I113: =I112+1 -> 60 | J113: =J112+1 -> 20 | K113: =K112+1 -> 4
A114: 42115 | B114: =B113+1 -> 133 | C114: =C113+1 -> 286 | D114: 0 | E114: =E113+1 -> 5 | G114: 42115 | H114: =H113+1 -> 133 | I114: =I113+1 -> 61 | J114: 0 | K114: =K113+1 -> 5
...

Sheet recap auto
A1: =TODAY() -> 42206 | B1: US | C1: ULPV | D1: U1 | E1: U2
A2: Nombre de jour sans accident avec arrêt depuis le dernier accident | B2: =VLOOKUP('recap auto'!A1,Données!A4:E368,2,FALSE) -> 40 | C2: =VLOOKUP('recap auto'!A1,Données!A4:E368,3,FALSE) -> 41 | D2: =VLOOKUP('recap auto'!A1,Données!A4:E368,4,FALSE) -> 27 | E2: =VLOOKUP('recap auto'!A1,Données!A4:E368,5,FALSE) -> 19
A3: Record du nombre de jour sans accident avec arrêt jusqu’à aujourd'hui | B3: =SUMPRODUCT(MAX((Données!$G4:$G368<=TODAY())*(Données!H4:H368))) -> 183 | C3: =SUMPRODUCT(MAX((Données!$G4:$G368<=TODAY())*(Données!I4:I368))) -> 223 | D3: =SUMPRODUCT(MAX((Données!$G4:$G368<=TODAY())*(Données!J4:J368))) -> 68 | E3: =SUMPRODUCT(MAX((Données!$G4:$G368<=TODAY())*(Données!K4:K368))) -> 104 | G3: la formule sera toujours la meme ;mais je ne vois pour quelle colonne l'appliquer
A5: Nombre de jour sans accident simple depuis le dernier accident | B5: =VLOOKUP('recap auto'!A1,Données!G4:K368,2,FALSE) -> 40 | C5: =VLOOKUP('recap auto'!A1,Données!G4:K368,3,FALSE) -> 41 | D5: =VLOOKUP('recap auto'!A1,Données!G4:M368,4,FALSE) -> 27 | E5: =VLOOKUP('recap auto'!A1,Données!G4:N368,5,FALSE) -> 6
A6: Record du nombre de jour sans accident simple jusqu’à aujourd'hui
