Workbook
Name SI: Matrice!$E$4

Sheet Tableau initial
A2: Domaine | B2: Thématique | C2: Objet | D2: Document(s) informatiques à mettre à jour | E2: Copie(s) à imprimer et classer | F2: Softamiante | G2: Fait pendant mon absence ?
A3: Gestion du personnel | B3: Formation | C3: Suivre le tableau des formations | G3: Partiellement
C4: Programmer les formations et Voir avec/prévenir Nicolas --> invitation sur le calendrier Outlook --> appel téléphonique --> noter la formation sur le PLANNING1 | D4: S:\Amiante\Chantier : PLANNING1 | G4: Partiellement
D5: S:\Certification MASE\Formations: D- Formation - Formations et Habilitations du personnel de chantiers v4 -- > ONGLET "Plan de formation" | G5: Partiellement
C6: Préparer la pochette de formation avec tous les documents importants : devis, convention, convocation, programme | E6: Pochette de formation | G6: Non
C7: Faire la demande de financement Constructys | D7: S:\Certification MASE\Formations: D- Formation - Formations et Habilitations du personnel de chantiers v4 -- > ONGLET "Plan de formation" | E7: Pochette de formation | G7: Partiellement
D8: S:\Certification MASE\Formations\2. DEFI Constructis | G8: non
C9: Une fois la formation réalisée, mettre à jour les documents concernés | D9: S:\Certification MASE\Formations: D- Formation - Formations et Habilitations du personnel de chantiers v4 | G9: oui
D10: -- > ONGLET "Formation ARVI" | G10: non
D11: -- > ONGLET "Ratio" | G11: non
D12: S:\Qualification 1512\PRO 01 Organisation responsabilité : PRO 01 D01 LISTE DU PERSONNEL v13 | G12: non
C13: Imprimer l'attestation de formation et la classer dans les classeurs concernés | E13: Classeur du salarié | G13: non
E14: Classeur AFNOR "Liste du personnel" | G14: non
E15: Pochette de formation qui sera ensuite classer dans un des classeurs "Formation" | G15: non
C16: Mettre à jour Softamiante | F16: Onglet Personnels | G16: Partiellement
C17: Mettre à jour les indicateurs MASE | D17: S:\Certification MASE\Plan d'action - Indicateurs : D-Tabord -Tableau d'indicateurs et d'objectifs --> indicateurs dans la thématique Compétence de notre personnel | G17: non
C18: Envoyer la feuille de présence et feuille de demande de financement renseignée à constructys | D18: S:\Certification MASE\Formations: D- Formation - Formations et Habilitations du personnel de chantiers v4 -- > ONGLET "Plan de formation" | G18: ne sait pas
B19: VM | C19: Programmer les VM et Voir avec/prévenir Nicolas --> invitation sur le calendrier Outlook --> appel téléphonique --> noter la formation sur le PLANNING1 --> Mettre la convocation dans son bureau et/ou la donner au salarié au plus proche du rdv | E19: Classeur du salarié | F19: Onglet Personnels | G19: Partiellement
C20: Une fois la VM reçue, mettre à jour les documents concernés | D20: S:\Certification MASE\Formations: D- Formation - Formations et Habilitations du personnel de chantiers v4 | E20: Classeur AFNOR "Liste du personnel" | G20: Partiellement
E21: Registre médical | G21: non
B22: Autorisation de conduite | C22: A refaire à chaque fois que la VM est passée, 1 fois par an | D22: S:\Certification MASE\Formations: D- Formation - Formations et Habilitations du personnel de chantiers v4 | E22: Classeur du salarié | F22: Onglet Personnels | G22: non
E23: Classeur AFNOR "Liste du personnel" | G23: non
B24: Carte BTP nouveau arrivant | C24: Faire la demande de carte BTP | F24: Onglet Personnels | G24: non
C25: Réceptionner la carte BTP | D25: S:\Certification MASE\Salariés : D-Carte BTP ARVI | E25: Classeur du salarié | G25: non
C26: Donner la carte BTP au salarié | E26: Classeur carte BTP | G26: non
E27: Classeur AFNOR "Liste du personnel" | G27: non
B28: Fit Test | C28: A réception du Fit test, le classer et imprimer | E28: Classeur AFNOR "Liste du personnel" | F28: Onglet Personnels | G28: non
E29: Classeur du salarié | G29: Non
E30: Classeur Fit Test | G30: non
B31: Accueil des nouveaux salariés | C31: Réalisation de l'accueil sécurité et questionnaire associé | D31: S:\Certification MASE\Accueil : D-Checklist nouveaux embauchés | E31: Classeur du salarié | G31: non
C32: Donner le sac comportant tout ces EPI + son masque au salarié | D32: S:\Certification MASE\Accueil : D-Checklist nouveaux embauchés | G32: oui
C33: Commander les vêtements ELIS | D33: S:\Certification MASE\Accueil : D-Checklist nouveaux embauchés | G33: non
C34: Affecter un casier ELIS + un casier perso | D34: S:\Certification MASE\Accueil : D-Checklist nouveaux embauchés | G34: non
B35: Fiches d'exposition | C35: En début d'année, extraire les fiches d'exposition de Softamiante | D35: S:\Qualification 1512\INS 01 Enregistrement de l'exposition | F35: Personnels - Imprimer "Synthèse des expositions" | G35: NC Aujourd'hui
C36: Vérifier et envoyer les fiches d'exposition au médecin du travail | G36: NC Aujourd'hui
A37: Softamiante | B37: Gestion des fiches d'écart | C37: Lecture, analyse, résolution et clotûre des fiches d'écart 25 erreurs actuellement car 25 fiches d'écart non cloturées. Doit être géré tous les jours, la résolution des écarts ne doit pas attendre | F37: Onglet Ecarts | G37: non
B38: Gestion des erreurs "Dossier" (environ 80 erreurs avant mon départ, 185 actuellement) | C38: Chevauchement du matériel --> essayer de résoudre le problème, il n'est pas possible d'avoir le même matériel sur 2 chantiers en même temps (sauf cas particulier type 2 chantiers en 1 journée ou chantiers Hopkinson) | F38: Onglet Dossiers | G38: non
C39: Rapprochement des analyses --> Une fois les analyses saisies, si le logiciel ne trouve pas de correspondance avec ce que le chef a noté dans "analyses - Mise en place" il créé une erreur : l'analyse concernée apparait en rouge dans cet onglet | F39: Onglet Dossiers Bouton d'aide pour voir les analyses à rapprocher dans la "clef à molette" | G39: non
C40: Chevauchement d'horaire --> vérifier pourquoi, bien souvent doublon de ligne | F40: Onglet Dossiers | G40: non
C41: Saisir la date de facturation --> Charlène le reçoit et le gère | G41: oui
...

Sheet Missions principales 
M3: Niveau de priorité | O3: CE QUI EST IMPORTANT | P3: CE QUI EST URGENT
M4: A | N4: activités importantes et urgentes, tâches à exécuter immédiatement et soi-même | O4: Les activités dites importantes nous permettent de progresser dans nos objectifs, qu’ils soient professionnels ou personnels. Cette importance se mesure par l’ampleur des conséquences négatives si nous ne les réalisons pas. Ex: Avoir une bonne hygiène de vie, en faisant une activité physique, ou développer sa passion. | P4: Les activités dites urgentes requièrent une attention immédiate, et sont souvent liées aux objectifs de quelqu’un d’autre. Elles ont une échéance donnée avant d’être irréalisables, ou avec des conditions dégradées. Ex: Les soldes finissent dans quelques jours et je n’ai pas fait mes achats.
A5: Thematique | B5: Domaines | C5: Tâches | D5: FAR | E5: Frq P | F5: Commentaires | G5: PAR | H5: Priorité | I5: Outils | J5: NBR O | K5: Proposition d'optimisation | M5: B | N5: activités importantes mais peu urgentes, tâches à planifier et exécuter soi-même
A6: RH | B6: Gestion des recyclages et formations | C6: Suivre le tableau de gestion des formations | D6: 1 fois/jour | E6: Au besoin | F6: Souplesse suivant type de formation obligatoire pas -dépend fortement du plannig du chantier - prévisible à 1 mois | G6: A | H6: B | I6: Tableau excel Suivi des formations et Soft Amiante | K6: décision à prendre sur cette notion de souplesse - n'arrive pas à anticiper avec Nicolas les formations non urgentes ( HoBO par ex) - Checker les formations à traiter avec aucune souplesse et les autres et voir si on peut trouver un MO convenant à tout le monde | M6: C | N6: activités urgentes mais peu importantes, tâches à déléguer rapidement
A7: RH | C7: Programmer les formations | D7: Au besoin | E7: Au besoin | F7: Difficultés pour planifier les formations non obligtaoires : changement planning | G7: A | H7: B | K7: décision à prendre sur cette notion de souplesse - n'arrive pas à anticiper avec Nicolas les formations non urgentes ( HoBO par ex) - Checker les formations à traiter avec aucune souplesse et les autres et voir si on peut trouver un MO convenant à tout le monde | M7: D | N7: activités peu urgentes et peu importantes, tâches inutiles à abandonner
A8: RH-AD | C8: Notifier la formation sur le planning et sur outlook | D8: Au besoin | E8: Au besoin | G8: A | H8: B | K8: Insertion de réunions de chantiers mensuelles optimisées
A9: RH-AD | C9: Mettre à jour le dossier Formation salarié | D9: Au besoin | E9: 1fois/trim | G9: B | H9: C | I9: classeurs afnor et salarié ? Pochette formation | K9: redondance du classement - etude à faire pour voir comment on peut supprimer le classement papier -informatique - devrait passer en D
A10: AD | C10: Mettre a jour Soft-Amiante | D10: Au besoin | E10: Au besoin | G10: A | H10: B | O10: 1 fois/jour
A11: SSE-AD | C11: Mettre à jour les indicateurs MASE | D11: Au besoin | E11: 1fois/trim | F11: fait en doublon avec le suivi des indicateurs | G11: A | H11: D | O11: 1 fois /sem
A12: RH-AD | B12: Mise en place et suivi des formations réalisées | C12: Faire la demande financement auprès de Constructys | D12: Au besoin | E12: Au besoin | G12: A | H12: C | K12: A la demande de l'OPCO
A13: RH | C13: Suivre les prises en charge formation constructys | D13: 1fois/trim | E13: 1fois/trim | G13: B | H13: C | K13: auj arrive par mail -et par courrier quand le versement est fait - avoir si gestion globale des demandes sur la nouvelle plateforme - | O13: 1 fois /mois
A14: RH | C14: Suivre le budget formation | D14: 1fois/trim | E14: 1fois/trim | G14: B | H14: C | K14: RH charges formation obligation formation | O14: 2fois/an
A15: RH | B15: Gestion des VM | C15: Suivre les VM | D15: Au besoin | E15: 1 fois /mois | G15: A | H15: B | I15: Tableau Suivi des formations et Soft Amiante | K15: pas le choix a l'avance - au moins 1 mois à l'avance avec les réunions mensuelles | O15: 1fois/trim
A16: RH | C16: Progammer les VM | D16: Au besoin | E16: 1 fois /mois | G16: A | H16: B | O16: Au besoin
A17: RH-AD | C17: Notifier la formation sur le planning et sur outlook | D17: Au besoin | E17: 1 fois /mois | G17: A | H17: B | O17: 1fois/semestre
A18: RH-AD | C18: Réceptionner et transmettre la convocation pour et au salarié | D18: Au besoin | E18: Au besoin | G18: A | H18: B | K18: Laura qui reçoit la convocation et impression - et appel la veille de l'intéréssé pour qu'il y aille - pas de possibilité de leur donner en direct ou par l'intermédiaire de Nico. | O18: 1fois/an
A19: SSE-AD | C19: Mettre a jours les indicateurs MASE sur les VM et les Formations | D19: 1 fois /mois | E19: 1fois/trim | F19: EN DOUBLON AVEC LES SUIV DES INDICATEURS | G19: B | H19: D
A20: RH-AD | C20: Mettre à jour les classeurs ad | D20: Au besoin | E20: 1fois/trim | G20: A | H20: C | I20: Classeur registe du personnel et classeur AFNOR
A21: SSE | B21: Gestion des autorisations de conduite | C21: Suivre les autorisations de conduite | D21: Au besoin | E21: Au besoin | G21: A | H21: B | I21: Tableau excel des formations et des habilitations | K21: règles parapheurs à redéfinir ensemble -signée par Pascale
A22: SSE | C22: Mettre à jour l'autorisation de conduite et la transmettre aux salariés | D22: Au besoin | E22: Au besoin | G22: A | H22: B | I22: Version informatique et papier | K22: trouver un système légal de renouvellement des autorisations de conduite - a réfléchir afin d'éviter la redondance de la refaite et de l'impression + signature
A23: SSE-AD | C23: Classer les autorisations de conduite mises à jour | D23: Au besoin | E23: 1fois/trim | G23: A | H23: C
A24: RH | B24: Gestion des cartes BTP | C24: Créer et suivre les demandes de cartes BTP (demande -reception et transmission salarié) | D24: Au besoin | E24: Au besoin | F24: Nouvel arrivant ou perte | G24: A | H24: B | I24: Tableau de suivi -classeur du salarié -classeur BTP et classeur AFNOR et soft amiante | K24: EXISTE UNE PLATEFORME DE GESTION - TRIPLON 0 SUPPRIMER - remise avec tableau de suivi excel - + signature - réfléchir à un système de remise avec les papiers nouvel arrivants
A25: SSE | B25: Accueil Sécurité des nouveaux salariés | C25: Réaliser l'accueil sécurité : video | D25: Au besoin | E25: Au besoin | F25: Nouvel arrivant | G25: A | H25: C
A26: SSE | C26: Corriger le questionnaire de l'accueil sécurité | D26: Au besoin | E26: Au besoin | F26: Nouvel arrivant - procédure PASE ? Voir application | G26: A | H26: C | I26: cf procédure PASE
A27: RH /SSE | B27: Accueil administratif du nouvel entrant | C27: Suivi entrée du nouveaux salarié | D27: Au besoin | E27: Au besoin | F27: DOC DE CONTRÔLE | G27: B | H27: C | I27: Tableau de ckecklist | K27: DOSSIER DES SALARIES
A28: RH /SSE | C28: Suivi sortie du nouveau salarié | D28: Au besoin | E28: Au besoin | F28: DOC DE CONTRÔLE | G28: B | H28: C | I28: Tableau de ckecklist | K28: DOSSIER DES SALARIES
A29: LOG | C29: Affectation d' un casier bleu : étiquette à son nom et à plastifier | D29: Au besoin | E29: Au besoin | G29: B | H29: C | K29: Voir nb casiers ?
A30: LOG | C30: Commander les EPI auprès de ELIS et LAPRO | D30: Au besoin | E30: Au besoin | G30: B | H30: C
A31: LOG | C31: Remettre les EPI au salarié | D31: Au besoin | E31: Au besoin
A32: SSE | C32: Planifier les Fit TESTS | D32: Au besoin | E32: Au besoin | G32: A | H32: C
A33: SSE-AD | B33: Gestion des FIE | C33: Extraire et REC les fiches d'exposition de Soft-Amiante | D33: 1fois/an | E33: 1fois/an | G33: B | H33: C | I33: 1 fiche par salarié informatique
A34: SSE | C34: Vérifier les expositions avant envoi au medecin du travail | D34: 1fois/an | E34: 1fois/an | F34: pb de limite d'exposition et de recalcul sur la durée de l'exposition - si erreur : modifie sur tableau en direct | G34: B | H34: B | K34: Montée en compétence Baptiste pour compréhension des enjeux
A35: SSE-AD | C35: Envoi des FIE au médecin du travail | D35: 1fois/an | E35: 1fois/an | F35: Envoyé par fanny avec LAAR -Courrier préparé par Laura | G35: C | H35: C | I35: Copie PDF de l'envoi -LAAR-Impression des FIE (*20)Classeur AFNOR | K35: Voir avec le médecin du travail si possibilité de réception - peut faire LAAR par net
A36: AD-OP | B36: Administration SSE- Référent(e) Soft Amiante | C36: Créer les chantiers sur soft amiante | D36: Au besoin | E36: Au besoin | F36: Tache déléguée par la pratique à la HSE - qui assure un suivi du planning et vérifie si chantiers créés - 60% assuré par CDT | G36: A | H36: B | K36: glissement de taches - a poser
A37: SSE | C37: Suivre les étapes du chantier sur Soft Amiante sur la partie HSE | D37: Au besoin | E37: Au besoin | F37: Fait au fil de l'eau | G37: B | H37: B
A38: SSE | C38: Traiter les erreurs et les alertes sur Soft Amiante. | D38: Au besoin | E38: Au besoin | F38: dépends des erreurs - priorité donnée au chantier | G38: A | H38: A
A39: AD | C39: Suivre et identifier les évolutions potentielles du logiciel Soft Amiante | D39: Au besoin | E39: 1fois/trim | F39: Relance et suivi | G39: B | H39: B | I39: Plan d'action Soft Amiante-Suivi et avancement des évolutions Soft Amiante
A40: AD | C40: Etre la personne référente interface logiciel SA avec les utilisateurs si bug | D40: Au besoin | E40: Au besoin | F40: tous les jours appels d'un chef de chantier -*dans 80% des cas arrive à résoudre - 10 min à 2 heures de traitement | G40: A | H40: A
A41: SSE | C41: Saisir et mettre à jour Soft Amiante-matériel-équipements-mises a jour formations-analyses-PDR-avancement chantier-HSE-expositions …. | D41: Au besoin | E41: Au besoin | G41: B | H41: C | I41: SOFT AMIANTE
A42: AD-OP | C42: Rédiger et envoyer le rapport de fin de travaux RFT | D42: Au besoin | E42: Au besoin | F42: envoi du rapport dès que commande - | G42: B | H42: C | I42: Soft amiante | K42: avec validation tierce avant impression-créer une ckeck list des points à vérifier
...

Sheet Matrice
D1: IMPORTANT | E1: I M P O R T A N T / U R G E N T- DO | K1: I M P O R T A N T / N O N U R G E N T -DECIDE | Q1: IMPORTANCE
E2: Tâches A | K2: Tâches B
E3: =IFERROR(INDEX('Missions principales '!$C6:$C$138,SMALL(IF('Missions principales '!$H$6:$H$138="A",ROW(C$6:C$138)-5,""),ROW(A1))),"") | K3: {=IFERROR(INDEX('Missions principales '!$C6:$C$138,SMALL(IF('Missions principales '!$H$6:$H$138="B",ROW(I$6:I$138)-5,""),ROW($A1))),"")} -> Suivre le tableau de gestion des formations
E4: {=IFERROR(INDEX('Missions principales '!$C7:$C$138,SMALL(IF('Missions principales '!$H$6:$H$138="A",ROW(C$6:C$138)-5,""),ROW(A2))),"")} -> Saisir et mettre à jour Soft Amiante-matériel-équipements-mises a jour formations-analyses-PDR-avancement chantier-HSE-expositions …. | K4: {=IFERROR(INDEX('Missions principales '!$C7:$C$138,SMALL(IF('Missions principales '!$H$6:$H$138="B",ROW(I$6:I$138)-5,""),ROW(G2))),"")} -> Notifier la formation sur le planning et sur outlook
E5: {=IFERROR(INDEX('Missions principales '!$C8:$C$138,SMALL(IF('Missions principales '!$H$6:$H$138="A",ROW(C$6:C$138)-5,""),ROW(A3))),"")} -> Etablir et envoyer les FIDA -suivi et relance | K5: {=IFERROR(INDEX('Missions principales '!$C8:$C$138,SMALL(IF('Missions principales '!$H$6:$H$138="B",ROW(I$6:I$138)-5,""),ROW(G3))),"")} -> Mettre a jour Soft-Amiante
E6: {=IFERROR(INDEX('Missions principales '!$C9:$C$138,SMALL(IF('Missions principales '!$H$6:$H$138="A",ROW(C$6:C$138)-5,""),ROW(A4))),"")} | K6: {=IFERROR(INDEX('Missions principales '!$C9:$C$138,SMALL(IF('Missions principales '!$H$6:$H$138="B",ROW(I$6:I$138)-5,""),ROW(G4))),"")} -> Suivre les prises en charge formation constructys
E7: {=IFERROR(INDEX('Missions principales '!$C10:$C$138,SMALL(IF('Missions principales '!$H$6:$H$138="A",ROW(C$6:C$138)-5,""),ROW(A5))),"")} | K7: {=IFERROR(INDEX('Missions principales '!$C10:$C$138,SMALL(IF('Missions principales '!$H$6:$H$138="B",ROW(I$6:I$138)-5,""),ROW(G5))),"")} -> Mettre a jours les indicateurs MASE sur les VM et les Formations
E8: {=IFERROR(INDEX('Missions principales '!$C11:$C$138,SMALL(IF('Missions principales '!$H$6:$H$138="A",ROW(C$6:C$138)-5,""),ROW(A6))),"")} | K8: {=IFERROR(INDEX('Missions principales '!$C11:$C$138,SMALL(IF('Missions principales '!$H$6:$H$138="B",ROW(I$6:I$138)-5,""),ROW(G6))),"")} -> Suivre les autorisations de conduite
E9: {=IFERROR(INDEX('Missions principales '!$C12:$C$138,SMALL(IF('Missions principales '!$H$6:$H$138="A",ROW(C$6:C$138)-5,""),ROW(A7))),"")} | K9: {=IFERROR(INDEX('Missions principales '!$C12:$C$138,SMALL(IF('Missions principales '!$H$6:$H$138="B",ROW(I$6:I$138)-5,""),ROW(G7))),"")} -> Classer les autorisations de conduite mises à jour
E10: {=IFERROR(INDEX('Missions principales '!$C13:$C$138,SMALL(IF('Missions principales '!$H$6:$H$138="A",ROW(C$6:C$138)-5,""),ROW(A8))),"")} | K10: {=IFERROR(INDEX('Missions principales '!$C13:$C$138,SMALL(IF('Missions principales '!$H$6:$H$138="B",ROW(I$6:I$138)-5,""),ROW(G8))),"")} -> Réaliser l'accueil sécurité : video
E11: {=IFERROR(INDEX('Missions principales '!$C14:$C$138,SMALL(IF('Missions principales '!$H$6:$H$138="A",ROW(C$6:C$138)-5,""),ROW(A9))),"")} | K11: {=IFERROR(INDEX('Missions principales '!$C14:$C$138,SMALL(IF('Missions principales '!$H$6:$H$138="B",ROW(I$6:I$138)-5,""),ROW(G9))),"")} -> Affectation d' un casier bleu : étiquette à son nom et à plastifier
E12: {=IFERROR(INDEX('Missions principales '!$C15:$C$138,SMALL(IF('Missions principales '!$H$6:$H$138="A",ROW(C$6:C$138)-5,""),ROW(A10))),"")} | K12: {=IFERROR(INDEX('Missions principales '!$C15:$C$138,SMALL(IF('Missions principales '!$H$6:$H$138="B",ROW(I$6:I$138)-5,""),ROW(G10))),"")} -> Remettre les EPI au salarié
E13: {=IFERROR(INDEX('Missions principales '!$C16:$C$138,SMALL(IF('Missions principales '!$H$6:$H$138="A",ROW(C$6:C$138)-5,""),ROW(A11))),"")} | K13: {=IFERROR(INDEX('Missions principales '!$C16:$C$138,SMALL(IF('Missions principales '!$H$6:$H$138="B",ROW(I$6:I$138)-5,""),ROW(G11))),"")} -> Vérifier les expositions avant envoi au medecin du travail
E14: {=IFERROR(INDEX('Missions principales '!$C17:$C$138,SMALL(IF('Missions principales '!$H$6:$H$138="A",ROW(C$6:C$138)-5,""),ROW(A12))),"")} | K14: {=IFERROR(INDEX('Missions principales '!$C17:$C$138,SMALL(IF('Missions principales '!$H$6:$H$138="B",ROW(I$6:I$138)-5,""),ROW(G12))),"")} -> Répondre aux IS MT CARSAT
E15: {=IFERROR(INDEX('Missions principales '!$C18:$C$138,SMALL(IF('Missions principales '!$H$6:$H$138="A",ROW(C$6:C$138)-5,""),ROW(A13))),"")} | K15: {=IFERROR(INDEX('Missions principales '!$C18:$C$138,SMALL(IF('Missions principales '!$H$6:$H$138="B",ROW(I$6:I$138)-5,""),ROW(G13))),"")} -> Saisir et suivre les analyses sur Soft Amiante.
... E29: {=IFERROR(INDEX('Missions principales '!$C32:$C$138,SMALL(IF('Missions principales '!$H$6:$H$138="A",ROW(C$6:C$138)-5,""),ROW(A27))),"")} | K29: {=IFERROR(INDEX('Missions principales '!$C32:$C$138,SMALL(IF('Missions principales '!$H$6:$H$138="B",ROW(I$6:I$138)-5,""),ROW(G27))),"")}
D31: NON IMPORTANT | E31: N O N I M P O R T A N T / U R G E N T- DELEGATE | K31: N O N I M P O R T A N T / N O N U R G E N T-ELIMINATE
E32: Tâches C | K32: Tâches D
E33: =INDEX('Missions principales '!$C6:$C$138,MATCH("C",'Missions principales '!$H$6:$H$138,0),'Missions principales '!C:C) -> #VALUE!
D63: U R G E N C E
