Workbook
Name bdcorrections: OFFSET(Corrections!$D$3,,,ROWS(scorrections),COUNTIF(Corrections!$D$1:$CA$1,"><"))
Name bdtravp: OFFSET(TP!$D$3,,,ROWS(stravp),COUNTIF(TP!$D$1:$BF$1,"><"))
Name nomscorrections: OFFSET(Corrections!$D$1,,,,COUNTIF(Corrections!$D$1:$CZ$1,"><"))
Name nomstp: OFFSET(TP!$D$1,,,,COUNTIF(TP!$D$1:$CZ$1,"><"))
Name Prénoms: Corrections!$D$1:$V$1
Name scorrections: OFFSET(Corrections!$C$3,,,COUNT(Corrections!$C:$C))
Name stravp: OFFSET(TP!$C$3,,,COUNT(TP!$C:$C))

Sheet TP
A1: TP | B1: Reste | C1: S | D1: Adrian | E1: Alicia | F1: Aline | G1: Almara | H1: Arandjo | I1: Delina | J1: Diogo | K1: Elie | L1: Eloïse | M1: Elona | N1: Iris | O1: Léo | P1: Lucas | Q1: Marie-Ange | R1: Marisa | S1: Mattis | T1: Nikola | U1: Nuhi | V1: Pauline
A2: Total à faire | D2: =COUNTA(D3:D9967) -> 5 | E2: =COUNTA(E3:E9967) -> 3 | F2: =COUNTA(F3:F9967) -> 11 | G2: =COUNTA(G3:G9967) -> 11 | H2: =COUNTA(H3:H9967) -> 11 | I2: =COUNTA(I3:I9967) -> 11 | J2: =COUNTA(J3:J9967) -> 11 | K2: =COUNTA(K3:K9967) -> 11 | ... V2: =COUNTA(V3:V9967) -> 11
A3: Co. 01 | B3: =COUNTA(TP!$D3:$V3) -> 17 | C3: 1 | F3: =$A3 -> Co. 01 | G3: =$A3 -> Co. 01 | H3: =$A3 -> Co. 01 | I3: =$A3 -> Co. 01 | J3: =$A3 -> Co. 01 | K3: =$A3 -> Co. 01 | L3: =$A3 -> Co. 01 | M3: =$A3 -> Co. 01 | ... V3: =$A3 -> Co. 01
A4: Co. 02 | B4: =COUNTA(TP!$D4:$V4) -> 17 | C4: 1 | F4: =$A4 -> Co. 02 | G4: =$A4 -> Co. 02 | H4: =$A4 -> Co. 02 | I4: =$A4 -> Co. 02 | J4: =$A4 -> Co. 02 | K4: =$A4 -> Co. 02 | L4: =$A4 -> Co. 02 | M4: =$A4 -> Co. 02 | ... V4: =$A4 -> Co. 02
A5: Ma. 43 | B5: =COUNTA(TP!$D5:$V5) -> 17 | C5: 1 | F5: =$A5 -> Ma. 43 | G5: =$A5 -> Ma. 43 | H5: =$A5 -> Ma. 43 | I5: =$A5 -> Ma. 43 | J5: =$A5 -> Ma. 43 | K5: =$A5 -> Ma. 43 | L5: =$A5 -> Ma. 43 | M5: =$A5 -> Ma. 43 | ... V5: =$A5 -> Ma. 43
A6: FE 64 | B6: =COUNTA(TP!$D6:$V6) -> 17 | C6: 1 | F6: =$A6 -> FE 64 | G6: =$A6 -> FE 64 | H6: =$A6 -> FE 64 | I6: =$A6 -> FE 64 | J6: =$A6 -> FE 64 | K6: =$A6 -> FE 64 | L6: =$A6 -> FE 64 | M6: =$A6 -> FE 64 | ... V6: =$A6 -> FE 64
A7: CC 8 | B7: =COUNTA(TP!$D7:$V7) -> 17 | C7: 1 | F7: =$A7 -> CC 8 | G7: =$A7 -> CC 8 | H7: =$A7 -> CC 8 | I7: =$A7 -> CC 8 | J7: =$A7 -> CC 8 | K7: =$A7 -> CC 8 | L7: =$A7 -> CC 8 | M7: =$A7 -> CC 8 | ... V7: =$A7 -> CC 8
A8: Or. 13 | B8: =COUNTA(TP!$D8:$V8) -> 17 | C8: 2 | F8: =$A8 -> Or. 13 | G8: =$A8 -> Or. 13 | H8: =$A8 -> Or. 13 | I8: =$A8 -> Or. 13 | J8: =$A8 -> Or. 13 | K8: =$A8 -> Or. 13 | L8: =$A8 -> Or. 13 | M8: =$A8 -> Or. 13 | ... V8: =$A8 -> Or. 13
A9: Ma. 31 | B9: =COUNTA(TP!$D9:$V9) -> 18 | C9: 2 | D9: =$A9 -> Ma. 31 | F9: =$A9 -> Ma. 31 | G9: =$A9 -> Ma. 31 | H9: =$A9 -> Ma. 31 | I9: =$A9 -> Ma. 31 | J9: =$A9 -> Ma. 31 | K9: =$A9 -> Ma. 31 | L9: =$A9 -> Ma. 31 | M9: =$A9 -> Ma. 31 | ... V9: =$A9 -> Ma. 31
A10: Ma. 22 | B10: =COUNTA(TP!$D10:$V10) -> 18 | C10: 2 | D10: =$A10 -> Ma. 22 | F10: =$A10 -> Ma. 22 | G10: =$A10 -> Ma. 22 | H10: =$A10 -> Ma. 22 | I10: =$A10 -> Ma. 22 | J10: =$A10 -> Ma. 22 | K10: =$A10 -> Ma. 22 | L10: =$A10 -> Ma. 22 | M10: =$A10 -> Ma. 22 | ... V10: =$A10 -> Ma. 22
A11: Vo. 17 | B11: =COUNTA(TP!$D11:$V11) -> 0 | C11: 2
A12: CC 9 | B12: =COUNTA(TP!$D12:$V12) -> 19 | C12: 2 | D12: =$A12 -> CC 9 | E12: fae | F12: =$A12 -> CC 9 | G12: =$A12 -> CC 9 | H12: =$A12 -> CC 9 | I12: =$A12 -> CC 9 | J12: =$A12 -> CC 9 | K12: =$A12 -> CC 9 | L12: =$A12 -> CC 9 | M12: =$A12 -> CC 9 | ... V12: =$A12 -> CC 9
A13: Gr. 18 | B13: =COUNTA(TP!$D13:$V13) -> 19 | C13: 4 | D13: =$A13 -> Gr. 18 | E13: =$A13 -> Gr. 18 | F13: =$A13 -> Gr. 18 | G13: =$A13 -> Gr. 18 | H13: =$A13 -> Gr. 18 | I13: =$A13 -> Gr. 18 | J13: =$A13 -> Gr. 18 | K13: =$A13 -> Gr. 18 | ... V13: =$A13 -> Gr. 18
A14: Co. 42 | B14: =COUNTA(TP!$D14:$V14) -> 19 | C14: 4 | D14: =$A14 -> Co. 42 | E14: =$A14 -> Co. 42 | F14: =$A14 -> Co. 42 | G14: =$A14 -> Co. 42 | H14: =$A14 -> Co. 42 | I14: =$A14 -> Co. 42 | J14: =$A14 -> Co. 42 | K14: =$A14 -> Co. 42 | ... V14: =$A14 -> Co. 42

Sheet Corrections
A1: Corrections | B1: Reste | C1: S | D1: Adrian | E1: Alicia | F1: Aline | G1: Almara | H1: Arandjo | I1: Delina | J1: Diogo | K1: Elie | L1: Eloïse | M1: Elona | N1: Iris | O1: Léo | P1: Lucas | Q1: Marie-Ange | R1: Marisa | S1: Mattis | T1: Nikola | U1: Nuhi | V1: Pauline
A2: Total à faire | D2: =COUNTA(D3:D985) -> 2 | E2: =COUNTA(E3:E985) -> 2 | F2: =COUNTA(F3:F985) -> 3 | G2: =COUNTA(G3:G985) -> 7 | H2: =COUNTA(H3:H985) -> 7 | I2: =COUNTA(I3:I985) -> 4 | J2: =COUNTA(J3:J985) -> 7 | K2: =COUNTA(K3:K985) -> 7 | ... V2: =COUNTA(V3:V985) -> 7
A3: FE 21 | B3: =COUNTA(Corrections!$D3:$V3) -> 17 | C3: 1 | F3: =$A3 -> FE 21 | G3: =$A3 -> FE 21 | H3: =$A3 -> FE 21 | I3: =$A3 -> FE 21 | J3: =$A3 -> FE 21 | K3: =$A3 -> FE 21 | L3: =$A3 -> FE 21 | M3: =$A3 -> FE 21 | ... V3: =$A3 -> FE 21
A4: MWB 12 | B4: =COUNTA(Corrections!$D4:$V4) -> 15 | C4: 1 | G4: =$A4 -> MWB 12 | H4: =$A4 -> MWB 12 | J4: =$A4 -> MWB 12 | K4: =$A4 -> MWB 12 | L4: =$A4 -> MWB 12 | M4: =$A4 -> MWB 12 | N4: =$A4 -> MWB 12 | O4: =$A4 -> MWB 12 | P4: =$A4 -> MWB 12 | Q4: =$A4 -> MWB 12 | ... V4: =$A4 -> MWB 12
A5: Addition 1 | B5: =COUNTA(Corrections!$D5:$V5) -> 15 | C5: 1 | G5: =$A5 -> Addition 1 | H5: =$A5 -> Addition 1 | J5: =$A5 -> Addition 1 | K5: =$A5 -> Addition 1 | L5: =$A5 -> Addition 1 | M5: =$A5 -> Addition 1 | N5: =$A5 -> Addition 1 | O5: =$A5 -> Addition 1 | P5: =$A5 -> Addition 1 | Q5: =$A5 -> Addition 1 | ... V5: =$A5 -> Addition 1
A6: CC 10 | B6: =COUNTA(Corrections!$D6:$V6) -> 15 | C6: 1 | G6: =$A6 -> CC 10 | H6: =$A6 -> CC 10 | J6: =$A6 -> CC 10 | K6: =$A6 -> CC 10 | L6: =$A6 -> CC 10 | M6: =$A6 -> CC 10 | N6: =$A6 -> CC 10 | O6: =$A6 -> CC 10 | P6: =$A6 -> CC 10 | Q6: =$A6 -> CC 10 | ... V6: =$A6 -> CC 10
A7: Passé, présent... | B7: =COUNTA(Corrections!$D7:$V7) -> 0 | C7: 1
A8: FE 10 | B8: =COUNTA(Corrections!$D8:$V8) -> 17 | C8: 1 | E8: =$A8 -> FE 10 | G8: =$A8 -> FE 10 | H8: =$A8 -> FE 10 | I8: =$A8 -> FE 10 | J8: =$A8 -> FE 10 | K8: =$A8 -> FE 10 | L8: =$A8 -> FE 10 | M8: =$A8 -> FE 10 | N8: =$A8 -> FE 10 | ... V8: =$A8 -> FE 10
A9: MWB 13 | B9: =COUNTA(Corrections!$D9:$V9) -> 18 | C9: 2 | D9: =$A9 -> MWB 13 | F9: =$A9 -> MWB 13 | G9: =$A9 -> MWB 13 | H9: =$A9 -> MWB 13 | I9: =$A9 -> MWB 13 | J9: =$A9 -> MWB 13 | K9: =$A9 -> MWB 13 | L9: =$A9 -> MWB 13 | M9: =$A9 -> MWB 13 | ... V9: =$A9 -> MWB 13
A10: FE 42 | B10: =COUNTA(Corrections!$D10:$V10) -> 19 | C10: 2 | D10: =$A10 -> FE 42 | E10: =$A10 -> FE 42 | F10: =$A10 -> FE 42 | G10: =$A10 -> FE 42 | H10: =$A10 -> FE 42 | I10: =$A10 -> FE 42 | J10: =$A10 -> FE 42 | K10: =$A10 -> FE 42 | ... V10: =$A10 -> FE 42

Sheet Par semaine
A1: Semaine | B1: Adrian | C1: Alicia | D1: Aline | E1: Almara | F1: Arandjo | G1: Delina | H1: Diogo | I1: Elie | J1: Eloïse | K1: Elona | L1: Iris | M1: Léo | N1: Lucas | O1: Marie-Ange | P1: Marisa | Q1: Mattis | R1: Nikola | S1: Nuhi | T1: Pauline
A2: 1 | B2: =SUMPRODUCT((nomscorrections=B$1)*(scorrections=$A2)*(bdcorrections<>""))+SUMPRODUCT((nomstp=B$1)*(stravp=$A2)*(bdtravp<>"")) -> 0 | C2: =SUMPRODUCT((nomscorrections=C$1)*(scorrections=$A2)*(bdcorrections<>""))+SUMPRODUCT((nomstp=C$1)*(stravp=$A2)*(bdtravp<>"")) -> 1 | D2: =SUMPRODUCT((nomscorrections=D$1)*(scorrections=$A2)*(bdcorrections<>""))+SUMPRODUCT((nomstp=D$1)*(stravp=$A2)*(bdtravp<>"")) -> 6 | E2: =SUMPRODUCT((nomscorrections=E$1)*(scorrections=$A2)*(bdcorrections<>""))+SUMPRODUCT((nomstp=E$1)*(stravp=$A2)*(bdtravp<>"")) -> 10 | F2: =SUMPRODUCT((nomscorrections=F$1)*(scorrections=$A2)*(bdcorrections<>""))+SUMPRODUCT((nomstp=F$1)*(stravp=$A2)*(bdtravp<>"")) -> 10 | G2: =SUMPRODUCT((nomscorrections=G$1)*(scorrections=$A2)*(bdcorrections<>""))+SUMPRODUCT((nomstp=G$1)*(stravp=$A2)*(bdtravp<>"")) -> 7 | H2: =SUMPRODUCT((nomscorrections=H$1)*(scorrections=$A2)*(bdcorrections<>""))+SUMPRODUCT((nomstp=H$1)*(stravp=$A2)*(bdtravp<>"")) -> 10 | I2: =SUMPRODUCT((nomscorrections=I$1)*(scorrections=$A2)*(bdcorrections<>""))+SUMPRODUCT((nomstp=I$1)*(stravp=$A2)*(bdtravp<>"")) -> 10 | ... T2: =SUMPRODUCT((nomscorrections=T$1)*(scorrections=$A2)*(bdcorrections<>""))+SUMPRODUCT((nomstp=T$1)*(stravp=$A2)*(bdtravp<>"")) -> 10
A3: 2 | B3: =SUMPRODUCT((nomscorrections=B$1)*(scorrections=$A3)*(bdcorrections<>""))+SUMPRODUCT((nomstp=B$1)*(stravp=$A3)*(bdtravp<>"")) -> 5 | C3: =SUMPRODUCT((nomscorrections=C$1)*(scorrections=$A3)*(bdcorrections<>""))+SUMPRODUCT((nomstp=C$1)*(stravp=$A3)*(bdtravp<>"")) -> 2 | D3: =SUMPRODUCT((nomscorrections=D$1)*(scorrections=$A3)*(bdcorrections<>""))+SUMPRODUCT((nomstp=D$1)*(stravp=$A3)*(bdtravp<>"")) -> 6 | E3: =SUMPRODUCT((nomscorrections=E$1)*(scorrections=$A3)*(bdcorrections<>""))+SUMPRODUCT((nomstp=E$1)*(stravp=$A3)*(bdtravp<>"")) -> 6 | F3: =SUMPRODUCT((nomscorrections=F$1)*(scorrections=$A3)*(bdcorrections<>""))+SUMPRODUCT((nomstp=F$1)*(stravp=$A3)*(bdtravp<>"")) -> 6 | G3: =SUMPRODUCT((nomscorrections=G$1)*(scorrections=$A3)*(bdcorrections<>""))+SUMPRODUCT((nomstp=G$1)*(stravp=$A3)*(bdtravp<>"")) -> 6 | H3: =SUMPRODUCT((nomscorrections=H$1)*(scorrections=$A3)*(bdcorrections<>""))+SUMPRODUCT((nomstp=H$1)*(stravp=$A3)*(bdtravp<>"")) -> 6 | I3: =SUMPRODUCT((nomscorrections=I$1)*(scorrections=$A3)*(bdcorrections<>""))+SUMPRODUCT((nomstp=I$1)*(stravp=$A3)*(bdtravp<>"")) -> 6 | ... T3: =SUMPRODUCT((nomscorrections=T$1)*(scorrections=$A3)*(bdcorrections<>""))+SUMPRODUCT((nomstp=T$1)*(stravp=$A3)*(bdtravp<>"")) -> 6
A4: 3 | B4: =SUMPRODUCT((nomscorrections=B$1)*(scorrections=$A4)*(bdcorrections<>""))+SUMPRODUCT((nomstp=B$1)*(stravp=$A4)*(bdtravp<>"")) -> 0 | C4: =SUMPRODUCT((nomscorrections=C$1)*(scorrections=$A4)*(bdcorrections<>""))+SUMPRODUCT((nomstp=C$1)*(stravp=$A4)*(bdtravp<>"")) -> 0 | D4: =SUMPRODUCT((nomscorrections=D$1)*(scorrections=$A4)*(bdcorrections<>""))+SUMPRODUCT((nomstp=D$1)*(stravp=$A4)*(bdtravp<>"")) -> 0 | E4: =SUMPRODUCT((nomscorrections=E$1)*(scorrections=$A4)*(bdcorrections<>""))+SUMPRODUCT((nomstp=E$1)*(stravp=$A4)*(bdtravp<>"")) -> 0 | F4: =SUMPRODUCT((nomscorrections=F$1)*(scorrections=$A4)*(bdcorrections<>""))+SUMPRODUCT((nomstp=F$1)*(stravp=$A4)*(bdtravp<>"")) -> 0 | G4: =SUMPRODUCT((nomscorrections=G$1)*(scorrections=$A4)*(bdcorrections<>""))+SUMPRODUCT((nomstp=G$1)*(stravp=$A4)*(bdtravp<>"")) -> 0 | H4: =SUMPRODUCT((nomscorrections=H$1)*(scorrections=$A4)*(bdcorrections<>""))+SUMPRODUCT((nomstp=H$1)*(stravp=$A4)*(bdtravp<>"")) -> 0 | I4: =SUMPRODUCT((nomscorrections=I$1)*(scorrections=$A4)*(bdcorrections<>""))+SUMPRODUCT((nomstp=I$1)*(stravp=$A4)*(bdtravp<>"")) -> 0 | ... T4: =SUMPRODUCT((nomscorrections=T$1)*(scorrections=$A4)*(bdcorrections<>""))+SUMPRODUCT((nomstp=T$1)*(stravp=$A4)*(bdtravp<>"")) -> 0
A5: 4 | B5: =SUMPRODUCT((nomscorrections=B$1)*(scorrections=$A5)*(bdcorrections<>""))+SUMPRODUCT((nomstp=B$1)*(stravp=$A5)*(bdtravp<>"")) -> 2 | C5: =SUMPRODUCT((nomscorrections=C$1)*(scorrections=$A5)*(bdcorrections<>""))+SUMPRODUCT((nomstp=C$1)*(stravp=$A5)*(bdtravp<>"")) -> 2 | D5: =SUMPRODUCT((nomscorrections=D$1)*(scorrections=$A5)*(bdcorrections<>""))+SUMPRODUCT((nomstp=D$1)*(stravp=$A5)*(bdtravp<>"")) -> 2 | E5: =SUMPRODUCT((nomscorrections=E$1)*(scorrections=$A5)*(bdcorrections<>""))+SUMPRODUCT((nomstp=E$1)*(stravp=$A5)*(bdtravp<>"")) -> 2 | F5: =SUMPRODUCT((nomscorrections=F$1)*(scorrections=$A5)*(bdcorrections<>""))+SUMPRODUCT((nomstp=F$1)*(stravp=$A5)*(bdtravp<>"")) -> 2 | G5: =SUMPRODUCT((nomscorrections=G$1)*(scorrections=$A5)*(bdcorrections<>""))+SUMPRODUCT((nomstp=G$1)*(stravp=$A5)*(bdtravp<>"")) -> 2 | H5: =SUMPRODUCT((nomscorrections=H$1)*(scorrections=$A5)*(bdcorrections<>""))+SUMPRODUCT((nomstp=H$1)*(stravp=$A5)*(bdtravp<>"")) -> 2 | I5: =SUMPRODUCT((nomscorrections=I$1)*(scorrections=$A5)*(bdcorrections<>""))+SUMPRODUCT((nomstp=I$1)*(stravp=$A5)*(bdtravp<>"")) -> 2 | ... T5: =SUMPRODUCT((nomscorrections=T$1)*(scorrections=$A5)*(bdcorrections<>""))+SUMPRODUCT((nomstp=T$1)*(stravp=$A5)*(bdtravp<>"")) -> 2
A6: 5 | B6: =SUMPRODUCT((nomscorrections=B$1)*(scorrections=$A6)*(bdcorrections<>""))+SUMPRODUCT((nomstp=B$1)*(stravp=$A6)*(bdtravp<>"")) -> 0 | C6: =SUMPRODUCT((nomscorrections=C$1)*(scorrections=$A6)*(bdcorrections<>""))+SUMPRODUCT((nomstp=C$1)*(stravp=$A6)*(bdtravp<>"")) -> 0 | D6: =SUMPRODUCT((nomscorrections=D$1)*(scorrections=$A6)*(bdcorrections<>""))+SUMPRODUCT((nomstp=D$1)*(stravp=$A6)*(bdtravp<>"")) -> 0 | E6: =SUMPRODUCT((nomscorrections=E$1)*(scorrections=$A6)*(bdcorrections<>""))+SUMPRODUCT((nomstp=E$1)*(stravp=$A6)*(bdtravp<>"")) -> 0 | F6: =SUMPRODUCT((nomscorrections=F$1)*(scorrections=$A6)*(bdcorrections<>""))+SUMPRODUCT((nomstp=F$1)*(stravp=$A6)*(bdtravp<>"")) -> 0 | G6: =SUMPRODUCT((nomscorrections=G$1)*(scorrections=$A6)*(bdcorrections<>""))+SUMPRODUCT((nomstp=G$1)*(stravp=$A6)*(bdtravp<>"")) -> 0 | H6: =SUMPRODUCT((nomscorrections=H$1)*(scorrections=$A6)*(bdcorrections<>""))+SUMPRODUCT((nomstp=H$1)*(stravp=$A6)*(bdtravp<>"")) -> 0 | I6: =SUMPRODUCT((nomscorrections=I$1)*(scorrections=$A6)*(bdcorrections<>""))+SUMPRODUCT((nomstp=I$1)*(stravp=$A6)*(bdtravp<>"")) -> 0 | ... T6: =SUMPRODUCT((nomscorrections=T$1)*(scorrections=$A6)*(bdcorrections<>""))+SUMPRODUCT((nomstp=T$1)*(stravp=$A6)*(bdtravp<>"")) -> 0
A7: 6 | B7: =SUMPRODUCT((nomscorrections=B$1)*(scorrections=$A7)*(bdcorrections<>""))+SUMPRODUCT((nomstp=B$1)*(stravp=$A7)*(bdtravp<>"")) -> 0 | C7: =SUMPRODUCT((nomscorrections=C$1)*(scorrections=$A7)*(bdcorrections<>""))+SUMPRODUCT((nomstp=C$1)*(stravp=$A7)*(bdtravp<>"")) -> 0 | D7: =SUMPRODUCT((nomscorrections=D$1)*(scorrections=$A7)*(bdcorrections<>""))+SUMPRODUCT((nomstp=D$1)*(stravp=$A7)*(bdtravp<>"")) -> 0 | E7: =SUMPRODUCT((nomscorrections=E$1)*(scorrections=$A7)*(bdcorrections<>""))+SUMPRODUCT((nomstp=E$1)*(stravp=$A7)*(bdtravp<>"")) -> 0 | F7: =SUMPRODUCT((nomscorrections=F$1)*(scorrections=$A7)*(bdcorrections<>""))+SUMPRODUCT((nomstp=F$1)*(stravp=$A7)*(bdtravp<>"")) -> 0 | G7: =SUMPRODUCT((nomscorrections=G$1)*(scorrections=$A7)*(bdcorrections<>""))+SUMPRODUCT((nomstp=G$1)*(stravp=$A7)*(bdtravp<>"")) -> 0 | H7: =SUMPRODUCT((nomscorrections=H$1)*(scorrections=$A7)*(bdcorrections<>""))+SUMPRODUCT((nomstp=H$1)*(stravp=$A7)*(bdtravp<>"")) -> 0 | I7: =SUMPRODUCT((nomscorrections=I$1)*(scorrections=$A7)*(bdcorrections<>""))+SUMPRODUCT((nomstp=I$1)*(stravp=$A7)*(bdtravp<>"")) -> 0 | ... T7: =SUMPRODUCT((nomscorrections=T$1)*(scorrections=$A7)*(bdcorrections<>""))+SUMPRODUCT((nomstp=T$1)*(stravp=$A7)*(bdtravp<>"")) -> 0
A8: 7 | B8: =SUMPRODUCT((nomscorrections=B$1)*(scorrections=$A8)*(bdcorrections<>""))+SUMPRODUCT((nomstp=B$1)*(stravp=$A8)*(bdtravp<>"")) -> 0 | C8: =SUMPRODUCT((nomscorrections=C$1)*(scorrections=$A8)*(bdcorrections<>""))+SUMPRODUCT((nomstp=C$1)*(stravp=$A8)*(bdtravp<>"")) -> 0 | D8: =SUMPRODUCT((nomscorrections=D$1)*(scorrections=$A8)*(bdcorrections<>""))+SUMPRODUCT((nomstp=D$1)*(stravp=$A8)*(bdtravp<>"")) -> 0 | E8: =SUMPRODUCT((nomscorrections=E$1)*(scorrections=$A8)*(bdcorrections<>""))+SUMPRODUCT((nomstp=E$1)*(stravp=$A8)*(bdtravp<>"")) -> 0 | F8: =SUMPRODUCT((nomscorrections=F$1)*(scorrections=$A8)*(bdcorrections<>""))+SUMPRODUCT((nomstp=F$1)*(stravp=$A8)*(bdtravp<>"")) -> 0 | G8: =SUMPRODUCT((nomscorrections=G$1)*(scorrections=$A8)*(bdcorrections<>""))+SUMPRODUCT((nomstp=G$1)*(stravp=$A8)*(bdtravp<>"")) -> 0 | H8: =SUMPRODUCT((nomscorrections=H$1)*(scorrections=$A8)*(bdcorrections<>""))+SUMPRODUCT((nomstp=H$1)*(stravp=$A8)*(bdtravp<>"")) -> 0 | I8: =SUMPRODUCT((nomscorrections=I$1)*(scorrections=$A8)*(bdcorrections<>""))+SUMPRODUCT((nomstp=I$1)*(stravp=$A8)*(bdtravp<>"")) -> 0 | ... T8: =SUMPRODUCT((nomscorrections=T$1)*(scorrections=$A8)*(bdcorrections<>""))+SUMPRODUCT((nomstp=T$1)*(stravp=$A8)*(bdtravp<>"")) -> 0
A9: 8 | B9: =SUMPRODUCT((nomscorrections=B$1)*(scorrections=$A9)*(bdcorrections<>""))+SUMPRODUCT((nomstp=B$1)*(stravp=$A9)*(bdtravp<>"")) -> 0 | C9: =SUMPRODUCT((nomscorrections=C$1)*(scorrections=$A9)*(bdcorrections<>""))+SUMPRODUCT((nomstp=C$1)*(stravp=$A9)*(bdtravp<>"")) -> 0 | D9: =SUMPRODUCT((nomscorrections=D$1)*(scorrections=$A9)*(bdcorrections<>""))+SUMPRODUCT((nomstp=D$1)*(stravp=$A9)*(bdtravp<>"")) -> 0 | E9: =SUMPRODUCT((nomscorrections=E$1)*(scorrections=$A9)*(bdcorrections<>""))+SUMPRODUCT((nomstp=E$1)*(stravp=$A9)*(bdtravp<>"")) -> 0 | F9: =SUMPRODUCT((nomscorrections=F$1)*(scorrections=$A9)*(bdcorrections<>""))+SUMPRODUCT((nomstp=F$1)*(stravp=$A9)*(bdtravp<>"")) -> 0 | G9: =SUMPRODUCT((nomscorrections=G$1)*(scorrections=$A9)*(bdcorrections<>""))+SUMPRODUCT((nomstp=G$1)*(stravp=$A9)*(bdtravp<>"")) -> 0 | H9: =SUMPRODUCT((nomscorrections=H$1)*(scorrections=$A9)*(bdcorrections<>""))+SUMPRODUCT((nomstp=H$1)*(stravp=$A9)*(bdtravp<>"")) -> 0 | I9: =SUMPRODUCT((nomscorrections=I$1)*(scorrections=$A9)*(bdcorrections<>""))+SUMPRODUCT((nomstp=I$1)*(stravp=$A9)*(bdtravp<>"")) -> 0 | ... T9: =SUMPRODUCT((nomscorrections=T$1)*(scorrections=$A9)*(bdcorrections<>""))+SUMPRODUCT((nomstp=T$1)*(stravp=$A9)*(bdtravp<>"")) -> 0
A10: 9 | B10: =SUMPRODUCT((nomscorrections=B$1)*(scorrections=$A10)*(bdcorrections<>""))+SUMPRODUCT((nomstp=B$1)*(stravp=$A10)*(bdtravp<>"")) -> 0 | C10: =SUMPRODUCT((nomscorrections=C$1)*(scorrections=$A10)*(bdcorrections<>""))+SUMPRODUCT((nomstp=C$1)*(stravp=$A10)*(bdtravp<>"")) -> 0 | D10: =SUMPRODUCT((nomscorrections=D$1)*(scorrections=$A10)*(bdcorrections<>""))+SUMPRODUCT((nomstp=D$1)*(stravp=$A10)*(bdtravp<>"")) -> 0 | E10: =SUMPRODUCT((nomscorrections=E$1)*(scorrections=$A10)*(bdcorrections<>""))+SUMPRODUCT((nomstp=E$1)*(stravp=$A10)*(bdtravp<>"")) -> 0 | F10: =SUMPRODUCT((nomscorrections=F$1)*(scorrections=$A10)*(bdcorrections<>""))+SUMPRODUCT((nomstp=F$1)*(stravp=$A10)*(bdtravp<>"")) -> 0 | G10: =SUMPRODUCT((nomscorrections=G$1)*(scorrections=$A10)*(bdcorrections<>""))+SUMPRODUCT((nomstp=G$1)*(stravp=$A10)*(bdtravp<>"")) -> 0 | H10: =SUMPRODUCT((nomscorrections=H$1)*(scorrections=$A10)*(bdcorrections<>""))+SUMPRODUCT((nomstp=H$1)*(stravp=$A10)*(bdtravp<>"")) -> 0 | I10: =SUMPRODUCT((nomscorrections=I$1)*(scorrections=$A10)*(bdcorrections<>""))+SUMPRODUCT((nomstp=I$1)*(stravp=$A10)*(bdtravp<>"")) -> 0 | ... T10: =SUMPRODUCT((nomscorrections=T$1)*(scorrections=$A10)*(bdcorrections<>""))+SUMPRODUCT((nomstp=T$1)*(stravp=$A10)*(bdtravp<>"")) -> 0
A11: 10 | B11: =SUMPRODUCT((nomscorrections=B$1)*(scorrections=$A11)*(bdcorrections<>""))+SUMPRODUCT((nomstp=B$1)*(stravp=$A11)*(bdtravp<>"")) -> 0 | C11: =SUMPRODUCT((nomscorrections=C$1)*(scorrections=$A11)*(bdcorrections<>""))+SUMPRODUCT((nomstp=C$1)*(stravp=$A11)*(bdtravp<>"")) -> 0 | D11: =SUMPRODUCT((nomscorrections=D$1)*(scorrections=$A11)*(bdcorrections<>""))+SUMPRODUCT((nomstp=D$1)*(stravp=$A11)*(bdtravp<>"")) -> 0 | E11: =SUMPRODUCT((nomscorrections=E$1)*(scorrections=$A11)*(bdcorrections<>""))+SUMPRODUCT((nomstp=E$1)*(stravp=$A11)*(bdtravp<>"")) -> 0 | F11: =SUMPRODUCT((nomscorrections=F$1)*(scorrections=$A11)*(bdcorrections<>""))+SUMPRODUCT((nomstp=F$1)*(stravp=$A11)*(bdtravp<>"")) -> 0 | G11: =SUMPRODUCT((nomscorrections=G$1)*(scorrections=$A11)*(bdcorrections<>""))+SUMPRODUCT((nomstp=G$1)*(stravp=$A11)*(bdtravp<>"")) -> 0 | H11: =SUMPRODUCT((nomscorrections=H$1)*(scorrections=$A11)*(bdcorrections<>""))+SUMPRODUCT((nomstp=H$1)*(stravp=$A11)*(bdtravp<>"")) -> 0 | I11: =SUMPRODUCT((nomscorrections=I$1)*(scorrections=$A11)*(bdcorrections<>""))+SUMPRODUCT((nomstp=I$1)*(stravp=$A11)*(bdtravp<>"")) -> 0 | ... T11: =SUMPRODUCT((nomscorrections=T$1)*(scorrections=$A11)*(bdcorrections<>""))+SUMPRODUCT((nomstp=T$1)*(stravp=$A11)*(bdtravp<>"")) -> 0
A12: 11 | B12: =SUMPRODUCT((nomscorrections=B$1)*(scorrections=$A12)*(bdcorrections<>""))+SUMPRODUCT((nomstp=B$1)*(stravp=$A12)*(bdtravp<>"")) -> 0 | C12: =SUMPRODUCT((nomscorrections=C$1)*(scorrections=$A12)*(bdcorrections<>""))+SUMPRODUCT((nomstp=C$1)*(stravp=$A12)*(bdtravp<>"")) -> 0 | D12: =SUMPRODUCT((nomscorrections=D$1)*(scorrections=$A12)*(bdcorrections<>""))+SUMPRODUCT((nomstp=D$1)*(stravp=$A12)*(bdtravp<>"")) -> 0 | E12: =SUMPRODUCT((nomscorrections=E$1)*(scorrections=$A12)*(bdcorrections<>""))+SUMPRODUCT((nomstp=E$1)*(stravp=$A12)*(bdtravp<>"")) -> 0 | F12: =SUMPRODUCT((nomscorrections=F$1)*(scorrections=$A12)*(bdcorrections<>""))+SUMPRODUCT((nomstp=F$1)*(stravp=$A12)*(bdtravp<>"")) -> 0 | G12: =SUMPRODUCT((nomscorrections=G$1)*(scorrections=$A12)*(bdcorrections<>""))+SUMPRODUCT((nomstp=G$1)*(stravp=$A12)*(bdtravp<>"")) -> 0 | H12: =SUMPRODUCT((nomscorrections=H$1)*(scorrections=$A12)*(bdcorrections<>""))+SUMPRODUCT((nomstp=H$1)*(stravp=$A12)*(bdtravp<>"")) -> 0 | I12: =SUMPRODUCT((nomscorrections=I$1)*(scorrections=$A12)*(bdcorrections<>""))+SUMPRODUCT((nomstp=I$1)*(stravp=$A12)*(bdtravp<>"")) -> 0 | ... T12: =SUMPRODUCT((nomscorrections=T$1)*(scorrections=$A12)*(bdcorrections<>""))+SUMPRODUCT((nomstp=T$1)*(stravp=$A12)*(bdtravp<>"")) -> 0
A13: 12 | B13: =SUMPRODUCT((nomscorrections=B$1)*(scorrections=$A13)*(bdcorrections<>""))+SUMPRODUCT((nomstp=B$1)*(stravp=$A13)*(bdtravp<>"")) -> 0 | C13: =SUMPRODUCT((nomscorrections=C$1)*(scorrections=$A13)*(bdcorrections<>""))+SUMPRODUCT((nomstp=C$1)*(stravp=$A13)*(bdtravp<>"")) -> 0 | D13: =SUMPRODUCT((nomscorrections=D$1)*(scorrections=$A13)*(bdcorrections<>""))+SUMPRODUCT((nomstp=D$1)*(stravp=$A13)*(bdtravp<>"")) -> 0 | E13: =SUMPRODUCT((nomscorrections=E$1)*(scorrections=$A13)*(bdcorrections<>""))+SUMPRODUCT((nomstp=E$1)*(stravp=$A13)*(bdtravp<>"")) -> 0 | F13: =SUMPRODUCT((nomscorrections=F$1)*(scorrections=$A13)*(bdcorrections<>""))+SUMPRODUCT((nomstp=F$1)*(stravp=$A13)*(bdtravp<>"")) -> 0 | G13: =SUMPRODUCT((nomscorrections=G$1)*(scorrections=$A13)*(bdcorrections<>""))+SUMPRODUCT((nomstp=G$1)*(stravp=$A13)*(bdtravp<>"")) -> 0 | H13: =SUMPRODUCT((nomscorrections=H$1)*(scorrections=$A13)*(bdcorrections<>""))+SUMPRODUCT((nomstp=H$1)*(stravp=$A13)*(bdtravp<>"")) -> 0 | I13: =SUMPRODUCT((nomscorrections=I$1)*(scorrections=$A13)*(bdcorrections<>""))+SUMPRODUCT((nomstp=I$1)*(stravp=$A13)*(bdtravp<>"")) -> 0 | ... T13: =SUMPRODUCT((nomscorrections=T$1)*(scorrections=$A13)*(bdcorrections<>""))+SUMPRODUCT((nomstp=T$1)*(stravp=$A13)*(bdtravp<>"")) -> 0
... A38: 37 | B38: =SUMPRODUCT((nomscorrections=B$1)*(scorrections=$A38)*(bdcorrections<>""))+SUMPRODUCT((nomstp=B$1)*(stravp=$A38)*(bdtravp<>"")) -> 0 | C38: =SUMPRODUCT((nomscorrections=C$1)*(scorrections=$A38)*(bdcorrections<>""))+SUMPRODUCT((nomstp=C$1)*(stravp=$A38)*(bdtravp<>"")) -> 0 | D38: =SUMPRODUCT((nomscorrections=D$1)*(scorrections=$A38)*(bdcorrections<>""))+SUMPRODUCT((nomstp=D$1)*(stravp=$A38)*(bdtravp<>"")) -> 0 | E38: =SUMPRODUCT((nomscorrections=E$1)*(scorrections=$A38)*(bdcorrections<>""))+SUMPRODUCT((nomstp=E$1)*(stravp=$A38)*(bdtravp<>"")) -> 0 | F38: =SUMPRODUCT((nomscorrections=F$1)*(scorrections=$A38)*(bdcorrections<>""))+SUMPRODUCT((nomstp=F$1)*(stravp=$A38)*(bdtravp<>"")) -> 0 | G38: =SUMPRODUCT((nomscorrections=G$1)*(scorrections=$A38)*(bdcorrections<>""))+SUMPRODUCT((nomstp=G$1)*(stravp=$A38)*(bdtravp<>"")) -> 0 | H38: =SUMPRODUCT((nomscorrections=H$1)*(scorrections=$A38)*(bdcorrections<>""))+SUMPRODUCT((nomstp=H$1)*(stravp=$A38)*(bdtravp<>"")) -> 0 | I38: =SUMPRODUCT((nomscorrections=I$1)*(scorrections=$A38)*(bdcorrections<>""))+SUMPRODUCT((nomstp=I$1)*(stravp=$A38)*(bdtravp<>"")) -> 0 | ... T38: =SUMPRODUCT((nomscorrections=T$1)*(scorrections=$A38)*(bdcorrections<>""))+SUMPRODUCT((nomstp=T$1)*(stravp=$A38)*(bdtravp<>"")) -> 0
