Workbook

Sheet CLassement 
B1: TOTAL POINTS | C1: Rang Episode
A4: SURFERS
A5: MONTIGNY VILLAGE | B5: =IARD!AG5+Prévoyance!AG5 -> 90 | C5: =RANK(B5,B$5:B$17) -> 2
A6: PLAISIR VILLAGE | B6: =IARD!AG6+Prévoyance!AG6 -> 70 | C6: =RANK(B6,B$5:B$17) -> 4
A7: LE MESNIL ST DENIS | B7: =IARD!AG7+Prévoyance!AG7 -> 100 | C7: =RANK(B7,B$5:B$17) -> 1
A8: EPRENON | B8: =IARD!AG8+Prévoyance!AG8 -> 20 | C8: =RANK(B8,B$5:B$17) -> 8
A9: ST ARNOULT | B9: =IARD!AG9+Prévoyance!AG9 -> 0 | C9: =RANK(B9,B$5:B$17) -> 12
A10: GUYANCOURT | B10: =IARD!AG10+Prévoyance!AG10 -> 40 | C10: =RANK(B10,B$5:B$17) -> 5
A11: ELANCOURT LA CLEF | B11: =IARD!AG11+Prévoyance!AG11 -> 20 | C11: =RANK(B11,B$5:B$17) -> 8
A12: LE PERRAY EN YVELINES | B12: =IARD!AG12+Prévoyance!AG12 -> 75 | C12: =RANK(B12,B$5:B$17) -> 3
A13: BOIS D'ARCY | B13: =IARD!AG13+Prévoyance!AG13 -> 0 | C13: =RANK(B13,B$5:B$17) -> 12
A14: MONTFORT | B14: =IARD!AG14+Prévoyance!AG14 -> 20 | C14: =RANK(B14,B$5:B$17) -> 8
A15: CHEVREUSE | B15: =IARD!AG15+Prévoyance!AG15 -> 30 | C15: =RANK(B15,B$5:B$17) -> 6
A16: VOISINS | B16: =IARD!AG16+Prévoyance!AG16 -> 20 | C16: =RANK(B16,B$5:B$17) -> 8
A17: LES ESSARTS | B17: =IARD!AG17+Prévoyance!AG17 -> 30 | C17: =RANK(B17,B$5:B$17) -> 6
A18: SKIEURS
A19: ELANCOURT | B19: =Prévoyance!AG20+IARD!AG20 -> 60 | C19: =RANK(B19,B$19:B$26) -> 2
A20: PLAISIR | B20: =Prévoyance!AG21+IARD!AG21 -> 80 | C20: =RANK(B20,B$19:B$26) -> 1
A21: MAUREPAS | B21: =Prévoyance!AG22+IARD!AG22 -> 40 | C21: =RANK(B21,B$19:B$26) -> 5
A22: LES CLAYES SOUS BOIS | B22: =Prévoyance!AG23+IARD!AG23 -> 30 | C22: =RANK(B22,B$19:B$26) -> 7
A23: TRAPPES | B23: =Prévoyance!AG24+IARD!AG24 -> 40 | C23: =RANK(B23,B$19:B$26) -> 5
A24: LE FLORESTAN | B24: =Prévoyance!AG25+IARD!AG25 -> 50 | C24: =RANK(B24,B$19:B$26) -> 3
A25: ST REMY LES CHEVREUSES | B25: =Prévoyance!AG26+IARD!AG26 -> 30 | C25: =RANK(B25,B$19:B$26) -> 7
A26: RAMBOUILLET | B26: =Prévoyance!AG27+IARD!AG27 -> 50 | C26: =RANK(B26,B$19:B$26) -> 3

Sheet IARD
D1: S1 | E1: S2 | F1: S3 | G1: S4 | H1: S5 | I1: S6 | J1: S7 | K1: S8 | L1: S9 | M1: Total Période | O1: Rang S1 | P1: Points | Q1: Rang S2 | R1: Points | S1: Rang S3 | T1: Points | U1: Rang S4 | V1: Points | W1: Rang S5 | X1: Points | Y1: Rang S6 | Z1: Points | AA1: Rang S7 | AB1: Points | AC1: Rang S8 | AD1: Points | AE1: Rang S9 | AF1: Points | AG1: Total des points
AH4: tulppe
D5: 4 | E5: 2 | M5: =SUM(D5:L5) -> 6 | O5: =IF(D5>0,RANK(D5,D$5:D$17),0) -> 1 | P5: =IF(O5=1,30,IF(O5=2,20,IF(O5=3,10,0))) -> 30 | Q5: =IF(E5>0,RANK(E5,E$5:E$17),0) -> 1 | R5: =IF(Q5=1,30,IF(Q5=2,20,IF(Q5=3,10,0))) -> 30 | S5: =IF(F5>0,RANK(F5,F$5:F$17),0) -> 0 | T5: =IF(S5=1,30,IF(S5=2,20,IF(S5=3,10,0))) -> 0 | U5: =IF(G5>0,RANK(G5,G$5:G$17),0) -> 0 | V5: =IF(U5=1,30,IF(U5=2,20,IF(U5=3,10,0))) -> 0 | W5: =IF(H5>0,RANK(H5,H$5:H$17),0) -> 0 | X5: =IF(W5=1,30,IF(W5=2,20,IF(W5=3,10,0))) -> 0 | Y5: =IF(I5>0,RANK(I5,I$5:I$17),0) -> 0 | Z5: =IF(Y5=1,30,IF(Y5=2,20,IF(Y5=3,10,0))) -> 0 | AA5: =IF(J5>0,RANK(J5,J$5:J$17),0) -> 0 | AB5: =IF(AA5=1,30,IF(AA5=2,20,IF(AA5=3,10,0))) -> 0 | AC5: =IF(K5>0,RANK(K5,K$5:K$17),0) -> 0 | AD5: =IF(AC5=1,30,IF(AC5=2,20,IF(AC5=3,10,0))) -> 0 | AE5: =IF(L5>0,RANK(L5,L$5:L$17),0) -> 0 | AF5: =IF(AE5=1,30,IF(AE5=2,20,IF(AE5=3,10,0))) -> 0 | AG5: =P5+R5+T5+V5+X5+Z5+AB5+AD5+AF5 -> 60 | AH5: {=SUM(--(P5<IF(MATCH(P$5:P$17,P$5:P$17,0)=ROW(P$5:P$17)-4,P$5:P$17)))-(COUNTIF(P$5:P$17,0)-1)} -> 1
D6: 3 | E6: 2 | M6: =SUM(D6:L6) -> 5 | O6: =IF(D6>0,RANK(D6,D$5:D$17),0) -> 2 | P6: =IF(O6=1,30,IF(O6=2,20,IF(O6=3,10,0))) -> 20 | Q6: =IF(E6>0,RANK(E6,E$5:E$17),0) -> 1 | R6: =IF(Q6=1,30,IF(Q6=2,20,IF(Q6=3,10,0))) -> 30 | S6: =IF(F6>0,RANK(F6,F$5:F$17),0) -> 0 | T6: =IF(S6=1,30,IF(S6=2,20,IF(S6=3,10,0))) -> 0 | U6: =IF(G6>0,RANK(G6,G$5:G$17),0) -> 0 | V6: =IF(U6=1,30,IF(U6=2,20,IF(U6=3,10,0))) -> 0 | W6: =IF(H6>0,RANK(H6,H$5:H$17),0) -> 0 | X6: =IF(W6=1,30,IF(W6=2,20,IF(W6=3,10,0))) -> 0 | Y6: =IF(I6>0,RANK(I6,I$5:I$17),0) -> 0 | Z6: =IF(Y6=1,30,IF(Y6=2,20,IF(Y6=3,10,0))) -> 0 | AA6: =IF(J6>0,RANK(J6,J$5:J$17),0) -> 0 | AB6: =IF(AA6=1,30,IF(AA6=2,20,IF(AA6=3,10,0))) -> 0 | AC6: =IF(K6>0,RANK(K6,K$5:K$17),0) -> 0 | AD6: =IF(AC6=1,30,IF(AC6=2,20,IF(AC6=3,10,0))) -> 0 | AE6: =IF(L6>0,RANK(L6,L$5:L$17),0) -> 0 | AF6: =IF(AE6=1,30,IF(AE6=2,20,IF(AE6=3,10,0))) -> 0 | AG6: =P6+R6+T6+V6+X6+Z6+AB6+AD6+AF6 -> 50 | AH6: {=SUM(--(P6<IF(MATCH(P$5:P$17,P$5:P$17,0)=ROW(P$5:P$17)-4,P$5:P$17)))-(COUNTIF(P$5:P$17,0)-1)} -> 3
D7: 2 | E7: 2 | M7: =SUM(D7:L7) -> 4 | O7: =IF(D7>0,RANK(D7,D$5:D$17),0) -> 3 | P7: =IF(O7=1,30,IF(O7=2,20,IF(O7=3,10,0))) -> 10 | Q7: =IF(E7>0,RANK(E7,E$5:E$17),0) -> 1 | R7: =IF(Q7=1,30,IF(Q7=2,20,IF(Q7=3,10,0))) -> 30 | S7: =IF(F7>0,RANK(F7,F$5:F$17),0) -> 0 | T7: =IF(S7=1,30,IF(S7=2,20,IF(S7=3,10,0))) -> 0 | U7: =IF(G7>0,RANK(G7,G$5:G$17),0) -> 0 | V7: =IF(U7=1,30,IF(U7=2,20,IF(U7=3,10,0))) -> 0 | W7: =IF(H7>0,RANK(H7,H$5:H$17),0) -> 0 | X7: =IF(W7=1,30,IF(W7=2,20,IF(W7=3,10,0))) -> 0 | Y7: =IF(I7>0,RANK(I7,I$5:I$17),0) -> 0 | Z7: =IF(Y7=1,30,IF(Y7=2,20,IF(Y7=3,10,0))) -> 0 | AA7: =IF(J7>0,RANK(J7,J$5:J$17),0) -> 0 | AB7: =IF(AA7=1,30,IF(AA7=2,20,IF(AA7=3,10,0))) -> 0 | AC7: =IF(K7>0,RANK(K7,K$5:K$17),0) -> 0 | AD7: =IF(AC7=1,30,IF(AC7=2,20,IF(AC7=3,10,0))) -> 0 | AE7: =IF(L7>0,RANK(L7,L$5:L$17),0) -> 0 | AF7: =IF(AE7=1,30,IF(AE7=2,20,IF(AE7=3,10,0))) -> 0 | AG7: =P7+R7+T7+V7+X7+Z7+AB7+AD7+AF7 -> 40 | AH7: {=SUM(--(P7<IF(MATCH(P$5:P$17,P$5:P$17,0)=ROW(P$5:P$17)-4,P$5:P$17)))-(COUNTIF(P$5:P$17,0)-1)} -> 4
D8: 2 | E8: 0 | M8: =SUM(D8:L8) -> 2 | O8: =IF(D8>0,RANK(D8,D$5:D$17),0) -> 3 | P8: =IF(O8=1,30,IF(O8=2,20,IF(O8=3,10,0))) -> 10 | Q8: =IF(E8>0,RANK(E8,E$5:E$17),0) -> 0 | R8: =IF(Q8=1,30,IF(Q8=2,20,IF(Q8=3,10,0))) -> 0 | S8: =IF(F8>0,RANK(F8,F$5:F$17),0) -> 0 | T8: =IF(S8=1,30,IF(S8=2,20,IF(S8=3,10,0))) -> 0 | U8: =IF(G8>0,RANK(G8,G$5:G$17),0) -> 0 | V8: =IF(U8=1,30,IF(U8=2,20,IF(U8=3,10,0))) -> 0 | W8: =IF(H8>0,RANK(H8,H$5:H$17),0) -> 0 | X8: =IF(W8=1,30,IF(W8=2,20,IF(W8=3,10,0))) -> 0 | Y8: =IF(I8>0,RANK(I8,I$5:I$17),0) -> 0 | Z8: =IF(Y8=1,30,IF(Y8=2,20,IF(Y8=3,10,0))) -> 0 | AA8: =IF(J8>0,RANK(J8,J$5:J$17),0) -> 0 | AB8: =IF(AA8=1,30,IF(AA8=2,20,IF(AA8=3,10,0))) -> 0 | AC8: =IF(K8>0,RANK(K8,K$5:K$17),0) -> 0 | AD8: =IF(AC8=1,30,IF(AC8=2,20,IF(AC8=3,10,0))) -> 0 | AE8: =IF(L8>0,RANK(L8,L$5:L$17),0) -> 0 | AF8: =IF(AE8=1,30,IF(AE8=2,20,IF(AE8=3,10,0))) -> 0 | AG8: =P8+R8+T8+V8+X8+Z8+AB8+AD8+AF8 -> 10 | AH8: {=SUM(--(P8<IF(MATCH(P$5:P$17,P$5:P$17,0)=ROW(P$5:P$17)-4,P$5:P$17)))-(COUNTIF(P$5:P$17,0)-1)} -> 4
D9: 1 | E9: 0 | M9: =SUM(D9:L9) -> 1 | O9: =IF(D9>0,RANK(D9,D$5:D$17),0) -> 5 | P9: =IF(O9=1,30,IF(O9=2,20,IF(O9=3,10,0))) -> 0 | Q9: =IF(E9>0,RANK(E9,E$5:E$17),0) -> 0 | R9: =IF(Q9=1,30,IF(Q9=2,20,IF(Q9=3,10,0))) -> 0 | S9: =IF(F9>0,RANK(F9,F$5:F$17),0) -> 0 | T9: =IF(S9=1,30,IF(S9=2,20,IF(S9=3,10,0))) -> 0 | U9: =IF(G9>0,RANK(G9,G$5:G$17),0) -> 0 | V9: =IF(U9=1,30,IF(U9=2,20,IF(U9=3,10,0))) -> 0 | W9: =IF(H9>0,RANK(H9,H$5:H$17),0) -> 0 | X9: =IF(W9=1,30,IF(W9=2,20,IF(W9=3,10,0))) -> 0 | Y9: =IF(I9>0,RANK(I9,I$5:I$17),0) -> 0 | Z9: =IF(Y9=1,30,IF(Y9=2,20,IF(Y9=3,10,0))) -> 0 | AA9: =IF(J9>0,RANK(J9,J$5:J$17),0) -> 0 | AB9: =IF(AA9=1,30,IF(AA9=2,20,IF(AA9=3,10,0))) -> 0 | AC9: =IF(K9>0,RANK(K9,K$5:K$17),0) -> 0 | AD9: =IF(AC9=1,30,IF(AC9=2,20,IF(AC9=3,10,0))) -> 0 | AE9: =IF(L9>0,RANK(L9,L$5:L$17),0) -> 0 | AF9: =IF(AE9=1,30,IF(AE9=2,20,IF(AE9=3,10,0))) -> 0 | AG9: =P9+R9+T9+V9+X9+Z9+AB9+AD9+AF9 -> 0 | AH9: {=SUM(--(P9<IF(MATCH(P$5:P$17,P$5:P$17,0)=ROW(P$5:P$17)-4,P$5:P$17)))-(COUNTIF(P$5:P$17,0)-1)} -> 5
D10: 1 | E10: 1 | M10: =SUM(D10:L10) -> 2 | O10: =IF(D10>0,RANK(D10,D$5:D$17),0) -> 5 | P10: =IF(O10=1,30,IF(O10=2,20,IF(O10=3,10,0))) -> 0 | Q10: 2 | R10: =IF(Q10=1,30,IF(Q10=2,20,IF(Q10=3,10,0))) -> 20 | S10: =IF(F10>0,RANK(F10,F$5:F$17),0) -> 0 | T10: =IF(S10=1,30,IF(S10=2,20,IF(S10=3,10,0))) -> 0 | U10: =IF(G10>0,RANK(G10,G$5:G$17),0) -> 0 | V10: =IF(U10=1,30,IF(U10=2,20,IF(U10=3,10,0))) -> 0 | W10: =IF(H10>0,RANK(H10,H$5:H$17),0) -> 0 | X10: =IF(W10=1,30,IF(W10=2,20,IF(W10=3,10,0))) -> 0 | Y10: =IF(I10>0,RANK(I10,I$5:I$17),0) -> 0 | Z10: =IF(Y10=1,30,IF(Y10=2,20,IF(Y10=3,10,0))) -> 0 | AA10: =IF(J10>0,RANK(J10,J$5:J$17),0) -> 0 | AB10: =IF(AA10=1,30,IF(AA10=2,20,IF(AA10=3,10,0))) -> 0 | AC10: =IF(K10>0,RANK(K10,K$5:K$17),0) -> 0 | AD10: =IF(AC10=1,30,IF(AC10=2,20,IF(AC10=3,10,0))) -> 0 | AE10: =IF(L10>0,RANK(L10,L$5:L$17),0) -> 0 | AF10: =IF(AE10=1,30,IF(AE10=2,20,IF(AE10=3,10,0))) -> 0 | AG10: =P10+R10+T10+V10+X10+Z10+AB10+AD10+AF10 -> 20 | AH10: {=SUM(--(P10<IF(MATCH(P$5:P$17,P$5:P$17,0)=ROW(P$5:P$17)-4,P$5:P$17)))-(COUNTIF(P$5:P$17,0)-1)} -> 5
D11: 0 | E11: 0 | M11: =SUM(D11:L11) -> 0 | O11: =IF(D11>0,RANK(D11,D$5:D$17),0) -> 0 | P11: =IF(O11=1,30,IF(O11=2,20,IF(O11=3,10,0))) -> 0 | Q11: =IF(E11>0,RANK(E11,E$5:E$17),0) -> 0 | R11: =IF(Q11=1,30,IF(Q11=2,20,IF(Q11=3,10,0))) -> 0 | S11: =IF(F11>0,RANK(F11,F$5:F$17),0) -> 0 | T11: =IF(S11=1,30,IF(S11=2,20,IF(S11=3,10,0))) -> 0 | U11: =IF(G11>0,RANK(G11,G$5:G$17),0) -> 0 | V11: =IF(U11=1,30,IF(U11=2,20,IF(U11=3,10,0))) -> 0 | W11: =IF(H11>0,RANK(H11,H$5:H$17),0) -> 0 | X11: =IF(W11=1,30,IF(W11=2,20,IF(W11=3,10,0))) -> 0 | Y11: =IF(I11>0,RANK(I11,I$5:I$17),0) -> 0 | Z11: =IF(Y11=1,30,IF(Y11=2,20,IF(Y11=3,10,0))) -> 0 | AA11: =IF(J11>0,RANK(J11,J$5:J$17),0) -> 0 | AB11: =IF(AA11=1,30,IF(AA11=2,20,IF(AA11=3,10,0))) -> 0 | AC11: =IF(K11>0,RANK(K11,K$5:K$17),0) -> 0 | AD11: =IF(AC11=1,30,IF(AC11=2,20,IF(AC11=3,10,0))) -> 0 | AE11: =IF(L11>0,RANK(L11,L$5:L$17),0) -> 0 | AF11: =IF(AE11=1,30,IF(AE11=2,20,IF(AE11=3,10,0))) -> 0 | AG11: =P11+R11+T11+V11+X11+Z11+AB11+AD11+AF11 -> 0 | AH11: {=SUM(--(P11<IF(MATCH(P$5:P$17,P$5:P$17,0)=ROW(P$5:P$17)-4,P$5:P$17)))-(COUNTIF(P$5:P$17,0)-1)} -> 5
D12: 0 | E12: 2 | M12: =SUM(D12:L12) -> 2 | O12: =IF(D12>0,RANK(D12,D$5:D$17),0) -> 0 | P12: 25 | Q12: =IF(E12>0,RANK(E12,E$5:E$17),0) -> 1 | R12: =IF(Q12=1,30,IF(Q12=2,20,IF(Q12=3,10,0))) -> 30 | S12: =IF(F12>0,RANK(F12,F$5:F$17),0) -> 0 | T12: =IF(S12=1,30,IF(S12=2,20,IF(S12=3,10,0))) -> 0 | U12: =IF(G12>0,RANK(G12,G$5:G$17),0) -> 0 | V12: =IF(U12=1,30,IF(U12=2,20,IF(U12=3,10,0))) -> 0 | W12: =IF(H12>0,RANK(H12,H$5:H$17),0) -> 0 | X12: =IF(W12=1,30,IF(W12=2,20,IF(W12=3,10,0))) -> 0 | Y12: =IF(I12>0,RANK(I12,I$5:I$17),0) -> 0 | Z12: =IF(Y12=1,30,IF(Y12=2,20,IF(Y12=3,10,0))) -> 0 | AA12: =IF(J12>0,RANK(J12,J$5:J$17),0) -> 0 | AB12: =IF(AA12=1,30,IF(AA12=2,20,IF(AA12=3,10,0))) -> 0 | AC12: =IF(K12>0,RANK(K12,K$5:K$17),0) -> 0 | AD12: =IF(AC12=1,30,IF(AC12=2,20,IF(AC12=3,10,0))) -> 0 | AE12: =IF(L12>0,RANK(L12,L$5:L$17),0) -> 0 | AF12: =IF(AE12=1,30,IF(AE12=2,20,IF(AE12=3,10,0))) -> 0 | AG12: =P12+R12+T12+V12+X12+Z12+AB12+AD12+AF12 -> 55 | AH12: {=SUM(--(P12<IF(MATCH(P$5:P$17,P$5:P$17,0)=ROW(P$5:P$17)-4,P$5:P$17)))-(COUNTIF(P$5:P$17,0)-1)} -> 2
D13: 0 | E13: 0 | M13: =SUM(D13:L13) -> 0 | O13: =IF(D13>0,RANK(D13,D$5:D$17),0) -> 0 | P13: =IF(O13=1,30,IF(O13=2,20,IF(O13=3,10,0))) -> 0 | Q13: =IF(E13>0,RANK(E13,E$5:E$17),0) -> 0 | R13: =IF(Q13=1,30,IF(Q13=2,20,IF(Q13=3,10,0))) -> 0 | S13: =IF(F13>0,RANK(F13,F$5:F$17),0) -> 0 | T13: =IF(S13=1,30,IF(S13=2,20,IF(S13=3,10,0))) -> 0 | U13: =IF(G13>0,RANK(G13,G$5:G$17),0) -> 0 | V13: =IF(U13=1,30,IF(U13=2,20,IF(U13=3,10,0))) -> 0 | W13: =IF(H13>0,RANK(H13,H$5:H$17),0) -> 0 | X13: =IF(W13=1,30,IF(W13=2,20,IF(W13=3,10,0))) -> 0 | Y13: =IF(I13>0,RANK(I13,I$5:I$17),0) -> 0 | Z13: =IF(Y13=1,30,IF(Y13=2,20,IF(Y13=3,10,0))) -> 0 | AA13: =IF(J13>0,RANK(J13,J$5:J$17),0) -> 0 | AB13: =IF(AA13=1,30,IF(AA13=2,20,IF(AA13=3,10,0))) -> 0 | AC13: =IF(K13>0,RANK(K13,K$5:K$17),0) -> 0 | AD13: =IF(AC13=1,30,IF(AC13=2,20,IF(AC13=3,10,0))) -> 0 | AE13: =IF(L13>0,RANK(L13,L$5:L$17),0) -> 0 | AF13: =IF(AE13=1,30,IF(AE13=2,20,IF(AE13=3,10,0))) -> 0 | AG13: =P13+R13+T13+V13+X13+Z13+AB13+AD13+AF13 -> 0 | AH13: {=SUM(--(P13<IF(MATCH(P$5:P$17,P$5:P$17,0)=ROW(P$5:P$17)-4,P$5:P$17)))-(COUNTIF(P$5:P$17,0)-1)} -> 5
D14: 0 | E14: 0 | M14: =SUM(D14:L14) -> 0 | O14: =IF(D14>0,RANK(D14,D$5:D$17),0) -> 0 | P14: =IF(O14=1,30,IF(O14=2,20,IF(O14=3,10,0))) -> 0 | Q14: =IF(E14>0,RANK(E14,E$5:E$17),0) -> 0 | R14: =IF(Q14=1,30,IF(Q14=2,20,IF(Q14=3,10,0))) -> 0 | S14: =IF(F14>0,RANK(F14,F$5:F$17),0) -> 0 | T14: =IF(S14=1,30,IF(S14=2,20,IF(S14=3,10,0))) -> 0 | U14: =IF(G14>0,RANK(G14,G$5:G$17),0) -> 0 | V14: =IF(U14=1,30,IF(U14=2,20,IF(U14=3,10,0))) -> 0 | W14: =IF(H14>0,RANK(H14,H$5:H$17),0) -> 0 | X14: =IF(W14=1,30,IF(W14=2,20,IF(W14=3,10,0))) -> 0 | Y14: =IF(I14>0,RANK(I14,I$5:I$17),0) -> 0 | Z14: =IF(Y14=1,30,IF(Y14=2,20,IF(Y14=3,10,0))) -> 0 | AA14: =IF(J14>0,RANK(J14,J$5:J$17),0) -> 0 | AB14: =IF(AA14=1,30,IF(AA14=2,20,IF(AA14=3,10,0))) -> 0 | AC14: =IF(K14>0,RANK(K14,K$5:K$17),0) -> 0 | AD14: =IF(AC14=1,30,IF(AC14=2,20,IF(AC14=3,10,0))) -> 0 | AE14: =IF(L14>0,RANK(L14,L$5:L$17),0) -> 0 | AF14: =IF(AE14=1,30,IF(AE14=2,20,IF(AE14=3,10,0))) -> 0 | AG14: =P14+R14+T14+V14+X14+Z14+AB14+AD14+AF14 -> 0 | AH14: {=SUM(--(P14<IF(MATCH(P$5:P$17,P$5:P$17,0)=ROW(P$5:P$17)-4,P$5:P$17)))-(COUNTIF(P$5:P$17,0)-1)} -> 5
D15: 0 | E15: 1 | M15: =SUM(D15:L15) -> 1 | O15: =IF(D15>0,RANK(D15,D$5:D$17),0) -> 0 | P15: =IF(O15=1,30,IF(O15=2,20,IF(O15=3,10,0))) -> 0 | Q15: 2 | R15: =IF(Q15=1,30,IF(Q15=2,20,IF(Q15=3,10,0))) -> 20 | S15: =IF(F15>0,RANK(F15,F$5:F$17),0) -> 0 | T15: =IF(S15=1,30,IF(S15=2,20,IF(S15=3,10,0))) -> 0 | U15: =IF(G15>0,RANK(G15,G$5:G$17),0) -> 0 | V15: =IF(U15=1,30,IF(U15=2,20,IF(U15=3,10,0))) -> 0 | W15: =IF(H15>0,RANK(H15,H$5:H$17),0) -> 0 | X15: =IF(W15=1,30,IF(W15=2,20,IF(W15=3,10,0))) -> 0 | Y15: =IF(I15>0,RANK(I15,I$5:I$17),0) -> 0 | Z15: =IF(Y15=1,30,IF(Y15=2,20,IF(Y15=3,10,0))) -> 0 | AA15: =IF(J15>0,RANK(J15,J$5:J$17),0) -> 0 | AB15: =IF(AA15=1,30,IF(AA15=2,20,IF(AA15=3,10,0))) -> 0 | AC15: =IF(K15>0,RANK(K15,K$5:K$17),0) -> 0 | AD15: =IF(AC15=1,30,IF(AC15=2,20,IF(AC15=3,10,0))) -> 0 | AE15: =IF(L15>0,RANK(L15,L$5:L$17),0) -> 0 | AF15: =IF(AE15=1,30,IF(AE15=2,20,IF(AE15=3,10,0))) -> 0 | AG15: =P15+R15+T15+V15+X15+Z15+AB15+AD15+AF15 -> 20 | AH15: {=SUM(--(P15<IF(MATCH(P$5:P$17,P$5:P$17,0)=ROW(P$5:P$17)-4,P$5:P$17)))-(COUNTIF(P$5:P$17,0)-1)} -> 5
D16: 0 | E16: 0 | M16: =SUM(D16:L16) -> 0 | O16: =IF(D16>0,RANK(D16,D$5:D$17),0) -> 0 | P16: =IF(O16=1,30,IF(O16=2,20,IF(O16=3,10,0))) -> 0 | Q16: =IF(E16>0,RANK(E16,E$5:E$17),0) -> 0 | R16: =IF(Q16=1,30,IF(Q16=2,20,IF(Q16=3,10,0))) -> 0 | S16: =IF(F16>0,RANK(F16,F$5:F$17),0) -> 0 | T16: =IF(S16=1,30,IF(S16=2,20,IF(S16=3,10,0))) -> 0 | U16: =IF(G16>0,RANK(G16,G$5:G$17),0) -> 0 | V16: =IF(U16=1,30,IF(U16=2,20,IF(U16=3,10,0))) -> 0 | W16: =IF(H16>0,RANK(H16,H$5:H$17),0) -> 0 | X16: =IF(W16=1,30,IF(W16=2,20,IF(W16=3,10,0))) -> 0 | Y16: =IF(I16>0,RANK(I16,I$5:I$17),0) -> 0 | Z16: =IF(Y16=1,30,IF(Y16=2,20,IF(Y16=3,10,0))) -> 0 | AA16: =IF(J16>0,RANK(J16,J$5:J$17),0) -> 0 | AB16: =IF(AA16=1,30,IF(AA16=2,20,IF(AA16=3,10,0))) -> 0 | AC16: =IF(K16>0,RANK(K16,K$5:K$17),0) -> 0 | AD16: =IF(AC16=1,30,IF(AC16=2,20,IF(AC16=3,10,0))) -> 0 | AE16: =IF(L16>0,RANK(L16,L$5:L$17),0) -> 0 | AF16: =IF(AE16=1,30,IF(AE16=2,20,IF(AE16=3,10,0))) -> 0 | AG16: =P16+R16+T16+V16+X16+Z16+AB16+AD16+AF16 -> 0 | AH16: {=SUM(--(P16<IF(MATCH(P$5:P$17,P$5:P$17,0)=ROW(P$5:P$17)-4,P$5:P$17)))-(COUNTIF(P$5:P$17,0)-1)} -> 5
D17: 0 | E17: 1 | M17: =SUM(D17:L17) -> 1 | O17: =IF(D17>0,RANK(D17,D$5:D$17),0) -> 0 | P17: =IF(O17=1,30,IF(O17=2,20,IF(O17=3,10,0))) -> 0 | Q17: 2 | R17: =IF(Q17=1,30,IF(Q17=2,20,IF(Q17=3,10,0))) -> 20 | S17: =IF(F17>0,RANK(F17,F$5:F$17),0) -> 0 | T17: =IF(S17=1,30,IF(S17=2,20,IF(S17=3,10,0))) -> 0 | U17: =IF(G17>0,RANK(G17,G$5:G$17),0) -> 0 | V17: =IF(U17=1,30,IF(U17=2,20,IF(U17=3,10,0))) -> 0 | W17: =IF(H17>0,RANK(H17,H$5:H$17),0) -> 0 | X17: =IF(W17=1,30,IF(W17=2,20,IF(W17=3,10,0))) -> 0 | Y17: =IF(I17>0,RANK(I17,I$5:I$17),0) -> 0 | Z17: =IF(Y17=1,30,IF(Y17=2,20,IF(Y17=3,10,0))) -> 0 | AA17: =IF(J17>0,RANK(J17,J$5:J$17),0) -> 0 | AB17: =IF(AA17=1,30,IF(AA17=2,20,IF(AA17=3,10,0))) -> 0 | AC17: =IF(K17>0,RANK(K17,K$5:K$17),0) -> 0 | AD17: =IF(AC17=1,30,IF(AC17=2,20,IF(AC17=3,10,0))) -> 0 | AE17: =IF(L17>0,RANK(L17,L$5:L$17),0) -> 0 | AF17: =IF(AE17=1,30,IF(AE17=2,20,IF(AE17=3,10,0))) -> 0 | AG17: =P17+R17+T17+V17+X17+Z17+AB17+AD17+AF17 -> 20 | AH17: {=SUM(--(P17<IF(MATCH(P$5:P$17,P$5:P$17,0)=ROW(P$5:P$17)-4,P$5:P$17)))-(COUNTIF(P$5:P$17,0)-1)} -> 5
D20: 9 | E20: 0 | M20: =SUM(D20:L20) -> 9 | O20: =RANK(D20,D$20:D$27) -> 2 | P20: =IF(O20=1,30,(IF(O20=2,20,(IF(O20=3,10,0))))) -> 20 | Q20: =IF(E20>0,RANK(E20,E$20:E$27),0) -> 0 | R20: =IF(Q20=1,30,(IF(Q20=2,20,(IF(Q20=3,10,0))))) -> 0 | S20: =IF(F20>0,RANK(F20,F$20:F$27),0) -> 0 | T20: =IF(S20=1,30,(IF(S20=2,20,(IF(S20=3,10,0))))) -> 0 | U20: =IF(G20>0,RANK(G20,G$20:G$27),0) -> 0 | V20: =IF(U20=1,30,(IF(U20=2,20,(IF(U20=3,10,0))))) -> 0 | W20: =IF(H20>0,RANK(H20,H$20:H$27),0) -> 0 | X20: =IF(W20=1,30,(IF(W20=2,20,(IF(W20=3,10,0))))) -> 0 | Y20: =IF(I20>0,RANK(I20,I$20:I$27),0) -> 0 | Z20: =IF(Y20=1,30,(IF(Y20=2,20,(IF(Y20=3,10,0))))) -> 0 | AA20: =IF(J20>0,RANK(J20,J$20:J$27),0) -> 0 | AB20: =IF(AA20=1,30,(IF(AA20=2,20,(IF(AA20=3,10,0))))) -> 0 | AC20: =IF(K20>0,RANK(K20,K$20:K$27),0) -> 0 | AD20: =IF(AC20=1,30,(IF(AC20=2,20,(IF(AC20=3,10,0))))) -> 0 | AE20: =IF(L20>0,(L20,L$20:L$27),0) -> 0 | AF20: =IF(AE20=1,30,(IF(AE20=2,20,(IF(AE20=3,10,0))))) -> 0 | AG20: =P20+R20+T20+V20+X20+Z20+AB20+AD20+AF20 -> 20
D21: 15 | E21: 2 | M21: =SUM(D21:L21) -> 17 | O21: =RANK(D21,D$20:D$27) -> 1 | P21: =IF($O21=1,30,(IF($O21=2,20,(IF($O21=3,10,0))))) -> 30 | Q21: =IF(E21>0,RANK(E21,E$20:E$27),0) -> 1 | R21: =IF(Q21=1,30,(IF(Q21=2,20,(IF(Q21=3,10,0))))) -> 30 | S21: =IF(F21>0,RANK(F21,F$20:F$27),0) -> 0 | T21: =IF(S21=1,30,(IF(S21=2,20,(IF(S21=3,10,0))))) -> 0 | U21: =IF(G21>0,RANK(G21,G$20:G$27),0) -> 0 | V21: =IF(U21=1,30,(IF(U21=2,20,(IF(U21=3,10,0))))) -> 0 | W21: =IF(H21>0,RANK(H21,H$20:H$27),0) -> 0 | X21: =IF(W21=1,30,(IF(W21=2,20,(IF(W21=3,10,0))))) -> 0 | Y21: =IF(I21>0,RANK(I21,I$20:I$27),0) -> 0 | Z21: =IF(Y21=1,30,(IF(Y21=2,20,(IF(Y21=3,10,0))))) -> 0 | AA21: =IF(J21>0,RANK(J21,J$20:J$27),0) -> 0 | AB21: =IF(AA21=1,30,(IF(AA21=2,20,(IF(AA21=3,10,0))))) -> 0 | AC21: =IF(K21>0,RANK(K21,K$20:K$27),0) -> 0 | AD21: =IF(AC21=1,30,(IF(AC21=2,20,(IF(AC21=3,10,0))))) -> 0 | AE21: =IF(L21>0,(L21,L$20:L$27),0) -> 0 | AF21: =IF(AE21=1,30,(IF(AE21=2,20,(IF(AE21=3,10,0))))) -> 0 | AG21: =P21+R21+T21+V21+X21+Z21+AB21+AD21+AF21 -> 60
D22: 2 | E22: 0 | M22: =SUM(D22:L22) -> 2 | O22: =RANK(D22,D$20:D$27) -> 3 | P22: =IF($O22=1,30,(IF($O22=2,20,(IF($O22=3,10,0))))) -> 10 | Q22: =IF(E22>0,RANK(E22,E$20:E$27),0) -> 0 | R22: =IF(Q22=1,30,(IF(Q22=2,20,(IF(Q22=3,10,0))))) -> 0 | S22: =IF(F22>0,RANK(F22,F$20:F$27),0) -> 0 | T22: =IF(S22=1,30,(IF(S22=2,20,(IF(S22=3,10,0))))) -> 0 | U22: =IF(G22>0,RANK(G22,G$20:G$27),0) -> 0 | V22: =IF(U22=1,30,(IF(U22=2,20,(IF(U22=3,10,0))))) -> 0 | W22: =IF(H22>0,RANK(H22,H$20:H$27),0) -> 0 | X22: =IF(W22=1,30,(IF(W22=2,20,(IF(W22=3,10,0))))) -> 0 | Y22: =IF(I22>0,RANK(I22,I$20:I$27),0) -> 0 | Z22: =IF(Y22=1,30,(IF(Y22=2,20,(IF(Y22=3,10,0))))) -> 0 | AA22: =IF(J22>0,RANK(J22,J$20:J$27),0) -> 0 | AB22: =IF(AA22=1,30,(IF(AA22=2,20,(IF(AA22=3,10,0))))) -> 0 | AC22: =IF(K22>0,RANK(K22,K$20:K$27),0) -> 0 | AD22: =IF(AC22=1,30,(IF(AC22=2,20,(IF(AC22=3,10,0))))) -> 0 | AE22: =IF(L22>0,(L22,L$20:L$27),0) -> 0 | AF22: =IF(AE22=1,30,(IF(AE22=2,20,(IF(AE22=3,10,0))))) -> 0 | AG22: =P22+R22+T22+V22+X22+Z22+AB22+AD22+AF22 -> 10
D23: 1 | E23: 2 | M23: =SUM(D23:L23) -> 3 | O23: =RANK(D23,D$20:D$27) -> 4 | P23: =IF($O23=1,30,(IF($O23=2,20,(IF($O23=3,10,0))))) -> 0 | Q23: =IF(E23>0,RANK(E23,E$20:E$27),0) -> 1 | R23: =IF(Q23=1,30,(IF(Q23=2,20,(IF(Q23=3,10,0))))) -> 30 | S23: =IF(F23>0,RANK(F23,F$20:F$27),0) -> 0 | T23: =IF(S23=1,30,(IF(S23=2,20,(IF(S23=3,10,0))))) -> 0 | U23: =IF(G23>0,RANK(G23,G$20:G$27),0) -> 0 | V23: =IF(U23=1,30,(IF(U23=2,20,(IF(U23=3,10,0))))) -> 0 | W23: =IF(H23>0,RANK(H23,H$20:H$27),0) -> 0 | X23: =IF(W23=1,30,(IF(W23=2,20,(IF(W23=3,10,0))))) -> 0 | Y23: =IF(I23>0,RANK(I23,I$20:I$27),0) -> 0 | Z23: =IF(Y23=1,30,(IF(Y23=2,20,(IF(Y23=3,10,0))))) -> 0 | AA23: =IF(J23>0,RANK(J23,J$20:J$27),0) -> 0 | AB23: =IF(AA23=1,30,(IF(AA23=2,20,(IF(AA23=3,10,0))))) -> 0 | AC23: =IF(K23>0,RANK(K23,K$20:K$27),0) -> 0 | AD23: =IF(AC23=1,30,(IF(AC23=2,20,(IF(AC23=3,10,0))))) -> 0 | AE23: =IF(L23>0,(L23,L$20:L$27),0) -> 0 | AF23: =IF(AE23=1,30,(IF(AE23=2,20,(IF(AE23=3,10,0))))) -> 0 | AG23: =P23+R23+T23+V23+X23+Z23+AB23+AD23+AF23 -> 30
D24: 1 | E24: 1 | M24: =SUM(D24:L24) -> 2 | O24: =RANK(D24,D$20:D$27) -> 4 | P24: =IF($O24=1,30,(IF($O24=2,20,(IF($O24=3,10,0))))) -> 0 | Q24: 2 | R24: =IF(Q24=1,30,(IF(Q24=2,20,(IF(Q24=3,10,0))))) -> 20 | S24: =IF(F24>0,RANK(F24,F$20:F$27),0) -> 0 | T24: =IF(S24=1,30,(IF(S24=2,20,(IF(S24=3,10,0))))) -> 0 | U24: =IF(G24>0,RANK(G24,G$20:G$27),0) -> 0 | V24: =IF(U24=1,30,(IF(U24=2,20,(IF(U24=3,10,0))))) -> 0 | W24: =IF(H24>0,RANK(H24,H$20:H$27),0) -> 0 | X24: =IF(W24=1,30,(IF(W24=2,20,(IF(W24=3,10,0))))) -> 0 | Y24: =IF(I24>0,RANK(I24,I$20:I$27),0) -> 0 | Z24: =IF(Y24=1,30,(IF(Y24=2,20,(IF(Y24=3,10,0))))) -> 0 | AA24: =IF(J24>0,RANK(J24,J$20:J$27),0) -> 0 | AB24: =IF(AA24=1,30,(IF(AA24=2,20,(IF(AA24=3,10,0))))) -> 0 | AC24: =IF(K24>0,RANK(K24,K$20:K$27),0) -> 0 | AD24: =IF(AC24=1,30,(IF(AC24=2,20,(IF(AC24=3,10,0))))) -> 0 | AE24: =IF(L24>0,(L24,L$20:L$27),0) -> 0 | AF24: =IF(AE24=1,30,(IF(AE24=2,20,(IF(AE24=3,10,0))))) -> 0 | AG24: =P24+R24+T24+V24+X24+Z24+AB24+AD24+AF24 -> 20
D25: 1 | E25: 1 | M25: =SUM(D25:L25) -> 2 | O25: =RANK(D25,D$20:D$27) -> 4 | P25: =IF($O25=1,30,(IF($O25=2,20,(IF($O25=3,10,0))))) -> 0 | Q25: 2 | R25: =IF(Q25=1,30,(IF(Q25=2,20,(IF(Q25=3,10,0))))) -> 20 | S25: =IF(F25>0,RANK(F25,F$20:F$27),0) -> 0 | T25: =IF(S25=1,30,(IF(S25=2,20,(IF(S25=3,10,0))))) -> 0 | U25: =IF(G25>0,RANK(G25,G$20:G$27),0) -> 0 | V25: =IF(U25=1,30,(IF(U25=2,20,(IF(U25=3,10,0))))) -> 0 | W25: =IF(H25>0,RANK(H25,H$20:H$27),0) -> 0 | X25: =IF(W25=1,30,(IF(W25=2,20,(IF(W25=3,10,0))))) -> 0 | Y25: =IF(I25>0,RANK(I25,I$20:I$27),0) -> 0 | Z25: =IF(Y25=1,30,(IF(Y25=2,20,(IF(Y25=3,10,0))))) -> 0 | AA25: =IF(J25>0,RANK(J25,J$20:J$27),0) -> 0 | AB25: =IF(AA25=1,30,(IF(AA25=2,20,(IF(AA25=3,10,0))))) -> 0 | AC25: =IF(K25>0,RANK(K25,K$20:K$27),0) -> 0 | AD25: =IF(AC25=1,30,(IF(AC25=2,20,(IF(AC25=3,10,0))))) -> 0 | AE25: =IF(L25>0,(L25,L$20:L$27),0) -> 0 | AF25: =IF(AE25=1,30,(IF(AE25=2,20,(IF(AE25=3,10,0))))) -> 0 | AG25: =P25+R25+T25+V25+X25+Z25+AB25+AD25+AF25 -> 20
D26: 0 | E26: 2 | M26: =SUM(D26:L26) -> 2 | O26: =RANK(D26,D$20:D$27) -> 7 | P26: =IF($O26=1,30,(IF($O26=2,20,(IF($O26=3,10,0))))) -> 0 | Q26: =IF(E26>0,RANK(E26,E$20:E$27),0) -> 1 | R26: =IF(Q26=1,30,(IF(Q26=2,20,(IF(Q26=3,10,0))))) -> 30 | S26: =IF(F26>0,RANK(F26,F$20:F$27),0) -> 0 | T26: =IF(S26=1,30,(IF(S26=2,20,(IF(S26=3,10,0))))) -> 0 | U26: =IF(G26>0,RANK(G26,G$20:G$27),0) -> 0 | V26: =IF(U26=1,30,(IF(U26=2,20,(IF(U26=3,10,0))))) -> 0 | W26: =IF(H26>0,RANK(H26,H$20:H$27),0) -> 0 | X26: =IF(W26=1,30,(IF(W26=2,20,(IF(W26=3,10,0))))) -> 0 | Y26: =IF(I26>0,RANK(I26,I$20:I$27),0) -> 0 | Z26: =IF(Y26=1,30,(IF(Y26=2,20,(IF(Y26=3,10,0))))) -> 0 | AA26: =IF(J26>0,RANK(J26,J$20:J$27),0) -> 0 | AB26: =IF(AA26=1,30,(IF(AA26=2,20,(IF(AA26=3,10,0))))) -> 0 | AC26: =IF(K26>0,RANK(K26,K$20:K$27),0) -> 0 | AD26: =IF(AC26=1,30,(IF(AC26=2,20,(IF(AC26=3,10,0))))) -> 0 | AE26: =IF(L26>0,(L26,L$20:L$27),0) -> 0 | AF26: =IF(AE26=1,30,(IF(AE26=2,20,(IF(AE26=3,10,0))))) -> 0 | AG26: =P26+R26+T26+V26+X26+Z26+AB26+AD26+AF26 -> 30
D27: 0 | E27: 2 | M27: =SUM(D27:L27) -> 2 | O27: =RANK(D27,D$20:D$27) -> 7 | P27: =IF($O27=1,30,(IF($O27=2,20,(IF($O27=3,10,0))))) -> 0 | Q27: =IF(E27>0,RANK(E27,E$20:E$27),0) -> 1 | R27: =IF(Q27=1,30,(IF(Q27=2,20,(IF(Q27=3,10,0))))) -> 30 | S27: =IF(F27>0,RANK(F27,F$20:F$27),0) -> 0 | T27: =IF(S27=1,30,(IF(S27=2,20,(IF(S27=3,10,0))))) -> 0 | U27: =IF(G27>0,RANK(G27,G$20:G$27),0) -> 0 | V27: =IF(U27=1,30,(IF(U27=2,20,(IF(U27=3,10,0))))) -> 0 | W27: =IF(H27>0,RANK(H27,H$20:H$27),0) -> 0 | X27: =IF(W27=1,30,(IF(W27=2,20,(IF(W27=3,10,0))))) -> 0 | Y27: =IF(I27>0,RANK(I27,I$20:I$27),0) -> 0 | Z27: =IF(Y27=1,30,(IF(Y27=2,20,(IF(Y27=3,10,0))))) -> 0 | AA27: =IF(J27>0,RANK(J27,J$20:J$27),0) -> 0 | AB27: =IF(AA27=1,30,(IF(AA27=2,20,(IF(AA27=3,10,0))))) -> 0 | AC27: =IF(K27>0,RANK(K27,K$20:K$27),0) -> 0 | AD27: =IF(AC27=1,30,(IF(AC27=2,20,(IF(AC27=3,10,0))))) -> 0 | AE27: =IF(L27>0,(L27,L$20:L$27),0) -> 0 | AF27: =IF(AE27=1,30,(IF(AE27=2,20,(IF(AE27=3,10,0))))) -> 0 | AG27: =P27+R27+T27+V27+X27+Z27+AB27+AD27+AF27 -> 30

Sheet Prévoyance
A1: PREVOYANCE | B1: Obj. Annuel | C1: Obj. Période | D1: S1 | E1: S2 | F1: S3 | G1: S4 | H1: S5 | I1: S6 | J1: S7 | K1: S8 | L1: S9 | M1: Total Période | N1: R/O période | O1: Rang s1 | P1: Points | Q1: Rang S2 | R1: Points | S1: Rang S3 | T1: Points | U1: Rang S4 | V1: Points | W1: Rang S5 | X1: Points | Y1: Rang S6 | Z1: Points | AA1: Rang S7 | AB1: Points | AC1: Rang S8 | AD1: Points | AE1: Rang S9 | AF1: Points | AG1: TOTAL points
A4: SURFERS
A5: LE MESNIL ST DENIS | B5: 44 | C5: =B5*0.25 -> 11 | D5: 4 | E5: 0 | M5: =SUM(D5:L5) -> 4 | N5: =M5/C5 -> 0.36363636 | O5: =RANK(D5,D$5:D$17) -> 1 | P5: =IF(O5=1,30,(IF(O5=2,20,IF(O5=3,10,0)))) -> 30 | Q5: =IF(E5>0,RANK(E5,E$5:E$17),0) -> 0 | R5: =IF(Q5=1,30,(IF(Q5=2,20,IF(Q5=3,10,0)))) -> 0 | S5: =IF(F5>0,RANK(F5,F$5:F$17),0) -> 0 | T5: =IF(S5=1,30,(IF(S5=2,20,IF(S5=3,10,0)))) -> 0 | U5: =IF(G5>0,RANK(G5,G$5:G$17),0) -> 0 | V5: =IF(U5=1,30,(IF(U5=2,20,IF(U5=3,10,0)))) -> 0 | W5: =IF(H5>0,RANK(H5,H$5:H$17),0) -> 0 | X5: =IF(W5=1,30,(IF(W5=2,20,IF(W5=3,10,0)))) -> 0 | Y5: =IF(I5>0,RANK(I5,I$5:I$17),0) -> 0 | Z5: =IF(Y5=1,30,(IF(Y5=2,20,IF(Y5=3,10,0)))) -> 0 | AA5: =IF(J5>0,RANK(J5,J$5:J$17),0) -> 0 | AB5: =IF(AA5=1,30,(IF(AA5=2,20,IF(AA5=3,10,0)))) -> 0 | AC5: =IF(K5>0,RANK(K5,K$5:K$17),0) -> 0 | AD5: =IF(AC5=1,30,(IF(AC5=2,20,IF(AC5=3,10,0)))) -> 0 | AE5: =IF(L5>0,RANK(L5,L$5:L$17),0) -> 0 | AF5: =IF(AE5=1,30,(IF(AE5=2,20,IF(AE5=3,10,0)))) -> 0 | AG5: =P5+R5+T5+V5+X5+Z5+AB5+AD5+AF5 -> 30
A6: ELANCOURT LA CLEF | B6: 44 | C6: =B6*0.25 -> 11 | D6: 2 | E6: 1 | M6: =SUM(D6:L6) -> 3 | N6: =M6/C6 -> 0.27272727 | O6: =RANK(N6,N$5:N$17) -> 3 | P6: =IF(O6=1,30,(IF(O6=2,20,IF(O6=3,10,0)))) -> 10 | Q6: 3 | R6: =IF(Q6=1,30,(IF(Q6=2,20,IF(Q6=3,10,0)))) -> 10 | S6: =IF(F6>0,RANK(F6,F$5:F$17),0) -> 0 | T6: =IF(S6=1,30,(IF(S6=2,20,IF(S6=3,10,0)))) -> 0 | U6: =IF(G6>0,RANK(G6,G$5:G$17),0) -> 0 | V6: =IF(U6=1,30,(IF(U6=2,20,IF(U6=3,10,0)))) -> 0 | W6: =IF(H6>0,RANK(H6,H$5:H$17),0) -> 0 | X6: =IF(W6=1,30,(IF(W6=2,20,IF(W6=3,10,0)))) -> 0 | Y6: =IF(I6>0,RANK(I6,I$5:I$17),0) -> 0 | Z6: =IF(Y6=1,30,(IF(Y6=2,20,IF(Y6=3,10,0)))) -> 0 | AA6: =IF(J6>0,RANK(J6,J$5:J$17),0) -> 0 | AB6: =IF(AA6=1,30,(IF(AA6=2,20,IF(AA6=3,10,0)))) -> 0 | AC6: =IF(K6>0,RANK(K6,K$5:K$17),0) -> 0 | AD6: =IF(AC6=1,30,(IF(AC6=2,20,IF(AC6=3,10,0)))) -> 0 | AE6: =IF(L6>0,RANK(L6,L$5:L$17),0) -> 0 | AF6: =IF(AE6=1,30,(IF(AE6=2,20,IF(AE6=3,10,0)))) -> 0 | AG6: =P6+R6+T6+V6+X6+Z6+AB6+AD6+AF6 -> 20
A7: MONTIGNY VILLAGE | B7: 44 | C7: =B7*0.25 -> 11 | D7: 1 | E7: 4 | M7: =SUM(D7:L7) -> 5 | N7: =M7/C7 -> 0.45454545 | O7: =RANK(N7,N$5:N$17) -> 1 | P7: =IF(O7=1,30,(IF(O7=2,20,IF(O7=3,10,0)))) -> 30 | Q7: =IF(E7>0,RANK(E7,E$5:E$17),0) -> 1 | R7: =IF(Q7=1,30,(IF(Q7=2,20,IF(Q7=3,10,0)))) -> 30 | S7: =IF(F7>0,RANK(F7,F$5:F$17),0) -> 0 | T7: =IF(S7=1,30,(IF(S7=2,20,IF(S7=3,10,0)))) -> 0 | U7: =IF(G7>0,RANK(G7,G$5:G$17),0) -> 0 | V7: =IF(U7=1,30,(IF(U7=2,20,IF(U7=3,10,0)))) -> 0 | W7: =IF(H7>0,RANK(H7,H$5:H$17),0) -> 0 | X7: =IF(W7=1,30,(IF(W7=2,20,IF(W7=3,10,0)))) -> 0 | Y7: =IF(I7>0,RANK(I7,I$5:I$17),0) -> 0 | Z7: =IF(Y7=1,30,(IF(Y7=2,20,IF(Y7=3,10,0)))) -> 0 | AA7: =IF(J7>0,RANK(J7,J$5:J$17),0) -> 0 | AB7: =IF(AA7=1,30,(IF(AA7=2,20,IF(AA7=3,10,0)))) -> 0 | AC7: =IF(K7>0,RANK(K7,K$5:K$17),0) -> 0 | AD7: =IF(AC7=1,30,(IF(AC7=2,20,IF(AC7=3,10,0)))) -> 0 | AE7: =IF(L7>0,RANK(L7,L$5:L$17),0) -> 0 | AF7: =IF(AE7=1,30,(IF(AE7=2,20,IF(AE7=3,10,0)))) -> 0 | AG7: =P7+R7+T7+V7+X7+Z7+AB7+AD7+AF7 -> 60
A8: EPRENON | B8: 57 | C8: =B8*0.25 -> 14.25 | D8: 1 | E8: 1 | M8: =SUM(D8:L8) -> 2 | N8: =M8/C8 -> 0.14035088 | O8: =RANK(N8,N$5:N$17) -> 4 | P8: =IF(O8=1,30,(IF(O8=2,20,IF(O8=3,10,0)))) -> 0 | Q8: 3 | R8: =IF(Q8=1,30,(IF(Q8=2,20,IF(Q8=3,10,0)))) -> 10 | S8: =IF(F8>0,RANK(F8,F$5:F$17),0) -> 0 | T8: =IF(S8=1,30,(IF(S8=2,20,IF(S8=3,10,0)))) -> 0 | U8: =IF(G8>0,RANK(G8,G$5:G$17),0) -> 0 | V8: =IF(U8=1,30,(IF(U8=2,20,IF(U8=3,10,0)))) -> 0 | W8: =IF(H8>0,RANK(H8,H$5:H$17),0) -> 0 | X8: =IF(W8=1,30,(IF(W8=2,20,IF(W8=3,10,0)))) -> 0 | Y8: =IF(I8>0,RANK(I8,I$5:I$17),0) -> 0 | Z8: =IF(Y8=1,30,(IF(Y8=2,20,IF(Y8=3,10,0)))) -> 0 | AA8: =IF(J8>0,RANK(J8,J$5:J$17),0) -> 0 | AB8: =IF(AA8=1,30,(IF(AA8=2,20,IF(AA8=3,10,0)))) -> 0 | AC8: =IF(K8>0,RANK(K8,K$5:K$17),0) -> 0 | AD8: =IF(AC8=1,30,(IF(AC8=2,20,IF(AC8=3,10,0)))) -> 0 | AE8: =IF(L8>0,RANK(L8,L$5:L$17),0) -> 0 | AF8: =IF(AE8=1,30,(IF(AE8=2,20,IF(AE8=3,10,0)))) -> 0 | AG8: =P8+R8+T8+V8+X8+Z8+AB8+AD8+AF8 -> 10
A9: PLAISIR VILLAGE | B9: 44 | C9: =B9*0.25 -> 11 | D9: 0 | E9: 0 | M9: =SUM(D9:L9) -> 0 | N9: =M9/C9 -> 0 | O9: =RANK(N9,N$5:N$17) -> 12 | P9: =IF(O9=1,30,(IF(O9=2,20,IF(O9=3,10,0)))) -> 0 | Q9: =IF(E9>0,RANK(E9,E$5:E$17),0) -> 0 | R9: =IF(Q9=1,30,(IF(Q9=2,20,IF(Q9=3,10,0)))) -> 0 | S9: =IF(F9>0,RANK(F9,F$5:F$17),0) -> 0 | T9: =IF(S9=1,30,(IF(S9=2,20,IF(S9=3,10,0)))) -> 0 | U9: =IF(G9>0,RANK(G9,G$5:G$17),0) -> 0 | V9: =IF(U9=1,30,(IF(U9=2,20,IF(U9=3,10,0)))) -> 0 | W9: =IF(H9>0,RANK(H9,H$5:H$17),0) -> 0 | X9: =IF(W9=1,30,(IF(W9=2,20,IF(W9=3,10,0)))) -> 0 | Y9: =IF(I9>0,RANK(I9,I$5:I$17),0) -> 0 | Z9: =IF(Y9=1,30,(IF(Y9=2,20,IF(Y9=3,10,0)))) -> 0 | AA9: =IF(J9>0,RANK(J9,J$5:J$17),0) -> 0 | AB9: =IF(AA9=1,30,(IF(AA9=2,20,IF(AA9=3,10,0)))) -> 0 | AC9: =IF(K9>0,RANK(K9,K$5:K$17),0) -> 0 | AD9: =IF(AC9=1,30,(IF(AC9=2,20,IF(AC9=3,10,0)))) -> 0 | AE9: =IF(L9>0,RANK(L9,L$5:L$17),0) -> 0 | AF9: =IF(AE9=1,30,(IF(AE9=2,20,IF(AE9=3,10,0)))) -> 0 | AG9: =P9+R9+T9+V9+X9+Z9+AB9+AD9+AF9 -> 0
A10: ST ARNOULT | B10: 72 | C10: =B10*0.25 -> 18 | D10: 0 | E10: 2 | M10: =SUM(D10:L10) -> 2 | N10: =M10/C10 -> 0.11111111 | O10: =RANK(N10,N$5:N$17) -> 8 | P10: =IF(O10=1,30,(IF(O10=2,20,IF(O10=3,10,0)))) -> 0 | Q10: =IF(E10>0,RANK(E10,E$5:E$17),0) -> 2 | R10: =IF(Q10=1,30,(IF(Q10=2,20,IF(Q10=3,10,0)))) -> 20 | S10: =IF(F10>0,RANK(F10,F$5:F$17),0) -> 0 | T10: =IF(S10=1,30,(IF(S10=2,20,IF(S10=3,10,0)))) -> 0 | U10: =IF(G10>0,RANK(G10,G$5:G$17),0) -> 0 | V10: =IF(U10=1,30,(IF(U10=2,20,IF(U10=3,10,0)))) -> 0 | W10: =IF(H10>0,RANK(H10,H$5:H$17),0) -> 0 | X10: =IF(W10=1,30,(IF(W10=2,20,IF(W10=3,10,0)))) -> 0 | Y10: =IF(I10>0,RANK(I10,I$5:I$17),0) -> 0 | Z10: =IF(Y10=1,30,(IF(Y10=2,20,IF(Y10=3,10,0)))) -> 0 | AA10: =IF(J10>0,RANK(J10,J$5:J$17),0) -> 0 | AB10: =IF(AA10=1,30,(IF(AA10=2,20,IF(AA10=3,10,0)))) -> 0 | AC10: =IF(K10>0,RANK(K10,K$5:K$17),0) -> 0 | AD10: =IF(AC10=1,30,(IF(AC10=2,20,IF(AC10=3,10,0)))) -> 0 | AE10: =IF(L10>0,RANK(L10,L$5:L$17),0) -> 0 | AF10: =IF(AE10=1,30,(IF(AE10=2,20,IF(AE10=3,10,0)))) -> 0 | AG10: =P10+R10+T10+V10+X10+Z10+AB10+AD10+AF10 -> 20
A11: GUYANCOURT | B11: 60 | C11: =B11*0.25 -> 15 | D11: 0 | E11: 2 | M11: =SUM(D11:L11) -> 2 | N11: =M11/C11 -> 0.13333333 | O11: =RANK(N11,N$5:N$17) -> 6 | P11: =IF(O11=1,30,(IF(O11=2,20,IF(O11=3,10,0)))) -> 0 | Q11: =IF(E11>0,RANK(E11,E$5:E$17),0) -> 2 | R11: =IF(Q11=1,30,(IF(Q11=2,20,IF(Q11=3,10,0)))) -> 20 | S11: =IF(F11>0,RANK(F11,F$5:F$17),0) -> 0 | T11: =IF(S11=1,30,(IF(S11=2,20,IF(S11=3,10,0)))) -> 0 | U11: =IF(G11>0,RANK(G11,G$5:G$17),0) -> 0 | V11: =IF(U11=1,30,(IF(U11=2,20,IF(U11=3,10,0)))) -> 0 | W11: =IF(H11>0,RANK(H11,H$5:H$17),0) -> 0 | X11: =IF(W11=1,30,(IF(W11=2,20,IF(W11=3,10,0)))) -> 0 | Y11: =IF(I11>0,RANK(I11,I$5:I$17),0) -> 0 | Z11: =IF(Y11=1,30,(IF(Y11=2,20,IF(Y11=3,10,0)))) -> 0 | AA11: =IF(J11>0,RANK(J11,J$5:J$17),0) -> 0 | AB11: =IF(AA11=1,30,(IF(AA11=2,20,IF(AA11=3,10,0)))) -> 0 | AC11: =IF(K11>0,RANK(K11,K$5:K$17),0) -> 0 | AD11: =IF(AC11=1,30,(IF(AC11=2,20,IF(AC11=3,10,0)))) -> 0 | AE11: =IF(L11>0,RANK(L11,L$5:L$17),0) -> 0 | AF11: =IF(AE11=1,30,(IF(AE11=2,20,IF(AE11=3,10,0)))) -> 0 | AG11: =P11+R11+T11+V11+X11+Z11+AB11+AD11+AF11 -> 20
A12: LE PERRAY EN YVELINES | B12: 58 | C12: =B12*0.25 -> 14.5 | D12: 0 | E12: 2 | M12: =SUM(D12:L12) -> 2 | N12: =M12/C12 -> 0.13793103 | O12: =RANK(N12,N$5:N$17) -> 5 | P12: =IF(O12=1,30,(IF(O12=2,20,IF(O12=3,10,0)))) -> 0 | Q12: =IF(E12>0,RANK(E12,E$5:E$17),0) -> 2 | R12: =IF(Q12=1,30,(IF(Q12=2,20,IF(Q12=3,10,0)))) -> 20 | S12: =IF(F12>0,RANK(F12,F$5:F$17),0) -> 0 | T12: =IF(S12=1,30,(IF(S12=2,20,IF(S12=3,10,0)))) -> 0 | U12: =IF(G12>0,RANK(G12,G$5:G$17),0) -> 0 | V12: =IF(U12=1,30,(IF(U12=2,20,IF(U12=3,10,0)))) -> 0 | W12: =IF(H12>0,RANK(H12,H$5:H$17),0) -> 0 | X12: =IF(W12=1,30,(IF(W12=2,20,IF(W12=3,10,0)))) -> 0 | Y12: =IF(I12>0,RANK(I12,I$5:I$17),0) -> 0 | Z12: =IF(Y12=1,30,(IF(Y12=2,20,IF(Y12=3,10,0)))) -> 0 | AA12: =IF(J12>0,RANK(J12,J$5:J$17),0) -> 0 | AB12: =IF(AA12=1,30,(IF(AA12=2,20,IF(AA12=3,10,0)))) -> 0 | AC12: =IF(K12>0,RANK(K12,K$5:K$17),0) -> 0 | AD12: =IF(AC12=1,30,(IF(AC12=2,20,IF(AC12=3,10,0)))) -> 0 | AE12: =IF(L12>0,RANK(L12,L$5:L$17),0) -> 0 | AF12: =IF(AE12=1,30,(IF(AE12=2,20,IF(AE12=3,10,0)))) -> 0 | AG12: =P12+R12+T12+V12+X12+Z12+AB12+AD12+AF12 -> 20
A13: BOIS D'ARCY | B13: 45 | C13: =B13*0.25 -> 11.25 | D13: 0 | E13: 0 | M13: =SUM(D13:L13) -> 0 | N13: =M13/C13 -> 0 | O13: =RANK(N13,N$5:N$17) -> 12 | P13: =IF(O13=1,30,(IF(O13=2,20,IF(O13=3,10,0)))) -> 0 | Q13: =IF(E13>0,RANK(E13,E$5:E$17),0) -> 0 | R13: =IF(Q13=1,30,(IF(Q13=2,20,IF(Q13=3,10,0)))) -> 0 | S13: =IF(F13>0,RANK(F13,F$5:F$17),0) -> 0 | T13: =IF(S13=1,30,(IF(S13=2,20,IF(S13=3,10,0)))) -> 0 | U13: =IF(G13>0,RANK(G13,G$5:G$17),0) -> 0 | V13: =IF(U13=1,30,(IF(U13=2,20,IF(U13=3,10,0)))) -> 0 | W13: =IF(H13>0,RANK(H13,H$5:H$17),0) -> 0 | X13: =IF(W13=1,30,(IF(W13=2,20,IF(W13=3,10,0)))) -> 0 | Y13: =IF(I13>0,RANK(I13,I$5:I$17),0) -> 0 | Z13: =IF(Y13=1,30,(IF(Y13=2,20,IF(Y13=3,10,0)))) -> 0 | AA13: =IF(J13>0,RANK(J13,J$5:J$17),0) -> 0 | AB13: =IF(AA13=1,30,(IF(AA13=2,20,IF(AA13=3,10,0)))) -> 0 | AC13: =IF(K13>0,RANK(K13,K$5:K$17),0) -> 0 | AD13: =IF(AC13=1,30,(IF(AC13=2,20,IF(AC13=3,10,0)))) -> 0 | AE13: =IF(L13>0,RANK(L13,L$5:L$17),0) -> 0 | AF13: =IF(AE13=1,30,(IF(AE13=2,20,IF(AE13=3,10,0)))) -> 0 | AG13: =P13+R13+T13+V13+X13+Z13+AB13+AD13+AF13 -> 0
A14: MONTFORT | B14: 70 | C14: =B14*0.25 -> 17.5 | D14: 0 | E14: 2 | M14: =SUM(D14:L14) -> 2 | N14: =M14/C14 -> 0.11428571 | O14: =RANK(N14,N$5:N$17) -> 7 | P14: =IF(O14=1,30,(IF(O14=2,20,IF(O14=3,10,0)))) -> 0 | Q14: =IF(E14>0,RANK(E14,E$5:E$17),0) -> 2 | R14: =IF(Q14=1,30,(IF(Q14=2,20,IF(Q14=3,10,0)))) -> 20 | S14: =IF(F14>0,RANK(F14,F$5:F$17),0) -> 0 | T14: =IF(S14=1,30,(IF(S14=2,20,IF(S14=3,10,0)))) -> 0 | U14: =IF(G14>0,RANK(G14,G$5:G$17),0) -> 0 | V14: =IF(U14=1,30,(IF(U14=2,20,IF(U14=3,10,0)))) -> 0 | W14: =IF(H14>0,RANK(H14,H$5:H$17),0) -> 0 | X14: =IF(W14=1,30,(IF(W14=2,20,IF(W14=3,10,0)))) -> 0 | Y14: =IF(I14>0,RANK(I14,I$5:I$17),0) -> 0 | Z14: =IF(Y14=1,30,(IF(Y14=2,20,IF(Y14=3,10,0)))) -> 0 | AA14: =IF(J14>0,RANK(J14,J$5:J$17),0) -> 0 | AB14: =IF(AA14=1,30,(IF(AA14=2,20,IF(AA14=3,10,0)))) -> 0 | AC14: =IF(K14>0,RANK(K14,K$5:K$17),0) -> 0 | AD14: =IF(AC14=1,30,(IF(AC14=2,20,IF(AC14=3,10,0)))) -> 0 | AE14: =IF(L14>0,RANK(L14,L$5:L$17),0) -> 0 | AF14: =IF(AE14=1,30,(IF(AE14=2,20,IF(AE14=3,10,0)))) -> 0 | AG14: =P14+R14+T14+V14+X14+Z14+AB14+AD14+AF14 -> 20
A15: CHEVREUSE | B15: 49 | C15: =B15*0.25 -> 12.25 | D15: 0 | E15: 1 | M15: =SUM(D15:L15) -> 1 | N15: =M15/C15 -> 0.081632653 | O15: =RANK(N15,N$5:N$17) -> 11 | P15: =IF(O15=1,30,(IF(O15=2,20,IF(O15=3,10,0)))) -> 0 | Q15: 3 | R15: =IF(Q15=1,30,(IF(Q15=2,20,IF(Q15=3,10,0)))) -> 10 | S15: =IF(F15>0,RANK(F15,F$5:F$17),0) -> 0 | T15: =IF(S15=1,30,(IF(S15=2,20,IF(S15=3,10,0)))) -> 0 | U15: =IF(G15>0,RANK(G15,G$5:G$17),0) -> 0 | V15: =IF(U15=1,30,(IF(U15=2,20,IF(U15=3,10,0)))) -> 0 | W15: =IF(H15>0,RANK(H15,H$5:H$17),0) -> 0 | X15: =IF(W15=1,30,(IF(W15=2,20,IF(W15=3,10,0)))) -> 0 | Y15: =IF(I15>0,RANK(I15,I$5:I$17),0) -> 0 | Z15: =IF(Y15=1,30,(IF(Y15=2,20,IF(Y15=3,10,0)))) -> 0 | AA15: =IF(J15>0,RANK(J15,J$5:J$17),0) -> 0 | AB15: =IF(AA15=1,30,(IF(AA15=2,20,IF(AA15=3,10,0)))) -> 0 | AC15: =IF(K15>0,RANK(K15,K$5:K$17),0) -> 0 | AD15: =IF(AC15=1,30,(IF(AC15=2,20,IF(AC15=3,10,0)))) -> 0 | AE15: =IF(L15>0,RANK(L15,L$5:L$17),0) -> 0 | AF15: =IF(AE15=1,30,(IF(AE15=2,20,IF(AE15=3,10,0)))) -> 0 | AG15: =P15+R15+T15+V15+X15+Z15+AB15+AD15+AF15 -> 10
A16: VOISINS | B16: 86 | C16: =B16*0.25 -> 21.5 | D16: 0 | E16: 2 | M16: =SUM(D16:L16) -> 2 | N16: =M16/C16 -> 0.093023256 | O16: =RANK(N16,N$5:N$17) -> 9 | P16: =IF(O16=1,30,(IF(O16=2,20,IF(O16=3,10,0)))) -> 0 | Q16: =IF(E16>0,RANK(E16,E$5:E$17),0) -> 2 | R16: =IF(Q16=1,30,(IF(Q16=2,20,IF(Q16=3,10,0)))) -> 20 | S16: =IF(F16>0,RANK(F16,F$5:F$17),0) -> 0 | T16: =IF(S16=1,30,(IF(S16=2,20,IF(S16=3,10,0)))) -> 0 | U16: =IF(G16>0,RANK(G16,G$5:G$17),0) -> 0 | V16: =IF(U16=1,30,(IF(U16=2,20,IF(U16=3,10,0)))) -> 0 | W16: =IF(H16>0,RANK(H16,H$5:H$17),0) -> 0 | X16: =IF(W16=1,30,(IF(W16=2,20,IF(W16=3,10,0)))) -> 0 | Y16: =IF(I16>0,RANK(I16,I$5:I$17),0) -> 0 | Z16: =IF(Y16=1,30,(IF(Y16=2,20,IF(Y16=3,10,0)))) -> 0 | AA16: =IF(J16>0,RANK(J16,J$5:J$17),0) -> 0 | AB16: =IF(AA16=1,30,(IF(AA16=2,20,IF(AA16=3,10,0)))) -> 0 | AC16: =IF(K16>0,RANK(K16,K$5:K$17),0) -> 0 | AD16: =IF(AC16=1,30,(IF(AC16=2,20,IF(AC16=3,10,0)))) -> 0 | AE16: =IF(L16>0,RANK(L16,L$5:L$17),0) -> 0 | AF16: =IF(AE16=1,30,(IF(AE16=2,20,IF(AE16=3,10,0)))) -> 0 | AG16: =P16+R16+T16+V16+X16+Z16+AB16+AD16+AF16 -> 20
A17: LES ESSARTS | B17: 43 | C17: =B17*0.25 -> 10.75 | D17: 0 | E17: 1 | M17: =SUM(D17:L17) -> 1 | N17: =M17/C17 -> 0.093023256 | O17: =RANK(N17,N$5:N$17) -> 9 | P17: =IF(O17=1,30,(IF(O17=2,20,IF(O17=3,10,0)))) -> 0 | Q17: 3 | R17: =IF(Q17=1,30,(IF(Q17=2,20,IF(Q17=3,10,0)))) -> 10 | S17: =IF(F17>0,RANK(F17,F$5:F$17),0) -> 0 | T17: =IF(S17=1,30,(IF(S17=2,20,IF(S17=3,10,0)))) -> 0 | U17: =IF(G17>0,RANK(G17,G$5:G$17),0) -> 0 | V17: =IF(U17=1,30,(IF(U17=2,20,IF(U17=3,10,0)))) -> 0 | W17: =IF(H17>0,RANK(H17,H$5:H$17),0) -> 0 | X17: =IF(W17=1,30,(IF(W17=2,20,IF(W17=3,10,0)))) -> 0 | Y17: =IF(I17>0,RANK(I17,I$5:I$17),0) -> 0 | Z17: =IF(Y17=1,30,(IF(Y17=2,20,IF(Y17=3,10,0)))) -> 0 | AA17: =IF(J17>0,RANK(J17,J$5:J$17),0) -> 0 | AB17: =IF(AA17=1,30,(IF(AA17=2,20,IF(AA17=3,10,0)))) -> 0 | AC17: =IF(K17>0,RANK(K17,K$5:K$17),0) -> 0 | AD17: =IF(AC17=1,30,(IF(AC17=2,20,IF(AC17=3,10,0)))) -> 0 | AE17: =IF(L17>0,RANK(L17,L$5:L$17),0) -> 0 | AF17: =IF(AE17=1,30,(IF(AE17=2,20,IF(AE17=3,10,0)))) -> 0 | AG17: =P17+R17+T17+V17+X17+Z17+AB17+AD17+AF17 -> 10
A19: SKIEURS
A20: ELANCOURT | B20: 102 | C20: =B20*0.25 -> 25.5 | D20: 4 | E20: 3 | M20: =SUM(D20:L20) -> 7 | N20: =M20/C20 -> 0.2745098 | O20: =RANK(N20,N$20:N27) -> 1 | P20: =IF(O5=1,30,(IF(O5=2,20,IF(O5=3,10,0)))) -> 30 | Q20: 3 | R20: =IF(Q20=1,30,(IF(Q20=2,20,IF(Q20=3,10,0)))) -> 10 | S20: =IF(F20>0,RANK(F20,F$20:F$27),0) -> 0 | T20: =IF(S20=1,30,(IF(S20=2,20,IF(S20=3,10,0)))) -> 0 | U20: =IF(G20>0,RANK(G20,G$20:G$27),0) -> 0 | V20: =IF(U20=1,30,(IF(U20=2,20,IF(U20=3,10,0)))) -> 0 | W20: =IF(H20>0,RANK(H20,H$20:H$27),0) -> 0 | X20: =IF(W20=1,30,(IF(W20=2,20,IF(W20=3,10,0)))) -> 0 | Y20: =IF(I20>0,RANK(I20,I$20:I$27),0) -> 0 | Z20: =IF(Y20=1,30,(IF(Y20=2,20,IF(Y20=3,10,0)))) -> 0 | AA20: =IF(J20>0,RANK(J20,J$20:J$27),0) -> 0 | AB20: =IF(AA20=1,30,(IF(AA20=2,20,IF(AA20=3,10,0)))) -> 0 | AC20: =IF(K20>0,RANK(K20,K$20:K$27),0) -> 0 | AD20: =IF(AC20=1,30,(IF(AC20=2,20,IF(AC20=3,10,0)))) -> 0 | AE20: =IF(L20>0,(L20,L$20:L$27),0) -> 0 | AF20: =IF(AE20=1,30,(IF(AE20=2,20,IF(AE20=3,10,0)))) -> 0 | AG20: =P20+R20+T20+V20+X20+Z20+AB20+AD20+AF20 -> 40
A21: PLAISIR | B21: 81 | C21: =B21*0.25 -> 20.25 | D21: 2 | E21: 3 | M21: =SUM(D21:L21) -> 5 | N21: =M21/C21 -> 0.24691358 | O21: =RANK(N21,N$20:N28) -> 2 | P21: =IF(O6=1,30,(IF(O6=2,20,IF(O6=3,10,0)))) -> 10 | Q21: 3 | R21: =IF(Q21=1,30,(IF(Q21=2,20,IF(Q21=3,10,0)))) -> 10 | S21: =IF(F21>0,RANK(F21,F$20:F$27),0) -> 0 | T21: =IF(S21=1,30,(IF(S21=2,20,IF(S21=3,10,0)))) -> 0 | U21: =IF(G21>0,RANK(G21,G$20:G$27),0) -> 0 | V21: =IF(U21=1,30,(IF(U21=2,20,IF(U21=3,10,0)))) -> 0 | W21: =IF(H21>0,RANK(H21,H$20:H$27),0) -> 0 | X21: =IF(W21=1,30,(IF(W21=2,20,IF(W21=3,10,0)))) -> 0 | Y21: =IF(I21>0,RANK(I21,I$20:I$27),0) -> 0 | Z21: =IF(Y21=1,30,(IF(Y21=2,20,IF(Y21=3,10,0)))) -> 0 | AA21: =IF(J21>0,RANK(J21,J$20:J$27),0) -> 0 | AB21: =IF(AA21=1,30,(IF(AA21=2,20,IF(AA21=3,10,0)))) -> 0 | AC21: =IF(K21>0,RANK(K21,K$20:K$27),0) -> 0 | AD21: =IF(AC21=1,30,(IF(AC21=2,20,IF(AC21=3,10,0)))) -> 0 | AE21: =IF(L21>0,(L21,L$20:L$27),0) -> 0 | AF21: =IF(AE21=1,30,(IF(AE21=2,20,IF(AE21=3,10,0)))) -> 0 | AG21: =P21+R21+T21+V21+X21+Z21+AB21+AD21+AF21 -> 20
A22: RAMBOUILLET | B22: 143 | C22: =B22*0.25 -> 35.75 | D22: 3 | E22: 1 | M22: =SUM(D22:L22) -> 4 | N22: =M22/C22 -> 0.11188811 | O22: =RANK(N22,N$20:N29) -> 7 | P22: =IF(O7=1,30,(IF(O7=2,20,IF(O7=3,10,0)))) -> 30 | Q22: 4 | R22: =IF(Q22=1,30,(IF(Q22=2,20,IF(Q22=3,10,0)))) -> 0 | S22: =IF(F22>0,RANK(F22,F$20:F$27),0) -> 0 | T22: =IF(S22=1,30,(IF(S22=2,20,IF(S22=3,10,0)))) -> 0 | U22: =IF(G22>0,RANK(G22,G$20:G$27),0) -> 0 | V22: =IF(U22=1,30,(IF(U22=2,20,IF(U22=3,10,0)))) -> 0 | W22: =IF(H22>0,RANK(H22,H$20:H$27),0) -> 0 | X22: =IF(W22=1,30,(IF(W22=2,20,IF(W22=3,10,0)))) -> 0 | Y22: =IF(I22>0,RANK(I22,I$20:I$27),0) -> 0 | Z22: =IF(Y22=1,30,(IF(Y22=2,20,IF(Y22=3,10,0)))) -> 0 | AA22: =IF(J22>0,RANK(J22,J$20:J$27),0) -> 0 | AB22: =IF(AA22=1,30,(IF(AA22=2,20,IF(AA22=3,10,0)))) -> 0 | AC22: =IF(K22>0,RANK(K22,K$20:K$27),0) -> 0 | AD22: =IF(AC22=1,30,(IF(AC22=2,20,IF(AC22=3,10,0)))) -> 0 | AE22: =IF(L22>0,(L22,L$20:L$27),0) -> 0 | AF22: =IF(AE22=1,30,(IF(AE22=2,20,IF(AE22=3,10,0)))) -> 0 | AG22: =P22+R22+T22+V22+X22+Z22+AB22+AD22+AF22 -> 30
A23: MAUREPAS | B23: 105 | C23: =B23*0.25 -> 26.25 | D23: 2 | E23: 1 | M23: =SUM(D23:L23) -> 3 | N23: =M23/C23 -> 0.11428571 | O23: =RANK(N23,N$20:N30) -> 6 | P23: =IF(O8=1,30,(IF(O8=2,20,IF(O8=3,10,0)))) -> 0 | Q23: 4 | R23: =IF(Q23=1,30,(IF(Q23=2,20,IF(Q23=3,10,0)))) -> 0 | S23: =IF(F23>0,RANK(F23,F$20:F$27),0) -> 0 | T23: =IF(S23=1,30,(IF(S23=2,20,IF(S23=3,10,0)))) -> 0 | U23: =IF(G23>0,RANK(G23,G$20:G$27),0) -> 0 | V23: =IF(U23=1,30,(IF(U23=2,20,IF(U23=3,10,0)))) -> 0 | W23: =IF(H23>0,RANK(H23,H$20:H$27),0) -> 0 | X23: =IF(W23=1,30,(IF(W23=2,20,IF(W23=3,10,0)))) -> 0 | Y23: =IF(I23>0,RANK(I23,I$20:I$27),0) -> 0 | Z23: =IF(Y23=1,30,(IF(Y23=2,20,IF(Y23=3,10,0)))) -> 0 | AA23: =IF(J23>0,RANK(J23,J$20:J$27),0) -> 0 | AB23: =IF(AA23=1,30,(IF(AA23=2,20,IF(AA23=3,10,0)))) -> 0 | AC23: =IF(K23>0,RANK(K23,K$20:K$27),0) -> 0 | AD23: =IF(AC23=1,30,(IF(AC23=2,20,IF(AC23=3,10,0)))) -> 0 | AE23: =IF(L23>0,(L23,L$20:L$27),0) -> 0 | AF23: =IF(AE23=1,30,(IF(AE23=2,20,IF(AE23=3,10,0)))) -> 0 | AG23: =P23+R23+T23+V23+X23+Z23+AB23+AD23+AF23 -> 0
A24: TRAPPES | B24: 147 | C24: =B24*0.25 -> 36.75 | D24: 2 | E24: 4 | M24: =SUM(D24:L24) -> 6 | N24: =M24/C24 -> 0.16326531 | O24: =RANK(N24,N$20:N31) -> 3 | P24: =IF(O9=1,30,(IF(O9=2,20,IF(O9=3,10,0)))) -> 0 | Q24: =IF(E24>0,RANK(E24,E$20:E$27),0) -> 2 | R24: =IF(Q24=1,30,(IF(Q24=2,20,IF(Q24=3,10,0)))) -> 20 | S24: =IF(F24>0,RANK(F24,F$20:F$27),0) -> 0 | T24: =IF(S24=1,30,(IF(S24=2,20,IF(S24=3,10,0)))) -> 0 | U24: =IF(G24>0,RANK(G24,G$20:G$27),0) -> 0 | V24: =IF(U24=1,30,(IF(U24=2,20,IF(U24=3,10,0)))) -> 0 | W24: =IF(H24>0,RANK(H24,H$20:H$27),0) -> 0 | X24: =IF(W24=1,30,(IF(W24=2,20,IF(W24=3,10,0)))) -> 0 | Y24: =IF(I24>0,RANK(I24,I$20:I$27),0) -> 0 | Z24: =IF(Y24=1,30,(IF(Y24=2,20,IF(Y24=3,10,0)))) -> 0 | AA24: =IF(J24>0,RANK(J24,J$20:J$27),0) -> 0 | AB24: =IF(AA24=1,30,(IF(AA24=2,20,IF(AA24=3,10,0)))) -> 0 | AC24: =IF(K24>0,RANK(K24,K$20:K$27),0) -> 0 | AD24: =IF(AC24=1,30,(IF(AC24=2,20,IF(AC24=3,10,0)))) -> 0 | AE24: =IF(L24>0,(L24,L$20:L$27),0) -> 0 | AF24: =IF(AE24=1,30,(IF(AE24=2,20,IF(AE24=3,10,0)))) -> 0 | AG24: =P24+R24+T24+V24+X24+Z24+AB24+AD24+AF24 -> 20
A25: LE FLORESTAN | B25: 241 | C25: =B25*0.25 -> 60.25 | D25: 3 | E25: 5 | M25: =SUM(D25:L25) -> 8 | N25: =M25/C25 -> 0.13278008 | O25: =RANK(N25,N$20:N32) -> 5 | P25: =IF(O10=1,30,(IF(O10=2,20,IF(O10=3,10,0)))) -> 0 | Q25: =IF(E25>0,RANK(E25,E$20:E$27),0) -> 1 | R25: =IF(Q25=1,30,(IF(Q25=2,20,IF(Q25=3,10,0)))) -> 30 | S25: =IF(F25>0,RANK(F25,F$20:F$27),0) -> 0 | T25: =IF(S25=1,30,(IF(S25=2,20,IF(S25=3,10,0)))) -> 0 | U25: =IF(G25>0,RANK(G25,G$20:G$27),0) -> 0 | V25: =IF(U25=1,30,(IF(U25=2,20,IF(U25=3,10,0)))) -> 0 | W25: =IF(H25>0,RANK(H25,H$20:H$27),0) -> 0 | X25: =IF(W25=1,30,(IF(W25=2,20,IF(W25=3,10,0)))) -> 0 | Y25: =IF(I25>0,RANK(I25,I$20:I$27),0) -> 0 | Z25: =IF(Y25=1,30,(IF(Y25=2,20,IF(Y25=3,10,0)))) -> 0 | AA25: =IF(J25>0,RANK(J25,J$20:J$27),0) -> 0 | AB25: =IF(AA25=1,30,(IF(AA25=2,20,IF(AA25=3,10,0)))) -> 0 | AC25: =IF(K25>0,RANK(K25,K$20:K$27),0) -> 0 | AD25: =IF(AC25=1,30,(IF(AC25=2,20,IF(AC25=3,10,0)))) -> 0 | AE25: =IF(L25>0,(L25,L$20:L$27),0) -> 0 | AF25: =IF(AE25=1,30,(IF(AE25=2,20,IF(AE25=3,10,0)))) -> 0 | AG25: =P25+R25+T25+V25+X25+Z25+AB25+AD25+AF25 -> 30
A26: LES CLAYES SOUS BOIS | B26: 117 | C26: =B26*0.25 -> 29.25 | D26: 0 | E26: 0 | M26: =SUM(D26:L26) -> 0 | N26: =M26/C26 -> 0 | O26: =RANK(N26,N$20:N33) -> 8 | P26: =IF(O11=1,30,(IF(O11=2,20,IF(O11=3,10,0)))) -> 0 | Q26: =IF(E26>0,RANK(E26,E$20:E$27),0) -> 0 | R26: =IF(Q26=1,30,(IF(Q26=2,20,IF(Q26=3,10,0)))) -> 0 | S26: =IF(F26>0,RANK(F26,F$20:F$27),0) -> 0 | T26: =IF(S26=1,30,(IF(S26=2,20,IF(S26=3,10,0)))) -> 0 | U26: =IF(G26>0,RANK(G26,G$20:G$27),0) -> 0 | V26: =IF(U26=1,30,(IF(U26=2,20,IF(U26=3,10,0)))) -> 0 | W26: =IF(H26>0,RANK(H26,H$20:H$27),0) -> 0 | X26: =IF(W26=1,30,(IF(W26=2,20,IF(W26=3,10,0)))) -> 0 | Y26: =IF(I26>0,RANK(I26,I$20:I$27),0) -> 0 | Z26: =IF(Y26=1,30,(IF(Y26=2,20,IF(Y26=3,10,0)))) -> 0 | AA26: =IF(J26>0,RANK(J26,J$20:J$27),0) -> 0 | AB26: =IF(AA26=1,30,(IF(AA26=2,20,IF(AA26=3,10,0)))) -> 0 | AC26: =IF(K26>0,RANK(K26,K$20:K$27),0) -> 0 | AD26: =IF(AC26=1,30,(IF(AC26=2,20,IF(AC26=3,10,0)))) -> 0 | AE26: =IF(L26>0,(L26,L$20:L$27),0) -> 0 | AF26: =IF(AE26=1,30,(IF(AE26=2,20,IF(AE26=3,10,0)))) -> 0 | AG26: =P26+R26+T26+V26+X26+Z26+AB26+AD26+AF26 -> 0
A27: ST REMY LES CHEVREUSES | B27: 109 | C27: =B27*0.25 -> 27.25 | D27: 0 | E27: 4 | M27: =SUM(D27:L27) -> 4 | N27: =M27/C27 -> 0.14678899 | O27: =RANK(N27,N$20:N34) -> 4 | P27: =IF(O12=1,30,(IF(O12=2,20,IF(O12=3,10,0)))) -> 0 | Q27: =IF(E27>0,RANK(E27,E$20:E$27),0) -> 2 | R27: =IF(Q27=1,30,(IF(Q27=2,20,IF(Q27=3,10,0)))) -> 20 | S27: =IF(F27>0,RANK(F27,F$20:F$27),0) -> 0 | T27: =IF(S27=1,30,(IF(S27=2,20,IF(S27=3,10,0)))) -> 0 | U27: =IF(G27>0,RANK(G27,G$20:G$27),0) -> 0 | V27: =IF(U27=1,30,(IF(U27=2,20,IF(U27=3,10,0)))) -> 0 | W27: =IF(H27>0,RANK(H27,H$20:H$27),0) -> 0 | X27: =IF(W27=1,30,(IF(W27=2,20,IF(W27=3,10,0)))) -> 0 | Y27: =IF(I27>0,RANK(I27,I$20:I$27),0) -> 0 | Z27: =IF(Y27=1,30,(IF(Y27=2,20,IF(Y27=3,10,0)))) -> 0 | AA27: =IF(J27>0,RANK(J27,J$20:J$27),0) -> 0 | AB27: =IF(AA27=1,30,(IF(AA27=2,20,IF(AA27=3,10,0)))) -> 0 | AC27: =IF(K27>0,RANK(K27,K$20:K$27),0) -> 0 | AD27: =IF(AC27=1,30,(IF(AC27=2,20,IF(AC27=3,10,0)))) -> 0 | AE27: =IF(L27>0,(L27,L$20:L$27),0) -> 0 | AF27: =IF(AE27=1,30,(IF(AE27=2,20,IF(AE27=3,10,0)))) -> 0 | AG27: =P27+R27+T27+V27+X27+Z27+AB27+AD27+AF27 -> 20

Sheet BO DIAG 
B2: Suivi de l'utilisation du Diagnostic Protection à S3 2018
I4: Efficacité des Bilans Protection 2018 | M4: Répartition des Bilans Protection par population - S3 2018
I5: Nb clients avec Bilan Protection | J5: Taux de Bilans Protection avec vente | K5: Nb moyen de contrats vendus suite Bilan Protection avec vente | M5: dont DA | O5: dont ARA | Q5: dont CC PRO | S5: dont CC BG | U5: dont CC GP | W5: dont CAP | Y5: Total
B6: DR | C6: DEC | D6: UC | E6: AGENCE | F6: S3 | G6: Cumul annuel 2018 | I6: depuis 01/01/2018 | J6: dans les 30 jours | K6: dans les 30 jours | M6: Nb Bilan Protection | N6: % utilisateurs | O6: Nb Bilan Protection | P6: % utilisateurs | Q6: Nb Bilan Protection | R6: % utilisateurs | S6: Nb Bilan Protection | T6: % utilisateurs | U6: Nb Bilan Protection | V6: % utilisateurs | W6: Nb Bilan Protection | X6: % utilisateurs | Y6: Nb acteurs | Z6: Taux utilisateurs
B7: DR ILE DE FRANCE SUD | C7: DEC ST QUENTIN EN YVELIN | D7: UC CLAYES-SOUS-BOIS | E7: BOIS D ARCY | F7: 2 | G7: 5 | I7: 4 | J7: 0.4 | K7: 1 | M7: 1 | N7: 1 | W7: 1 | X7: 1 | Y7: 3 | Z7: 0.66666667
B8: DR ILE DE FRANCE SUD | C8: DEC ST QUENTIN EN YVELIN | D8: UC CLAYES-SOUS-BOIS | E8: ELANCOURT | F8: 5 | G8: 11 | I8: 11 | J8: 0.63636364 | K8: 1 | U8: 4 | V8: 1 | W8: 1 | X8: 1 | Y8: 4 | Z8: 0.5
B9: DR ILE DE FRANCE SUD | C9: DEC ST QUENTIN EN YVELIN | D9: UC CLAYES-SOUS-BOIS | E9: ELANCOURT LA CLEF | F9: 2 | G9: 3 | I9: 3 | U9: 2 | V9: 1 | Y9: 2 | Z9: 0.5
B10: DR ILE DE FRANCE SUD | C10: DEC ST QUENTIN EN YVELIN | D10: UC CLAYES-SOUS-BOIS | E10: LE MESNIL SAINT DENIS | F10: 6 | G10: 7 | I10: 7 | J10: 0.42857143 | K10: 1,67 | O10: 6 | P10: 1 | Y10: 3 | Z10: 0.33333333
B11: DR ILE DE FRANCE SUD | C11: DEC ST QUENTIN EN YVELIN | D11: UC CLAYES-SOUS-BOIS | E11: LES CLAYES SOUS BOIS | F11: 7 | G11: 7 | I11: 7 | J11: 0.42857143 | K11: 1,33 | O11: 4 | P11: 1 | S11: 1 | T11: 1 | U11: 2 | V11: 0.5 | Y11: 6 | Z11: 0.5
B12: DR ILE DE FRANCE SUD | C12: DEC ST QUENTIN EN YVELIN | D12: UC CLAYES-SOUS-BOIS | E12: MAUREPAS | F12: 9 | G12: 12 | I12: 10 | J12: 0.41666667 | K12: 1 | M12: 1 | N12: 1 | O12: 2 | P12: 1 | U12: 6 | V12: 1 | Y12: 5 | Z12: 1
B13: DR ILE DE FRANCE SUD | C13: DEC ST QUENTIN EN YVELIN | D13: UC CLAYES-SOUS-BOIS | E13: PLAISIR | F13: 10 | G13: 10 | I13: 10 | O13: 4 | P13: 1 | U13: 5 | V13: 1 | W13: 1 | X13: 1 | Y13: 4 | Z13: 0.75
B14: DR ILE DE FRANCE SUD | C14: DEC ST QUENTIN EN YVELIN | D14: UC CLAYES-SOUS-BOIS | E14: PLAISIR VILLAGE | F14: 1 | G14: 2 | I14: 2 | M14: 1 | N14: 1 | Y14: 1 | Z14: 1
B15: DR ILE DE FRANCE SUD | C15: DEC ST QUENTIN EN YVELIN | D15: UC RAMBOUILLET | E15: CHEVREUSE | F15: 3 | G15: 10 | I15: 9 | J15: 0.4 | K15: 1,25 | W15: 3 | X15: 1 | Y15: 4 | Z15: 0.25
B16: DR ILE DE FRANCE SUD | C16: DEC ST QUENTIN EN YVELIN | D16: UC RAMBOUILLET | E16: EPERNON | G16: 1 | I16: 1 | J16: 1 | K16: 1 | Y16: 2
B17: DR ILE DE FRANCE SUD | C17: DEC ST QUENTIN EN YVELIN | D17: UC RAMBOUILLET | E17: LE PERRAY EN YVELINES | F17: 1 | G17: 4 | I17: 4 | J17: 0.5 | K17: 1,5 | O17: 1 | P17: 1 | Y17: 5 | Z17: 0.2
B18: DR ILE DE FRANCE SUD | C18: DEC ST QUENTIN EN YVELIN | D18: UC RAMBOUILLET | E18: LES ESSARTS-LE-ROI | Y18: 3
B19: DR ILE DE FRANCE SUD | C19: DEC ST QUENTIN EN YVELIN | D19: UC RAMBOUILLET | E19: MONTFORT L'AMAURY | F19: 3 | G19: 3 | I19: 3 | J19: 0.66666667 | K19: 1 | O19: 1 | P19: 1 | W19: 2 | X19: 1 | Y19: 4 | Z19: 0.5
B20: DR ILE DE FRANCE SUD | C20: DEC ST QUENTIN EN YVELIN | D20: UC RAMBOUILLET | E20: RAMBOUILLET | F20: 16 | G20: 26 | I20: 20 | J20: 0.26923077 | K20: 1 | O20: 5 | P20: 1 | S20: 5 | T20: 1 | U20: 6 | V20: 0.5 | Y20: 9 | Z20: 0.44444444
B21: DR ILE DE FRANCE SUD | C21: DEC ST QUENTIN EN YVELIN | D21: UC RAMBOUILLET | E21: SAINT ARNOULT YVELINES | F21: 6 | G21: 7 | I21: 7 | M21: 1 | N21: 1 | O21: 2 | P21: 1 | U21: 3 | V21: 1 | Y21: 4 | Z21: 0.75
B22: DR ILE DE FRANCE SUD | C22: DEC ST QUENTIN EN YVELIN | D22: UC RAMBOUILLET | E22: ST REMY LES CHEVREUSE | Y22: 5
B23: DR ILE DE FRANCE SUD | C23: DEC ST QUENTIN EN YVELIN | D23: UC ST QUENTIN FLORESTAN | E23: GUYANCOURT MAIRIE | G23: 3 | I23: 3 | Y23: 4
B24: DR ILE DE FRANCE SUD | C24: DEC ST QUENTIN EN YVELIN | D24: UC ST QUENTIN FLORESTAN | E24: MONTIGNY VILLAGE | Y24: 3
B25: DR ILE DE FRANCE SUD | C25: DEC ST QUENTIN EN YVELIN | D25: UC ST QUENTIN FLORESTAN | E25: SAINT QUENTIN FLORESTAN | F25: 9 | G25: 20 | I25: 18 | J25: 0.25 | K25: 1 | U25: 9 | V25: 1 | Y25: 12 | Z25: 0.33333333
B26: DR ILE DE FRANCE SUD | C26: DEC ST QUENTIN EN YVELIN | D26: UC ST QUENTIN FLORESTAN | E26: TRAPPES | F26: 4 | G26: 12 | I26: 11 | J26: 0.33333333 | K26: 1,8 | O26: 3 | P26: 1 | U26: 1 | V26: 0.5 | Y26: 5 | Z26: 0.4
B27: DR ILE DE FRANCE SUD | C27: DEC ST QUENTIN EN YVELIN | D27: UC ST QUENTIN FLORESTAN | E27: VOISINS LE BRETONNEUX | F27: 2 | G27: 2 | I27: 2 | J27: 0.5 | K27: 1 | U27: 2 | V27: 1 | Y27: 3 | Z27: 0.33333333
