Workbook
Name adnan: Feuil1!$C$1:$E$1
Name choix1: OFFSET('tablo trié base'!$I$4,,,COUNTIF('tablo trié base'!$I:$I,"><"))
Name code: OFFSET(ville,,2)
Name dept1: 'tablo trié base'!$C$1
Name dept2: Feuil1!$E$1
Name equipe: OFFSET(ville,,1,)
Name tricode: OFFSET(triville,,2,)
Name triequipe: OFFSET(triville,,1,)
Name triville: OFFSET('tablo trié base'!$B$2,,,COUNTIF('tablo trié base'!$B:$B,"><"))
Name ville: OFFSET(Feuil1!$C$2,,,COUNTIF(Feuil1!$C:$C,"><")-1)

Sheet Feuil1
C1: ville | D1: Equipe | E1: Code postal | H1: ville | I1: equipe | J1: code postal choix3
C2: Paris | D2: PSG | E2: 75 | F2: 93 | H2: Paris | I2: tulipe1 | J2: 75002
C3: Marseille | D3: OL Marseille | E3: 13 | F3: 13016
C4: Lille | D4: LOSC | E4: 59 | F4: 59
C5: Paris | D5: tulipe1 | E5: 7501 | F5: 75014
C6: Marseille | D6: Ommm Marseille | E6: 13001 | F6: 13002
C7: Lille | D7: tourcoing | E7: 59006 | F7: 59006 | I7: dans validation pour choix 3 des codes
C8: Paris | D8: elysée | E8: 75002 | F8: 75003
C9: Marseille | D9: sardine | E9: 13008 | F9: 13009 | I9: =DECALER(dept2;EQUIV($H$2&$I$2;ville&equipe;0);;;2)
C10: Lille | D10: roubaix | E10: 59001 | F10: 59003
C11: Paris | D11: Etoile | E11: 75005 | F11: 75008 | I11: dept2 = E1
C12: Marseille | D12: poisson | E12: 13002 | F12: 13006
C13: Lille | D13: la madeleine | E13: 59007 | F13: 59009
C14: Paris | D14: opéra | E14: 75009 | F14: 75007
C15: Marseille | D15: port | E15: 13003 | F15: 13002
C16: Lille | D16: asq | E16: 59005 | F16: 59000

Sheet tablo trié base
A1: prêt pour 200 données
A2: pas touche | B2: {=IFERROR(INDEX(ville,MATCH(SMALL(COUNTIF(ville,"<="&ville),ROW(A1)),COUNTIF(ville,"<="&ville),0)),"")} -> Lille | C2: {=IFERROR(INDEX(equipe,SMALL(IF(ville=$B2,ROW(ville)-1,""),COUNTIF($B$2:$B2,$B2))),"")} -> LOSC | D2: {=IFERROR(INDEX(code,SMALL(IF(ville=$B2,ROW(ville)-1,""),COUNTIF($B$2:$B2,$B2))),"")} -> 59 | H2: liste des ville qui sert de choix 1 (tri automatique ) cette plage est nommée :choix1
B3: {=IFERROR(INDEX(ville,MATCH(SMALL(COUNTIF(ville,"<="&ville),ROW(A2)),COUNTIF(ville,"<="&ville),0)),"")} -> Lille | C3: {=IFERROR(INDEX(equipe,SMALL(IF(ville=B3,ROW(ville)-1,""),COUNTIF($B$2:$B3,$B3))),"")} -> tourcoing | D3: {=IFERROR(INDEX(code,SMALL(IF(ville=$B3,ROW(ville)-1,""),COUNTIF($B$2:$B3,$B3))),"")} -> 59006
B4: {=IFERROR(INDEX(ville,MATCH(SMALL(COUNTIF(ville,"<="&ville),ROW(A3)),COUNTIF(ville,"<="&ville),0)),"")} -> Lille | C4: {=IFERROR(INDEX(equipe,SMALL(IF(ville=B4,ROW(ville)-1,""),COUNTIF($B$2:$B4,$B4))),"")} -> roubaix | D4: {=IFERROR(INDEX(code,SMALL(IF(ville=$B4,ROW(ville)-1,""),COUNTIF($B$2:$B4,$B4))),"")} -> 59001 | I4: {=OFFSET(Feuil1!$C$1,MATCH(0,COUNTIF($I$3:$I3,ville),0),)} -> Paris
B5: {=IFERROR(INDEX(ville,MATCH(SMALL(COUNTIF(ville,"<="&ville),ROW(A4)),COUNTIF(ville,"<="&ville),0)),"")} -> Lille | C5: {=IFERROR(INDEX(equipe,SMALL(IF(ville=B5,ROW(ville)-1,""),COUNTIF($B$2:$B5,$B5))),"")} -> la madeleine | D5: {=IFERROR(INDEX(code,SMALL(IF(ville=$B5,ROW(ville)-1,""),COUNTIF($B$2:$B5,$B5))),"")} -> 59007 | I5: {=OFFSET(Feuil1!$C$1,MATCH(0,COUNTIF($I$3:$I4,ville),0),)} -> Marseille
B6: {=IFERROR(INDEX(ville,MATCH(SMALL(COUNTIF(ville,"<="&ville),ROW(A5)),COUNTIF(ville,"<="&ville),0)),"")} -> Lille | C6: {=IFERROR(INDEX(equipe,SMALL(IF(ville=B6,ROW(ville)-1,""),COUNTIF($B$2:$B6,$B6))),"")} -> asq | D6: {=IFERROR(INDEX(code,SMALL(IF(ville=$B6,ROW(ville)-1,""),COUNTIF($B$2:$B6,$B6))),"")} -> 59005 | I6: {=OFFSET(Feuil1!$C$1,MATCH(0,COUNTIF($I$3:$I5,ville),0),)} -> Lille
B7: {=IFERROR(INDEX(ville,MATCH(SMALL(COUNTIF(ville,"<="&ville),ROW(A6)),COUNTIF(ville,"<="&ville),0)),"")} -> Marseille | C7: {=IFERROR(INDEX(equipe,SMALL(IF(ville=B7,ROW(ville)-1,""),COUNTIF($B$2:$B7,$B7))),"")} -> OL Marseille | D7: {=IFERROR(INDEX(code,SMALL(IF(ville=$B7,ROW(ville)-1,""),COUNTIF($B$2:$B7,$B7))),"")} -> 13 | I7: {=OFFSET(Feuil1!$C$1,MATCH(0,COUNTIF($I$3:$I6,ville),0),)} -> #N/A
B8: {=IFERROR(INDEX(ville,MATCH(SMALL(COUNTIF(ville,"<="&ville),ROW(A7)),COUNTIF(ville,"<="&ville),0)),"")} -> Marseille | C8: {=IFERROR(INDEX(equipe,SMALL(IF(ville=B8,ROW(ville)-1,""),COUNTIF($B$2:$B8,$B8))),"")} -> Ommm Marseille | D8: {=IFERROR(INDEX(code,SMALL(IF(ville=$B8,ROW(ville)-1,""),COUNTIF($B$2:$B8,$B8))),"")} -> 13001 | I8: {=OFFSET(Feuil1!$C$1,MATCH(0,COUNTIF($I$3:$I7,ville),0),)} -> #N/A
B9: {=IFERROR(INDEX(ville,MATCH(SMALL(COUNTIF(ville,"<="&ville),ROW(A8)),COUNTIF(ville,"<="&ville),0)),"")} -> Marseille | C9: {=IFERROR(INDEX(equipe,SMALL(IF(ville=B9,ROW(ville)-1,""),COUNTIF($B$2:$B9,$B9))),"")} -> sardine | D9: {=IFERROR(INDEX(code,SMALL(IF(ville=$B9,ROW(ville)-1,""),COUNTIF($B$2:$B9,$B9))),"")} -> 13008 | I9: {=OFFSET(Feuil1!$C$1,MATCH(0,COUNTIF($I$3:$I8,ville),0),)} -> #N/A
B10: {=IFERROR(INDEX(ville,MATCH(SMALL(COUNTIF(ville,"<="&ville),ROW(A9)),COUNTIF(ville,"<="&ville),0)),"")} -> Marseille | C10: {=IFERROR(INDEX(equipe,SMALL(IF(ville=B10,ROW(ville)-1,""),COUNTIF($B$2:$B10,$B10))),"")} -> poisson | D10: {=IFERROR(INDEX(code,SMALL(IF(ville=$B10,ROW(ville)-1,""),COUNTIF($B$2:$B10,$B10))),"")} -> 13002 | I10: {=OFFSET(Feuil1!$C$1,MATCH(0,COUNTIF($I$3:$I9,ville),0),)} -> #N/A
B11: {=IFERROR(INDEX(ville,MATCH(SMALL(COUNTIF(ville,"<="&ville),ROW(A10)),COUNTIF(ville,"<="&ville),0)),"")} -> Marseille | C11: {=IFERROR(INDEX(equipe,SMALL(IF(ville=B11,ROW(ville)-1,""),COUNTIF($B$2:$B11,$B11))),"")} -> port | D11: {=IFERROR(INDEX(code,SMALL(IF(ville=$B11,ROW(ville)-1,""),COUNTIF($B$2:$B11,$B11))),"")} -> 13003 | I11: {=OFFSET(Feuil1!$C$1,MATCH(0,COUNTIF($I$3:$I10,ville),0),)} -> #N/A
B12: {=IFERROR(INDEX(ville,MATCH(SMALL(COUNTIF(ville,"<="&ville),ROW(A11)),COUNTIF(ville,"<="&ville),0)),"")} -> Paris | C12: {=IFERROR(INDEX(equipe,SMALL(IF(ville=B12,ROW(ville)-1,""),COUNTIF($B$2:$B12,$B12))),"")} -> PSG | D12: {=IFERROR(INDEX(code,SMALL(IF(ville=$B12,ROW(ville)-1,""),COUNTIF($B$2:$B12,$B12))),"")} -> 75 | I12: {=OFFSET(Feuil1!$C$1,MATCH(0,COUNTIF($I$3:$I11,ville),0),)} -> #N/A
B13: {=IFERROR(INDEX(ville,MATCH(SMALL(COUNTIF(ville,"<="&ville),ROW(A12)),COUNTIF(ville,"<="&ville),0)),"")} -> Paris | C13: {=IFERROR(INDEX(equipe,SMALL(IF(ville=B13,ROW(ville)-1,""),COUNTIF($B$2:$B13,$B13))),"")} -> tulipe1 | D13: {=IFERROR(INDEX(code,SMALL(IF(ville=$B13,ROW(ville)-1,""),COUNTIF($B$2:$B13,$B13))),"")} -> 7501 | I13: {=OFFSET(Feuil1!$C$1,MATCH(0,COUNTIF($I$3:$I12,ville),0),)} -> #N/A
B14: {=IFERROR(INDEX(ville,MATCH(SMALL(COUNTIF(ville,"<="&ville),ROW(A13)),COUNTIF(ville,"<="&ville),0)),"")} -> Paris | C14: {=IFERROR(INDEX(equipe,SMALL(IF(ville=B14,ROW(ville)-1,""),COUNTIF($B$2:$B14,$B14))),"")} -> elysée | D14: {=IFERROR(INDEX(code,SMALL(IF(ville=$B14,ROW(ville)-1,""),COUNTIF($B$2:$B14,$B14))),"")} -> 75002 | I14: {=OFFSET(Feuil1!$C$1,MATCH(0,COUNTIF($I$3:$I13,ville),0),)} -> #N/A
B15: {=IFERROR(INDEX(ville,MATCH(SMALL(COUNTIF(ville,"<="&ville),ROW(A14)),COUNTIF(ville,"<="&ville),0)),"")} -> Paris | C15: {=IFERROR(INDEX(equipe,SMALL(IF(ville=B15,ROW(ville)-1,""),COUNTIF($B$2:$B15,$B15))),"")} -> Etoile | D15: {=IFERROR(INDEX(code,SMALL(IF(ville=$B15,ROW(ville)-1,""),COUNTIF($B$2:$B15,$B15))),"")} -> 75005 | I15: {=OFFSET(Feuil1!$C$1,MATCH(0,COUNTIF($I$3:$I14,ville),0),)} -> #N/A
... B28: {=IFERROR(INDEX(ville,MATCH(SMALL(COUNTIF(ville,"<="&ville),ROW(A27)),COUNTIF(ville,"<="&ville),0)),"")} | C28: {=IFERROR(INDEX(equipe,SMALL(IF(ville=B28,ROW(ville)-1,""),COUNTIF($B$2:$B28,$B28))),"")} | D28: {=IFERROR(INDEX(code,SMALL(IF(ville=$B28,ROW(ville)-1,""),COUNTIF($B$2:$B28,$B28))),"")} | I28: {=OFFSET(Feuil1!$C$1,MATCH(0,COUNTIF($I$3:$I27,ville),0),)} -> #N/A
B29: {=IFERROR(INDEX(ville,MATCH(SMALL(COUNTIF(ville,"<="&ville),ROW(A28)),COUNTIF(ville,"<="&ville),0)),"")} | C29: {=IFERROR(INDEX(equipe,SMALL(IF(ville=B29,ROW(ville)-1,""),COUNTIF($B$2:$B29,$B29))),"")} | D29: {=IFERROR(INDEX(code,SMALL(IF(ville=$B29,ROW(ville)-1,""),COUNTIF($B$2:$B29,$B29))),"")}
B30: {=IFERROR(INDEX(ville,MATCH(SMALL(COUNTIF(ville,"<="&ville),ROW(A29)),COUNTIF(ville,"<="&ville),0)),"")} | C30: {=IFERROR(INDEX(equipe,SMALL(IF(ville=B30,ROW(ville)-1,""),COUNTIF($B$2:$B30,$B30))),"")} | D30: {=IFERROR(INDEX(code,SMALL(IF(ville=$B30,ROW(ville)-1,""),COUNTIF($B$2:$B30,$B30))),"")}
B31: {=IFERROR(INDEX(ville,MATCH(SMALL(COUNTIF(ville,"<="&ville),ROW(A30)),COUNTIF(ville,"<="&ville),0)),"")} | C31: {=IFERROR(INDEX(equipe,SMALL(IF(ville=B31,ROW(ville)-1,""),COUNTIF($B$2:$B31,$B31))),"")} | D31: {=IFERROR(INDEX(code,SMALL(IF(ville=$B31,ROW(ville)-1,""),COUNTIF($B$2:$B31,$B31))),"")}
B32: {=IFERROR(INDEX(ville,MATCH(SMALL(COUNTIF(ville,"<="&ville),ROW(A31)),COUNTIF(ville,"<="&ville),0)),"")} | C32: {=IFERROR(INDEX(equipe,SMALL(IF(ville=B32,ROW(ville)-1,""),COUNTIF($B$2:$B32,$B32))),"")} | D32: {=IFERROR(INDEX(code,SMALL(IF(ville=$B32,ROW(ville)-1,""),COUNTIF($B$2:$B32,$B32))),"")}
B33: {=IFERROR(INDEX(ville,MATCH(SMALL(COUNTIF(ville,"<="&ville),ROW(A32)),COUNTIF(ville,"<="&ville),0)),"")} | C33: {=IFERROR(INDEX(equipe,SMALL(IF(ville=B33,ROW(ville)-1,""),COUNTIF($B$2:$B33,$B33))),"")} | D33: {=IFERROR(INDEX(code,SMALL(IF(ville=$B33,ROW(ville)-1,""),COUNTIF($B$2:$B33,$B33))),"")}
B34: {=IFERROR(INDEX(ville,MATCH(SMALL(COUNTIF(ville,"<="&ville),ROW(A33)),COUNTIF(ville,"<="&ville),0)),"")} | C34: {=IFERROR(INDEX(equipe,SMALL(IF(ville=B34,ROW(ville)-1,""),COUNTIF($B$2:$B34,$B34))),"")} | D34: {=IFERROR(INDEX(code,SMALL(IF(ville=$B34,ROW(ville)-1,""),COUNTIF($B$2:$B34,$B34))),"")}
B35: {=IFERROR(INDEX(ville,MATCH(SMALL(COUNTIF(ville,"<="&ville),ROW(A34)),COUNTIF(ville,"<="&ville),0)),"")} | C35: {=IFERROR(INDEX(equipe,SMALL(IF(ville=B35,ROW(ville)-1,""),COUNTIF($B$2:$B35,$B35))),"")} | D35: {=IFERROR(INDEX(code,SMALL(IF(ville=$B35,ROW(ville)-1,""),COUNTIF($B$2:$B35,$B35))),"")}
B36: {=IFERROR(INDEX(ville,MATCH(SMALL(COUNTIF(ville,"<="&ville),ROW(A35)),COUNTIF(ville,"<="&ville),0)),"")} | C36: {=IFERROR(INDEX(equipe,SMALL(IF(ville=B36,ROW(ville)-1,""),COUNTIF($B$2:$B36,$B36))),"")} | D36: {=IFERROR(INDEX(code,SMALL(IF(ville=$B36,ROW(ville)-1,""),COUNTIF($B$2:$B36,$B36))),"")}
B37: {=IFERROR(INDEX(ville,MATCH(SMALL(COUNTIF(ville,"<="&ville),ROW(A36)),COUNTIF(ville,"<="&ville),0)),"")} | C37: {=IFERROR(INDEX(equipe,SMALL(IF(ville=B37,ROW(ville)-1,""),COUNTIF($B$2:$B37,$B37))),"")} | D37: {=IFERROR(INDEX(code,SMALL(IF(ville=$B37,ROW(ville)-1,""),COUNTIF($B$2:$B37,$B37))),"")}
B38: {=IFERROR(INDEX(ville,MATCH(SMALL(COUNTIF(ville,"<="&ville),ROW(A37)),COUNTIF(ville,"<="&ville),0)),"")} | C38: {=IFERROR(INDEX(equipe,SMALL(IF(ville=B38,ROW(ville)-1,""),COUNTIF($B$2:$B38,$B38))),"")} | D38: {=IFERROR(INDEX(code,SMALL(IF(ville=$B38,ROW(ville)-1,""),COUNTIF($B$2:$B38,$B38))),"")}
B39: {=IFERROR(INDEX(ville,MATCH(SMALL(COUNTIF(ville,"<="&ville),ROW(A38)),COUNTIF(ville,"<="&ville),0)),"")} | C39: {=IFERROR(INDEX(equipe,SMALL(IF(ville=B39,ROW(ville)-1,""),COUNTIF($B$2:$B39,$B39))),"")} | D39: {=IFERROR(INDEX(code,SMALL(IF(ville=$B39,ROW(ville)-1,""),COUNTIF($B$2:$B39,$B39))),"")}
B40: {=IFERROR(INDEX(ville,MATCH(SMALL(COUNTIF(ville,"<="&ville),ROW(A39)),COUNTIF(ville,"<="&ville),0)),"")} | C40: {=IFERROR(INDEX(equipe,SMALL(IF(ville=B40,ROW(ville)-1,""),COUNTIF($B$2:$B40,$B40))),"")} | D40: {=IFERROR(INDEX(code,SMALL(IF(ville=$B40,ROW(ville)-1,""),COUNTIF($B$2:$B40,$B40))),"")}
... B200: {=IFERROR(INDEX(ville,MATCH(SMALL(COUNTIF(ville,"<="&ville),ROW(A199)),COUNTIF(ville,"<="&ville),0)),"")} | C200: {=IFERROR(INDEX(equipe,SMALL(IF(ville=B200,ROW(ville)-1,""),COUNTIF($B$2:$B200,$B200))),"")} | D200: {=IFERROR(INDEX(code,SMALL(IF(ville=$B200,ROW(ville)-1,""),COUNTIF($B$2:$B200,$B200))),"")}
