Workbook
Name bdproduit: OFFSET(Feuil1!$B$5:$M$5,,,ROWS(produit))
Name dept: Feuil1!$A$4
Name produit: OFFSET(Feuil1!$A$5,,,COUNT(Feuil1!$B:$B))

Sheet Feuil1
A1: Ce que j'ai:
B3: janvier | C3: février | D3: mars | E3: avril | F3: mai | G3: juin | H3: juillet | I3: août | J3: septembre | K3: octobre | L3: novembre | M3: décembre
A5: Prod A | B5: 15 | C5: 12 | D5: =+B5+C5/2 -> 21 | E5: =SUM(B5:D5)/3 -> 16 | F5: =(+C5+E5)/3 -> 9.3333333 | G5: 9 | H5: 6 | I5: =+G5+H5/2 -> 12 | J5: =SUM(G5:I5)/3 -> 9
A6: Prod B | B6: 8 | C6: 4 | D6: =+B6+C6/2 -> 10 | E6: =SUM(B6:D6)/3 -> 7.3333333 | F6: =(+C6+E6)/3 -> 3.7777778 | G6: 0 | H6: -4 | I6: =+G6+H6/2 -> -2 | J6: =SUM(G6:I6)/3 -> -2
A7: Prod C | B7: 7 | C7: 9 | D7: =+B7+C7/2 -> 11.5 | E7: =SUM(B7:D7)/3 -> 9.1666667 | F7: =(+C7+E7)/3 -> 6.0555556 | G7: 11 | H7: 13 | I7: =+G7+H7/2 -> 17.5 | J7: =SUM(G7:I7)/3 -> 13.833333
A8: Prod B | B8: 21 | C8: 16 | D8: =+B8+C8/2 -> 29 | E8: =SUM(B8:D8)/3 -> 22 | F8: =(+C8+E8)/3 -> 12.666667 | G8: 11 | H8: 6 | I8: =+G8+H8/2 -> 14 | J8: =SUM(G8:I8)/3 -> 10.333333
A9: Prod C | B9: 35 | C9: 21 | D9: =+B9+C9/2 -> 45.5 | E9: =SUM(B9:D9)/3 -> 33.833333 | F9: =(+C9+E9)/3 -> 18.277778 | G9: 7 | H9: -7 | I9: =+G9+H9/2 -> 3.5 | J9: =SUM(G9:I9)/3 -> 1.1666667
A10: Prod D | B10: 21 | C10: 30 | D10: =+B10+C10/2 -> 36 | E10: =SUM(B10:D10)/3 -> 29 | F10: =(+C10+E10)/3 -> 19.666667 | G10: 39 | H10: 48 | I10: =+G10+H10/2 -> 63 | J10: =SUM(G10:I10)/3 -> 50
A11: Prod A | B11: 16 | C11: 17 | D11: =+B11+C11/2 -> 24.5 | E11: =SUM(B11:D11)/3 -> 19.166667 | F11: =(+C11+E11)/3 -> 12.055556 | G11: 18 | H11: 19 | I11: =+G11+H11/2 -> 27.5 | J11: =SUM(G11:I11)/3 -> 21.5
A12: Prod B | B12: 9 | C12: 7 | D12: =+B12+C12/2 -> 12.5 | E12: =SUM(B12:D12)/3 -> 9.5 | F12: =(+C12+E12)/3 -> 5.5 | G12: 5 | H12: 3 | I12: =+G12+H12/2 -> 6.5 | J12: =SUM(G12:I12)/3 -> 4.8333333
A13: Prod E | B13: 4 | C13: 5 | D13: =+B13+C13/2 -> 6.5 | E13: =SUM(B13:D13)/3 -> 5.1666667 | F13: =(+C13+E13)/3 -> 3.3888889 | G13: 6 | H13: 7 | I13: =+G13+H13/2 -> 9.5 | J13: =SUM(G13:I13)/3 -> 7.5
A14: Prod B | B14: 12 | C14: 11 | D14: =+B14+C14/2 -> 17.5 | E14: =SUM(B14:D14)/3 -> 13.5 | F14: =(+C14+E14)/3 -> 8.1666667 | G14: 10 | H14: 9 | I14: =+G14+H14/2 -> 14.5 | J14: =SUM(G14:I14)/3 -> 11.166667

Sheet synhèse
A1: code | B1: nom reel (automatisé) | C1: janvier | D1: février | E1: mars | F1: avril | G1: mai | H1: juin | I1: juillet | J1: août | K1: septembre | L1: octobre | M1: novembre | N1: décembre
A2: {=IFERROR(OFFSET(dept,MATCH(0,COUNTIF(A$1:A1,produit),0),),"")} -> Prod A | B2: =IFERROR(VLOOKUP(A2,bdproduits!A:B,2,0),"") -> TULIPE1 | C2: =SUMIF(produit,$A2,Feuil1!B$5:B$1400) -> 31 | D2: =SUMIF(produit,$A2,Feuil1!C$5:C$1400) -> 29 | E2: =SUMIF(produit,$A2,Feuil1!D$5:D$1400) -> 45.5 | F2: =SUMIF(produit,$A2,Feuil1!E$5:E$1400) -> 35.166667 | G2: =SUMIF(produit,$A2,Feuil1!F$5:F$1400) -> 21.388889 | H2: =SUMIF(produit,$A2,Feuil1!G$5:G$1400) -> 27 | I2: =SUMIF(produit,$A2,Feuil1!H$5:H$1400) -> 25 | J2: =SUMIF(produit,$A2,Feuil1!I$5:I$1400) -> 39.5 | ... N2: =SUMIF(produit,$A2,Feuil1!M$5:M$1400) -> 0
A3: {=IFERROR(OFFSET(dept,MATCH(0,COUNTIF(A$1:A2,produit),0),),"")} -> Prod B | B3: =IFERROR(VLOOKUP(A3,bdproduits!A:B,2,0),"") -> TULIPE2 | C3: =SUMIF(produit,$A3,Feuil1!B$5:B$1400) -> 50 | D3: =SUMIF(produit,$A3,Feuil1!C$5:C$1400) -> 38 | E3: =SUMIF(produit,$A3,Feuil1!D$5:D$1400) -> 69 | F3: =SUMIF(produit,$A3,Feuil1!E$5:E$1400) -> 52.333333 | G3: =SUMIF(produit,$A3,Feuil1!F$5:F$1400) -> 30.111111 | H3: =SUMIF(produit,$A3,Feuil1!G$5:G$1400) -> 26 | I3: =SUMIF(produit,$A3,Feuil1!H$5:H$1400) -> 14 | J3: =SUMIF(produit,$A3,Feuil1!I$5:I$1400) -> 33 | ... N3: =SUMIF(produit,$A3,Feuil1!M$5:M$1400) -> 0
A4: {=IFERROR(OFFSET(dept,MATCH(0,COUNTIF(A$1:A3,produit),0),),"")} -> Prod C | B4: =IFERROR(VLOOKUP(A4,bdproduits!A:B,2,0),"") -> TULIPE3 | C4: =SUMIF(produit,$A4,Feuil1!B$5:B$1400) -> 42 | D4: =SUMIF(produit,$A4,Feuil1!C$5:C$1400) -> 30 | E4: =SUMIF(produit,$A4,Feuil1!D$5:D$1400) -> 57 | F4: =SUMIF(produit,$A4,Feuil1!E$5:E$1400) -> 43 | G4: =SUMIF(produit,$A4,Feuil1!F$5:F$1400) -> 24.333333 | H4: =SUMIF(produit,$A4,Feuil1!G$5:G$1400) -> 18 | I4: =SUMIF(produit,$A4,Feuil1!H$5:H$1400) -> 6 | J4: =SUMIF(produit,$A4,Feuil1!I$5:I$1400) -> 21 | ... N4: =SUMIF(produit,$A4,Feuil1!M$5:M$1400) -> 0
A5: {=IFERROR(OFFSET(dept,MATCH(0,COUNTIF(A$1:A4,produit),0),),"")} -> Prod D | B5: =IFERROR(VLOOKUP(A5,bdproduits!A:B,2,0),"") -> TULIPE4 | C5: =SUMIF(produit,$A5,Feuil1!B$5:B$1400) -> 21 | D5: =SUMIF(produit,$A5,Feuil1!C$5:C$1400) -> 30 | E5: =SUMIF(produit,$A5,Feuil1!D$5:D$1400) -> 36 | F5: =SUMIF(produit,$A5,Feuil1!E$5:E$1400) -> 29 | G5: =SUMIF(produit,$A5,Feuil1!F$5:F$1400) -> 19.666667 | H5: =SUMIF(produit,$A5,Feuil1!G$5:G$1400) -> 39 | I5: =SUMIF(produit,$A5,Feuil1!H$5:H$1400) -> 48 | J5: =SUMIF(produit,$A5,Feuil1!I$5:I$1400) -> 63 | ... N5: =SUMIF(produit,$A5,Feuil1!M$5:M$1400) -> 0
A6: {=IFERROR(OFFSET(dept,MATCH(0,COUNTIF(A$1:A5,produit),0),),"")} -> Prod E | B6: =IFERROR(VLOOKUP(A6,bdproduits!A:B,2,0),"") -> TULIPE5 | C6: =SUMIF(produit,$A6,Feuil1!B$5:B$1400) -> 4 | D6: =SUMIF(produit,$A6,Feuil1!C$5:C$1400) -> 5 | E6: =SUMIF(produit,$A6,Feuil1!D$5:D$1400) -> 6.5 | F6: =SUMIF(produit,$A6,Feuil1!E$5:E$1400) -> 5.1666667 | G6: =SUMIF(produit,$A6,Feuil1!F$5:F$1400) -> 3.3888889 | H6: =SUMIF(produit,$A6,Feuil1!G$5:G$1400) -> 6 | I6: =SUMIF(produit,$A6,Feuil1!H$5:H$1400) -> 7 | J6: =SUMIF(produit,$A6,Feuil1!I$5:I$1400) -> 9.5 | ... N6: =SUMIF(produit,$A6,Feuil1!M$5:M$1400) -> 0
A7: {=IFERROR(OFFSET(dept,MATCH(0,COUNTIF(A$1:A6,produit),0),),"")} | B7: =IFERROR(VLOOKUP(A7,bdproduits!A:B,2,0),"") | C7: =SUMIF(produit,$A7,Feuil1!B$5:B$1400) -> 0 | D7: =SUMIF(produit,$A7,Feuil1!C$5:C$1400) -> 0 | E7: =SUMIF(produit,$A7,Feuil1!D$5:D$1400) -> 0 | F7: =SUMIF(produit,$A7,Feuil1!E$5:E$1400) -> 0 | G7: =SUMIF(produit,$A7,Feuil1!F$5:F$1400) -> 0 | H7: =SUMIF(produit,$A7,Feuil1!G$5:G$1400) -> 0 | I7: =SUMIF(produit,$A7,Feuil1!H$5:H$1400) -> 0 | J7: =SUMIF(produit,$A7,Feuil1!I$5:I$1400) -> 0 | ... N7: =SUMIF(produit,$A7,Feuil1!M$5:M$1400) -> 0
A8: {=IFERROR(OFFSET(dept,MATCH(0,COUNTIF(A$1:A7,produit),0),),"")} | B8: =IFERROR(VLOOKUP(A8,bdproduits!A:B,2,0),"") | C8: =SUMIF(produit,$A8,Feuil1!B$5:B$1400) -> 0 | D8: =SUMIF(produit,$A8,Feuil1!C$5:C$1400) -> 0 | E8: =SUMIF(produit,$A8,Feuil1!D$5:D$1400) -> 0 | F8: =SUMIF(produit,$A8,Feuil1!E$5:E$1400) -> 0 | G8: =SUMIF(produit,$A8,Feuil1!F$5:F$1400) -> 0 | H8: =SUMIF(produit,$A8,Feuil1!G$5:G$1400) -> 0 | I8: =SUMIF(produit,$A8,Feuil1!H$5:H$1400) -> 0 | J8: =SUMIF(produit,$A8,Feuil1!I$5:I$1400) -> 0 | ... N8: =SUMIF(produit,$A8,Feuil1!M$5:M$1400) -> 0
A9: {=IFERROR(OFFSET(dept,MATCH(0,COUNTIF(A$1:A8,produit),0),),"")} | B9: =IFERROR(VLOOKUP(A9,bdproduits!A:B,2,0),"") | C9: =SUMIF(produit,$A9,Feuil1!B$5:B$1400) -> 0 | D9: =SUMIF(produit,$A9,Feuil1!C$5:C$1400) -> 0 | E9: =SUMIF(produit,$A9,Feuil1!D$5:D$1400) -> 0 | F9: =SUMIF(produit,$A9,Feuil1!E$5:E$1400) -> 0 | G9: =SUMIF(produit,$A9,Feuil1!F$5:F$1400) -> 0 | H9: =SUMIF(produit,$A9,Feuil1!G$5:G$1400) -> 0 | I9: =SUMIF(produit,$A9,Feuil1!H$5:H$1400) -> 0 | J9: =SUMIF(produit,$A9,Feuil1!I$5:I$1400) -> 0 | ... N9: =SUMIF(produit,$A9,Feuil1!M$5:M$1400) -> 0
A10: {=IFERROR(OFFSET(dept,MATCH(0,COUNTIF(A$1:A9,produit),0),),"")} | B10: =IFERROR(VLOOKUP(A10,bdproduits!A:B,2,0),"") | C10: =SUMIF(produit,$A10,Feuil1!B$5:B$1400) -> 0 | D10: =SUMIF(produit,$A10,Feuil1!C$5:C$1400) -> 0 | E10: =SUMIF(produit,$A10,Feuil1!D$5:D$1400) -> 0 | F10: =SUMIF(produit,$A10,Feuil1!E$5:E$1400) -> 0 | G10: =SUMIF(produit,$A10,Feuil1!F$5:F$1400) -> 0 | H10: =SUMIF(produit,$A10,Feuil1!G$5:G$1400) -> 0 | I10: =SUMIF(produit,$A10,Feuil1!H$5:H$1400) -> 0 | J10: =SUMIF(produit,$A10,Feuil1!I$5:I$1400) -> 0 | ... N10: =SUMIF(produit,$A10,Feuil1!M$5:M$1400) -> 0
A11: {=IFERROR(OFFSET(dept,MATCH(0,COUNTIF(A$1:A10,produit),0),),"")} | B11: =IFERROR(VLOOKUP(A11,bdproduits!A:B,2,0),"") | C11: =SUMIF(produit,$A11,Feuil1!B$5:B$1400) -> 0 | D11: =SUMIF(produit,$A11,Feuil1!C$5:C$1400) -> 0 | E11: =SUMIF(produit,$A11,Feuil1!D$5:D$1400) -> 0 | F11: =SUMIF(produit,$A11,Feuil1!E$5:E$1400) -> 0 | G11: =SUMIF(produit,$A11,Feuil1!F$5:F$1400) -> 0 | H11: =SUMIF(produit,$A11,Feuil1!G$5:G$1400) -> 0 | I11: =SUMIF(produit,$A11,Feuil1!H$5:H$1400) -> 0 | J11: =SUMIF(produit,$A11,Feuil1!I$5:I$1400) -> 0 | ... N11: =SUMIF(produit,$A11,Feuil1!M$5:M$1400) -> 0
A12: {=IFERROR(OFFSET(dept,MATCH(0,COUNTIF(A$1:A11,produit),0),),"")} | B12: =IFERROR(VLOOKUP(A12,bdproduits!A:B,2,0),"") | C12: =SUMIF(produit,$A12,Feuil1!B$5:B$1400) -> 0 | D12: =SUMIF(produit,$A12,Feuil1!C$5:C$1400) -> 0 | E12: =SUMIF(produit,$A12,Feuil1!D$5:D$1400) -> 0 | F12: =SUMIF(produit,$A12,Feuil1!E$5:E$1400) -> 0 | G12: =SUMIF(produit,$A12,Feuil1!F$5:F$1400) -> 0 | H12: =SUMIF(produit,$A12,Feuil1!G$5:G$1400) -> 0 | I12: =SUMIF(produit,$A12,Feuil1!H$5:H$1400) -> 0 | J12: =SUMIF(produit,$A12,Feuil1!I$5:I$1400) -> 0 | ... N12: =SUMIF(produit,$A12,Feuil1!M$5:M$1400) -> 0
A13: {=IFERROR(OFFSET(dept,MATCH(0,COUNTIF(A$1:A12,produit),0),),"")} | B13: =IFERROR(VLOOKUP(A13,bdproduits!A:B,2,0),"") | C13: =SUMIF(produit,$A13,Feuil1!B$5:B$1400) -> 0 | D13: =SUMIF(produit,$A13,Feuil1!C$5:C$1400) -> 0 | E13: =SUMIF(produit,$A13,Feuil1!D$5:D$1400) -> 0 | F13: =SUMIF(produit,$A13,Feuil1!E$5:E$1400) -> 0 | G13: =SUMIF(produit,$A13,Feuil1!F$5:F$1400) -> 0 | H13: =SUMIF(produit,$A13,Feuil1!G$5:G$1400) -> 0 | I13: =SUMIF(produit,$A13,Feuil1!H$5:H$1400) -> 0 | J13: =SUMIF(produit,$A13,Feuil1!I$5:I$1400) -> 0 | ... N13: =SUMIF(produit,$A13,Feuil1!M$5:M$1400) -> 0
... A52: {=IFERROR(OFFSET(dept,MATCH(0,COUNTIF(A$1:A51,produit),0),),"")} | B52: =IFERROR(VLOOKUP(A52,bdproduits!A:B,2,0),"") | C52: =SUMIF(produit,$A52,Feuil1!B$5:B$1400) -> 0 | D52: =SUMIF(produit,$A52,Feuil1!C$5:C$1400) -> 0 | E52: =SUMIF(produit,$A52,Feuil1!D$5:D$1400) -> 0 | F52: =SUMIF(produit,$A52,Feuil1!E$5:E$1400) -> 0 | G52: =SUMIF(produit,$A52,Feuil1!F$5:F$1400) -> 0 | H52: =SUMIF(produit,$A52,Feuil1!G$5:G$1400) -> 0 | I52: =SUMIF(produit,$A52,Feuil1!H$5:H$1400) -> 0 | J52: =SUMIF(produit,$A52,Feuil1!I$5:I$1400) -> 0 | ... N52: =SUMIF(produit,$A52,Feuil1!M$5:M$1400) -> 0

Sheet bdproduits
A1: CODE | B1: NOM REEL
A2: Prod A | B2: TULIPE1
A3: Prod B | B3: TULIPE2
A4: Prod C | B4: TULIPE3 | F4: cette feuille est a renseigner manuellement
A5: Prod D | B5: TULIPE4
A6: Prod E | B6: TULIPE5
A7: Prod F | B7: TULIPE6
A8: Prod G | B8: TULIPE7
A9: Prod H | B9: TULIPE8
A10: Prod I | B10: TULIPE9
A11: Prod J | B11: TULIPE10
A12: Prod k | B12: TULIPE11
A13: Prod L | B13: TULIPE12
A14: Prod M | B14: TULIPE13
A15: Prod N | B15: TULIPE14
A16: Prod O | B16: TULIPE15
... A18: Prod Q | B18: TULIPE17
