Workbook
Name liste: OFFSET(Feuil1!$M$2,,,COUNTIF(Feuil1!$M:$M,"><"))

Sheet Feuil1
A1: Typologie | B1: Famille | C1: Produits | D1: Cat | E1: MC | F1: Numéro | G1: Habilitation
A2: C1 profil risque 1 (quasi nul) | B2: Famille 1 | C2: produit 1 | M2: {=OFFSET(A$2,MATCH(0,COUNTIF(M$1:M1,Tableau1[Typologie]),0),)} -> C1 profil risque 1 (quasi nul)
A3: C1 profil risque 1 (quasi nul) | B3: Famille 2 | C3: produit 2 | D3: x | F3: 1 | M3: {=OFFSET(A$2,MATCH(0,COUNTIF(M$1:M2,Tableau1[Typologie]),0),)} -> C1 profil risque 2 (risque limité en )
A4: C1 profil risque 1 (quasi nul) | B4: Famille 3 | C4: produit 3 | M4: {=OFFSET(A$2,MATCH(0,COUNTIF(M$1:M3,Tableau1[Typologie]),0),)} -> C1 profil risque 3 (risque maximum investi )
A5: C1 profil risque 1 (quasi nul) | B5: Famille 4 | C5: produit 4 | M5: {=OFFSET(A$2,MATCH(0,COUNTIF(M$1:M4,Tableau1[Typologie]),0),)} -> C2 profil risque 3 (risque maximum investi )
A6: C1 profil risque 1 (quasi nul) | B6: Famille 5 | C6: produit 5 | M6: {=OFFSET(A$2,MATCH(0,COUNTIF(M$1:M5,Tableau1[Typologie]),0),)} -> #N/A
A7: C1 profil risque 2 (risque limité en ) | B7: Famille 6 | C7: produit 6 | D7: c1 | F7: 3 | G7: tous | M7: {=OFFSET(A$2,MATCH(0,COUNTIF(M$1:M6,Tableau1[Typologie]),0),)} -> #N/A
A8: C1 profil risque 2 (risque limité en ) | B8: Famille 6 | C8: produit 7 | D8: c1 | F8: 4 | G8: bleu | M8: {=OFFSET(A$2,MATCH(0,COUNTIF(M$1:M7,Tableau1[Typologie]),0),)} -> #N/A
A9: C1 profil risque 2 (risque limité en ) | B9: Famille 7 | C9: produit 8 | D9: C1 | F9: 4 | G9: tous | M9: {=OFFSET(A$2,MATCH(0,COUNTIF(M$1:M8,Tableau1[Typologie]),0),)} -> #N/A
A10: C1 profil risque 2 (risque limité en ) | B10: Famille 8 | C10: produit 9 | D10: C1 | G10: tous | M10: {=OFFSET(A$2,MATCH(0,COUNTIF(M$1:M9,Tableau1[Typologie]),0),)} -> #N/A
A11: C1 profil risque 2 (risque limité en ) | B11: Famille 9 | C11: produit 10 | D11: C1 | G11: tous | M11: {=OFFSET(A$2,MATCH(0,COUNTIF(M$1:M10,Tableau1[Typologie]),0),)} -> #N/A
A12: C1 profil risque 2 (risque limité en ) | B12: Famille 6 | C12: produit 11 | D12: C2 (à vérifier) | E12: MC (à définir) | F12: 4 | G12: à sortir de la matrice | M12: {=OFFSET(A$2,MATCH(0,COUNTIF(M$1:M11,Tableau1[Typologie]),0),)} -> #N/A
A13: C1 profil risque 2 (risque limité en ) | B13: Famille 6 | C13: produit 12 | D13: C2 | E13: MC (à définir) | F13: 4 | G13: tous | M13: {=OFFSET(A$2,MATCH(0,COUNTIF(M$1:M12,Tableau1[Typologie]),0),)} -> #N/A
A14: C1 profil risque 2 (risque limité en ) | B14: Famille 10 | C14: produit 13 | D14: C2 (à vérifier) | E14: MC (à définir) | F14: 4 | G14: à sortir de la matrice | M14: {=OFFSET(A$2,MATCH(0,COUNTIF(M$1:M13,Tableau1[Typologie]),0),)} -> #N/A
A15: C1 profil risque 2 (risque limité en ) | B15: Famille 10 | C15: produit 14 | D15: C2 | E15: MC (à définir) | F15: 4 | G15: tous
A16: C1 profil risque 2 (risque limité en ) | B16: Famille 10 | C16: produit 15 | D16: C2 | E16: MC (à définir) | F16: 5 | G16: à sortir de la matrice
A17: C1 profil risque 2 (risque limité en ) | B17: Famille 10 | C17: produit 16 | D17: C2 | E17: MC (à définir) | F17: 5 | G17: tous
A18: C1 profil risque 2 (risque limité en ) | B18: Famille 10 | C18: produit 17 | D18: C2 | E18: MC (à définir) | F18: 6 | G18: GCP-DA-DAA-bleu
A19: C1 profil risque 2 (risque limité en ) | B19: Famille 10 | C19: produit 18 | D19: NC | E19: MC | F19: 5 | G19: bleu
A20: C1 profil risque 2 (risque limité en ) | B20: Famille 10 | C20: produit 19 | D20: NC | E20: MC | F20: 4 | G20: bleu
A21: C1 profil risque 2 (risque limité en ) | B21: Famille 10 | C21: produit 20 | D21: NC | E21: MC | F21: 4 | G21: bleu
A22: C1 profil risque 2 (risque limité en ) | B22: Famille 10 | C22: produit 21 | D22: NC | E22: MC | F22: 3 | G22: bleu
A23: C1 profil risque 2 (risque limité en ) | B23: Famille 10 | C23: produit 22 | D23: NC | E23: MC | F23: 6 | G23: bleu
A24: C1 profil risque 2 (risque limité en ) | B24: Famille 10 | C24: produit 23 | D24: NC | E24: MC | F24: 4 | G24: bleu
A25: C1 profil risque 2 (risque limité en ) | B25: Famille 10 | C25: produit 24 | D25: NC | E25: MC | F25: 4 | G25: bleu
A26: C1 profil risque 3 (risque maximum investi ) | B26: Famille 11 | C26: produit 25 | D26: NC | E26: MC | F26: 6 | G26: GCP-DA-DAA-bleu
... A45: C1 profil risque 3 (risque maximum investi ) | B45: Famille 11 | C45: produit 44 | D45: NC | E45: MC | F45: 6 | G45: bleu
A46: C1 profil risque 3 (risque maximum investi ) | B46: Famille 12 | C46: produit 45 | E46: MC
A47: C1 profil risque 3 (risque maximum investi ) | B47: Famille 13 | C47: produit 46 | E47: MC
A48: C2 profil risque 3 (risque maximum investi ) | B48: Famille 14 | C48: produit 47 | D48: C2 | E48: MC | G48: bleu
A49: C2 profil risque 3 (risque maximum investi ) | B49: Famille 15 | C49: produit 48 | E49: MC
A50: C2 profil risque 3 (risque maximum investi ) | B50: Famille 16 | C50: produit 49 | E50: MC

Sheet Feuil2
D7: Produits possibles | E7: Habilitations nécessaires
B8: Typologie : | C8: C1 profil risque 3 (risque maximum investi ) | D8: {=IFERROR(INDEX(Tableau1[[Produits ]],SMALL(IF((Tableau1[Typologie]=$C$8),ROW(Tableau1[Typologie])-1),ROW($A1))),"")} -> produit 25 | E8: =IFERROR(IF(INDEX(Tableau1[Habilitation],MATCH(Feuil2!D8,Tableau1[[Produits ]],0))=0,"sans",INDEX(Tableau1[Habilitation],MATCH(Feuil2!D8,Tableau1[[Produits ]],0))),"") -> GCP-DA-DAA-bleu
D9: {=IFERROR(INDEX(Tableau1[[Produits ]],SMALL(IF((Tableau1[Typologie]=$C$8),ROW(Tableau1[Typologie])-1),ROW($A2))),"")} -> produit 26 | E9: =IFERROR(IF(INDEX(Tableau1[Habilitation],MATCH(Feuil2!D9,Tableau1[[Produits ]],0))=0,"sans",INDEX(Tableau1[Habilitation],MATCH(Feuil2!D9,Tableau1[[Produits ]],0))),"") -> tous
D10: {=IFERROR(INDEX(Tableau1[[Produits ]],SMALL(IF((Tableau1[Typologie]=$C$8),ROW(Tableau1[Typologie])-1),ROW($A3))),"")} -> produit 27 | E10: =IFERROR(IF(INDEX(Tableau1[Habilitation],MATCH(Feuil2!D10,Tableau1[[Produits ]],0))=0,"sans",INDEX(Tableau1[Habilitation],MATCH(Feuil2!D10,Tableau1[[Produits ]],0))),"") -> tous
D11: {=IFERROR(INDEX(Tableau1[[Produits ]],SMALL(IF((Tableau1[Typologie]=$C$8),ROW(Tableau1[Typologie])-1),ROW($A4))),"")} -> produit 28 | E11: =IFERROR(IF(INDEX(Tableau1[Habilitation],MATCH(Feuil2!D11,Tableau1[[Produits ]],0))=0,"sans",INDEX(Tableau1[Habilitation],MATCH(Feuil2!D11,Tableau1[[Produits ]],0))),"") -> GCP-DA-DAA-bleu
D12: {=IFERROR(INDEX(Tableau1[[Produits ]],SMALL(IF((Tableau1[Typologie]=$C$8),ROW(Tableau1[Typologie])-1),ROW($A5))),"")} -> produit 29 | E12: =IFERROR(IF(INDEX(Tableau1[Habilitation],MATCH(Feuil2!D12,Tableau1[[Produits ]],0))=0,"sans",INDEX(Tableau1[Habilitation],MATCH(Feuil2!D12,Tableau1[[Produits ]],0))),"") -> GCP-DA-DAA-bleu
D13: {=IFERROR(INDEX(Tableau1[[Produits ]],SMALL(IF((Tableau1[Typologie]=$C$8),ROW(Tableau1[Typologie])-1),ROW($A6))),"")} -> produit 30 | E13: =IFERROR(IF(INDEX(Tableau1[Habilitation],MATCH(Feuil2!D13,Tableau1[[Produits ]],0))=0,"sans",INDEX(Tableau1[Habilitation],MATCH(Feuil2!D13,Tableau1[[Produits ]],0))),"") -> GCP-DA-DAA-bleu
D14: {=IFERROR(INDEX(Tableau1[[Produits ]],SMALL(IF((Tableau1[Typologie]=$C$8),ROW(Tableau1[Typologie])-1),ROW($A7))),"")} -> produit 31 | E14: =IFERROR(IF(INDEX(Tableau1[Habilitation],MATCH(Feuil2!D14,Tableau1[[Produits ]],0))=0,"sans",INDEX(Tableau1[Habilitation],MATCH(Feuil2!D14,Tableau1[[Produits ]],0))),"") -> GCP-DA-DAA-bleu
D15: {=IFERROR(INDEX(Tableau1[[Produits ]],SMALL(IF((Tableau1[Typologie]=$C$8),ROW(Tableau1[Typologie])-1),ROW($A8))),"")} -> produit 32 | E15: =IFERROR(IF(INDEX(Tableau1[Habilitation],MATCH(Feuil2!D15,Tableau1[[Produits ]],0))=0,"sans",INDEX(Tableau1[Habilitation],MATCH(Feuil2!D15,Tableau1[[Produits ]],0))),"") -> bleu
D16: {=IFERROR(INDEX(Tableau1[[Produits ]],SMALL(IF((Tableau1[Typologie]=$C$8),ROW(Tableau1[Typologie])-1),ROW($A9))),"")} -> produit 33 | E16: =IFERROR(IF(INDEX(Tableau1[Habilitation],MATCH(Feuil2!D16,Tableau1[[Produits ]],0))=0,"sans",INDEX(Tableau1[Habilitation],MATCH(Feuil2!D16,Tableau1[[Produits ]],0))),"") -> bleu
D17: {=IFERROR(INDEX(Tableau1[[Produits ]],SMALL(IF((Tableau1[Typologie]=$C$8),ROW(Tableau1[Typologie])-1),ROW($A10))),"")} -> produit 34 | E17: =IFERROR(IF(INDEX(Tableau1[Habilitation],MATCH(Feuil2!D17,Tableau1[[Produits ]],0))=0,"sans",INDEX(Tableau1[Habilitation],MATCH(Feuil2!D17,Tableau1[[Produits ]],0))),"") -> bleu
D18: {=IFERROR(INDEX(Tableau1[[Produits ]],SMALL(IF((Tableau1[Typologie]=$C$8),ROW(Tableau1[Typologie])-1),ROW($A11))),"")} -> produit 35 | E18: =IFERROR(IF(INDEX(Tableau1[Habilitation],MATCH(Feuil2!D18,Tableau1[[Produits ]],0))=0,"sans",INDEX(Tableau1[Habilitation],MATCH(Feuil2!D18,Tableau1[[Produits ]],0))),"") -> bleu
D19: {=IFERROR(INDEX(Tableau1[[Produits ]],SMALL(IF((Tableau1[Typologie]=$C$8),ROW(Tableau1[Typologie])-1),ROW($A12))),"")} -> produit 36 | E19: =IFERROR(IF(INDEX(Tableau1[Habilitation],MATCH(Feuil2!D19,Tableau1[[Produits ]],0))=0,"sans",INDEX(Tableau1[Habilitation],MATCH(Feuil2!D19,Tableau1[[Produits ]],0))),"") -> bleu
D20: {=IFERROR(INDEX(Tableau1[[Produits ]],SMALL(IF((Tableau1[Typologie]=$C$8),ROW(Tableau1[Typologie])-1),ROW($A13))),"")} -> produit 37 | E20: =IFERROR(IF(INDEX(Tableau1[Habilitation],MATCH(Feuil2!D20,Tableau1[[Produits ]],0))=0,"sans",INDEX(Tableau1[Habilitation],MATCH(Feuil2!D20,Tableau1[[Produits ]],0))),"") -> bleu
... D30: {=IFERROR(INDEX(Tableau1[[Produits ]],SMALL(IF((Tableau1[Typologie]=$C$8),ROW(Tableau1[Typologie])-1),ROW($A23))),"")} | E30: =IFERROR(IF(INDEX(Tableau1[Habilitation],MATCH(Feuil2!D30,Tableau1[[Produits ]],0))=0,"sans",INDEX(Tableau1[Habilitation],MATCH(Feuil2!D30,Tableau1[[Produits ]],0))),"")

Sheet Feuil3
