Workbook

Sheet Feuil1
A1: Client | B1: Référence article | C1: Quantité livrée
A2: Thomas | B2: 101-147 | C2: =INDEX(Feuil2!B$2:B$20,MATCH(A2&B2,Feuil2!D$2:D$20,0)+1) -> 576
A3: Lucas | B3: 101-157 | C3: =INDEX(Feuil2!B$2:B$20,MATCH(A3&B3,Feuil2!D$2:D$20,0)+1) -> 471 | D3: J'aimerai que les quantitées livrées se mette automatiquement grâce à l'export du logiciel comptable (Voir feuil2) cependant il faut une formule qui se base sur 2 critères puisque les clients achetes les mêmes références donc il me faudrait une formule sur les critères suivant le client ainsi que la référence article
A4: Mathieu | B4: 101-147 | C4: =INDEX(Feuil2!B$2:B$20,MATCH(A4&B4,Feuil2!D$2:D$20,0)+1) -> 360
A5: Cécile | B5: 101-147 | C5: =INDEX(Feuil2!B$2:B$20,MATCH(A5&B5,Feuil2!D$2:D$20,0)+1) -> 5376
A6: Caroline | B6: 800002279 | C6: =INDEX(Feuil2!B$2:B$20,MATCH(A6&B6,Feuil2!D$2:D$20,0)+1) -> 1340
A7: Thomas | B7: 101-228 | C7: =INDEX(Feuil2!B$2:B$20,MATCH(A7&B7,Feuil2!D$2:D$20,0)+1) -> 600
A8: Cécile | B8: 800002094 | C8: =INDEX(Feuil2!B$2:B$20,MATCH(A8&B8,Feuil2!D$2:D$20,0)+1) -> 2640

Sheet Feuil2
A1: Étiquettes de lignes | B1: Somme de Quantité livrée | C1: 1
A2: Thomas | B2: 1176 | C2: =MAX(C1,IF(COUNT(MID(A2,ROW($1:$20),1)*1)=0,ROW(A1),0)) -> 1 | D2: =INDEX(A$2:A$20,C2)&A2 -> ThomasThomas
A3: 101-147 | C3: =MAX(C2,IF(COUNT(MID(A3,ROW($1:$20),1)*1)=0,ROW(A2),0)) -> 1 | D3: =INDEX(A$2:A$20,C3)&A3 -> Thomas101-147
A4: 6 (Prix de l'article) | B4: 576 | C4: =MAX(C3,IF(COUNT(MID(A4,ROW($1:$20),1)*1)=0,ROW(A3),0)) -> 1 | D4: =INDEX(A$2:A$20,C4)&A4 -> Thomas6 (Prix de l'article)
A5: 101-228 | C5: =MAX(C4,IF(COUNT(MID(A5,ROW($1:$20),1)*1)=0,ROW(A4),0)) -> 1 | D5: =INDEX(A$2:A$20,C5)&A5 -> Thomas101-228
A6: 6.694 | B6: 600 | C6: =MAX(C5,IF(COUNT(MID(A6,ROW($1:$20),1)*1)=0,ROW(A5),0)) -> 1 | D6: =INDEX(A$2:A$20,C6)&A6 -> Thomas6,694
A7: Lucas | B7: 471 | C7: =MAX(C6,IF(COUNT(MID(A7,ROW($1:$20),1)*1)=0,ROW(A6),0)) -> 6 | D7: =INDEX(A$2:A$20,C7)&A7 -> LucasLucas
A8: 101-157 | C8: =MAX(C7,IF(COUNT(MID(A8,ROW($1:$20),1)*1)=0,ROW(A7),0)) -> 6 | D8: =INDEX(A$2:A$20,C8)&A8 -> Lucas101-157
A9: 6 | B9: 471 | C9: =MAX(C8,IF(COUNT(MID(A9,ROW($1:$20),1)*1)=0,ROW(A8),0)) -> 6 | D9: =INDEX(A$2:A$20,C9)&A9 -> Lucas6
A10: Mathieu | B10: 360 | C10: =MAX(C9,IF(COUNT(MID(A10,ROW($1:$20),1)*1)=0,ROW(A9),0)) -> 9 | D10: =INDEX(A$2:A$20,C10)&A10 -> MathieuMathieu
A11: 101-147 | C11: =MAX(C10,IF(COUNT(MID(A11,ROW($1:$20),1)*1)=0,ROW(A10),0)) -> 9 | D11: =INDEX(A$2:A$20,C11)&A11 -> Mathieu101-147
A12: 6 | B12: 360 | C12: =MAX(C11,IF(COUNT(MID(A12,ROW($1:$20),1)*1)=0,ROW(A11),0)) -> 9 | D12: =INDEX(A$2:A$20,C12)&A12 -> Mathieu6
A13: Cécile | B13: 8016 | C13: =MAX(C12,IF(COUNT(MID(A13,ROW($1:$20),1)*1)=0,ROW(A12),0)) -> 12 | D13: =INDEX(A$2:A$20,C13)&A13 -> CécileCécile
A14: 101-147 | C14: =MAX(C13,IF(COUNT(MID(A14,ROW($1:$20),1)*1)=0,ROW(A13),0)) -> 12 | D14: =INDEX(A$2:A$20,C14)&A14 -> Cécile101-147
A15: 6 | B15: 5376 | C15: =MAX(C14,IF(COUNT(MID(A15,ROW($1:$20),1)*1)=0,ROW(A14),0)) -> 12 | D15: =INDEX(A$2:A$20,C15)&A15 -> Cécile6
A16: 800002094 | C16: =MAX(C15,IF(COUNT(MID(A16,ROW($1:$20),1)*1)=0,ROW(A15),0)) -> 12 | D16: =INDEX(A$2:A$20,C16)&A16 -> Cécile800002094
A17: 5.226 | B17: 2640 | C17: =MAX(C16,IF(COUNT(MID(A17,ROW($1:$20),1)*1)=0,ROW(A16),0)) -> 12 | D17: =INDEX(A$2:A$20,C17)&A17 -> Cécile5,226
A18: caroline | B18: 1340 | C18: =MAX(C17,IF(COUNT(MID(A18,ROW($1:$20),1)*1)=0,ROW(A17),0)) -> 17 | D18: =INDEX(A$2:A$20,C18)&A18 -> carolinecaroline
A19: 800002279 | C19: =MAX(C18,IF(COUNT(MID(A19,ROW($1:$20),1)*1)=0,ROW(A18),0)) -> 17 | D19: =INDEX(A$2:A$20,C19)&A19 -> caroline800002279
A20: 3.7489 | B20: 1340 | C20: =MAX(C19,IF(COUNT(MID(A20,ROW($1:$20),1)*1)=0,ROW(A19),0)) -> 17 | D20: =INDEX(A$2:A$20,C20)&A20 -> caroline3,7489
C21: =MAX(C20,IF(COUNT(MID(A21,ROW($1:$20),1)*1)=0,ROW(A20),0)) -> 20 | D21: =INDEX(A$2:A$20,C21)&A21 -> #REF!
C22: =MAX(C21,IF(COUNT(MID(A22,ROW($1:$20),1)*1)=0,ROW(A21),0)) -> 21 | D22: =INDEX(A$2:A$20,C22)&A22 -> #REF!
C23: =MAX(C22,IF(COUNT(MID(A23,ROW($1:$20),1)*1)=0,ROW(A22),0)) -> 22 | D23: =INDEX(A$2:A$20,C23)&A23 -> #REF!
C24: =MAX(C23,IF(COUNT(MID(A24,ROW($1:$20),1)*1)=0,ROW(A23),0)) -> 23 | D24: =INDEX(A$2:A$20,C24)&A24 -> #REF!
C25: =MAX(C24,IF(COUNT(MID(A25,ROW($1:$20),1)*1)=0,ROW(A24),0)) -> 24 | D25: =INDEX(A$2:A$20,C25)&A25 -> #REF!
C26: =MAX(C25,IF(COUNT(MID(A26,ROW($1:$20),1)*1)=0,ROW(A25),0)) -> 25 | D26: =INDEX(A$2:A$20,C26)&A26 -> #REF!
C27: =MAX(C26,IF(COUNT(MID(A27,ROW($1:$20),1)*1)=0,ROW(A26),0)) -> 26 | D27: =INDEX(A$2:A$20,C27)&A27 -> #REF!
C28: =MAX(C27,IF(COUNT(MID(A28,ROW($1:$20),1)*1)=0,ROW(A27),0)) -> 27 | D28: =INDEX(A$2:A$20,C28)&A28 -> #REF!
C29: =MAX(C28,IF(COUNT(MID(A29,ROW($1:$20),1)*1)=0,ROW(A28),0)) -> 28 | D29: =INDEX(A$2:A$20,C29)&A29 -> #REF!
C30: =MAX(C29,IF(COUNT(MID(A30,ROW($1:$20),1)*1)=0,ROW(A29),0)) -> 29 | D30: =INDEX(A$2:A$20,C30)&A30 -> #REF!
C31: =MAX(C30,IF(COUNT(MID(A31,ROW($1:$20),1)*1)=0,ROW(A30),0)) -> 30 | D31: =INDEX(A$2:A$20,C31)&A31 -> #REF!
C32: =MAX(C31,IF(COUNT(MID(A32,ROW($1:$20),1)*1)=0,ROW(A31),0)) -> 31 | D32: =INDEX(A$2:A$20,C32)&A32 -> #REF!
... C34: =MAX(C33,IF(COUNT(MID(A34,ROW($1:$20),1)*1)=0,ROW(A33),0)) -> 33 | D34: =INDEX(A$2:A$20,C34)&A34 -> #REF!

Sheet Feuil3
