Workbook

Sheet PROJETS EN COURS
A1: NUM | B1: INTERV_NOM | C1: D_DEBUT | D1: D_FIN | E1: CATEGORIE | J1: Réalisation | K1: Réalisation
A2: 966854 | B2: Arnaud | C2: 42656.748 | D2: 42811.833 | E2: Réalisation | F2: =(YEAR(C2)&IF(WEEKNUM(C2)<10,0&WEEKNUM(C2),WEEKNUM(C2)))*1 -> 201642 | G2: =(YEAR(D2)&IF(WEEKNUM(D2)<10,0&WEEKNUM(D2),WEEKNUM(D2)))*1 -> 201711 | I2: {=OFFSET(B$1,MATCH(0,COUNTIF(I$1:I1,B$2:B$72),0),)} -> Arnaud | J2: {=MIN(IF(($B$2:$B$72=I2)*($E$2:$E$72=J$1),F$2:F$72,""))} -> 201550 | K2: {=MAX(IF(($B$2:$B$72=$I2)*($E$2:$E$72=K$1),G$2:G$72,""))} -> 201752
A3: 694495 | B3: Yves | C3: 42663.526 | D3: 42817.833 | E3: Réalisation | F3: =(YEAR(C3)&IF(WEEKNUM(C3)<10,0&WEEKNUM(C3),WEEKNUM(C3)))*1 -> 201643 | G3: =(YEAR(D3)&IF(WEEKNUM(D3)<10,0&WEEKNUM(D3),WEEKNUM(D3)))*1 -> 201712 | I3: {=OFFSET(B$1,MATCH(0,COUNTIF(I$1:I2,B$2:B$72),0),)} -> Yves | J3: {=MIN(IF(($B$2:$B$72=I3)*($E$2:$E$72=J$1),F$2:F$72,""))} -> 201442 | K3: {=MAX(IF(($B$2:$B$72=$I3)*($E$2:$E$72=K$1),G$2:G$72,""))} -> 201719
A4: 316314 | B4: Alexandre | C4: 42662.488 | D4: 42755.75 | E4: Réalisation | F4: =(YEAR(C4)&IF(WEEKNUM(C4)<10,0&WEEKNUM(C4),WEEKNUM(C4)))*1 -> 201643 | G4: =(YEAR(D4)&IF(WEEKNUM(D4)<10,0&WEEKNUM(D4),WEEKNUM(D4)))*1 -> 201703 | I4: {=OFFSET(B$1,MATCH(0,COUNTIF(I$1:I3,B$2:B$72),0),)} -> Alexandre | J4: {=MIN(IF(($B$2:$B$72=I4)*($E$2:$E$72=J$1),F$2:F$72,""))} -> 201631 | K4: {=MAX(IF(($B$2:$B$72=$I4)*($E$2:$E$72=K$1),G$2:G$72,""))} -> 201715
A5: 326443 | B5: Pierre | C5: 42678.691 | D5: 42793.75 | E5: Réalisation | F5: =(YEAR(C5)&IF(WEEKNUM(C5)<10,0&WEEKNUM(C5),WEEKNUM(C5)))*1 -> 201645 | G5: =(YEAR(D5)&IF(WEEKNUM(D5)<10,0&WEEKNUM(D5),WEEKNUM(D5)))*1 -> 201709 | I5: {=OFFSET(B$1,MATCH(0,COUNTIF(I$1:I4,B$2:B$72),0),)} -> Pierre | J5: {=MIN(IF(($B$2:$B$72=I5)*($E$2:$E$72=J$1),F$2:F$72,""))} -> 201617 | K5: {=MAX(IF(($B$2:$B$72=$I5)*($E$2:$E$72=K$1),G$2:G$72,""))} -> 201752
A6: 426456 | B6: Pierre | C6: 42668.481 | D6: 42807.75 | E6: Réalisation | F6: =(YEAR(C6)&IF(WEEKNUM(C6)<10,0&WEEKNUM(C6),WEEKNUM(C6)))*1 -> 201644 | G6: =(YEAR(D6)&IF(WEEKNUM(D6)<10,0&WEEKNUM(D6),WEEKNUM(D6)))*1 -> 201711 | I6: {=OFFSET(B$1,MATCH(0,COUNTIF(I$1:I5,B$2:B$72),0),)} -> Paul | J6: {=MIN(IF(($B$2:$B$72=I6)*($E$2:$E$72=J$1),F$2:F$72,""))} -> 201605 | K6: {=MAX(IF(($B$2:$B$72=$I6)*($E$2:$E$72=K$1),G$2:G$72,""))} -> 201716
A7: 991618 | B7: Arnaud | C7: 42668.463 | D7: 42766.75 | E7: Réalisation | F7: =(YEAR(C7)&IF(WEEKNUM(C7)<10,0&WEEKNUM(C7),WEEKNUM(C7)))*1 -> 201644 | G7: =(YEAR(D7)&IF(WEEKNUM(D7)<10,0&WEEKNUM(D7),WEEKNUM(D7)))*1 -> 201705 | I7: {=OFFSET(B$1,MATCH(0,COUNTIF(I$1:I6,B$2:B$72),0),)} -> Nicolas | J7: {=MIN(IF(($B$2:$B$72=I7)*($E$2:$E$72=J$1),F$2:F$72,""))} -> 201610 | K7: {=MAX(IF(($B$2:$B$72=$I7)*($E$2:$E$72=K$1),G$2:G$72,""))} -> 201709
A8: 926821 | B8: Arnaud | C8: 42699.486 | D8: 42810.75 | E8: Réalisation | F8: =(YEAR(C8)&IF(WEEKNUM(C8)<10,0&WEEKNUM(C8),WEEKNUM(C8)))*1 -> 201648 | G8: =(YEAR(D8)&IF(WEEKNUM(D8)<10,0&WEEKNUM(D8),WEEKNUM(D8)))*1 -> 201711 | I8: {=OFFSET(B$1,MATCH(0,COUNTIF(I$1:I7,B$2:B$72),0),)} -> Eloge | J8: {=MIN(IF(($B$2:$B$72=I8)*($E$2:$E$72=J$1),F$2:F$72,""))} -> 201653 | K8: {=MAX(IF(($B$2:$B$72=$I8)*($E$2:$E$72=K$1),G$2:G$72,""))} -> 201716
A9: b32854 | B9: Pierre | C9: 42676.683 | D9: 42769.833 | E9: Réalisation | F9: =(YEAR(C9)&IF(WEEKNUM(C9)<10,0&WEEKNUM(C9),WEEKNUM(C9)))*1 -> 201645 | G9: =(YEAR(D9)&IF(WEEKNUM(D9)<10,0&WEEKNUM(D9),WEEKNUM(D9)))*1 -> 201705 | I9: {=OFFSET(B$1,MATCH(0,COUNTIF(I$1:I8,B$2:B$72),0),)} -> #N/A
A10: 855951 | B10: Pierre | C10: 42691.581 | D10: 42782.917 | E10: Réalisation | F10: =(YEAR(C10)&IF(WEEKNUM(C10)<10,0&WEEKNUM(C10),WEEKNUM(C10)))*1 -> 201647 | G10: =(YEAR(D10)&IF(WEEKNUM(D10)<10,0&WEEKNUM(D10),WEEKNUM(D10)))*1 -> 201707 | I10: {=OFFSET(B$1,MATCH(0,COUNTIF(I$1:I9,B$2:B$72),0),)} -> #N/A
A11: 374368 | B11: Yves | C11: 41928.668 | D11: 42853.958 | E11: Réalisation | F11: =(YEAR(C11)&IF(WEEKNUM(C11)<10,0&WEEKNUM(C11),WEEKNUM(C11)))*1 -> 201442 | G11: =(YEAR(D11)&IF(WEEKNUM(D11)<10,0&WEEKNUM(D11),WEEKNUM(D11)))*1 -> 201717
A12: 614033 | B12: Paul | C12: 42682.596 | D12: 42778.917 | E12: Réalisation | F12: =(YEAR(C12)&IF(WEEKNUM(C12)<10,0&WEEKNUM(C12),WEEKNUM(C12)))*1 -> 201646 | G12: =(YEAR(D12)&IF(WEEKNUM(D12)<10,0&WEEKNUM(D12),WEEKNUM(D12)))*1 -> 201707
A13: a98108 | B13: Pierre | C13: 42676.682 | D13: 42817.75 | E13: Réalisation | F13: =(YEAR(C13)&IF(WEEKNUM(C13)<10,0&WEEKNUM(C13),WEEKNUM(C13)))*1 -> 201645 | G13: =(YEAR(D13)&IF(WEEKNUM(D13)<10,0&WEEKNUM(D13),WEEKNUM(D13)))*1 -> 201712
A14: 206285 | B14: Pierre | C14: 42681.717 | D14: 42737.75 | E14: Réalisation | F14: =(YEAR(C14)&IF(WEEKNUM(C14)<10,0&WEEKNUM(C14),WEEKNUM(C14)))*1 -> 201646 | G14: =(YEAR(D14)&IF(WEEKNUM(D14)<10,0&WEEKNUM(D14),WEEKNUM(D14)))*1 -> 201701
A15: 159715 | B15: Arnaud | C15: 42677.608 | D15: 42801.75 | E15: Réalisation | F15: =(YEAR(C15)&IF(WEEKNUM(C15)<10,0&WEEKNUM(C15),WEEKNUM(C15)))*1 -> 201645 | G15: =(YEAR(D15)&IF(WEEKNUM(D15)<10,0&WEEKNUM(D15),WEEKNUM(D15)))*1 -> 201710
A16: a65121 | B16: Paul | C16: 42678.698 | D16: 42762.75 | E16: Réalisation | F16: =(YEAR(C16)&IF(WEEKNUM(C16)<10,0&WEEKNUM(C16),WEEKNUM(C16)))*1 -> 201645 | G16: =(YEAR(D16)&IF(WEEKNUM(D16)<10,0&WEEKNUM(D16),WEEKNUM(D16)))*1 -> 201704
A17: 512317 | B17: Arnaud | C17: 42346.645 | D17: 43098.75 | E17: Réalisation | F17: =(YEAR(C17)&IF(WEEKNUM(C17)<10,0&WEEKNUM(C17),WEEKNUM(C17)))*1 -> 201550 | G17: =(YEAR(D17)&IF(WEEKNUM(D17)<10,0&WEEKNUM(D17),WEEKNUM(D17)))*1 -> 201752
A18: 984301 | B18: Paul | C18: 42398.61 | D18: 42794.958 | E18: Réalisation | F18: =(YEAR(C18)&IF(WEEKNUM(C18)<10,0&WEEKNUM(C18),WEEKNUM(C18)))*1 -> 201605 | G18: =(YEAR(D18)&IF(WEEKNUM(D18)<10,0&WEEKNUM(D18),WEEKNUM(D18)))*1 -> 201709
A19: 972119 | B19: Nicolas | C19: 42430.748 | D19: 42794.917 | E19: Réalisation | F19: =(YEAR(C19)&IF(WEEKNUM(C19)<10,0&WEEKNUM(C19),WEEKNUM(C19)))*1 -> 201610 | G19: =(YEAR(D19)&IF(WEEKNUM(D19)<10,0&WEEKNUM(D19),WEEKNUM(D19)))*1 -> 201709
A20: 668488 | B20: Pierre | C20: 42480.731 | D20: 43098.958 | E20: Réalisation | F20: =(YEAR(C20)&IF(WEEKNUM(C20)<10,0&WEEKNUM(C20),WEEKNUM(C20)))*1 -> 201617 | G20: =(YEAR(D20)&IF(WEEKNUM(D20)<10,0&WEEKNUM(D20),WEEKNUM(D20)))*1 -> 201752
A21: 972119 | B21: Nicolas | C21: 42438.437 | D21: 42766.75 | E21: Réalisation | F21: =(YEAR(C21)&IF(WEEKNUM(C21)<10,0&WEEKNUM(C21),WEEKNUM(C21)))*1 -> 201611 | G21: =(YEAR(D21)&IF(WEEKNUM(D21)<10,0&WEEKNUM(D21),WEEKNUM(D21)))*1 -> 201705
A22: 320561 | B22: Arnaud | C22: 42419.466 | D22: 42752.833 | E22: Réalisation | F22: =(YEAR(C22)&IF(WEEKNUM(C22)<10,0&WEEKNUM(C22),WEEKNUM(C22)))*1 -> 201608 | G22: =(YEAR(D22)&IF(WEEKNUM(D22)<10,0&WEEKNUM(D22),WEEKNUM(D22)))*1 -> 201703
A23: 959517 | B23: Yves | C23: 42487.691 | D23: 42766.917 | E23: Réalisation | F23: =(YEAR(C23)&IF(WEEKNUM(C23)<10,0&WEEKNUM(C23),WEEKNUM(C23)))*1 -> 201618 | G23: =(YEAR(D23)&IF(WEEKNUM(D23)<10,0&WEEKNUM(D23),WEEKNUM(D23)))*1 -> 201705
A24: 422518 | B24: Paul | D24: 42675.75 | E24: Etude | F24: =(YEAR(C24)&IF(WEEKNUM(C24)<10,0&WEEKNUM(C24),WEEKNUM(C24)))*1 -> 190000 | G24: =(YEAR(D24)&IF(WEEKNUM(D24)<10,0&WEEKNUM(D24),WEEKNUM(D24)))*1 -> 201645
A25: 422518 | B25: Paul | D25: 42613.75 | E25: Etude | F25: =(YEAR(C25)&IF(WEEKNUM(C25)<10,0&WEEKNUM(C25),WEEKNUM(C25)))*1 -> 190000 | G25: =(YEAR(D25)&IF(WEEKNUM(D25)<10,0&WEEKNUM(D25),WEEKNUM(D25)))*1 -> 201636
A26: 930491 | B26: Paul | C26: 42529.713 | D26: 42734.75 | E26: Réalisation | F26: =(YEAR(C26)&IF(WEEKNUM(C26)<10,0&WEEKNUM(C26),WEEKNUM(C26)))*1 -> 201624 | G26: =(YEAR(D26)&IF(WEEKNUM(D26)<10,0&WEEKNUM(D26),WEEKNUM(D26)))*1 -> 201653
A27: 216898 | B27: Pierre | C27: 42549.44 | D27: 42794.833 | E27: Etude | F27: =(YEAR(C27)&IF(WEEKNUM(C27)<10,0&WEEKNUM(C27),WEEKNUM(C27)))*1 -> 201627 | G27: =(YEAR(D27)&IF(WEEKNUM(D27)<10,0&WEEKNUM(D27),WEEKNUM(D27)))*1 -> 201709
A28: a65121 | B28: Pierre | C28: 42620.456 | D28: 42766.833 | E28: Réalisation | F28: =(YEAR(C28)&IF(WEEKNUM(C28)<10,0&WEEKNUM(C28),WEEKNUM(C28)))*1 -> 201637 | G28: =(YEAR(D28)&IF(WEEKNUM(D28)<10,0&WEEKNUM(D28),WEEKNUM(D28)))*1 -> 201705
A29: b02233 | B29: Yves | C29: 42613.441 | D29: 42766.833 | E29: Réalisation | F29: =(YEAR(C29)&IF(WEEKNUM(C29)<10,0&WEEKNUM(C29),WEEKNUM(C29)))*1 -> 201636 | G29: =(YEAR(D29)&IF(WEEKNUM(D29)<10,0&WEEKNUM(D29),WEEKNUM(D29)))*1 -> 201705
A30: 614033 | B30: Alexandre | C30: 42578.662 | D30: 42755.917 | E30: Réalisation | F30: =(YEAR(C30)&IF(WEEKNUM(C30)<10,0&WEEKNUM(C30),WEEKNUM(C30)))*1 -> 201631 | G30: =(YEAR(D30)&IF(WEEKNUM(D30)<10,0&WEEKNUM(D30),WEEKNUM(D30)))*1 -> 201703
A31: 938610 | B31: Paul | C31: 42628.609 | D31: 42766.75 | E31: Réalisation | F31: =(YEAR(C31)&IF(WEEKNUM(C31)<10,0&WEEKNUM(C31),WEEKNUM(C31)))*1 -> 201638 | G31: =(YEAR(D31)&IF(WEEKNUM(D31)<10,0&WEEKNUM(D31),WEEKNUM(D31)))*1 -> 201705
A32: 966854 | B32: Alexandre | C32: 42579.705 | D32: 42762.75 | E32: Réalisation | F32: =(YEAR(C32)&IF(WEEKNUM(C32)<10,0&WEEKNUM(C32),WEEKNUM(C32)))*1 -> 201631 | G32: =(YEAR(D32)&IF(WEEKNUM(D32)<10,0&WEEKNUM(D32),WEEKNUM(D32)))*1 -> 201704
A33: 614033 | B33: Paul | C33: 42605.51 | D33: 42748.917 | E33: Réalisation | F33: =(YEAR(C33)&IF(WEEKNUM(C33)<10,0&WEEKNUM(C33),WEEKNUM(C33)))*1 -> 201635 | G33: =(YEAR(D33)&IF(WEEKNUM(D33)<10,0&WEEKNUM(D33),WEEKNUM(D33)))*1 -> 201702
A34: 936389 | B34: Arnaud | C34: 42632.624 | D34: 42766.75 | E34: Réalisation | F34: =(YEAR(C34)&IF(WEEKNUM(C34)<10,0&WEEKNUM(C34),WEEKNUM(C34)))*1 -> 201639 | G34: =(YEAR(D34)&IF(WEEKNUM(D34)<10,0&WEEKNUM(D34),WEEKNUM(D34)))*1 -> 201705
A35: 403847 | B35: Alexandre | C35: 42641.71 | D35: 42753 | E35: Réalisation | F35: =(YEAR(C35)&IF(WEEKNUM(C35)<10,0&WEEKNUM(C35),WEEKNUM(C35)))*1 -> 201640 | G35: =(YEAR(D35)&IF(WEEKNUM(D35)<10,0&WEEKNUM(D35),WEEKNUM(D35)))*1 -> 201703
A36: 433156 | B36: Arnaud | C36: 42712.739 | D36: 42748.75 | E36: Etude | F36: =(YEAR(C36)&IF(WEEKNUM(C36)<10,0&WEEKNUM(C36),WEEKNUM(C36)))*1 -> 201650 | G36: =(YEAR(D36)&IF(WEEKNUM(D36)<10,0&WEEKNUM(D36),WEEKNUM(D36)))*1 -> 201702
A37: 938610 | B37: Arnaud | C37: 42702.65 | D37: 42828.75 | E37: Etude | F37: =(YEAR(C37)&IF(WEEKNUM(C37)<10,0&WEEKNUM(C37),WEEKNUM(C37)))*1 -> 201649 | G37: =(YEAR(D37)&IF(WEEKNUM(D37)<10,0&WEEKNUM(D37),WEEKNUM(D37)))*1 -> 201714
A38: 326443 | B38: Alexandre | C38: 42696.736 | D38: 42766.833 | E38: Réalisation | F38: =(YEAR(C38)&IF(WEEKNUM(C38)<10,0&WEEKNUM(C38),WEEKNUM(C38)))*1 -> 201648 | G38: =(YEAR(D38)&IF(WEEKNUM(D38)<10,0&WEEKNUM(D38),WEEKNUM(D38)))*1 -> 201705
A39: 326443 | B39: Yves | C39: 42697.597 | D39: 42863.833 | E39: Réalisation | F39: =(YEAR(C39)&IF(WEEKNUM(C39)<10,0&WEEKNUM(C39),WEEKNUM(C39)))*1 -> 201648 | G39: =(YEAR(D39)&IF(WEEKNUM(D39)<10,0&WEEKNUM(D39),WEEKNUM(D39)))*1 -> 201719
A40: 326443 | B40: Pierre | C40: 42723.406 | D40: 42766 | E40: Etude | F40: =(YEAR(C40)&IF(WEEKNUM(C40)<10,0&WEEKNUM(C40),WEEKNUM(C40)))*1 -> 201652 | G40: =(YEAR(D40)&IF(WEEKNUM(D40)<10,0&WEEKNUM(D40),WEEKNUM(D40)))*1 -> 201705
...

Sheet Charge équipe
C1: conversion chrono>>> | D1: =(2016&D3)*1 -> 201638 | E1: =(2016&E3)*1 -> 201639 | F1: =(2016&F3)*1 -> 201640 | G1: =(2016&G3)*1 -> 201641 | H1: =(2016&H3)*1 -> 201642 | I1: =(2016&I3)*1 -> 201643 | J1: =(2016&J3)*1 -> 201644 | K1: =(2016&K3)*1 -> 201645 | ... R1: =(2016&R3)*1 -> 201652 | S1: =("2017"&IF(S3<10,0&S3,S3))*1 -> 201701 | T1: =("2017"&IF(T3<10,0&T3,T3))*1 -> 201702 | U1: =("2017"&IF(U3<10,0&U3,U3))*1 -> 201703 | V1: =("2017"&IF(V3<10,0&V3,V3))*1 -> 201704 | W1: =("2017"&IF(W3<10,0&W3,W3))*1 -> 201705 | X1: =("2017"&IF(X3<10,0&X3,X3))*1 -> 201706 | Y1: =("2017"&IF(Y3<10,0&Y3,Y3))*1 -> 201707 | Z1: =("2017"&IF(Z3<10,0&Z3,Z3))*1 -> 201708 | ... BR1: =("2017"&IF(BR3<10,0&BR3,BR3))*1 -> 201752
B2: EN COURS | D2: 2016 | S2: 2017
D3: 38 | E3: 39 | F3: 40 | G3: 41 | H3: 42 | I3: 43 | J3: 44 | K3: 45 | L3: 46 | M3: 47 | N3: 48 | O3: 49 | P3: 50 | Q3: 51 | R3: 52 | S3: 1 | T3: 2 | U3: 3 | V3: 4 | W3: 5 | X3: 6 | Y3: 7 | Z3: 8 | AA3: 9 | AB3: 10 | AC3: 11 | AD3: 12 | AE3: 13 | AF3: 14 | AG3: 15 | AH3: 16 | AI3: 17 | AJ3: 18 | AK3: 19 | AL3: 20 | AM3: 21 | AN3: 22 | AO3: 23 | AP3: 24 | AQ3: 25 | AR3: 26 | AS3: 27 | AT3: 28 | AU3: 29 | AV3: 30 | AW3: 31 | AX3: 32 | AY3: 33 | AZ3: 34 | BA3: 35 | BB3: 36 | BC3: 37 | BD3: 38 | BE3: 39 | BF3: 40 | BG3: 41 | BH3: 42 | BI3: 43 | BJ3: 44 | BK3: 45 | BL3: 46 | BM3: 47 | BN3: 48 | BO3: 49 | BP3: 50 | BQ3: 51 | BR3: 52
B4: Alexandre | C4: Etude
B5: Alexandre | C5: Réalisation | D5: =SUMPRODUCT(--('PROJETS EN COURS'!$J$4<=D$1),--('PROJETS EN COURS'!$K$4>=D$1)) -> 1 | E5: =SUMPRODUCT(--('PROJETS EN COURS'!$J$4<=E1),--('PROJETS EN COURS'!$K$4>=E$1)) -> 1 | F5: =SUMPRODUCT(--('PROJETS EN COURS'!$J$4<=F1),--('PROJETS EN COURS'!$K$4>=F$1)) -> 1 | G5: =SUMPRODUCT(--('PROJETS EN COURS'!$J$4<=G1),--('PROJETS EN COURS'!$K$4>=G$1)) -> 1 | H5: =SUMPRODUCT(--('PROJETS EN COURS'!$J$4<=H1),--('PROJETS EN COURS'!$K$4>=H$1)) -> 1 | I5: =SUMPRODUCT(--('PROJETS EN COURS'!$J$4<=I1),--('PROJETS EN COURS'!$K$4>=I$1)) -> 1 | J5: =SUMPRODUCT(--('PROJETS EN COURS'!$J$4<=J1),--('PROJETS EN COURS'!$K$4>=J$1)) -> 1 | K5: =SUMPRODUCT(--('PROJETS EN COURS'!$J$4<=K1),--('PROJETS EN COURS'!$K$4>=K$1)) -> 1 | L5: =SUMPRODUCT(--('PROJETS EN COURS'!$J$4<=L1),--('PROJETS EN COURS'!$K$4>=L$1)) -> 1 | ... BQ5: =SUMPRODUCT(--('PROJETS EN COURS'!$J$4<=BQ1),--('PROJETS EN COURS'!$K$4>=BQ$1)) -> 0
B6: Alexandre | C6: Charge Totale
B7: Arnaud | C7: Etude
B8: Arnaud | C8: Réalisation | D8: =SUMPRODUCT(--('PROJETS EN COURS'!$J$2<=D$1),--('PROJETS EN COURS'!$K$2>=D$1)) -> 1 | E8: =SUMPRODUCT(--('PROJETS EN COURS'!$J$2<=E$1),--('PROJETS EN COURS'!$K$2>=E$1)) -> 1 | F8: =SUMPRODUCT(--('PROJETS EN COURS'!$J$2<=F$1),--('PROJETS EN COURS'!$K$2>=F$1)) -> 1 | G8: =SUMPRODUCT(--('PROJETS EN COURS'!$J$2<=G$1),--('PROJETS EN COURS'!$K$2>=G$1)) -> 1 | H8: =SUMPRODUCT(--('PROJETS EN COURS'!$J$2<=H$1),--('PROJETS EN COURS'!$K$2>=H$1)) -> 1 | I8: =SUMPRODUCT(--('PROJETS EN COURS'!$J$2<=I$1),--('PROJETS EN COURS'!$K$2>=I$1)) -> 1 | J8: =SUMPRODUCT(--('PROJETS EN COURS'!$J$2<=J$1),--('PROJETS EN COURS'!$K$2>=J$1)) -> 1 | K8: =SUMPRODUCT(--('PROJETS EN COURS'!$J$2<=K$1),--('PROJETS EN COURS'!$K$2>=K$1)) -> 1 | ... BR8: =SUMPRODUCT(--('PROJETS EN COURS'!$J$2<=BR$1),--('PROJETS EN COURS'!$K$2>=BR$1)) -> 1
B9: Arnaud | C9: Charge Totale
B10: Eloge | C10: Etude
B11: Eloge | C11: Réalisation | D11: =SUMPRODUCT(--('PROJETS EN COURS'!$J$8<=D$1),--('PROJETS EN COURS'!$K$8>=D$1)) -> 0 | E11: =SUMPRODUCT(--('PROJETS EN COURS'!$J$8<=E$1),--('PROJETS EN COURS'!$K$8>=E$1)) -> 0 | F11: =SUMPRODUCT(--('PROJETS EN COURS'!$J$8<=F$1),--('PROJETS EN COURS'!$K$8>=F$1)) -> 0 | G11: =SUMPRODUCT(--('PROJETS EN COURS'!$J$8<=G$1),--('PROJETS EN COURS'!$K$8>=G$1)) -> 0 | H11: =SUMPRODUCT(--('PROJETS EN COURS'!$J$8<=H$1),--('PROJETS EN COURS'!$K$8>=H$1)) -> 0 | I11: =SUMPRODUCT(--('PROJETS EN COURS'!$J$8<=I$1),--('PROJETS EN COURS'!$K$8>=I$1)) -> 0 | J11: =SUMPRODUCT(--('PROJETS EN COURS'!$J$8<=J$1),--('PROJETS EN COURS'!$K$8>=J$1)) -> 0 | K11: =SUMPRODUCT(--('PROJETS EN COURS'!$J$8<=K$1),--('PROJETS EN COURS'!$K$8>=K$1)) -> 0 | ... BI11: =SUMPRODUCT(--('PROJETS EN COURS'!$J$8<=BI$1),--('PROJETS EN COURS'!$K$8>=BI$1)) -> 0
B12: Eloge | C12: Charge Totale
B13: Nicolas | C13: Etude
B14: =B13 -> Nicolas | C14: Réalisation
C15: Charge Totale
B16: Paul | C16: Etude
B17: =B16 -> Paul | C17: Réalisation
C18: Charge Totale
B19: Pierre | C19: Etude
B20: =B19 -> Pierre | C20: Réalisation
C21: Charge Totale
B22: Yves | C22: Etude
B23: =B22 -> Yves | C23: Réalisation
C24: Charge Totale
B25: EQUIPE | C25: Etude
C26: Réalisation
C27: Charge Totale
