Workbook

Sheet resultats
A1: l | B1: Km | C1: R | D1: D
A3: 631000 | B3: 591+268 | C3: {=INDEX(données!D$10:D$26,MATCH($A3&SUBSTITUTE($B3,"+",",")*1,données!$A$10:$A$26&SUBSTITUTE(données!$B$10:$B$26,"+",",")*1,1))} -> 475 | D3: {=INDEX(données!E$10:E$26,MATCH($A3&SUBSTITUTE($B3,"+",",")*1,données!$A$10:$A$26&SUBSTITUTE(données!$B$10:$B$26,"+",",")*1,1))} -> 120
A4: 631000 | B4: 591+444 | C4: {=INDEX(données!D$10:D$26,MATCH($A4&SUBSTITUTE($B4,"+",",")*1,données!$A$10:$A$26&SUBSTITUTE(données!$B$10:$B$26,"+",",")*1,1))} -> 475 | D4: {=INDEX(données!E$10:E$26,MATCH($A4&SUBSTITUTE($B4,"+",",")*1,données!$A$10:$A$26&SUBSTITUTE(données!$B$10:$B$26,"+",",")*1,1))} -> 120
A5: 631000 | B5: 591+505 | C5: {=INDEX(données!D$10:D$26,MATCH($A5&SUBSTITUTE($B5,"+",",")*1,données!$A$10:$A$26&SUBSTITUTE(données!$B$10:$B$26,"+",",")*1,1))} -> 475 | D5: {=INDEX(données!E$10:E$26,MATCH($A5&SUBSTITUTE($B5,"+",",")*1,données!$A$10:$A$26&SUBSTITUTE(données!$B$10:$B$26,"+",",")*1,1))} -> 120
A6: 631000 | B6: 592+392 | C6: {=INDEX(données!D$10:D$26,MATCH($A6&SUBSTITUTE($B6,"+",",")*1,données!$A$10:$A$26&SUBSTITUTE(données!$B$10:$B$26,"+",",")*1,1))} -> 485 | D6: {=INDEX(données!E$10:E$26,MATCH($A6&SUBSTITUTE($B6,"+",",")*1,données!$A$10:$A$26&SUBSTITUTE(données!$B$10:$B$26,"+",",")*1,1))} -> 120
A7: 631000 | B7: 592+61 | C7: {=INDEX(données!D$10:D$26,MATCH($A7&SUBSTITUTE($B7,"+",",")*1,données!$A$10:$A$26&SUBSTITUTE(données!$B$10:$B$26,"+",",")*1,1))} -> 0 | D7: {=INDEX(données!E$10:E$26,MATCH($A7&SUBSTITUTE($B7,"+",",")*1,données!$A$10:$A$26&SUBSTITUTE(données!$B$10:$B$26,"+",",")*1,1))} -> 0
A8: 631000 | B8: 592+833 | C8: {=INDEX(données!D$10:D$26,MATCH($A8&SUBSTITUTE($B8,"+",",")*1,données!$A$10:$A$26&SUBSTITUTE(données!$B$10:$B$26,"+",",")*1,1))} -> 485 | D8: {=INDEX(données!E$10:E$26,MATCH($A8&SUBSTITUTE($B8,"+",",")*1,données!$A$10:$A$26&SUBSTITUTE(données!$B$10:$B$26,"+",",")*1,1))} -> 126
A9: 631000 | B9: 592+857 | C9: {=INDEX(données!D$10:D$26,MATCH($A9&SUBSTITUTE($B9,"+",",")*1,données!$A$10:$A$26&SUBSTITUTE(données!$B$10:$B$26,"+",",")*1,1))} -> 485 | D9: {=INDEX(données!E$10:E$26,MATCH($A9&SUBSTITUTE($B9,"+",",")*1,données!$A$10:$A$26&SUBSTITUTE(données!$B$10:$B$26,"+",",")*1,1))} -> 126
A10: 631000 | B10: 592+932 | C10: {=INDEX(données!D$10:D$26,MATCH($A10&SUBSTITUTE($B10,"+",",")*1,données!$A$10:$A$26&SUBSTITUTE(données!$B$10:$B$26,"+",",")*1,1))} -> 485 | D10: {=INDEX(données!E$10:E$26,MATCH($A10&SUBSTITUTE($B10,"+",",")*1,données!$A$10:$A$26&SUBSTITUTE(données!$B$10:$B$26,"+",",")*1,1))} -> 126
A11: 631000 | B11: 592+949 | C11: {=INDEX(données!D$10:D$26,MATCH($A11&SUBSTITUTE($B11,"+",",")*1,données!$A$10:$A$26&SUBSTITUTE(données!$B$10:$B$26,"+",",")*1,1))} -> 485 | D11: {=INDEX(données!E$10:E$26,MATCH($A11&SUBSTITUTE($B11,"+",",")*1,données!$A$10:$A$26&SUBSTITUTE(données!$B$10:$B$26,"+",",")*1,1))} -> 126
A12: 631000 | B12: 593+155 | C12: {=INDEX(données!D$10:D$26,MATCH($A12&SUBSTITUTE($B12,"+",",")*1,données!$A$10:$A$26&SUBSTITUTE(données!$B$10:$B$26,"+",",")*1,1))} -> 485 | D12: {=INDEX(données!E$10:E$26,MATCH($A12&SUBSTITUTE($B12,"+",",")*1,données!$A$10:$A$26&SUBSTITUTE(données!$B$10:$B$26,"+",",")*1,1))} -> 126
A13: 631000 | B13: 593+768 | C13: {=INDEX(données!D$10:D$26,MATCH($A13&SUBSTITUTE($B13,"+",",")*1,données!$A$10:$A$26&SUBSTITUTE(données!$B$10:$B$26,"+",",")*1,1))} -> 574 | D13: {=INDEX(données!E$10:E$26,MATCH($A13&SUBSTITUTE($B13,"+",",")*1,données!$A$10:$A$26&SUBSTITUTE(données!$B$10:$B$26,"+",",")*1,1))} -> 100
A14: 631000 | B14: 593+832 | C14: {=INDEX(données!D$10:D$26,MATCH($A14&SUBSTITUTE($B14,"+",",")*1,données!$A$10:$A$26&SUBSTITUTE(données!$B$10:$B$26,"+",",")*1,1))} -> 0 | D14: {=INDEX(données!E$10:E$26,MATCH($A14&SUBSTITUTE($B14,"+",",")*1,données!$A$10:$A$26&SUBSTITUTE(données!$B$10:$B$26,"+",",")*1,1))} -> 0
... A23: 640000 | B23: 10+741 | C23: {=INDEX(données!D$10:D$26,MATCH($A23&SUBSTITUTE($B23,"+",",")*1,données!$A$10:$A$26&SUBSTITUTE(données!$B$10:$B$26,"+",",")*1,1))} -> 1408 | D23: {=INDEX(données!E$10:E$26,MATCH($A23&SUBSTITUTE($B23,"+",",")*1,données!$A$10:$A$26&SUBSTITUTE(données!$B$10:$B$26,"+",",")*1,1))} -> 84

Sheet données
A9: L | B9: PKD | C9: PKF | D9: R | E9: D
A10: 631000 | B10: 591+200 | C10: 591+260 | D10: 0 | E10: 0 | G10: =A10&SUBSTITUTE(C10,"+",",")*1 -> 631000591,26
A11: 631000 | B11: 591+260 | C11: 591+660 | D11: 475 | E11: 120 | G11: =A11&SUBSTITUTE(C11,"+",",")*1 -> 631000591,66
A12: 631000 | B12: 591+660 | C12: 591+980 | D12: 442 | E12: 130 | G12: =A12&SUBSTITUTE(C12,"+",",")*1 -> 631000591,98
A13: 631000 | B13: 591+980 | C13: 592+015 | D13: 0 | E13: 0 | G13: =A13&SUBSTITUTE(C13,"+",",")*1 -> 631000592,015
A14: 631000 | B14: 592+015 | C14: 592+240 | D14: 500 | E14: 105 | G14: =A14&SUBSTITUTE(C14,"+",",")*1 -> 631000592,24
A15: 631000 | B15: 592+240 | C15: 592+595 | D15: 485 | E15: 120 | G15: =A15&SUBSTITUTE(C15,"+",",")*1 -> 631000592,595
A16: 631000 | B16: 592+595 | C16: 592+760 | D16: 0 | E16: 0 | G16: =A16&SUBSTITUTE(C16,"+",",")*1 -> 631000592,76
A17: 631000 | B17: 592+760 | C17: 593+256 | D17: 485 | E17: 126 | G17: =A17&SUBSTITUTE(C17,"+",",")*1 -> 631000593,256
A18: 631000 | B18: 593+256 | C18: 593+350 | D18: 0 | E18: 0 | G18: =A18&SUBSTITUTE(C18,"+",",")*1 -> 631000593,35
A19: 631000 | B19: 593+350 | C19: 593+770 | D19: 574 | E19: 100 | G19: =A19&SUBSTITUTE(C19,"+",",")*1 -> 631000593,77
A20: 631000 | B20: 593+770 | C20: 594+290 | D20: 0 | E20: 0 | G20: =A20&SUBSTITUTE(C20,"+",",")*1 -> 631000594,29
A21: 631000 | B21: 594+290 | C21: 594+670 | D21: 588 | E21: 104 | G21: =A21&SUBSTITUTE(C21,"+",",")*1 -> 631000594,67
... A26: 640000 | B26: 10+850 | C26: 11+125 | D26: 1408 | E26: 84 | G26: =A26&SUBSTITUTE(C26,"+",",")*1 -> 64000011,125

Sheet Feuil2

Sheet Feuil3
