Workbook

Sheet Infrastructure actuelle
A1: Object | B1: Système 1 | C1: Système 2 | D1: Système 3 | E1: Système 4 | F1: Système 5
A2: Durée de vie | B2: 18 | C2: 18 | D2: 18 | E2: 18 | F2: 18
A3: Mid-life upgrade | B3: 8 | C3: 8 | D3: 8 | E3: 8 | F3: 8
A4: Date de mise en place
A5: 1984
A6: 1985
A7: 1986
A8: 1987
A9: 1988
A10: 1989
A11: 1990
A12: 1991
A13: 1992
A14: 1993
A15: 1994
A16: 1995
... A19: 1998
A20: 1999 | C20: 1 | E20: 1
A21: 2000
A22: 2001
A23: 2002 | B23: 1 | D23: 1 | F23: 1
A24: 2003
A25: 2004
A26: 2005 | B26: 8
A27: 2006
A28: 2007 | B28: 5
A29: 2008
A30: 2009
A31: 2010
A32: 2011 | B32: 1
A33: 2012
A34: 2013
A35: 2014
A37: Total | B37: =SUM(B5:B35) -> 15 | C37: =SUM(C5:C35) -> 1 | D37: =SUM(D5:D35) -> 1 | E37: =SUM(E5:E35) -> 1 | F37: =SUM(F5:F35) -> 1

Sheet Renouvellement
A2: Object | B2: ='Infrastructure actuelle'!B1 -> Système 1 | C2: ='Infrastructure actuelle'!C1 -> Système 2 | D2: ='Infrastructure actuelle'!D1 -> Système 3 | E2: ='Infrastructure actuelle'!E1 -> Système 4 | F2: ='Infrastructure actuelle'!F1 -> Système 5
B3: 1 | C3: 1 | D3: 1 | E3: 1 | F3: 1 | G3: pas touche
A4: Date de remplacement
A5: 2014 | B5: =IF(SUM(B$3:B3)>COUNTA('Infrastructure actuelle'!B$5:B$35),"",IF($A5=(SUMPRODUCT(SMALL(('Infrastructure actuelle'!B$5:B$35>0)*('Infrastructure actuelle'!$A$5:$A$35),COUNTBLANK('Infrastructure actuelle'!B$5:B$35)+SUM(B$3:B3)))+'Infrastructure actuelle'!B$2),1,"")) | C5: =IF(SUM(C$3:C3)>COUNTA('Infrastructure actuelle'!C$5:C$35),"",IF($A5=(SUMPRODUCT(SMALL(('Infrastructure actuelle'!C$5:C$35>0)*('Infrastructure actuelle'!$A$5:$A$35),COUNTBLANK('Infrastructure actuelle'!C$5:C$35)+SUM(C$3:C3)))+'Infrastructure actuelle'!C$2),1,"")) | D5: =IF(SUM(D$3:D3)>COUNTA('Infrastructure actuelle'!D$5:D$35),"",IF($A5=(SUMPRODUCT(SMALL(('Infrastructure actuelle'!D$5:D$35>0)*('Infrastructure actuelle'!$A$5:$A$35),COUNTBLANK('Infrastructure actuelle'!D$5:D$35)+SUM(D$3:D3)))+'Infrastructure actuelle'!D$2),1,"")) | E5: =IF(SUM(E$3:E3)>COUNTA('Infrastructure actuelle'!E$5:E$35),"",IF($A5=(SUMPRODUCT(SMALL(('Infrastructure actuelle'!E$5:E$35>0)*('Infrastructure actuelle'!$A$5:$A$35),COUNTBLANK('Infrastructure actuelle'!E$5:E$35)+SUM(E$3:E3)))+'Infrastructure actuelle'!E$2),1,"")) | F5: =IF(SUM(F$3:F3)>COUNTA('Infrastructure actuelle'!F$5:F$35),"",IF($A5=(SUMPRODUCT(SMALL(('Infrastructure actuelle'!F$5:F$35>0)*('Infrastructure actuelle'!$A$5:$A$35),COUNTBLANK('Infrastructure actuelle'!F$5:F$35)+SUM(F$3:F3)))+'Infrastructure actuelle'!F$2),1,"")) | G5: =IFERROR(IF(VLOOKUP($A5-'Infrastructure actuelle'!B$2,'Infrastructure actuelle'!$A$5:$F$35,COLUMN(B:B),0)>0,1,""),"") | H5: =IFERROR(IF(VLOOKUP($A5-'Infrastructure actuelle'!C$2,'Infrastructure actuelle'!$A$5:$F$35,COLUMN(C:C),0)>0,1,""),"") | I5: =IFERROR(IF(VLOOKUP($A5-'Infrastructure actuelle'!D$2,'Infrastructure actuelle'!$A$5:$F$35,COLUMN(D:D),0)>0,1,""),"") | J5: =IFERROR(IF(VLOOKUP($A5-'Infrastructure actuelle'!E$2,'Infrastructure actuelle'!$A$5:$F$35,COLUMN(E:E),0)>0,1,""),"") | K5: =IFERROR(IF(VLOOKUP($A5-'Infrastructure actuelle'!F$2,'Infrastructure actuelle'!$A$5:$F$35,COLUMN(F:F),0)>0,1,""),"") | L5: =IFERROR(IF(VLOOKUP($A5-'Infrastructure actuelle'!G$2,'Infrastructure actuelle'!$A$5:$F$35,COLUMN(G:G),0)>0,1,""),"")
A6: 2015 | B6: =IF(SUM(B$3:B4)>COUNTA('Infrastructure actuelle'!B$5:B$35),"",IF($A6=(SUMPRODUCT(SMALL(('Infrastructure actuelle'!B$5:B$35>0)*('Infrastructure actuelle'!$A$5:$A$35),COUNTBLANK('Infrastructure actuelle'!B$5:B$35)+SUM(B$3:B4)))+'Infrastructure actuelle'!B$2),1,"")) | C6: =IF(SUM(C$3:C4)>COUNTA('Infrastructure actuelle'!C$5:C$35),"",IF($A6=(SUMPRODUCT(SMALL(('Infrastructure actuelle'!C$5:C$35>0)*('Infrastructure actuelle'!$A$5:$A$35),COUNTBLANK('Infrastructure actuelle'!C$5:C$35)+SUM(C$3:C4)))+'Infrastructure actuelle'!C$2),1,"")) | D6: =IF(SUM(D$3:D4)>COUNTA('Infrastructure actuelle'!D$5:D$35),"",IF($A6=(SUMPRODUCT(SMALL(('Infrastructure actuelle'!D$5:D$35>0)*('Infrastructure actuelle'!$A$5:$A$35),COUNTBLANK('Infrastructure actuelle'!D$5:D$35)+SUM(D$3:D4)))+'Infrastructure actuelle'!D$2),1,"")) | E6: =IF(SUM(E$3:E4)>COUNTA('Infrastructure actuelle'!E$5:E$35),"",IF($A6=(SUMPRODUCT(SMALL(('Infrastructure actuelle'!E$5:E$35>0)*('Infrastructure actuelle'!$A$5:$A$35),COUNTBLANK('Infrastructure actuelle'!E$5:E$35)+SUM(E$3:E4)))+'Infrastructure actuelle'!E$2),1,"")) | F6: =IF(SUM(F$3:F4)>COUNTA('Infrastructure actuelle'!F$5:F$35),"",IF($A6=(SUMPRODUCT(SMALL(('Infrastructure actuelle'!F$5:F$35>0)*('Infrastructure actuelle'!$A$5:$A$35),COUNTBLANK('Infrastructure actuelle'!F$5:F$35)+SUM(F$3:F4)))+'Infrastructure actuelle'!F$2),1,"")) | G6: =IFERROR(IF(VLOOKUP($A6-'Infrastructure actuelle'!B$2,'Infrastructure actuelle'!$A$5:$F$35,COLUMN(B:B),0)>0,1,""),"") | H6: =IFERROR(IF(VLOOKUP($A6-'Infrastructure actuelle'!C$2,'Infrastructure actuelle'!$A$5:$F$35,COLUMN(C:C),0)>0,1,""),"") | I6: =IFERROR(IF(VLOOKUP($A6-'Infrastructure actuelle'!D$2,'Infrastructure actuelle'!$A$5:$F$35,COLUMN(D:D),0)>0,1,""),"") | J6: =IFERROR(IF(VLOOKUP($A6-'Infrastructure actuelle'!E$2,'Infrastructure actuelle'!$A$5:$F$35,COLUMN(E:E),0)>0,1,""),"") | K6: =IFERROR(IF(VLOOKUP($A6-'Infrastructure actuelle'!F$2,'Infrastructure actuelle'!$A$5:$F$35,COLUMN(F:F),0)>0,1,""),"") | L6: =IFERROR(IF(VLOOKUP($A6-'Infrastructure actuelle'!G$2,'Infrastructure actuelle'!$A$5:$F$35,COLUMN(G:G),0)>0,1,""),"")
A7: 2016 | B7: =IF(SUM(B$3:B5)>COUNTA('Infrastructure actuelle'!B$5:B$35),"",IF($A7=(SUMPRODUCT(SMALL(('Infrastructure actuelle'!B$5:B$35>0)*('Infrastructure actuelle'!$A$5:$A$35),COUNTBLANK('Infrastructure actuelle'!B$5:B$35)+SUM(B$3:B5)))+'Infrastructure actuelle'!B$2),1,"")) | C7: =IF(SUM(C$3:C5)>COUNTA('Infrastructure actuelle'!C$5:C$35),"",IF($A7=(SUMPRODUCT(SMALL(('Infrastructure actuelle'!C$5:C$35>0)*('Infrastructure actuelle'!$A$5:$A$35),COUNTBLANK('Infrastructure actuelle'!C$5:C$35)+SUM(C$3:C5)))+'Infrastructure actuelle'!C$2),1,"")) | D7: =IF(SUM(D$3:D5)>COUNTA('Infrastructure actuelle'!D$5:D$35),"",IF($A7=(SUMPRODUCT(SMALL(('Infrastructure actuelle'!D$5:D$35>0)*('Infrastructure actuelle'!$A$5:$A$35),COUNTBLANK('Infrastructure actuelle'!D$5:D$35)+SUM(D$3:D5)))+'Infrastructure actuelle'!D$2),1,"")) | E7: =IF(SUM(E$3:E5)>COUNTA('Infrastructure actuelle'!E$5:E$35),"",IF($A7=(SUMPRODUCT(SMALL(('Infrastructure actuelle'!E$5:E$35>0)*('Infrastructure actuelle'!$A$5:$A$35),COUNTBLANK('Infrastructure actuelle'!E$5:E$35)+SUM(E$3:E5)))+'Infrastructure actuelle'!E$2),1,"")) | F7: =IF(SUM(F$3:F5)>COUNTA('Infrastructure actuelle'!F$5:F$35),"",IF($A7=(SUMPRODUCT(SMALL(('Infrastructure actuelle'!F$5:F$35>0)*('Infrastructure actuelle'!$A$5:$A$35),COUNTBLANK('Infrastructure actuelle'!F$5:F$35)+SUM(F$3:F5)))+'Infrastructure actuelle'!F$2),1,"")) | G7: =IFERROR(IF(VLOOKUP($A7-'Infrastructure actuelle'!B$2,'Infrastructure actuelle'!$A$5:$F$35,COLUMN(B:B),0)>0,1,""),"") | H7: =IFERROR(IF(VLOOKUP($A7-'Infrastructure actuelle'!C$2,'Infrastructure actuelle'!$A$5:$F$35,COLUMN(C:C),0)>0,1,""),"") | I7: =IFERROR(IF(VLOOKUP($A7-'Infrastructure actuelle'!D$2,'Infrastructure actuelle'!$A$5:$F$35,COLUMN(D:D),0)>0,1,""),"") | J7: =IFERROR(IF(VLOOKUP($A7-'Infrastructure actuelle'!E$2,'Infrastructure actuelle'!$A$5:$F$35,COLUMN(E:E),0)>0,1,""),"") | K7: =IFERROR(IF(VLOOKUP($A7-'Infrastructure actuelle'!F$2,'Infrastructure actuelle'!$A$5:$F$35,COLUMN(F:F),0)>0,1,""),"") | L7: =IFERROR(IF(VLOOKUP($A7-'Infrastructure actuelle'!G$2,'Infrastructure actuelle'!$A$5:$F$35,COLUMN(G:G),0)>0,1,""),"")
A8: 2017 | B8: =IF(SUM(B$3:B6)>COUNTA('Infrastructure actuelle'!B$5:B$35),"",IF($A8=(SUMPRODUCT(SMALL(('Infrastructure actuelle'!B$5:B$35>0)*('Infrastructure actuelle'!$A$5:$A$35),COUNTBLANK('Infrastructure actuelle'!B$5:B$35)+SUM(B$3:B6)))+'Infrastructure actuelle'!B$2),1,"")) | C8: =IF(SUM(C$3:C6)>COUNTA('Infrastructure actuelle'!C$5:C$35),"",IF($A8=(SUMPRODUCT(SMALL(('Infrastructure actuelle'!C$5:C$35>0)*('Infrastructure actuelle'!$A$5:$A$35),COUNTBLANK('Infrastructure actuelle'!C$5:C$35)+SUM(C$3:C6)))+'Infrastructure actuelle'!C$2),1,"")) -> 1 | D8: =IF(SUM(D$3:D6)>COUNTA('Infrastructure actuelle'!D$5:D$35),"",IF($A8=(SUMPRODUCT(SMALL(('Infrastructure actuelle'!D$5:D$35>0)*('Infrastructure actuelle'!$A$5:$A$35),COUNTBLANK('Infrastructure actuelle'!D$5:D$35)+SUM(D$3:D6)))+'Infrastructure actuelle'!D$2),1,"")) | E8: =IF(SUM(E$3:E6)>COUNTA('Infrastructure actuelle'!E$5:E$35),"",IF($A8=(SUMPRODUCT(SMALL(('Infrastructure actuelle'!E$5:E$35>0)*('Infrastructure actuelle'!$A$5:$A$35),COUNTBLANK('Infrastructure actuelle'!E$5:E$35)+SUM(E$3:E6)))+'Infrastructure actuelle'!E$2),1,"")) -> 1 | F8: =IF(SUM(F$3:F6)>COUNTA('Infrastructure actuelle'!F$5:F$35),"",IF($A8=(SUMPRODUCT(SMALL(('Infrastructure actuelle'!F$5:F$35>0)*('Infrastructure actuelle'!$A$5:$A$35),COUNTBLANK('Infrastructure actuelle'!F$5:F$35)+SUM(F$3:F6)))+'Infrastructure actuelle'!F$2),1,"")) | G8: =IFERROR(IF(VLOOKUP($A8-'Infrastructure actuelle'!B$2,'Infrastructure actuelle'!$A$5:$F$35,COLUMN(B:B),0)>0,1,""),"") | H8: =IFERROR(IF(VLOOKUP($A8-'Infrastructure actuelle'!C$2,'Infrastructure actuelle'!$A$5:$F$35,COLUMN(C:C),0)>0,1,""),"") -> 1 | I8: =IFERROR(IF(VLOOKUP($A8-'Infrastructure actuelle'!D$2,'Infrastructure actuelle'!$A$5:$F$35,COLUMN(D:D),0)>0,1,""),"") | J8: =IFERROR(IF(VLOOKUP($A8-'Infrastructure actuelle'!E$2,'Infrastructure actuelle'!$A$5:$F$35,COLUMN(E:E),0)>0,1,""),"") -> 1 | K8: =IFERROR(IF(VLOOKUP($A8-'Infrastructure actuelle'!F$2,'Infrastructure actuelle'!$A$5:$F$35,COLUMN(F:F),0)>0,1,""),"") | L8: =IFERROR(IF(VLOOKUP($A8-'Infrastructure actuelle'!G$2,'Infrastructure actuelle'!$A$5:$F$35,COLUMN(G:G),0)>0,1,""),"")
A9: 2018 | B9: =IF(SUM(B$3:B7)>COUNTA('Infrastructure actuelle'!B$5:B$35),"",IF($A9=(SUMPRODUCT(SMALL(('Infrastructure actuelle'!B$5:B$35>0)*('Infrastructure actuelle'!$A$5:$A$35),COUNTBLANK('Infrastructure actuelle'!B$5:B$35)+SUM(B$3:B7)))+'Infrastructure actuelle'!B$2),1,"")) | C9: =IF(SUM(C$3:C7)>COUNTA('Infrastructure actuelle'!C$5:C$35),"",IF($A9=(SUMPRODUCT(SMALL(('Infrastructure actuelle'!C$5:C$35>0)*('Infrastructure actuelle'!$A$5:$A$35),COUNTBLANK('Infrastructure actuelle'!C$5:C$35)+SUM(C$3:C7)))+'Infrastructure actuelle'!C$2),1,"")) | D9: =IF(SUM(D$3:D7)>COUNTA('Infrastructure actuelle'!D$5:D$35),"",IF($A9=(SUMPRODUCT(SMALL(('Infrastructure actuelle'!D$5:D$35>0)*('Infrastructure actuelle'!$A$5:$A$35),COUNTBLANK('Infrastructure actuelle'!D$5:D$35)+SUM(D$3:D7)))+'Infrastructure actuelle'!D$2),1,"")) | E9: =IF(SUM(E$3:E7)>COUNTA('Infrastructure actuelle'!E$5:E$35),"",IF($A9=(SUMPRODUCT(SMALL(('Infrastructure actuelle'!E$5:E$35>0)*('Infrastructure actuelle'!$A$5:$A$35),COUNTBLANK('Infrastructure actuelle'!E$5:E$35)+SUM(E$3:E7)))+'Infrastructure actuelle'!E$2),1,"")) | F9: =IF(SUM(F$3:F7)>COUNTA('Infrastructure actuelle'!F$5:F$35),"",IF($A9=(SUMPRODUCT(SMALL(('Infrastructure actuelle'!F$5:F$35>0)*('Infrastructure actuelle'!$A$5:$A$35),COUNTBLANK('Infrastructure actuelle'!F$5:F$35)+SUM(F$3:F7)))+'Infrastructure actuelle'!F$2),1,"")) | G9: =IFERROR(IF(VLOOKUP($A9-'Infrastructure actuelle'!B$2,'Infrastructure actuelle'!$A$5:$F$35,COLUMN(B:B),0)>0,1,""),"") | H9: =IFERROR(IF(VLOOKUP($A9-'Infrastructure actuelle'!C$2,'Infrastructure actuelle'!$A$5:$F$35,COLUMN(C:C),0)>0,1,""),"") | I9: =IFERROR(IF(VLOOKUP($A9-'Infrastructure actuelle'!D$2,'Infrastructure actuelle'!$A$5:$F$35,COLUMN(D:D),0)>0,1,""),"") | J9: =IFERROR(IF(VLOOKUP($A9-'Infrastructure actuelle'!E$2,'Infrastructure actuelle'!$A$5:$F$35,COLUMN(E:E),0)>0,1,""),"") | K9: =IFERROR(IF(VLOOKUP($A9-'Infrastructure actuelle'!F$2,'Infrastructure actuelle'!$A$5:$F$35,COLUMN(F:F),0)>0,1,""),"") | L9: =IFERROR(IF(VLOOKUP($A9-'Infrastructure actuelle'!G$2,'Infrastructure actuelle'!$A$5:$F$35,COLUMN(G:G),0)>0,1,""),"")
A10: 2019 | B10: =IF(SUM(B$3:B8)>COUNTA('Infrastructure actuelle'!B$5:B$35),"",IF($A10=(SUMPRODUCT(SMALL(('Infrastructure actuelle'!B$5:B$35>0)*('Infrastructure actuelle'!$A$5:$A$35),COUNTBLANK('Infrastructure actuelle'!B$5:B$35)+SUM(B$3:B8)))+'Infrastructure actuelle'!B$2),1,"")) | C10: =IF(SUM(C$3:C8)>COUNTA('Infrastructure actuelle'!C$5:C$35),"",IF($A10=(SUMPRODUCT(SMALL(('Infrastructure actuelle'!C$5:C$35>0)*('Infrastructure actuelle'!$A$5:$A$35),COUNTBLANK('Infrastructure actuelle'!C$5:C$35)+SUM(C$3:C8)))+'Infrastructure actuelle'!C$2),1,"")) | D10: =IF(SUM(D$3:D8)>COUNTA('Infrastructure actuelle'!D$5:D$35),"",IF($A10=(SUMPRODUCT(SMALL(('Infrastructure actuelle'!D$5:D$35>0)*('Infrastructure actuelle'!$A$5:$A$35),COUNTBLANK('Infrastructure actuelle'!D$5:D$35)+SUM(D$3:D8)))+'Infrastructure actuelle'!D$2),1,"")) | E10: =IF(SUM(E$3:E8)>COUNTA('Infrastructure actuelle'!E$5:E$35),"",IF($A10=(SUMPRODUCT(SMALL(('Infrastructure actuelle'!E$5:E$35>0)*('Infrastructure actuelle'!$A$5:$A$35),COUNTBLANK('Infrastructure actuelle'!E$5:E$35)+SUM(E$3:E8)))+'Infrastructure actuelle'!E$2),1,"")) | F10: =IF(SUM(F$3:F8)>COUNTA('Infrastructure actuelle'!F$5:F$35),"",IF($A10=(SUMPRODUCT(SMALL(('Infrastructure actuelle'!F$5:F$35>0)*('Infrastructure actuelle'!$A$5:$A$35),COUNTBLANK('Infrastructure actuelle'!F$5:F$35)+SUM(F$3:F8)))+'Infrastructure actuelle'!F$2),1,"")) | G10: =IFERROR(IF(VLOOKUP($A10-'Infrastructure actuelle'!B$2,'Infrastructure actuelle'!$A$5:$F$35,COLUMN(B:B),0)>0,1,""),"") | H10: =IFERROR(IF(VLOOKUP($A10-'Infrastructure actuelle'!C$2,'Infrastructure actuelle'!$A$5:$F$35,COLUMN(C:C),0)>0,1,""),"") | I10: =IFERROR(IF(VLOOKUP($A10-'Infrastructure actuelle'!D$2,'Infrastructure actuelle'!$A$5:$F$35,COLUMN(D:D),0)>0,1,""),"") | J10: =IFERROR(IF(VLOOKUP($A10-'Infrastructure actuelle'!E$2,'Infrastructure actuelle'!$A$5:$F$35,COLUMN(E:E),0)>0,1,""),"") | K10: =IFERROR(IF(VLOOKUP($A10-'Infrastructure actuelle'!F$2,'Infrastructure actuelle'!$A$5:$F$35,COLUMN(F:F),0)>0,1,""),"") | L10: =IFERROR(IF(VLOOKUP($A10-'Infrastructure actuelle'!G$2,'Infrastructure actuelle'!$A$5:$F$35,COLUMN(G:G),0)>0,1,""),"")
A11: 2020 | B11: =IF(SUM(B$3:B9)>COUNTA('Infrastructure actuelle'!B$5:B$35),"",IF($A11=(SUMPRODUCT(SMALL(('Infrastructure actuelle'!B$5:B$35>0)*('Infrastructure actuelle'!$A$5:$A$35),COUNTBLANK('Infrastructure actuelle'!B$5:B$35)+SUM(B$3:B9)))+'Infrastructure actuelle'!B$2),1,"")) -> 1 | C11: =IF(SUM(C$3:C9)>COUNTA('Infrastructure actuelle'!C$5:C$35),"",IF($A11=(SUMPRODUCT(SMALL(('Infrastructure actuelle'!C$5:C$35>0)*('Infrastructure actuelle'!$A$5:$A$35),COUNTBLANK('Infrastructure actuelle'!C$5:C$35)+SUM(C$3:C9)))+'Infrastructure actuelle'!C$2),1,"")) | D11: =IF(SUM(D$3:D9)>COUNTA('Infrastructure actuelle'!D$5:D$35),"",IF($A11=(SUMPRODUCT(SMALL(('Infrastructure actuelle'!D$5:D$35>0)*('Infrastructure actuelle'!$A$5:$A$35),COUNTBLANK('Infrastructure actuelle'!D$5:D$35)+SUM(D$3:D9)))+'Infrastructure actuelle'!D$2),1,"")) -> 1 | E11: =IF(SUM(E$3:E9)>COUNTA('Infrastructure actuelle'!E$5:E$35),"",IF($A11=(SUMPRODUCT(SMALL(('Infrastructure actuelle'!E$5:E$35>0)*('Infrastructure actuelle'!$A$5:$A$35),COUNTBLANK('Infrastructure actuelle'!E$5:E$35)+SUM(E$3:E9)))+'Infrastructure actuelle'!E$2),1,"")) | F11: =IF(SUM(F$3:F9)>COUNTA('Infrastructure actuelle'!F$5:F$35),"",IF($A11=(SUMPRODUCT(SMALL(('Infrastructure actuelle'!F$5:F$35>0)*('Infrastructure actuelle'!$A$5:$A$35),COUNTBLANK('Infrastructure actuelle'!F$5:F$35)+SUM(F$3:F9)))+'Infrastructure actuelle'!F$2),1,"")) -> 1 | G11: =IFERROR(IF(VLOOKUP($A11-'Infrastructure actuelle'!B$2,'Infrastructure actuelle'!$A$5:$F$35,COLUMN(B:B),0)>0,1,""),"") -> 1 | H11: =IFERROR(IF(VLOOKUP($A11-'Infrastructure actuelle'!C$2,'Infrastructure actuelle'!$A$5:$F$35,COLUMN(C:C),0)>0,1,""),"") | I11: =IFERROR(IF(VLOOKUP($A11-'Infrastructure actuelle'!D$2,'Infrastructure actuelle'!$A$5:$F$35,COLUMN(D:D),0)>0,1,""),"") -> 1 | J11: =IFERROR(IF(VLOOKUP($A11-'Infrastructure actuelle'!E$2,'Infrastructure actuelle'!$A$5:$F$35,COLUMN(E:E),0)>0,1,""),"") | K11: =IFERROR(IF(VLOOKUP($A11-'Infrastructure actuelle'!F$2,'Infrastructure actuelle'!$A$5:$F$35,COLUMN(F:F),0)>0,1,""),"") -> 1 | L11: =IFERROR(IF(VLOOKUP($A11-'Infrastructure actuelle'!G$2,'Infrastructure actuelle'!$A$5:$F$35,COLUMN(G:G),0)>0,1,""),"")
A12: 2021 | B12: =IF(SUM(B$3:B10)>COUNTA('Infrastructure actuelle'!B$5:B$35),"",IF($A12=(SUMPRODUCT(SMALL(('Infrastructure actuelle'!B$5:B$35>0)*('Infrastructure actuelle'!$A$5:$A$35),COUNTBLANK('Infrastructure actuelle'!B$5:B$35)+SUM(B$3:B10)))+'Infrastructure actuelle'!B$2),1,"")) | C12: =IF(SUM(C$3:C10)>COUNTA('Infrastructure actuelle'!C$5:C$35),"",IF($A12=(SUMPRODUCT(SMALL(('Infrastructure actuelle'!C$5:C$35>0)*('Infrastructure actuelle'!$A$5:$A$35),COUNTBLANK('Infrastructure actuelle'!C$5:C$35)+SUM(C$3:C10)))+'Infrastructure actuelle'!C$2),1,"")) | D12: =IF(SUM(D$3:D10)>COUNTA('Infrastructure actuelle'!D$5:D$35),"",IF($A12=(SUMPRODUCT(SMALL(('Infrastructure actuelle'!D$5:D$35>0)*('Infrastructure actuelle'!$A$5:$A$35),COUNTBLANK('Infrastructure actuelle'!D$5:D$35)+SUM(D$3:D10)))+'Infrastructure actuelle'!D$2),1,"")) | E12: =IF(SUM(E$3:E10)>COUNTA('Infrastructure actuelle'!E$5:E$35),"",IF($A12=(SUMPRODUCT(SMALL(('Infrastructure actuelle'!E$5:E$35>0)*('Infrastructure actuelle'!$A$5:$A$35),COUNTBLANK('Infrastructure actuelle'!E$5:E$35)+SUM(E$3:E10)))+'Infrastructure actuelle'!E$2),1,"")) | F12: =IF(SUM(F$3:F10)>COUNTA('Infrastructure actuelle'!F$5:F$35),"",IF($A12=(SUMPRODUCT(SMALL(('Infrastructure actuelle'!F$5:F$35>0)*('Infrastructure actuelle'!$A$5:$A$35),COUNTBLANK('Infrastructure actuelle'!F$5:F$35)+SUM(F$3:F10)))+'Infrastructure actuelle'!F$2),1,"")) | G12: =IFERROR(IF(VLOOKUP($A12-'Infrastructure actuelle'!B$2,'Infrastructure actuelle'!$A$5:$F$35,COLUMN(B:B),0)>0,1,""),"") | H12: =IFERROR(IF(VLOOKUP($A12-'Infrastructure actuelle'!C$2,'Infrastructure actuelle'!$A$5:$F$35,COLUMN(C:C),0)>0,1,""),"") | I12: =IFERROR(IF(VLOOKUP($A12-'Infrastructure actuelle'!D$2,'Infrastructure actuelle'!$A$5:$F$35,COLUMN(D:D),0)>0,1,""),"") | J12: =IFERROR(IF(VLOOKUP($A12-'Infrastructure actuelle'!E$2,'Infrastructure actuelle'!$A$5:$F$35,COLUMN(E:E),0)>0,1,""),"") | K12: =IFERROR(IF(VLOOKUP($A12-'Infrastructure actuelle'!F$2,'Infrastructure actuelle'!$A$5:$F$35,COLUMN(F:F),0)>0,1,""),"") | L12: =IFERROR(IF(VLOOKUP($A12-'Infrastructure actuelle'!G$2,'Infrastructure actuelle'!$A$5:$F$35,COLUMN(G:G),0)>0,1,""),"")
A13: 2022 | B13: =IF(SUM(B$3:B11)>COUNTA('Infrastructure actuelle'!B$5:B$35),"",IF($A13=(SUMPRODUCT(SMALL(('Infrastructure actuelle'!B$5:B$35>0)*('Infrastructure actuelle'!$A$5:$A$35),COUNTBLANK('Infrastructure actuelle'!B$5:B$35)+SUM(B$3:B11)))+'Infrastructure actuelle'!B$2),1,"")) | C13: =IF(SUM(C$3:C11)>COUNTA('Infrastructure actuelle'!C$5:C$35),"",IF($A13=(SUMPRODUCT(SMALL(('Infrastructure actuelle'!C$5:C$35>0)*('Infrastructure actuelle'!$A$5:$A$35),COUNTBLANK('Infrastructure actuelle'!C$5:C$35)+SUM(C$3:C11)))+'Infrastructure actuelle'!C$2),1,"")) | D13: =IF(SUM(D$3:D11)>COUNTA('Infrastructure actuelle'!D$5:D$35),"",IF($A13=(SUMPRODUCT(SMALL(('Infrastructure actuelle'!D$5:D$35>0)*('Infrastructure actuelle'!$A$5:$A$35),COUNTBLANK('Infrastructure actuelle'!D$5:D$35)+SUM(D$3:D11)))+'Infrastructure actuelle'!D$2),1,"")) | E13: =IF(SUM(E$3:E11)>COUNTA('Infrastructure actuelle'!E$5:E$35),"",IF($A13=(SUMPRODUCT(SMALL(('Infrastructure actuelle'!E$5:E$35>0)*('Infrastructure actuelle'!$A$5:$A$35),COUNTBLANK('Infrastructure actuelle'!E$5:E$35)+SUM(E$3:E11)))+'Infrastructure actuelle'!E$2),1,"")) | F13: =IF(SUM(F$3:F11)>COUNTA('Infrastructure actuelle'!F$5:F$35),"",IF($A13=(SUMPRODUCT(SMALL(('Infrastructure actuelle'!F$5:F$35>0)*('Infrastructure actuelle'!$A$5:$A$35),COUNTBLANK('Infrastructure actuelle'!F$5:F$35)+SUM(F$3:F11)))+'Infrastructure actuelle'!F$2),1,"")) | G13: =IFERROR(IF(VLOOKUP($A13-'Infrastructure actuelle'!B$2,'Infrastructure actuelle'!$A$5:$F$35,COLUMN(B:B),0)>0,1,""),"") | H13: =IFERROR(IF(VLOOKUP($A13-'Infrastructure actuelle'!C$2,'Infrastructure actuelle'!$A$5:$F$35,COLUMN(C:C),0)>0,1,""),"") | I13: =IFERROR(IF(VLOOKUP($A13-'Infrastructure actuelle'!D$2,'Infrastructure actuelle'!$A$5:$F$35,COLUMN(D:D),0)>0,1,""),"") | J13: =IFERROR(IF(VLOOKUP($A13-'Infrastructure actuelle'!E$2,'Infrastructure actuelle'!$A$5:$F$35,COLUMN(E:E),0)>0,1,""),"") | K13: =IFERROR(IF(VLOOKUP($A13-'Infrastructure actuelle'!F$2,'Infrastructure actuelle'!$A$5:$F$35,COLUMN(F:F),0)>0,1,""),"") | L13: =IFERROR(IF(VLOOKUP($A13-'Infrastructure actuelle'!G$2,'Infrastructure actuelle'!$A$5:$F$35,COLUMN(G:G),0)>0,1,""),"")
A14: 2023 | B14: =IF(SUM(B$3:B12)>COUNTA('Infrastructure actuelle'!B$5:B$35),"",IF($A14=(SUMPRODUCT(SMALL(('Infrastructure actuelle'!B$5:B$35>0)*('Infrastructure actuelle'!$A$5:$A$35),COUNTBLANK('Infrastructure actuelle'!B$5:B$35)+SUM(B$3:B12)))+'Infrastructure actuelle'!B$2),1,"")) -> 1 | C14: =IF(SUM(C$3:C12)>COUNTA('Infrastructure actuelle'!C$5:C$35),"",IF($A14=(SUMPRODUCT(SMALL(('Infrastructure actuelle'!C$5:C$35>0)*('Infrastructure actuelle'!$A$5:$A$35),COUNTBLANK('Infrastructure actuelle'!C$5:C$35)+SUM(C$3:C12)))+'Infrastructure actuelle'!C$2),1,"")) | D14: =IF(SUM(D$3:D12)>COUNTA('Infrastructure actuelle'!D$5:D$35),"",IF($A14=(SUMPRODUCT(SMALL(('Infrastructure actuelle'!D$5:D$35>0)*('Infrastructure actuelle'!$A$5:$A$35),COUNTBLANK('Infrastructure actuelle'!D$5:D$35)+SUM(D$3:D12)))+'Infrastructure actuelle'!D$2),1,"")) | E14: =IF(SUM(E$3:E12)>COUNTA('Infrastructure actuelle'!E$5:E$35),"",IF($A14=(SUMPRODUCT(SMALL(('Infrastructure actuelle'!E$5:E$35>0)*('Infrastructure actuelle'!$A$5:$A$35),COUNTBLANK('Infrastructure actuelle'!E$5:E$35)+SUM(E$3:E12)))+'Infrastructure actuelle'!E$2),1,"")) | F14: =IF(SUM(F$3:F12)>COUNTA('Infrastructure actuelle'!F$5:F$35),"",IF($A14=(SUMPRODUCT(SMALL(('Infrastructure actuelle'!F$5:F$35>0)*('Infrastructure actuelle'!$A$5:$A$35),COUNTBLANK('Infrastructure actuelle'!F$5:F$35)+SUM(F$3:F12)))+'Infrastructure actuelle'!F$2),1,"")) | G14: =IFERROR(IF(VLOOKUP($A14-'Infrastructure actuelle'!B$2,'Infrastructure actuelle'!$A$5:$F$35,COLUMN(B:B),0)>0,1,""),"") -> 1 | H14: =IFERROR(IF(VLOOKUP($A14-'Infrastructure actuelle'!C$2,'Infrastructure actuelle'!$A$5:$F$35,COLUMN(C:C),0)>0,1,""),"") | I14: =IFERROR(IF(VLOOKUP($A14-'Infrastructure actuelle'!D$2,'Infrastructure actuelle'!$A$5:$F$35,COLUMN(D:D),0)>0,1,""),"") | J14: =IFERROR(IF(VLOOKUP($A14-'Infrastructure actuelle'!E$2,'Infrastructure actuelle'!$A$5:$F$35,COLUMN(E:E),0)>0,1,""),"") | K14: =IFERROR(IF(VLOOKUP($A14-'Infrastructure actuelle'!F$2,'Infrastructure actuelle'!$A$5:$F$35,COLUMN(F:F),0)>0,1,""),"") | L14: =IFERROR(IF(VLOOKUP($A14-'Infrastructure actuelle'!G$2,'Infrastructure actuelle'!$A$5:$F$35,COLUMN(G:G),0)>0,1,""),"")
A15: 2024 | B15: =IF(SUM(B$3:B13)>COUNTA('Infrastructure actuelle'!B$5:B$35),"",IF($A15=(SUMPRODUCT(SMALL(('Infrastructure actuelle'!B$5:B$35>0)*('Infrastructure actuelle'!$A$5:$A$35),COUNTBLANK('Infrastructure actuelle'!B$5:B$35)+SUM(B$3:B13)))+'Infrastructure actuelle'!B$2),1,"")) | C15: =IF(SUM(C$3:C13)>COUNTA('Infrastructure actuelle'!C$5:C$35),"",IF($A15=(SUMPRODUCT(SMALL(('Infrastructure actuelle'!C$5:C$35>0)*('Infrastructure actuelle'!$A$5:$A$35),COUNTBLANK('Infrastructure actuelle'!C$5:C$35)+SUM(C$3:C13)))+'Infrastructure actuelle'!C$2),1,"")) | D15: =IF(SUM(D$3:D13)>COUNTA('Infrastructure actuelle'!D$5:D$35),"",IF($A15=(SUMPRODUCT(SMALL(('Infrastructure actuelle'!D$5:D$35>0)*('Infrastructure actuelle'!$A$5:$A$35),COUNTBLANK('Infrastructure actuelle'!D$5:D$35)+SUM(D$3:D13)))+'Infrastructure actuelle'!D$2),1,"")) | E15: =IF(SUM(E$3:E13)>COUNTA('Infrastructure actuelle'!E$5:E$35),"",IF($A15=(SUMPRODUCT(SMALL(('Infrastructure actuelle'!E$5:E$35>0)*('Infrastructure actuelle'!$A$5:$A$35),COUNTBLANK('Infrastructure actuelle'!E$5:E$35)+SUM(E$3:E13)))+'Infrastructure actuelle'!E$2),1,"")) | F15: =IF(SUM(F$3:F13)>COUNTA('Infrastructure actuelle'!F$5:F$35),"",IF($A15=(SUMPRODUCT(SMALL(('Infrastructure actuelle'!F$5:F$35>0)*('Infrastructure actuelle'!$A$5:$A$35),COUNTBLANK('Infrastructure actuelle'!F$5:F$35)+SUM(F$3:F13)))+'Infrastructure actuelle'!F$2),1,"")) | G15: =IFERROR(IF(VLOOKUP($A15-'Infrastructure actuelle'!B$2,'Infrastructure actuelle'!$A$5:$F$35,COLUMN(B:B),0)>0,1,""),"") | H15: =IFERROR(IF(VLOOKUP($A15-'Infrastructure actuelle'!C$2,'Infrastructure actuelle'!$A$5:$F$35,COLUMN(C:C),0)>0,1,""),"") | I15: =IFERROR(IF(VLOOKUP($A15-'Infrastructure actuelle'!D$2,'Infrastructure actuelle'!$A$5:$F$35,COLUMN(D:D),0)>0,1,""),"") | J15: =IFERROR(IF(VLOOKUP($A15-'Infrastructure actuelle'!E$2,'Infrastructure actuelle'!$A$5:$F$35,COLUMN(E:E),0)>0,1,""),"") | K15: =IFERROR(IF(VLOOKUP($A15-'Infrastructure actuelle'!F$2,'Infrastructure actuelle'!$A$5:$F$35,COLUMN(F:F),0)>0,1,""),"") | L15: =IFERROR(IF(VLOOKUP($A15-'Infrastructure actuelle'!G$2,'Infrastructure actuelle'!$A$5:$F$35,COLUMN(G:G),0)>0,1,""),"")
A16: 2025 | B16: =IF(SUM(B$3:B14)>COUNTA('Infrastructure actuelle'!B$5:B$35),"",IF($A16=(SUMPRODUCT(SMALL(('Infrastructure actuelle'!B$5:B$35>0)*('Infrastructure actuelle'!$A$5:$A$35),COUNTBLANK('Infrastructure actuelle'!B$5:B$35)+SUM(B$3:B14)))+'Infrastructure actuelle'!B$2),1,"")) -> 1 | C16: =IF(SUM(C$3:C14)>COUNTA('Infrastructure actuelle'!C$5:C$35),"",IF($A16=(SUMPRODUCT(SMALL(('Infrastructure actuelle'!C$5:C$35>0)*('Infrastructure actuelle'!$A$5:$A$35),COUNTBLANK('Infrastructure actuelle'!C$5:C$35)+SUM(C$3:C14)))+'Infrastructure actuelle'!C$2),1,"")) | D16: =IF(SUM(D$3:D14)>COUNTA('Infrastructure actuelle'!D$5:D$35),"",IF($A16=(SUMPRODUCT(SMALL(('Infrastructure actuelle'!D$5:D$35>0)*('Infrastructure actuelle'!$A$5:$A$35),COUNTBLANK('Infrastructure actuelle'!D$5:D$35)+SUM(D$3:D14)))+'Infrastructure actuelle'!D$2),1,"")) | E16: =IF(SUM(E$3:E14)>COUNTA('Infrastructure actuelle'!E$5:E$35),"",IF($A16=(SUMPRODUCT(SMALL(('Infrastructure actuelle'!E$5:E$35>0)*('Infrastructure actuelle'!$A$5:$A$35),COUNTBLANK('Infrastructure actuelle'!E$5:E$35)+SUM(E$3:E14)))+'Infrastructure actuelle'!E$2),1,"")) | F16: =IF(SUM(F$3:F14)>COUNTA('Infrastructure actuelle'!F$5:F$35),"",IF($A16=(SUMPRODUCT(SMALL(('Infrastructure actuelle'!F$5:F$35>0)*('Infrastructure actuelle'!$A$5:$A$35),COUNTBLANK('Infrastructure actuelle'!F$5:F$35)+SUM(F$3:F14)))+'Infrastructure actuelle'!F$2),1,"")) | G16: =IFERROR(IF(VLOOKUP($A16-'Infrastructure actuelle'!B$2,'Infrastructure actuelle'!$A$5:$F$35,COLUMN(B:B),0)>0,1,""),"") -> 1 | H16: =IFERROR(IF(VLOOKUP($A16-'Infrastructure actuelle'!C$2,'Infrastructure actuelle'!$A$5:$F$35,COLUMN(C:C),0)>0,1,""),"") | I16: =IFERROR(IF(VLOOKUP($A16-'Infrastructure actuelle'!D$2,'Infrastructure actuelle'!$A$5:$F$35,COLUMN(D:D),0)>0,1,""),"") | J16: =IFERROR(IF(VLOOKUP($A16-'Infrastructure actuelle'!E$2,'Infrastructure actuelle'!$A$5:$F$35,COLUMN(E:E),0)>0,1,""),"") | K16: =IFERROR(IF(VLOOKUP($A16-'Infrastructure actuelle'!F$2,'Infrastructure actuelle'!$A$5:$F$35,COLUMN(F:F),0)>0,1,""),"") | L16: =IFERROR(IF(VLOOKUP($A16-'Infrastructure actuelle'!G$2,'Infrastructure actuelle'!$A$5:$F$35,COLUMN(G:G),0)>0,1,""),"")
... A40: 2049 | B40: =IF(SUM(B$3:B38)>COUNTA('Infrastructure actuelle'!B$5:B$35),"",IF($A40=(SUMPRODUCT(SMALL(('Infrastructure actuelle'!B$5:B$35>0)*('Infrastructure actuelle'!$A$5:$A$35),COUNTBLANK('Infrastructure actuelle'!B$5:B$35)+SUM(B$3:B38)))+'Infrastructure actuelle'!B$2),1,"")) | C40: =IF(SUM(C$3:C38)>COUNTA('Infrastructure actuelle'!C$5:C$35),"",IF($A40=(SUMPRODUCT(SMALL(('Infrastructure actuelle'!C$5:C$35>0)*('Infrastructure actuelle'!$A$5:$A$35),COUNTBLANK('Infrastructure actuelle'!C$5:C$35)+SUM(C$3:C38)))+'Infrastructure actuelle'!C$2),1,"")) | D40: =IF(SUM(D$3:D38)>COUNTA('Infrastructure actuelle'!D$5:D$35),"",IF($A40=(SUMPRODUCT(SMALL(('Infrastructure actuelle'!D$5:D$35>0)*('Infrastructure actuelle'!$A$5:$A$35),COUNTBLANK('Infrastructure actuelle'!D$5:D$35)+SUM(D$3:D38)))+'Infrastructure actuelle'!D$2),1,"")) | E40: =IF(SUM(E$3:E38)>COUNTA('Infrastructure actuelle'!E$5:E$35),"",IF($A40=(SUMPRODUCT(SMALL(('Infrastructure actuelle'!E$5:E$35>0)*('Infrastructure actuelle'!$A$5:$A$35),COUNTBLANK('Infrastructure actuelle'!E$5:E$35)+SUM(E$3:E38)))+'Infrastructure actuelle'!E$2),1,"")) | F40: =IF(SUM(F$3:F38)>COUNTA('Infrastructure actuelle'!F$5:F$35),"",IF($A40=(SUMPRODUCT(SMALL(('Infrastructure actuelle'!F$5:F$35>0)*('Infrastructure actuelle'!$A$5:$A$35),COUNTBLANK('Infrastructure actuelle'!F$5:F$35)+SUM(F$3:F38)))+'Infrastructure actuelle'!F$2),1,"")) | G40: =IFERROR(IF(VLOOKUP($A40-'Infrastructure actuelle'!B$2,'Infrastructure actuelle'!$A$5:$F$35,COLUMN(B:B),0)>0,1,""),"") | H40: =IFERROR(IF(VLOOKUP($A40-'Infrastructure actuelle'!C$2,'Infrastructure actuelle'!$A$5:$F$35,COLUMN(C:C),0)>0,1,""),"") | I40: =IFERROR(IF(VLOOKUP($A40-'Infrastructure actuelle'!D$2,'Infrastructure actuelle'!$A$5:$F$35,COLUMN(D:D),0)>0,1,""),"") | J40: =IFERROR(IF(VLOOKUP($A40-'Infrastructure actuelle'!E$2,'Infrastructure actuelle'!$A$5:$F$35,COLUMN(E:E),0)>0,1,""),"") | K40: =IFERROR(IF(VLOOKUP($A40-'Infrastructure actuelle'!F$2,'Infrastructure actuelle'!$A$5:$F$35,COLUMN(F:F),0)>0,1,""),"") | L40: =IFERROR(IF(VLOOKUP($A40-'Infrastructure actuelle'!G$2,'Infrastructure actuelle'!$A$5:$F$35,COLUMN(G:G),0)>0,1,""),"")
