Workbook

Sheet Feuil1
A1: N° COMMANDE | B1: CLIENT | C1: MONTANT | D1: CB | E1: PAIEMENT | F1: DATE | G1: NOM | H1: EMAIL
A2: 458 | B2: A. BALCETO | C2: 30.4 | D2: Atos | E2: Oui | F2: 42384 | G2: BALCET O | H2: {=IF(D2="",INDEX(email!D$2:D$240,MATCH(LEFT(TRIM(G2),5),LEFT(email!B$2:B$240,5),0)),"")}
A3: 332 | B3: A. BALCETO | C3: 15.4 | D3: Atos | E3: Oui | F3: 42332.369 | G3: BALCET O | H3: {=IF(D3="",INDEX(email!D$2:D$240,MATCH(LEFT(TRIM(G3),5),LEFT(email!B$2:B$240,5),0)),"")}
A4: 152 | B4: A. BALCETO | C4: 35.8 | D4: Atos | E4: Oui | F4: 42199.857 | G4: BALCET O | H4: {=IF(D4="",INDEX(email!D$2:D$240,MATCH(LEFT(TRIM(G4),5),LEFT(email!B$2:B$240,5),0)),"")}
A5: 98 | B5: A. BALCETO | C5: 62.8 | D5: Atos | E5: Oui | F5: 42005.398 | G5: BALCET O | H5: {=IF(D5="",INDEX(email!D$2:D$240,MATCH(LEFT(TRIM(G5),5),LEFT(email!B$2:B$240,5),0)),"")}
B6: Total A. BALCETO | C6: =+C5+C4+C3+C2 -> 144.4 | E6: Oui | G6: BALCET O | H6: {=IF(D6="",INDEX(email!D$2:D$240,MATCH(LEFT(TRIM(G6),5),LEFT(email!B$2:B$240,5),0)),"")} -> email1
A7: 456 | B7: a. BRAUN | C7: 28 | D7: Atos | E7: Oui | F7: 42255.889 | G7: BRAUN | H7: {=IF(D7="",INDEX(email!D$2:D$240,MATCH(LEFT(TRIM(G7),5),LEFT(email!B$2:B$240,5),0)),"")}
A8: 382 | B8: a. BRAUN | C8: 41.8 | D8: Atos | E8: Oui | F8: 41923.394 | G8: BRAUN | H8: {=IF(D8="",INDEX(email!D$2:D$240,MATCH(LEFT(TRIM(G8),5),LEFT(email!B$2:B$240,5),0)),"")}
A9: 301 | B9: a. BRAUN | C9: 28 | D9: Atos | E9: Oui | F9: 41891.389 | G9: BRAUN | H9: {=IF(D9="",INDEX(email!D$2:D$240,MATCH(LEFT(TRIM(G9),5),LEFT(email!B$2:B$240,5),0)),"")}
B10: Total a. BRAUN | C10: =+C9+C8+C7 -> 97.8 | E10: Oui | G10: BRAUN | H10: {=IF(D10="",INDEX(email!D$2:D$240,MATCH(LEFT(TRIM(G10),5),LEFT(email!B$2:B$240,5),0)),"")} -> email2
A11: 805 | B11: A. DRON | C11: 25 | D11: Atos | E11: Oui | F11: 42506.861 | G11: DRON | H11: {=IF(D11="",INDEX(email!D$2:D$240,MATCH(LEFT(TRIM(G11),5),LEFT(email!B$2:B$240,5),0)),"")}
A12: 251 | B12: A. DRON | C12: 35 | D12: Atos | E12: Oui | F12: 42385.858 | G12: DRON | H12: {=IF(D12="",INDEX(email!D$2:D$240,MATCH(LEFT(TRIM(G12),5),LEFT(email!B$2:B$240,5),0)),"")}
B13: Total A. DRON | C13: =+C12+C11 -> 60 | G13: DRON | H13: {=IF(D13="",INDEX(email!D$2:D$240,MATCH(LEFT(TRIM(G13),5),LEFT(email!B$2:B$240,5),0)),"")} -> email3
H14: {=IF(D14="",INDEX(email!D$2:D$240,MATCH(LEFT(TRIM(G14),5),LEFT(email!B$2:B$240,5),0)),"")} -> 0
H15: {=IF(D15="",INDEX(email!D$2:D$240,MATCH(LEFT(TRIM(G15),5),LEFT(email!B$2:B$240,5),0)),"")} -> 0
H16: {=IF(D16="",INDEX(email!D$2:D$240,MATCH(LEFT(TRIM(G16),5),LEFT(email!B$2:B$240,5),0)),"")} -> 0
H17: {=IF(D17="",INDEX(email!D$2:D$240,MATCH(LEFT(TRIM(G17),5),LEFT(email!B$2:B$240,5),0)),"")} -> 0
H18: {=IF(D18="",INDEX(email!D$2:D$240,MATCH(LEFT(TRIM(G18),5),LEFT(email!B$2:B$240,5),0)),"")} -> 0
H19: {=IF(D19="",INDEX(email!D$2:D$240,MATCH(LEFT(TRIM(G19),5),LEFT(email!B$2:B$240,5),0)),"")} -> 0
H20: {=IF(D20="",INDEX(email!D$2:D$240,MATCH(LEFT(TRIM(G20),5),LEFT(email!B$2:B$240,5),0)),"")} -> 0
H21: {=IF(D21="",INDEX(email!D$2:D$240,MATCH(LEFT(TRIM(G21),5),LEFT(email!B$2:B$240,5),0)),"")} -> 0
H22: {=IF(D22="",INDEX(email!D$2:D$240,MATCH(LEFT(TRIM(G22),5),LEFT(email!B$2:B$240,5),0)),"")} -> 0
H23: {=IF(D23="",INDEX(email!D$2:D$240,MATCH(LEFT(TRIM(G23),5),LEFT(email!B$2:B$240,5),0)),"")} -> 0
H24: {=IF(D24="",INDEX(email!D$2:D$240,MATCH(LEFT(TRIM(G24),5),LEFT(email!B$2:B$240,5),0)),"")} -> 0
H25: {=IF(D25="",INDEX(email!D$2:D$240,MATCH(LEFT(TRIM(G25),5),LEFT(email!B$2:B$240,5),0)),"")} -> 0
... H51: {=IF(D51="",INDEX(email!D$2:D$240,MATCH(LEFT(TRIM(G51),5),LEFT(email!B$2:B$240,5),0)),"")} -> 0

Sheet email
A1: n client | B1: nom | C1: prenom | D1: email
A2: 145 | B2: BALCETO | C2: tom | D2: email1
A3: 544 | B3: BRAUN | C3: liz | D3: email2
A4: 445 | B4: DRON | C4: marie | D4: email3

Sheet Feuil3
