Workbook
Name cola: 'Fichier principal'!$A$6:$A$77
Name dept: 'Par table'!$B$2
Name tables: 'Par table'!$B$2:$AA$2

Sheet Fichier principal
H1: sa table | I1: place | J1: statut
E2: affinité recherche | G2: tulipe15 | H2: =IF(VLOOKUP($G2,$A$6:$G$24,5,0)=0,"pas inscrit",VLOOKUP($G2,$A$6:$G$24,5,0)) -> 1 | I2: =VLOOKUP($G2,$A$6:$G$24,6,0) -> 3 | J2: =VLOOKUP($G2,$A$6:$G$24,7,0) -> 0
A3: listes des tables completes>>> | B3: {=IF(ISERROR(INDEX($E$6:$E$100,SMALL(IF($I$7:$I$100="table complete",ROW($I$7:$I$100)-6,""),COLUMN(A$1)))),"","table"&" "&INDEX($E$6:$E$100,SMALL(IF($I$7:$I$100="table complete",ROW($I$7:$I$100)-6,""),COLUMN(A$1))))} -> table 2 | C3: {=IF(ISERROR(INDEX($E$6:$E$100,SMALL(IF($I$7:$I$100="table complete",ROW($I$7:$I$100)-6,""),COLUMN(B$1)))),"","table"&" "&INDEX($E$6:$E$100,SMALL(IF($I$7:$I$100="table complete",ROW($I$7:$I$100)-6,""),COLUMN(B$1))))} -> table 3 | D3: {=IF(ISERROR(INDEX($E$6:$E$100,SMALL(IF($I$7:$I$100="table complete",ROW($I$7:$I$100)-6,""),COLUMN(C$1)))),"","table"&" "&INDEX($E$6:$E$100,SMALL(IF($I$7:$I$100="table complete",ROW($I$7:$I$100)-6,""),COLUMN(C$1))))} -> table 13 | E3: {=IF(ISERROR(INDEX($E$6:$E$100,SMALL(IF($I$7:$I$100="table complete",ROW($I$7:$I$100)-6,""),COLUMN(D$1)))),"","table"&" "&INDEX($E$6:$E$100,SMALL(IF($I$7:$I$100="table complete",ROW($I$7:$I$100)-6,""),COLUMN(D$1))))} | F3: {=IF(ISERROR(INDEX($E$6:$E$100,SMALL(IF($I$7:$I$100="table complete",ROW($I$7:$I$100)-6,""),COLUMN(E$1)))),"","table"&" "&INDEX($E$6:$E$100,SMALL(IF($I$7:$I$100="table complete",ROW($I$7:$I$100)-6,""),COLUMN(E$1))))} | G3: {=IF(ISERROR(INDEX($E$6:$E$100,SMALL(IF($I$7:$I$100="table complete",ROW($I$7:$I$100)-6,""),COLUMN(F$1)))),"","table"&" "&INDEX($E$6:$E$100,SMALL(IF($I$7:$I$100="table complete",ROW($I$7:$I$100)-6,""),COLUMN(F$1))))} | H3: {=IF(ISERROR(INDEX($E$6:$E$100,SMALL(IF($I$7:$I$100="table complete",ROW($I$7:$I$100)-6,""),COLUMN(G$1)))),"","table"&" "&INDEX($E$6:$E$100,SMALL(IF($I$7:$I$100="table complete",ROW($I$7:$I$100)-6,""),COLUMN(G$1))))} | I3: {=IF(ISERROR(INDEX($E$6:$E$100,SMALL(IF($I$7:$I$100="table complete",ROW($I$7:$I$100)-6,""),COLUMN(H$1)))),"","table"&" "&INDEX($E$6:$E$100,SMALL(IF($I$7:$I$100="table complete",ROW($I$7:$I$100)-6,""),COLUMN(H$1))))} | ... AM3: {=IF(ISERROR(INDEX($E$6:$E$100,SMALL(IF($I$7:$I$100="table complete",ROW($I$7:$I$100)-6,""),COLUMN(AL$1)))),"","table"&" "&INDEX($E$6:$E$100,SMALL(IF($I$7:$I$100="table complete",ROW($I$7:$I$100)-6,""),COLUMN(AL$1))))}
A5: Nom | B5: Prénom | C5: Entreprise | D5: Poste | E5: Table | F5: Place | G5: Chef de table | K5: Tables | L5: Places | M5: Chef de table
A6: tulipe1 | B6: Michel1 | C6: ABC | D6: Chef | E6: 1 | F6: 1 | G6: Chef de table | H6: =IF(F6="","",IF(SUMPRODUCT(--(E$6:E$100&" "&F$6:F$100=E6&" "&F6))>1,"deja pris","")) | I6: =IF(E6="","",IF(AND(F6<>"",COUNTIF(E$6:E6,E6)=VLOOKUP($E6,$K$6:$L$25,2,0)),"table complete","")) | K6: 1 | L6: 3 | N6: =MIN(COLUMN(A4),L6) -> 1 | O6: =IF(COLUMNS($A:A)>$L6-1,"",MAX(MIN(COLUMN(B4),$L6))) -> 2 | P6: =IF(COLUMNS($A:B)>$L6-1,"",MAX(MIN(COLUMN(C4),$L6))) -> 3 | Q6: =IF(COLUMNS($A:C)>$L6-1,"",MAX(MIN(COLUMN(D4),$L6))) | R6: =IF(COLUMNS($A:D)>$L6-1,"",MAX(MIN(COLUMN(E4),$L6))) | S6: =IF(COLUMNS($A:E)>$L6-1,"",MAX(MIN(COLUMN(F4),$L6))) | T6: =IF(COLUMNS($A:F)>$L6-1,"",MAX(MIN(COLUMN(G4),$L6))) | U6: =IF(COLUMNS($A:G)>$L6-1,"",MAX(MIN(COLUMN(H4),$L6))) | V6: =IF(COLUMNS($A:H)>$L6-1,"",MAX(MIN(COLUMN(I4),$L6))) | W6: =IF(COLUMNS($A:I)>$L6-1,"",MAX(MIN(COLUMN(K4),$L6))) | X6: =IF(COLUMNS($A:K)>$L6-1,"",MAX(MIN(COLUMN(L4),$L6))) | Y6: =IF(COLUMNS($A:L)>$L6-1,"",MAX(MIN(COLUMN(M4),$L6))) | Z6: =IF(COLUMNS($A:M)>$L6-1,"",MAX(MIN(COLUMN(N4),$L6))) | AA6: =IF(COLUMNS($A:N)>$L6-1,"",MAX(MIN(COLUMN(O4),$L6))) | AB6: =IF(COLUMNS($A:O)>$L6-1,"",MAX(MIN(COLUMN(P4),$L6)))
A7: tulipe2 | B7: Michel2 | C7: CBA | D7: Vendeur | E7: 5 | F7: 3 | H7: =IF(F7="","",IF(SUMPRODUCT(--(E$6:E$100&" "&F$6:F$100=E7&" "&F7))>1,"deja pris","")) | I7: =IF(E7="","",IF(AND(F7<>"",COUNTIF(E$6:E7,E7)=VLOOKUP($E7,$K$6:$L$25,2,0)),"table complete","")) | K7: 2 | L7: 2 | N7: =MIN(COLUMN(A5),L7) -> 1 | O7: =IF(COLUMNS($A:A)>$L7-1,"",MAX(MIN(COLUMN(B5),$L7))) -> 2 | P7: =IF(COLUMNS($A:B)>$L7-1,"",MAX(MIN(COLUMN(C5),$L7))) | Q7: =IF(COLUMNS($A:C)>$L7-1,"",MAX(MIN(COLUMN(D5),$L7))) | R7: =IF(COLUMNS($A:D)>$L7-1,"",MAX(MIN(COLUMN(E5),$L7))) | S7: =IF(COLUMNS($A:E)>$L7-1,"",MAX(MIN(COLUMN(F5),$L7))) | T7: =IF(COLUMNS($A:F)>$L7-1,"",MAX(MIN(COLUMN(G5),$L7))) | U7: =IF(COLUMNS($A:G)>$L7-1,"",MAX(MIN(COLUMN(H5),$L7))) | V7: =IF(COLUMNS($A:H)>$L7-1,"",MAX(MIN(COLUMN(I6),$L7))) | W7: =IF(COLUMNS($A:I)>$L7-1,"",MAX(MIN(COLUMN(K5),$L7))) | X7: =IF(COLUMNS($A:K)>$L7-1,"",MAX(MIN(COLUMN(L5),$L7))) | Y7: =IF(COLUMNS($A:L)>$L7-1,"",MAX(MIN(COLUMN(M5),$L7))) | Z7: =IF(COLUMNS($A:M)>$L7-1,"",MAX(MIN(COLUMN(N5),$L7))) | AA7: =IF(COLUMNS($A:N)>$L7-1,"",MAX(MIN(COLUMN(O5),$L7))) | AB7: =IF(COLUMNS($A:O)>$L7-1,"",MAX(MIN(COLUMN(P5),$L7)))
A8: tulipe3 | B8: Michel3 | C8: BCD | D8: Comptable | E8: 1 | F8: 2 | H8: =IF(F8="","",IF(SUMPRODUCT(--(E$6:E$100&" "&F$6:F$100=E8&" "&F8))>1,"deja pris","")) | I8: =IF(E8="","",IF(AND(F8<>"",COUNTIF(E$6:E8,E8)=VLOOKUP($E8,$K$6:$L$25,2,0)),"table complete","")) | K8: 3 | L8: 3 | N8: =MIN(COLUMN(A6),L8) -> 1 | O8: =IF(COLUMNS($A:A)>$L8-1,"",MAX(MIN(COLUMN(B6),$L8))) -> 2 | P8: =IF(COLUMNS($A:B)>$L8-1,"",MAX(MIN(COLUMN(C6),$L8))) -> 3 | Q8: =IF(COLUMNS($A:C)>$L8-1,"",MAX(MIN(COLUMN(D6),$L8))) | R8: =IF(COLUMNS($A:D)>$L8-1,"",MAX(MIN(COLUMN(E6),$L8))) | S8: =IF(COLUMNS($A:E)>$L8-1,"",MAX(MIN(COLUMN(F6),$L8))) | T8: =IF(COLUMNS($A:F)>$L8-1,"",MAX(MIN(COLUMN(G6),$L8))) | U8: =IF(COLUMNS($A:G)>$L8-1,"",MAX(MIN(COLUMN(H6),$L8))) | V8: =IF(COLUMNS($A:H)>$L8-1,"",MAX(MIN(COLUMN(#REF!),$L8))) | W8: =IF(COLUMNS($A:I)>$L8-1,"",MAX(MIN(COLUMN(K6),$L8))) | X8: =IF(COLUMNS($A:K)>$L8-1,"",MAX(MIN(COLUMN(L6),$L8))) | Y8: =IF(COLUMNS($A:L)>$L8-1,"",MAX(MIN(COLUMN(M6),$L8))) | Z8: =IF(COLUMNS($A:M)>$L8-1,"",MAX(MIN(COLUMN(N6),$L8))) | AA8: =IF(COLUMNS($A:N)>$L8-1,"",MAX(MIN(COLUMN(O6),$L8))) | AB8: =IF(COLUMNS($A:O)>$L8-1,"",MAX(MIN(COLUMN(P6),$L8)))
A9: tulipe4 | B9: Michel4 | C9: DCB | D9: Gérant | E9: 2 | F9: 2 | H9: =IF(F9="","",IF(SUMPRODUCT(--(E$6:E$100&" "&F$6:F$100=E9&" "&F9))>1,"deja pris","")) | I9: =IF(E9="","",IF(AND(F9<>"",COUNTIF(E$6:E9,E9)=VLOOKUP($E9,$K$6:$L$25,2,0)),"table complete","")) | K9: 4 | L9: 5 | N9: =MIN(COLUMN(A7),L9) -> 1 | O9: =IF(COLUMNS($A:A)>$L9-1,"",MAX(MIN(COLUMN(B7),$L9))) -> 2 | P9: =IF(COLUMNS($A:B)>$L9-1,"",MAX(MIN(COLUMN(C7),$L9))) -> 3 | Q9: =IF(COLUMNS($A:C)>$L9-1,"",MAX(MIN(COLUMN(D7),$L9))) -> 4 | R9: =IF(COLUMNS($A:D)>$L9-1,"",MAX(MIN(COLUMN(E7),$L9))) -> 5 | S9: =IF(COLUMNS($A:E)>$L9-1,"",MAX(MIN(COLUMN(F7),$L9))) | T9: =IF(COLUMNS($A:F)>$L9-1,"",MAX(MIN(COLUMN(G7),$L9))) | U9: =IF(COLUMNS($A:G)>$L9-1,"",MAX(MIN(COLUMN(H7),$L9))) | V9: =IF(COLUMNS($A:H)>$L9-1,"",MAX(MIN(COLUMN(I7),$L9))) | W9: =IF(COLUMNS($A:I)>$L9-1,"",MAX(MIN(COLUMN(K7),$L9))) | X9: =IF(COLUMNS($A:K)>$L9-1,"",MAX(MIN(COLUMN(L7),$L9))) | Y9: =IF(COLUMNS($A:L)>$L9-1,"",MAX(MIN(COLUMN(M7),$L9))) | Z9: =IF(COLUMNS($A:M)>$L9-1,"",MAX(MIN(COLUMN(N7),$L9))) | AA9: =IF(COLUMNS($A:N)>$L9-1,"",MAX(MIN(COLUMN(O7),$L9))) | AB9: =IF(COLUMNS($A:O)>$L9-1,"",MAX(MIN(COLUMN(P7),$L9)))
A10: tulipe5 | B10: Michel5 | C10: DCB | D10: Gérant | E10: 2 | F10: 1 | G10: Chef de table | H10: =IF(F10="","",IF(SUMPRODUCT(--(E$6:E$100&" "&F$6:F$100=E10&" "&F10))>1,"deja pris","")) | I10: =IF(E10="","",IF(AND(F10<>"",COUNTIF(E$6:E10,E10)=VLOOKUP($E10,$K$6:$L$25,2,0)),"table complete","")) -> table complete | K10: 5 | L10: 5 | N10: =MIN(COLUMN(A8),L10) -> 1 | O10: =IF(COLUMNS($A:A)>$L10-1,"",MAX(MIN(COLUMN(B8),$L10))) -> 2 | P10: =IF(COLUMNS($A:B)>$L10-1,"",MAX(MIN(COLUMN(C8),$L10))) -> 3 | Q10: =IF(COLUMNS($A:C)>$L10-1,"",MAX(MIN(COLUMN(D8),$L10))) -> 4 | R10: =IF(COLUMNS($A:D)>$L10-1,"",MAX(MIN(COLUMN(E8),$L10))) -> 5 | S10: =IF(COLUMNS($A:E)>$L10-1,"",MAX(MIN(COLUMN(F8),$L10))) | T10: =IF(COLUMNS($A:F)>$L10-1,"",MAX(MIN(COLUMN(G8),$L10))) | U10: =IF(COLUMNS($A:G)>$L10-1,"",MAX(MIN(COLUMN(H8),$L10))) | V10: =IF(COLUMNS($A:H)>$L10-1,"",MAX(MIN(COLUMN(I8),$L10))) | W10: =IF(COLUMNS($A:I)>$L10-1,"",MAX(MIN(COLUMN(K8),$L10))) | X10: =IF(COLUMNS($A:K)>$L10-1,"",MAX(MIN(COLUMN(L8),$L10))) | Y10: =IF(COLUMNS($A:L)>$L10-1,"",MAX(MIN(COLUMN(M8),$L10))) | Z10: =IF(COLUMNS($A:M)>$L10-1,"",MAX(MIN(COLUMN(N8),$L10))) | AA10: =IF(COLUMNS($A:N)>$L10-1,"",MAX(MIN(COLUMN(O8),$L10))) | AB10: =IF(COLUMNS($A:O)>$L10-1,"",MAX(MIN(COLUMN(P8),$L10)))
A11: tulipe6 | B11: Michel6 | C11: DCB | D11: Gérant | E11: 6 | F11: 3 | H11: =IF(F11="","",IF(SUMPRODUCT(--(E$6:E$100&" "&F$6:F$100=E11&" "&F11))>1,"deja pris","")) | I11: =IF(E11="","",IF(AND(F11<>"",COUNTIF(E$6:E11,E11)=VLOOKUP($E11,$K$6:$L$25,2,0)),"table complete","")) | K11: 6 | L11: 3 | N11: =MIN(COLUMN(A9),L11) -> 1 | O11: =IF(COLUMNS($A:A)>$L11-1,"",MAX(MIN(COLUMN(B9),$L11))) -> 2 | P11: =IF(COLUMNS($A:B)>$L11-1,"",MAX(MIN(COLUMN(C9),$L11))) -> 3 | Q11: =IF(COLUMNS($A:C)>$L11-1,"",MAX(MIN(COLUMN(D9),$L11))) | R11: =IF(COLUMNS($A:D)>$L11-1,"",MAX(MIN(COLUMN(E9),$L11))) | S11: =IF(COLUMNS($A:E)>$L11-1,"",MAX(MIN(COLUMN(F9),$L11))) | T11: =IF(COLUMNS($A:F)>$L11-1,"",MAX(MIN(COLUMN(G9),$L11))) | U11: =IF(COLUMNS($A:G)>$L11-1,"",MAX(MIN(COLUMN(H9),$L11))) | V11: =IF(COLUMNS($A:H)>$L11-1,"",MAX(MIN(COLUMN(I9),$L11))) | W11: =IF(COLUMNS($A:I)>$L11-1,"",MAX(MIN(COLUMN(K9),$L11))) | X11: =IF(COLUMNS($A:K)>$L11-1,"",MAX(MIN(COLUMN(L9),$L11))) | Y11: =IF(COLUMNS($A:L)>$L11-1,"",MAX(MIN(COLUMN(M9),$L11))) | Z11: =IF(COLUMNS($A:M)>$L11-1,"",MAX(MIN(COLUMN(N9),$L11))) | AA11: =IF(COLUMNS($A:N)>$L11-1,"",MAX(MIN(COLUMN(O9),$L11))) | AB11: =IF(COLUMNS($A:O)>$L11-1,"",MAX(MIN(COLUMN(P9),$L11)))
A12: tulipe7 | B12: Michel7 | C12: DCB | D12: Gérant | E12: 5 | F12: 2 | H12: =IF(F12="","",IF(SUMPRODUCT(--(E$6:E$100&" "&F$6:F$100=E12&" "&F12))>1,"deja pris","")) | I12: =IF(E12="","",IF(AND(F12<>"",COUNTIF(E$6:E12,E12)=VLOOKUP($E12,$K$6:$L$25,2,0)),"table complete","")) | K12: 7 | L12: 8 | N12: =MIN(COLUMN(A10),L12) -> 1 | O12: =IF(COLUMNS($A:A)>$L12-1,"",MAX(MIN(COLUMN(B10),$L12))) -> 2 | P12: =IF(COLUMNS($A:B)>$L12-1,"",MAX(MIN(COLUMN(C10),$L12))) -> 3 | Q12: =IF(COLUMNS($A:C)>$L12-1,"",MAX(MIN(COLUMN(D10),$L12))) -> 4 | R12: =IF(COLUMNS($A:D)>$L12-1,"",MAX(MIN(COLUMN(E10),$L12))) -> 5 | S12: =IF(COLUMNS($A:E)>$L12-1,"",MAX(MIN(COLUMN(F10),$L12))) -> 6 | T12: =IF(COLUMNS($A:F)>$L12-1,"",MAX(MIN(COLUMN(G10),$L12))) -> 7 | U12: =IF(COLUMNS($A:G)>$L12-1,"",MAX(MIN(COLUMN(H10),$L12))) -> 8 | V12: =IF(COLUMNS($A:H)>$L12-1,"",MAX(MIN(COLUMN(I10),$L12))) | W12: =IF(COLUMNS($A:I)>$L12-1,"",MAX(MIN(COLUMN(K10),$L12))) | X12: =IF(COLUMNS($A:K)>$L12-1,"",MAX(MIN(COLUMN(L10),$L12))) | Y12: =IF(COLUMNS($A:L)>$L12-1,"",MAX(MIN(COLUMN(M10),$L12))) | Z12: =IF(COLUMNS($A:M)>$L12-1,"",MAX(MIN(COLUMN(N10),$L12))) | AA12: =IF(COLUMNS($A:N)>$L12-1,"",MAX(MIN(COLUMN(O10),$L12))) | AB12: =IF(COLUMNS($A:O)>$L12-1,"",MAX(MIN(COLUMN(P10),$L12)))
A13: tulipe8 | B13: Michel8 | C13: DCB | D13: Gérant | E13: 6 | F13: 1 | H13: =IF(F13="","",IF(SUMPRODUCT(--(E$6:E$100&" "&F$6:F$100=E13&" "&F13))>1,"deja pris","")) | I13: =IF(E13="","",IF(AND(F13<>"",COUNTIF(E$6:E13,E13)=VLOOKUP($E13,$K$6:$L$25,2,0)),"table complete","")) | K13: 8 | L13: 10 | N13: =MIN(COLUMN(A11),L13) -> 1 | O13: =IF(COLUMNS($A:A)>$L13-1,"",MAX(MIN(COLUMN(B11),$L13))) -> 2 | P13: =IF(COLUMNS($A:B)>$L13-1,"",MAX(MIN(COLUMN(C11),$L13))) -> 3 | Q13: =IF(COLUMNS($A:C)>$L13-1,"",MAX(MIN(COLUMN(D11),$L13))) -> 4 | R13: =IF(COLUMNS($A:D)>$L13-1,"",MAX(MIN(COLUMN(E11),$L13))) -> 5 | S13: =IF(COLUMNS($A:E)>$L13-1,"",MAX(MIN(COLUMN(F11),$L13))) -> 6 | T13: =IF(COLUMNS($A:F)>$L13-1,"",MAX(MIN(COLUMN(G11),$L13))) -> 7 | U13: =IF(COLUMNS($A:G)>$L13-1,"",MAX(MIN(COLUMN(H11),$L13))) -> 8 | V13: =IF(COLUMNS($A:H)>$L13-1,"",MAX(MIN(COLUMN(I11),$L13))) -> 9 | W13: =IF(COLUMNS($A:I)>$L13-1,"",MAX(MIN(COLUMN(K11),$L13))) -> 10 | X13: =IF(COLUMNS($A:K)>$L13-1,"",MAX(MIN(COLUMN(L11),$L13))) | Y13: =IF(COLUMNS($A:L)>$L13-1,"",MAX(MIN(COLUMN(M11),$L13))) | Z13: =IF(COLUMNS($A:M)>$L13-1,"",MAX(MIN(COLUMN(N11),$L13))) | AA13: =IF(COLUMNS($A:N)>$L13-1,"",MAX(MIN(COLUMN(O11),$L13))) | AB13: =IF(COLUMNS($A:O)>$L13-1,"",MAX(MIN(COLUMN(P11),$L13)))
A14: tulipe9 | B14: Michel9 | C14: DCB | D14: Gérant | E14: 9 | F14: 2 | H14: =IF(F14="","",IF(SUMPRODUCT(--(E$6:E$100&" "&F$6:F$100=E14&" "&F14))>1,"deja pris","")) | I14: =IF(E14="","",IF(AND(F14<>"",COUNTIF(E$6:E14,E14)=VLOOKUP($E14,$K$6:$L$25,2,0)),"table complete","")) | K14: 9 | L14: 9 | N14: =MIN(COLUMN(A12),L14) -> 1 | O14: =IF(COLUMNS($A:A)>$L14-1,"",MAX(MIN(COLUMN(B12),$L14))) -> 2 | P14: =IF(COLUMNS($A:B)>$L14-1,"",MAX(MIN(COLUMN(C12),$L14))) -> 3 | Q14: =IF(COLUMNS($A:C)>$L14-1,"",MAX(MIN(COLUMN(D12),$L14))) -> 4 | R14: =IF(COLUMNS($A:D)>$L14-1,"",MAX(MIN(COLUMN(E12),$L14))) -> 5 | S14: =IF(COLUMNS($A:E)>$L14-1,"",MAX(MIN(COLUMN(F12),$L14))) -> 6 | T14: =IF(COLUMNS($A:F)>$L14-1,"",MAX(MIN(COLUMN(G12),$L14))) -> 7 | U14: =IF(COLUMNS($A:G)>$L14-1,"",MAX(MIN(COLUMN(H12),$L14))) -> 8 | V14: =IF(COLUMNS($A:H)>$L14-1,"",MAX(MIN(COLUMN(I12),$L14))) -> 9 | W14: =IF(COLUMNS($A:I)>$L14-1,"",MAX(MIN(COLUMN(K12),$L14))) | X14: =IF(COLUMNS($A:K)>$L14-1,"",MAX(MIN(COLUMN(L12),$L14))) | Y14: =IF(COLUMNS($A:L)>$L14-1,"",MAX(MIN(COLUMN(M12),$L14))) | Z14: =IF(COLUMNS($A:M)>$L14-1,"",MAX(MIN(COLUMN(N12),$L14))) | AA14: =IF(COLUMNS($A:N)>$L14-1,"",MAX(MIN(COLUMN(O12),$L14))) | AB14: =IF(COLUMNS($A:O)>$L14-1,"",MAX(MIN(COLUMN(P12),$L14)))
A15: tulipe10 | B15: Michel10 | C15: DCB | D15: Gérant | E15: 10 | F15: 4 | G15: Chef de table | H15: =IF(F15="","",IF(SUMPRODUCT(--(E$6:E$100&" "&F$6:F$100=E15&" "&F15))>1,"deja pris","")) | I15: =IF(E15="","",IF(AND(F15<>"",COUNTIF(E$6:E15,E15)=VLOOKUP($E15,$K$6:$L$25,2,0)),"table complete","")) | K15: 10 | L15: 15 | N15: =MIN(COLUMN(A13),L15) -> 1 | O15: =IF(COLUMNS($A:A)>$L15-1,"",MAX(MIN(COLUMN(B13),$L15))) -> 2 | P15: =IF(COLUMNS($A:B)>$L15-1,"",MAX(MIN(COLUMN(C13),$L15))) -> 3 | Q15: =IF(COLUMNS($A:C)>$L15-1,"",MAX(MIN(COLUMN(D13),$L15))) -> 4 | R15: =IF(COLUMNS($A:D)>$L15-1,"",MAX(MIN(COLUMN(E13),$L15))) -> 5 | S15: =IF(COLUMNS($A:E)>$L15-1,"",MAX(MIN(COLUMN(F13),$L15))) -> 6 | T15: =IF(COLUMNS($A:F)>$L15-1,"",MAX(MIN(COLUMN(G13),$L15))) -> 7 | U15: =IF(COLUMNS($A:G)>$L15-1,"",MAX(MIN(COLUMN(H13),$L15))) -> 8 | V15: =IF(COLUMNS($A:H)>$L15-1,"",MAX(MIN(COLUMN(I13),$L15))) -> 9 | W15: =IF(COLUMNS($A:I)>$L15-1,"",MAX(MIN(COLUMN(K13),$L15))) -> 11 | X15: =IF(COLUMNS($A:K)>$L15-1,"",MAX(MIN(COLUMN(L13),$L15))) -> 12 | Y15: =IF(COLUMNS($A:L)>$L15-1,"",MAX(MIN(COLUMN(M13),$L15))) -> 13 | Z15: =IF(COLUMNS($A:M)>$L15-1,"",MAX(MIN(COLUMN(N13),$L15))) -> 14 | AA15: =IF(COLUMNS($A:N)>$L15-1,"",MAX(MIN(COLUMN(O13),$L15))) -> 15 | AB15: =IF(COLUMNS($A:O)>$L15-1,"",MAX(MIN(COLUMN(P13),$L15))) | AC15: =IF(COLUMNS($A:P)>$L15-1,"",MAX(MIN(COLUMN(Q13),$L15)))
A16: tulipe11 | B16: Michel11 | C16: DCB | D16: Gérant | E16: 18 | F16: 3 | H16: =IF(F16="","",IF(SUMPRODUCT(--(E$6:E$100&" "&F$6:F$100=E16&" "&F16))>1,"deja pris","")) | I16: =IF(E16="","",IF(AND(F16<>"",COUNTIF(E$6:E16,E16)=VLOOKUP($E16,$K$6:$L$25,2,0)),"table complete","")) | K16: 11 | L16: 5 | N16: =MIN(COLUMN(A14),L16) -> 1 | O16: =IF(COLUMNS($A:A)>$L16-1,"",MAX(MIN(COLUMN(B14),$L16))) -> 2 | P16: =IF(COLUMNS($A:B)>$L16-1,"",MAX(MIN(COLUMN(C14),$L16))) -> 3 | Q16: =IF(COLUMNS($A:C)>$L16-1,"",MAX(MIN(COLUMN(D14),$L16))) -> 4 | R16: =IF(COLUMNS($A:D)>$L16-1,"",MAX(MIN(COLUMN(E14),$L16))) -> 5 | S16: =IF(COLUMNS($A:E)>$L16-1,"",MAX(MIN(COLUMN(F14),$L16))) | T16: =IF(COLUMNS($A:F)>$L16-1,"",MAX(MIN(COLUMN(G14),$L16))) | U16: =IF(COLUMNS($A:G)>$L16-1,"",MAX(MIN(COLUMN(H14),$L16))) | V16: =IF(COLUMNS($A:H)>$L16-1,"",MAX(MIN(COLUMN(I14),$L16))) | W16: =IF(COLUMNS($A:I)>$L16-1,"",MAX(MIN(COLUMN(K14),$L16))) | X16: =IF(COLUMNS($A:K)>$L16-1,"",MAX(MIN(COLUMN(L14),$L16))) | Y16: =IF(COLUMNS($A:L)>$L16-1,"",MAX(MIN(COLUMN(M14),$L16))) | Z16: =IF(COLUMNS($A:M)>$L16-1,"",MAX(MIN(COLUMN(N14),$L16))) | AA16: =IF(COLUMNS($A:N)>$L16-1,"",MAX(MIN(COLUMN(O14),$L16))) | AB16: =IF(COLUMNS($A:O)>$L16-1,"",MAX(MIN(COLUMN(P14),$L16)))
A17: tulipe12 | B17: Michel12 | C17: CBA | D17: Gérant | E17: 18 | F17: 4 | H17: =IF(F17="","",IF(SUMPRODUCT(--(E$6:E$100&" "&F$6:F$100=E17&" "&F17))>1,"deja pris","")) | I17: =IF(E17="","",IF(AND(F17<>"",COUNTIF(E$6:E17,E17)=VLOOKUP($E17,$K$6:$L$25,2,0)),"table complete","")) | K17: 12 | L17: 12 | N17: =MIN(COLUMN(A15),L17) -> 1 | O17: =IF(COLUMNS($A:A)>$L17-1,"",MAX(MIN(COLUMN(B15),$L17))) -> 2 | P17: =IF(COLUMNS($A:B)>$L17-1,"",MAX(MIN(COLUMN(C15),$L17))) -> 3 | Q17: =IF(COLUMNS($A:C)>$L17-1,"",MAX(MIN(COLUMN(D15),$L17))) -> 4 | R17: =IF(COLUMNS($A:D)>$L17-1,"",MAX(MIN(COLUMN(E15),$L17))) -> 5 | S17: =IF(COLUMNS($A:E)>$L17-1,"",MAX(MIN(COLUMN(F15),$L17))) -> 6 | T17: =IF(COLUMNS($A:F)>$L17-1,"",MAX(MIN(COLUMN(G15),$L17))) -> 7 | U17: =IF(COLUMNS($A:G)>$L17-1,"",MAX(MIN(COLUMN(H15),$L17))) -> 8 | V17: =IF(COLUMNS($A:H)>$L17-1,"",MAX(MIN(COLUMN(I15),$L17))) -> 9 | W17: =IF(COLUMNS($A:I)>$L17-1,"",MAX(MIN(COLUMN(K15),$L17))) -> 11 | X17: =IF(COLUMNS($A:K)>$L17-1,"",MAX(MIN(COLUMN(L15),$L17))) -> 12 | Y17: =IF(COLUMNS($A:L)>$L17-1,"",MAX(MIN(COLUMN(M15),$L17))) | Z17: =IF(COLUMNS($A:M)>$L17-1,"",MAX(MIN(COLUMN(N15),$L17))) | AA17: =IF(COLUMNS($A:N)>$L17-1,"",MAX(MIN(COLUMN(O15),$L17))) | AB17: =IF(COLUMNS($A:O)>$L17-1,"",MAX(MIN(COLUMN(P15),$L17)))
A18: tulipe13 | B18: Michel13 | C18: CBA | D18: Gérant | E18: 3 | F18: 2 | G18: Chef de table | H18: =IF(F18="","",IF(SUMPRODUCT(--(E$6:E$100&" "&F$6:F$100=E18&" "&F18))>1,"deja pris","")) | I18: =IF(E18="","",IF(AND(F18<>"",COUNTIF(E$6:E18,E18)=VLOOKUP($E18,$K$6:$L$25,2,0)),"table complete","")) | K18: 13 | L18: 4 | N18: =MIN(COLUMN(A16),L18) -> 1 | O18: =IF(COLUMNS($A:A)>$L18-1,"",MAX(MIN(COLUMN(B16),$L18))) -> 2 | P18: =IF(COLUMNS($A:B)>$L18-1,"",MAX(MIN(COLUMN(C16),$L18))) -> 3 | Q18: =IF(COLUMNS($A:C)>$L18-1,"",MAX(MIN(COLUMN(D16),$L18))) -> 4 | R18: =IF(COLUMNS($A:D)>$L18-1,"",MAX(MIN(COLUMN(E16),$L18))) | S18: =IF(COLUMNS($A:E)>$L18-1,"",MAX(MIN(COLUMN(F16),$L18))) | T18: =IF(COLUMNS($A:F)>$L18-1,"",MAX(MIN(COLUMN(G16),$L18))) | U18: =IF(COLUMNS($A:G)>$L18-1,"",MAX(MIN(COLUMN(H16),$L18))) | V18: =IF(COLUMNS($A:H)>$L18-1,"",MAX(MIN(COLUMN(I16),$L18))) | W18: =IF(COLUMNS($A:I)>$L18-1,"",MAX(MIN(COLUMN(K16),$L18))) | X18: =IF(COLUMNS($A:K)>$L18-1,"",MAX(MIN(COLUMN(L16),$L18))) | Y18: =IF(COLUMNS($A:L)>$L18-1,"",MAX(MIN(COLUMN(M16),$L18))) | Z18: =IF(COLUMNS($A:M)>$L18-1,"",MAX(MIN(COLUMN(N16),$L18))) | AA18: =IF(COLUMNS($A:N)>$L18-1,"",MAX(MIN(COLUMN(O16),$L18))) | AB18: =IF(COLUMNS($A:O)>$L18-1,"",MAX(MIN(COLUMN(P16),$L18)))
A19: tulipe14 | B19: Michel14 | C19: CBA | D19: Gérant | E19: 3 | F19: 1 | H19: =IF(F19="","",IF(SUMPRODUCT(--(E$6:E$100&" "&F$6:F$100=E19&" "&F19))>1,"deja pris","")) | I19: =IF(E19="","",IF(AND(F19<>"",COUNTIF(E$6:E19,E19)=VLOOKUP($E19,$K$6:$L$25,2,0)),"table complete","")) | K19: 14 | L19: 14 | N19: =MIN(COLUMN(A17),L19) -> 1 | O19: =IF(COLUMNS($A:A)>$L19-1,"",MAX(MIN(COLUMN(B17),$L19))) -> 2 | P19: =IF(COLUMNS($A:B)>$L19-1,"",MAX(MIN(COLUMN(C17),$L19))) -> 3 | Q19: =IF(COLUMNS($A:C)>$L19-1,"",MAX(MIN(COLUMN(D17),$L19))) -> 4 | R19: =IF(COLUMNS($A:D)>$L19-1,"",MAX(MIN(COLUMN(E17),$L19))) -> 5 | S19: =IF(COLUMNS($A:E)>$L19-1,"",MAX(MIN(COLUMN(F17),$L19))) -> 6 | T19: =IF(COLUMNS($A:F)>$L19-1,"",MAX(MIN(COLUMN(G17),$L19))) -> 7 | U19: =IF(COLUMNS($A:G)>$L19-1,"",MAX(MIN(COLUMN(H17),$L19))) -> 8 | V19: =IF(COLUMNS($A:H)>$L19-1,"",MAX(MIN(COLUMN(I17),$L19))) -> 9 | W19: =IF(COLUMNS($A:I)>$L19-1,"",MAX(MIN(COLUMN(K17),$L19))) -> 11 | X19: =IF(COLUMNS($A:K)>$L19-1,"",MAX(MIN(COLUMN(L17),$L19))) -> 12 | Y19: =IF(COLUMNS($A:L)>$L19-1,"",MAX(MIN(COLUMN(M17),$L19))) -> 13 | Z19: =IF(COLUMNS($A:M)>$L19-1,"",MAX(MIN(COLUMN(N17),$L19))) -> 14 | AA19: =IF(COLUMNS($A:N)>$L19-1,"",MAX(MIN(COLUMN(O17),$L19))) | AB19: =IF(COLUMNS($A:O)>$L19-1,"",MAX(MIN(COLUMN(P17),$L19)))
A20: tulipe15 | B20: Michel15 | C20: CBA | D20: Gérant | E20: 1 | F20: 3 | H20: =IF(F20="","",IF(SUMPRODUCT(--(E$6:E$100&" "&F$6:F$100=E20&" "&F20))>1,"deja pris","")) | I20: =IF(E20="","",IF(AND(F20<>"",COUNTIF(E$6:E20,E20)=VLOOKUP($E20,$K$6:$L$25,2,0)),"table complete","")) -> table complete | K20: 15 | L20: 5 | N20: =MIN(COLUMN(A18),L20) -> 1 | O20: =IF(COLUMNS($A:A)>$L20-1,"",MAX(MIN(COLUMN(B18),$L20))) -> 2 | P20: =IF(COLUMNS($A:B)>$L20-1,"",MAX(MIN(COLUMN(C18),$L20))) -> 3 | Q20: =IF(COLUMNS($A:C)>$L20-1,"",MAX(MIN(COLUMN(D18),$L20))) -> 4 | R20: =IF(COLUMNS($A:D)>$L20-1,"",MAX(MIN(COLUMN(E18),$L20))) -> 5 | S20: =IF(COLUMNS($A:E)>$L20-1,"",MAX(MIN(COLUMN(F18),$L20))) | T20: =IF(COLUMNS($A:F)>$L20-1,"",MAX(MIN(COLUMN(G18),$L20))) | U20: =IF(COLUMNS($A:G)>$L20-1,"",MAX(MIN(COLUMN(H18),$L20))) | V20: =IF(COLUMNS($A:H)>$L20-1,"",MAX(MIN(COLUMN(I18),$L20))) | W20: =IF(COLUMNS($A:I)>$L20-1,"",MAX(MIN(COLUMN(K18),$L20))) | X20: =IF(COLUMNS($A:K)>$L20-1,"",MAX(MIN(COLUMN(L18),$L20))) | Y20: =IF(COLUMNS($A:L)>$L20-1,"",MAX(MIN(COLUMN(M18),$L20))) | Z20: =IF(COLUMNS($A:M)>$L20-1,"",MAX(MIN(COLUMN(N18),$L20))) | AA20: =IF(COLUMNS($A:N)>$L20-1,"",MAX(MIN(COLUMN(O18),$L20))) | AB20: =IF(COLUMNS($A:O)>$L20-1,"",MAX(MIN(COLUMN(P18),$L20)))
A21: tulipe16 | B21: Michel16 | C21: CBA | D21: Gérant | E21: 13 | F21: 1 | H21: =IF(F21="","",IF(SUMPRODUCT(--(E$6:E$100&" "&F$6:F$100=E21&" "&F21))>1,"deja pris","")) | I21: =IF(E21="","",IF(AND(F21<>"",COUNTIF(E$6:E21,E21)=VLOOKUP($E21,$K$6:$L$25,2,0)),"table complete","")) | K21: 16 | L21: 4 | N21: =MIN(COLUMN(A19),L21) -> 1 | O21: =IF(COLUMNS($A:A)>$L21-1,"",MAX(MIN(COLUMN(B19),$L21))) -> 2 | P21: =IF(COLUMNS($A:B)>$L21-1,"",MAX(MIN(COLUMN(C19),$L21))) -> 3 | Q21: =IF(COLUMNS($A:C)>$L21-1,"",MAX(MIN(COLUMN(D19),$L21))) -> 4 | R21: =IF(COLUMNS($A:D)>$L21-1,"",MAX(MIN(COLUMN(E19),$L21))) | S21: =IF(COLUMNS($A:E)>$L21-1,"",MAX(MIN(COLUMN(F19),$L21))) | T21: =IF(COLUMNS($A:F)>$L21-1,"",MAX(MIN(COLUMN(G19),$L21))) | U21: =IF(COLUMNS($A:G)>$L21-1,"",MAX(MIN(COLUMN(H19),$L21))) | V21: =IF(COLUMNS($A:H)>$L21-1,"",MAX(MIN(COLUMN(I19),$L21))) | W21: =IF(COLUMNS($A:I)>$L21-1,"",MAX(MIN(COLUMN(K19),$L21))) | X21: =IF(COLUMNS($A:K)>$L21-1,"",MAX(MIN(COLUMN(L19),$L21))) | Y21: =IF(COLUMNS($A:L)>$L21-1,"",MAX(MIN(COLUMN(M19),$L21))) | Z21: =IF(COLUMNS($A:M)>$L21-1,"",MAX(MIN(COLUMN(N19),$L21))) | AA21: =IF(COLUMNS($A:N)>$L21-1,"",MAX(MIN(COLUMN(O19),$L21))) | AB21: =IF(COLUMNS($A:O)>$L21-1,"",MAX(MIN(COLUMN(P19),$L21)))
A22: tulipe17 | B22: Michel17 | C22: CBA | D22: Gérant | E22: 12 | F22: 1 | H22: =IF(F22="","",IF(SUMPRODUCT(--(E$6:E$100&" "&F$6:F$100=E22&" "&F22))>1,"deja pris","")) | I22: =IF(E22="","",IF(AND(F22<>"",COUNTIF(E$6:E22,E22)=VLOOKUP($E22,$K$6:$L$25,2,0)),"table complete","")) | K22: 17 | L22: 4 | N22: =MIN(COLUMN(A20),L22) -> 1 | O22: =IF(COLUMNS($A:A)>$L22-1,"",MAX(MIN(COLUMN(B20),$L22))) -> 2 | P22: =IF(COLUMNS($A:B)>$L22-1,"",MAX(MIN(COLUMN(C20),$L22))) -> 3 | Q22: =IF(COLUMNS($A:C)>$L22-1,"",MAX(MIN(COLUMN(D20),$L22))) -> 4 | R22: =IF(COLUMNS($A:D)>$L22-1,"",MAX(MIN(COLUMN(E20),$L22))) | S22: =IF(COLUMNS($A:E)>$L22-1,"",MAX(MIN(COLUMN(F20),$L22))) | T22: =IF(COLUMNS($A:F)>$L22-1,"",MAX(MIN(COLUMN(G20),$L22))) | U22: =IF(COLUMNS($A:G)>$L22-1,"",MAX(MIN(COLUMN(H20),$L22))) | V22: =IF(COLUMNS($A:H)>$L22-1,"",MAX(MIN(COLUMN(I20),$L22))) | W22: =IF(COLUMNS($A:I)>$L22-1,"",MAX(MIN(COLUMN(K20),$L22))) | X22: =IF(COLUMNS($A:K)>$L22-1,"",MAX(MIN(COLUMN(L20),$L22))) | Y22: =IF(COLUMNS($A:L)>$L22-1,"",MAX(MIN(COLUMN(M20),$L22))) | Z22: =IF(COLUMNS($A:M)>$L22-1,"",MAX(MIN(COLUMN(N20),$L22))) | AA22: =IF(COLUMNS($A:N)>$L22-1,"",MAX(MIN(COLUMN(O20),$L22))) | AB22: =IF(COLUMNS($A:O)>$L22-1,"",MAX(MIN(COLUMN(P20),$L22)))
A23: tulipe18 | B23: Michel18 | C23: CBA | D23: Gérant | E23: 13 | F23: 4 | H23: =IF(F23="","",IF(SUMPRODUCT(--(E$6:E$100&" "&F$6:F$100=E23&" "&F23))>1,"deja pris","")) | I23: =IF(E23="","",IF(AND(F23<>"",COUNTIF(E$6:E23,E23)=VLOOKUP($E23,$K$6:$L$25,2,0)),"table complete","")) | K23: 18 | L23: 4 | N23: =MIN(COLUMN(A21),L23) -> 1 | O23: =IF(COLUMNS($A:A)>$L23-1,"",MAX(MIN(COLUMN(B21),$L23))) -> 2 | P23: =IF(COLUMNS($A:B)>$L23-1,"",MAX(MIN(COLUMN(C21),$L23))) -> 3 | Q23: =IF(COLUMNS($A:C)>$L23-1,"",MAX(MIN(COLUMN(D21),$L23))) -> 4 | R23: =IF(COLUMNS($A:D)>$L23-1,"",MAX(MIN(COLUMN(E21),$L23))) | S23: =IF(COLUMNS($A:E)>$L23-1,"",MAX(MIN(COLUMN(F21),$L23))) | T23: =IF(COLUMNS($A:F)>$L23-1,"",MAX(MIN(COLUMN(G21),$L23))) | U23: =IF(COLUMNS($A:G)>$L23-1,"",MAX(MIN(COLUMN(H21),$L23))) | V23: =IF(COLUMNS($A:H)>$L23-1,"",MAX(MIN(COLUMN(I21),$L23))) | W23: =IF(COLUMNS($A:I)>$L23-1,"",MAX(MIN(COLUMN(K21),$L23))) | X23: =IF(COLUMNS($A:K)>$L23-1,"",MAX(MIN(COLUMN(L21),$L23))) | Y23: =IF(COLUMNS($A:L)>$L23-1,"",MAX(MIN(COLUMN(M21),$L23))) | Z23: =IF(COLUMNS($A:M)>$L23-1,"",MAX(MIN(COLUMN(N21),$L23))) | AA23: =IF(COLUMNS($A:N)>$L23-1,"",MAX(MIN(COLUMN(O21),$L23))) | AB23: =IF(COLUMNS($A:O)>$L23-1,"",MAX(MIN(COLUMN(P21),$L23)))
A24: tulipe19 | B24: Michel19 | C24: CBA | D24: Gérant | E24: 3 | F24: 3 | H24: =IF(F24="","",IF(SUMPRODUCT(--(E$6:E$100&" "&F$6:F$100=E24&" "&F24))>1,"deja pris","")) | I24: =IF(E24="","",IF(AND(F24<>"",COUNTIF(E$6:E24,E24)=VLOOKUP($E24,$K$6:$L$25,2,0)),"table complete","")) -> table complete | K24: 19 | L24: 4 | N24: =MIN(COLUMN(A22),L24) -> 1 | O24: =IF(COLUMNS($A:A)>$L24-1,"",MAX(MIN(COLUMN(B22),$L24))) -> 2 | P24: =IF(COLUMNS($A:B)>$L24-1,"",MAX(MIN(COLUMN(C22),$L24))) -> 3 | Q24: =IF(COLUMNS($A:C)>$L24-1,"",MAX(MIN(COLUMN(D22),$L24))) -> 4 | R24: =IF(COLUMNS($A:D)>$L24-1,"",MAX(MIN(COLUMN(E22),$L24))) | S24: =IF(COLUMNS($A:E)>$L24-1,"",MAX(MIN(COLUMN(F22),$L24))) | T24: =IF(COLUMNS($A:F)>$L24-1,"",MAX(MIN(COLUMN(G22),$L24))) | U24: =IF(COLUMNS($A:G)>$L24-1,"",MAX(MIN(COLUMN(H22),$L24))) | V24: =IF(COLUMNS($A:H)>$L24-1,"",MAX(MIN(COLUMN(I22),$L24))) | W24: =IF(COLUMNS($A:I)>$L24-1,"",MAX(MIN(COLUMN(K22),$L24))) | X24: =IF(COLUMNS($A:K)>$L24-1,"",MAX(MIN(COLUMN(L22),$L24))) | Y24: =IF(COLUMNS($A:L)>$L24-1,"",MAX(MIN(COLUMN(M22),$L24))) | Z24: =IF(COLUMNS($A:M)>$L24-1,"",MAX(MIN(COLUMN(N22),$L24))) | AA24: =IF(COLUMNS($A:N)>$L24-1,"",MAX(MIN(COLUMN(O22),$L24))) | AB24: =IF(COLUMNS($A:O)>$L24-1,"",MAX(MIN(COLUMN(P22),$L24)))
A25: tulipe20 | B25: Michel20 | C25: CBA | D25: Gérant | H25: =IF(F25="","",IF(SUMPRODUCT(--(E$6:E$100&" "&F$6:F$100=E25&" "&F25))>1,"deja pris","")) | I25: =IF(E25="","",IF(AND(F25<>"",COUNTIF(E$6:E25,E25)=VLOOKUP($E25,$K$6:$L$25,2,0)),"table complete","")) | K25: 20 | L25: 4 | N25: =MIN(COLUMN(A23),L25) -> 1 | O25: =IF(COLUMNS($A:A)>$L25-1,"",MAX(MIN(COLUMN(B23),$L25))) -> 2 | P25: =IF(COLUMNS($A:B)>$L25-1,"",MAX(MIN(COLUMN(C23),$L25))) -> 3 | Q25: =IF(COLUMNS($A:C)>$L25-1,"",MAX(MIN(COLUMN(D23),$L25))) -> 4 | R25: =IF(COLUMNS($A:D)>$L25-1,"",MAX(MIN(COLUMN(E23),$L25))) | S25: =IF(COLUMNS($A:E)>$L25-1,"",MAX(MIN(COLUMN(F23),$L25))) | T25: =IF(COLUMNS($A:F)>$L25-1,"",MAX(MIN(COLUMN(G23),$L25))) | U25: =IF(COLUMNS($A:G)>$L25-1,"",MAX(MIN(COLUMN(H23),$L25))) | V25: =IF(COLUMNS($A:H)>$L25-1,"",MAX(MIN(COLUMN(I23),$L25))) | W25: =IF(COLUMNS($A:I)>$L25-1,"",MAX(MIN(COLUMN(K23),$L25)))
A26: tulipe21 | B26: Michel21 | C26: CBA | D26: Gérant | H26: =IF(F26="","",IF(SUMPRODUCT(--(E$6:E$100&" "&F$6:F$100=E26&" "&F26))>1,"deja pris","")) | I26: =IF(E26="","",IF(AND(F26<>"",COUNTIF(E$6:E26,E26)=VLOOKUP($E26,$K$6:$L$25,2,0)),"table complete",""))
A27: tulipe22 | B27: Michel22 | C27: CBA | D27: Gérant | H27: =IF(F27="","",IF(SUMPRODUCT(--(E$6:E$100&" "&F$6:F$100=E27&" "&F27))>1,"deja pris","")) | I27: =IF(E27="","",IF(AND(F27<>"",COUNTIF(E$6:E27,E27)=VLOOKUP($E27,$K$6:$L$25,2,0)),"table complete",""))
A28: tulipe23 | B28: Michel23 | C28: CBA | D28: Gérant | H28: =IF(F28="","",IF(SUMPRODUCT(--(E$6:E$100&" "&F$6:F$100=E28&" "&F28))>1,"deja pris","")) | I28: =IF(E28="","",IF(AND(F28<>"",COUNTIF(E$6:E28,E28)=VLOOKUP($E28,$K$6:$L$25,2,0)),"table complete",""))
A29: tulipe24 | B29: Michel24 | C29: CBA | D29: Gérant | H29: =IF(F29="","",IF(SUMPRODUCT(--(E$6:E$100&" "&F$6:F$100=E29&" "&F29))>1,"deja pris","")) | I29: =IF(E29="","",IF(AND(F29<>"",COUNTIF(E$6:E29,E29)=VLOOKUP($E29,$K$6:$L$25,2,0)),"table complete",""))
A30: tulipe25 | B30: Michel25 | C30: CBA | D30: Gérant | H30: =IF(F30="","",IF(SUMPRODUCT(--(E$6:E$100&" "&F$6:F$100=E30&" "&F30))>1,"deja pris","")) | I30: =IF(E30="","",IF(AND(F30<>"",COUNTIF(E$6:E30,E30)=VLOOKUP($E30,$K$6:$L$25,2,0)),"table complete",""))
A31: tulipe26 | B31: Michel26 | C31: CBA | D31: Gérant | E31: 12 | F31: 2 | H31: =IF(F31="","",IF(SUMPRODUCT(--(E$6:E$100&" "&F$6:F$100=E31&" "&F31))>1,"deja pris","")) | I31: =IF(E31="","",IF(AND(F31<>"",COUNTIF(E$6:E31,E31)=VLOOKUP($E31,$K$6:$L$25,2,0)),"table complete",""))
A32: tulipe27 | B32: Michel27 | C32: CBA | D32: Gérant | H32: =IF(F32="","",IF(SUMPRODUCT(--(E$6:E$100&" "&F$6:F$100=E32&" "&F32))>1,"deja pris","")) | I32: =IF(E32="","",IF(AND(F32<>"",COUNTIF(E$6:E32,E32)=VLOOKUP($E32,$K$6:$L$25,2,0)),"table complete",""))
A33: tulipe28 | B33: Michel28 | C33: CBA | D33: Gérant | H33: =IF(F33="","",IF(SUMPRODUCT(--(E$6:E$100&" "&F$6:F$100=E33&" "&F33))>1,"deja pris","")) | I33: =IF(E33="","",IF(AND(F33<>"",COUNTIF(E$6:E33,E33)=VLOOKUP($E33,$K$6:$L$25,2,0)),"table complete",""))
A34: tulipe29 | B34: Michel29 | C34: CBA | D34: Gérant | H34: =IF(F34="","",IF(SUMPRODUCT(--(E$6:E$100&" "&F$6:F$100=E34&" "&F34))>1,"deja pris","")) | I34: =IF(E34="","",IF(AND(F34<>"",COUNTIF(E$6:E34,E34)=VLOOKUP($E34,$K$6:$L$25,2,0)),"table complete",""))
A35: tulipe30 | B35: Michel30 | C35: CBA | D35: Gérant | H35: =IF(F35="","",IF(SUMPRODUCT(--(E$6:E$100&" "&F$6:F$100=E35&" "&F35))>1,"deja pris","")) | I35: =IF(E35="","",IF(AND(F35<>"",COUNTIF(E$6:E35,E35)=VLOOKUP($E35,$K$6:$L$25,2,0)),"table complete",""))
A36: tulipe31 | B36: Michel31 | C36: CBA | D36: Gérant | H36: =IF(F36="","",IF(SUMPRODUCT(--(E$6:E$100&" "&F$6:F$100=E36&" "&F36))>1,"deja pris","")) | I36: =IF(E36="","",IF(AND(F36<>"",COUNTIF(E$6:E36,E36)=VLOOKUP($E36,$K$6:$L$25,2,0)),"table complete",""))
A37: tulipe32 | B37: Michel32 | C37: CBA | D37: Gérant | H37: =IF(F37="","",IF(SUMPRODUCT(--(E$6:E$100&" "&F$6:F$100=E37&" "&F37))>1,"deja pris","")) | I37: =IF(E37="","",IF(AND(F37<>"",COUNTIF(E$6:E37,E37)=VLOOKUP($E37,$K$6:$L$25,2,0)),"table complete",""))
A38: tulipe33 | B38: Michel33 | C38: CBA | D38: Gérant | H38: =IF(F38="","",IF(SUMPRODUCT(--(E$6:E$100&" "&F$6:F$100=E38&" "&F38))>1,"deja pris","")) | I38: =IF(E38="","",IF(AND(F38<>"",COUNTIF(E$6:E38,E38)=VLOOKUP($E38,$K$6:$L$25,2,0)),"table complete",""))
A39: tulipe34 | B39: Michel34 | C39: CBA | D39: Gérant | H39: =IF(F39="","",IF(SUMPRODUCT(--(E$6:E$100&" "&F$6:F$100=E39&" "&F39))>1,"deja pris","")) | I39: =IF(E39="","",IF(AND(F39<>"",COUNTIF(E$6:E39,E39)=VLOOKUP($E39,$K$6:$L$25,2,0)),"table complete",""))
A40: tulipe35 | B40: Michel35 | C40: CBA | D40: Gérant | H40: =IF(F40="","",IF(SUMPRODUCT(--(E$6:E$100&" "&F$6:F$100=E40&" "&F40))>1,"deja pris","")) | I40: =IF(E40="","",IF(AND(F40<>"",COUNTIF(E$6:E40,E40)=VLOOKUP($E40,$K$6:$L$25,2,0)),"table complete",""))
A41: tulipe36 | B41: Michel36 | C41: CBA | D41: Gérant | H41: =IF(F41="","",IF(SUMPRODUCT(--(E$6:E$100&" "&F$6:F$100=E41&" "&F41))>1,"deja pris","")) | I41: =IF(E41="","",IF(AND(F41<>"",COUNTIF(E$6:E41,E41)=VLOOKUP($E41,$K$6:$L$25,2,0)),"table complete",""))
...

Sheet Paramètres
A2: Date | B2: 41640
A3: Ville | B3: Paris
A4: Logo

Sheet Par table
B2: 1 | C2: postion/statut | D2: 2 | E2: postion/statut | F2: 3 | G2: postion/statut | H2: 4 | I2: postion/statut | J2: 5 | L2: 6 | N2: 7 | P2: 8 | R2: 9 | T2: 10 | V2: 11 | X2: 13 | Z2: 14 | AA2: n°/ statut
B3: {=IFERROR(INDEX('Fichier principal'!$A$6:$A$100&" "&'Fichier principal'!$B$6:$B$100,SMALL(IF('Fichier principal'!$E$6:$E$100=$B$2,ROW('Par table'!$A$6:$A$100)-5,""),ROW($A1))),"")} -> tulipe1 Michel1 | C3: {=IFERROR(INDEX('Fichier principal'!$F$6:$F$100&" "&'Fichier principal'!$G$6:$G$100,SMALL(IF('Fichier principal'!$E$6:$E$100=B$2,ROW('Par table'!$A$6:$A$100)-5,""),ROW($A1))),"")} -> 1 Chef de table | D3: {=IFERROR(INDEX('Fichier principal'!$A$6:$A$100&" "&'Fichier principal'!$B$6:$B$100,SMALL(IF('Fichier principal'!$E$6:$E$100=D$2,ROW('Par table'!$A$6:$A$100)-5,""),ROW($A1))),"")} -> tulipe4 Michel4 | E3: {=IFERROR(INDEX('Fichier principal'!$F$6:$F$100&" "&'Fichier principal'!$G$6:$G$100,SMALL(IF('Fichier principal'!$E$6:$E$100=D$2,ROW('Par table'!$A$6:$A$100)-5,""),ROW($A1))),"")} -> 2 | F3: {=IFERROR(INDEX('Fichier principal'!$A$6:$A$100&" "&'Fichier principal'!$B$6:$B$100,SMALL(IF('Fichier principal'!$E$6:$E$100=F$2,ROW('Par table'!$A$6:$A$100)-5,""),ROW($A1))),"")} -> tulipe13 Michel13 | G3: {=IFERROR(INDEX('Fichier principal'!$F$6:$F$100&" "&'Fichier principal'!$G$6:$G$100,SMALL(IF('Fichier principal'!$E$6:$E$100=F$2,ROW('Par table'!$A$6:$A$100)-5,""),ROW($A1))),"")} -> 2 Chef de table | H3: {=IFERROR(INDEX('Fichier principal'!$A$6:$A$100&" "&'Fichier principal'!$B$6:$B$100,SMALL(IF('Fichier principal'!$E$6:$E$100=H$2,ROW('Par table'!$A$6:$A$100)-5,""),ROW($A1))),"")} | I3: {=IFERROR(INDEX('Fichier principal'!$F$6:$F$100&" "&'Fichier principal'!$G$6:$G$100,SMALL(IF('Fichier principal'!$E$6:$E$100=H$2,ROW('Par table'!$A$6:$A$100)-5,""),ROW($A1))),"")} | J3: {=IFERROR(INDEX('Fichier principal'!$A$6:$A$100&" "&'Fichier principal'!$B$6:$B$100,SMALL(IF('Fichier principal'!$E$6:$E$100=J$2,ROW('Par table'!$A$6:$A$100)-5,""),ROW($A1))),"")} -> tulipe2 Michel2 | K3: {=IFERROR(INDEX('Fichier principal'!$F$6:$F$100&" "&'Fichier principal'!$G$6:$G$100,SMALL(IF('Fichier principal'!$E$6:$E$100=J$2,ROW('Par table'!$A$6:$A$100)-5,""),ROW($A1))),"")} -> 3 | L3: {=IFERROR(INDEX('Fichier principal'!$A$6:$A$100&" "&'Fichier principal'!$B$6:$B$100,SMALL(IF('Fichier principal'!$E$6:$E$100=L$2,ROW('Par table'!$A$6:$A$100)-5,""),ROW($A1))),"")} -> tulipe6 Michel6 | M3: {=IFERROR(INDEX('Fichier principal'!$F$6:$F$100&" "&'Fichier principal'!$G$6:$G$100,SMALL(IF('Fichier principal'!$E$6:$E$100=L$2,ROW('Par table'!$A$6:$A$100)-5,""),ROW($A1))),"")} -> 3 | N3: {=IFERROR(INDEX('Fichier principal'!$A$6:$A$100&" "&'Fichier principal'!$B$6:$B$100,SMALL(IF('Fichier principal'!$E$6:$E$100=N$2,ROW('Par table'!$A$6:$A$100)-5,""),ROW($A1))),"")} | O3: {=IFERROR(INDEX('Fichier principal'!$F$6:$F$100&" "&'Fichier principal'!$G$6:$G$100,SMALL(IF('Fichier principal'!$E$6:$E$100=N$2,ROW('Par table'!$A$6:$A$100)-5,""),ROW($A1))),"")} | P3: {=IFERROR(INDEX('Fichier principal'!$A$6:$A$100&" "&'Fichier principal'!$B$6:$B$100,SMALL(IF('Fichier principal'!$E$6:$E$100=P$2,ROW('Par table'!$A$6:$A$100)-5,""),ROW($A1))),"")} | Q3: {=IFERROR(INDEX('Fichier principal'!$F$6:$F$100&" "&'Fichier principal'!$G$6:$G$100,SMALL(IF('Fichier principal'!$E$6:$E$100=P$2,ROW('Par table'!$A$6:$A$100)-5,""),ROW($A1))),"")} | R3: {=IFERROR(INDEX('Fichier principal'!$A$6:$A$100&" "&'Fichier principal'!$B$6:$B$100,SMALL(IF('Fichier principal'!$E$6:$E$100=R$2,ROW('Par table'!$A$6:$A$100)-5,""),ROW($A1))),"")} -> tulipe9 Michel9 | S3: {=IFERROR(INDEX('Fichier principal'!$F$6:$F$100&" "&'Fichier principal'!$G$6:$G$100,SMALL(IF('Fichier principal'!$E$6:$E$100=R$2,ROW('Par table'!$A$6:$A$100)-5,""),ROW($A1))),"")} -> 2 | T3: {=IFERROR(INDEX('Fichier principal'!$A$6:$A$100&" "&'Fichier principal'!$B$6:$B$100,SMALL(IF('Fichier principal'!$E$6:$E$100=T$2,ROW('Par table'!$A$6:$A$100)-5,""),ROW($A1))),"")} -> tulipe10 Michel10 | U3: {=IFERROR(INDEX('Fichier principal'!$F$6:$F$100&" "&'Fichier principal'!$G$6:$G$100,SMALL(IF('Fichier principal'!$E$6:$E$100=T$2,ROW('Par table'!$A$6:$A$100)-5,""),ROW($A1))),"")} -> 4 Chef de table | V3: {=IFERROR(INDEX('Fichier principal'!$A$6:$A$100&" "&'Fichier principal'!$B$6:$B$100,SMALL(IF('Fichier principal'!$E$6:$E$100=V$2,ROW('Par table'!$A$6:$A$100)-5,""),ROW($A1))),"")} | W3: {=IFERROR(INDEX('Fichier principal'!$F$6:$F$100&" "&'Fichier principal'!$G$6:$G$100,SMALL(IF('Fichier principal'!$E$6:$E$100=V$2,ROW('Par table'!$A$6:$A$100)-5,""),ROW($A1))),"")} | X3: {=IFERROR(INDEX('Fichier principal'!$A$6:$A$100&" "&'Fichier principal'!$B$6:$B$100,SMALL(IF('Fichier principal'!$E$6:$E$100=X$2,ROW('Par table'!$A$6:$A$100)-5,""),ROW($A1))),"")} -> tulipe16 Michel16 | Y3: {=IFERROR(INDEX('Fichier principal'!$F$6:$F$100&" "&'Fichier principal'!$G$6:$G$100,SMALL(IF('Fichier principal'!$E$6:$E$100=X$2,ROW('Par table'!$A$6:$A$100)-5,""),ROW($A1))),"")} -> 1 | Z3: {=IFERROR(INDEX('Fichier principal'!$A$6:$A$100&" "&'Fichier principal'!$B$6:$B$100,SMALL(IF('Fichier principal'!$E$6:$E$100=Z$2,ROW('Par table'!$A$6:$A$100)-5,""),ROW($A1))),"")} | AA3: {=IFERROR(INDEX('Fichier principal'!$F$6:$F$100&" "&'Fichier principal'!$G$6:$G$100,SMALL(IF('Fichier principal'!$E$6:$E$100=Z$2,ROW('Par table'!$A$6:$A$100)-5,""),ROW($A1))),"")}
B4: {=IFERROR(INDEX('Fichier principal'!$A$6:$A$22&" "&'Fichier principal'!$B$6:$B$22,SMALL(IF('Fichier principal'!$E$6:$E$22='Par table'!$B$2,ROW('Par table'!$A$3:$A$19)-2,""),ROW($A2))),"")} -> tulipe3 Michel3 | C4: {=IFERROR(INDEX('Fichier principal'!$F$6:$F$100&" "&'Fichier principal'!$G$6:$G$100,SMALL(IF('Fichier principal'!$E$6:$E$100=B$2,ROW('Par table'!$A$6:$A$100)-5,""),ROW($A2))),"")} -> 2 | D4: {=IFERROR(INDEX('Fichier principal'!$A$6:$A$22&" "&'Fichier principal'!$B$6:$B$22,SMALL(IF('Fichier principal'!$E$6:$E$22='Par table'!$D$2,ROW('Par table'!$A$3:$A$19)-2,""),ROW($A2))),"")} -> tulipe5 Michel5 | E4: {=IFERROR(INDEX('Fichier principal'!$F$6:$F$100&" "&'Fichier principal'!$G$6:$G$100,SMALL(IF('Fichier principal'!$E$6:$E$100=D$2,ROW('Par table'!$A$6:$A$100)-5,""),ROW($A2))),"")} -> 1 Chef de table | F4: {=IFERROR(INDEX('Fichier principal'!$A$6:$A$22&" "&'Fichier principal'!$B$6:$B$22,SMALL(IF('Fichier principal'!$E$6:$E$22='Par table'!$F$2,ROW('Par table'!$A$3:$A$19)-2,""),ROW($A2))),"")} -> tulipe14 Michel14 | G4: {=IFERROR(INDEX('Fichier principal'!$F$6:$F$100&" "&'Fichier principal'!$G$6:$G$100,SMALL(IF('Fichier principal'!$E$6:$E$100=F$2,ROW('Par table'!$A$6:$A$100)-5,""),ROW($A2))),"")} -> 1 | H4: {=IFERROR(INDEX('Fichier principal'!$A$6:$A$100&" "&'Fichier principal'!$B$6:$B$100,SMALL(IF('Fichier principal'!$E$6:$E$100=H$2,ROW('Par table'!$A$6:$A$100)-5,""),ROW($A2))),"")} | I4: {=IFERROR(INDEX('Fichier principal'!$F$6:$F$100&" "&'Fichier principal'!$G$6:$G$100,SMALL(IF('Fichier principal'!$E$6:$E$100=H$2,ROW('Par table'!$A$6:$A$100)-5,""),ROW($A2))),"")} | J4: {=IFERROR(INDEX('Fichier principal'!$A$6:$A$100&" "&'Fichier principal'!$B$6:$B$100,SMALL(IF('Fichier principal'!$E$6:$E$100=J$2,ROW('Par table'!$A$6:$A$100)-5,""),ROW($A2))),"")} -> tulipe7 Michel7 | K4: {=IFERROR(INDEX('Fichier principal'!$F$6:$F$100&" "&'Fichier principal'!$G$6:$G$100,SMALL(IF('Fichier principal'!$E$6:$E$100=J$2,ROW('Par table'!$A$6:$A$100)-5,""),ROW($A2))),"")} -> 2 | L4: {=IFERROR(INDEX('Fichier principal'!$A$6:$A$100&" "&'Fichier principal'!$B$6:$B$100,SMALL(IF('Fichier principal'!$E$6:$E$100=L$2,ROW('Par table'!$A$6:$A$100)-5,""),ROW($A2))),"")} -> tulipe8 Michel8 | M4: {=IFERROR(INDEX('Fichier principal'!$F$6:$F$100&" "&'Fichier principal'!$G$6:$G$100,SMALL(IF('Fichier principal'!$E$6:$E$100=L$2,ROW('Par table'!$A$6:$A$100)-5,""),ROW($A2))),"")} -> 1 | N4: {=IFERROR(INDEX('Fichier principal'!$A$6:$A$100&" "&'Fichier principal'!$B$6:$B$100,SMALL(IF('Fichier principal'!$E$6:$E$100=N$2,ROW('Par table'!$A$6:$A$100)-5,""),ROW($A2))),"")} | O4: {=IFERROR(INDEX('Fichier principal'!$F$6:$F$100&" "&'Fichier principal'!$G$6:$G$100,SMALL(IF('Fichier principal'!$E$6:$E$100=N$2,ROW('Par table'!$A$6:$A$100)-5,""),ROW($A2))),"")} | P4: {=IFERROR(INDEX('Fichier principal'!$A$6:$A$100&" "&'Fichier principal'!$B$6:$B$100,SMALL(IF('Fichier principal'!$E$6:$E$100=P$2,ROW('Par table'!$A$6:$A$100)-5,""),ROW($A2))),"")} | Q4: {=IFERROR(INDEX('Fichier principal'!$F$6:$F$100&" "&'Fichier principal'!$G$6:$G$100,SMALL(IF('Fichier principal'!$E$6:$E$100=P$2,ROW('Par table'!$A$6:$A$100)-5,""),ROW($A2))),"")} | R4: {=IFERROR(INDEX('Fichier principal'!$A$6:$A$100&" "&'Fichier principal'!$B$6:$B$100,SMALL(IF('Fichier principal'!$E$6:$E$100=R$2,ROW('Par table'!$A$6:$A$100)-5,""),ROW($A2))),"")} | S4: {=IFERROR(INDEX('Fichier principal'!$F$6:$F$100&" "&'Fichier principal'!$G$6:$G$100,SMALL(IF('Fichier principal'!$E$6:$E$100=R$2,ROW('Par table'!$A$6:$A$100)-5,""),ROW($A2))),"")} | T4: {=IFERROR(INDEX('Fichier principal'!$A$6:$A$100&" "&'Fichier principal'!$B$6:$B$100,SMALL(IF('Fichier principal'!$E$6:$E$100=T$2,ROW('Par table'!$A$6:$A$100)-5,""),ROW($A2))),"")} | U4: {=IFERROR(INDEX('Fichier principal'!$F$6:$F$100&" "&'Fichier principal'!$G$6:$G$100,SMALL(IF('Fichier principal'!$E$6:$E$100=T$2,ROW('Par table'!$A$6:$A$100)-5,""),ROW($A2))),"")} | V4: {=IFERROR(INDEX('Fichier principal'!$A$6:$A$100&" "&'Fichier principal'!$B$6:$B$100,SMALL(IF('Fichier principal'!$E$6:$E$100=V$2,ROW('Par table'!$A$6:$A$100)-5,""),ROW($A2))),"")} | W4: {=IFERROR(INDEX('Fichier principal'!$F$6:$F$100&" "&'Fichier principal'!$G$6:$G$100,SMALL(IF('Fichier principal'!$E$6:$E$100=V$2,ROW('Par table'!$A$6:$A$100)-5,""),ROW($A2))),"")} | X4: {=IFERROR(INDEX('Fichier principal'!$A$6:$A$100&" "&'Fichier principal'!$B$6:$B$100,SMALL(IF('Fichier principal'!$E$6:$E$100=X$2,ROW('Par table'!$A$6:$A$100)-5,""),ROW($A2))),"")} -> tulipe18 Michel18 | Y4: {=IFERROR(INDEX('Fichier principal'!$F$6:$F$100&" "&'Fichier principal'!$G$6:$G$100,SMALL(IF('Fichier principal'!$E$6:$E$100=X$2,ROW('Par table'!$A$6:$A$100)-5,""),ROW($A2))),"")} -> 4 | Z4: {=IFERROR(INDEX('Fichier principal'!$A$6:$A$100&" "&'Fichier principal'!$B$6:$B$100,SMALL(IF('Fichier principal'!$E$6:$E$100=Z$2,ROW('Par table'!$A$6:$A$100)-5,""),ROW($A2))),"")} | AA4: {=IFERROR(INDEX('Fichier principal'!$F$6:$F$100&" "&'Fichier principal'!$G$6:$G$100,SMALL(IF('Fichier principal'!$E$6:$E$100=Z$2,ROW('Par table'!$A$6:$A$100)-5,""),ROW($A2))),"")}
B5: {=IFERROR(INDEX('Fichier principal'!$A$6:$A$22&" "&'Fichier principal'!$B$6:$B$22,SMALL(IF('Fichier principal'!$E$6:$E$22='Par table'!$B$2,ROW('Par table'!$A$3:$A$19)-2,""),ROW($A3))),"")} -> tulipe15 Michel15 | C5: {=IFERROR(INDEX('Fichier principal'!$F$6:$F$100&" "&'Fichier principal'!$G$6:$G$100,SMALL(IF('Fichier principal'!$E$6:$E$100=B$2,ROW('Par table'!$A$6:$A$100)-5,""),ROW($A3))),"")} -> 3 | D5: {=IFERROR(INDEX('Fichier principal'!$A$6:$A$22&" "&'Fichier principal'!$B$6:$B$22,SMALL(IF('Fichier principal'!$E$6:$E$22='Par table'!$D$2,ROW('Par table'!$A$3:$A$19)-2,""),ROW($A3))),"")} | E5: {=IFERROR(INDEX('Fichier principal'!$F$6:$F$100&" "&'Fichier principal'!$G$6:$G$100,SMALL(IF('Fichier principal'!$E$6:$E$100=D$2,ROW('Par table'!$A$6:$A$100)-5,""),ROW($A3))),"")} | F5: {=IFERROR(INDEX('Fichier principal'!$A$6:$A$22&" "&'Fichier principal'!$B$6:$B$22,SMALL(IF('Fichier principal'!$E$6:$E$22='Par table'!$F$2,ROW('Par table'!$A$3:$A$19)-2,""),ROW($A3))),"")} | G5: {=IFERROR(INDEX('Fichier principal'!$F$6:$F$100&" "&'Fichier principal'!$G$6:$G$100,SMALL(IF('Fichier principal'!$E$6:$E$100=F$2,ROW('Par table'!$A$6:$A$100)-5,""),ROW($A3))),"")} -> 3 | H5: {=IFERROR(INDEX('Fichier principal'!$A$6:$A$100&" "&'Fichier principal'!$B$6:$B$100,SMALL(IF('Fichier principal'!$E$6:$E$100=H$2,ROW('Par table'!$A$6:$A$100)-5,""),ROW($A3))),"")} | I5: {=IFERROR(INDEX('Fichier principal'!$F$6:$F$100&" "&'Fichier principal'!$G$6:$G$100,SMALL(IF('Fichier principal'!$E$6:$E$100=H$2,ROW('Par table'!$A$6:$A$100)-5,""),ROW($A3))),"")} | J5: {=IFERROR(INDEX('Fichier principal'!$A$6:$A$100&" "&'Fichier principal'!$B$6:$B$100,SMALL(IF('Fichier principal'!$E$6:$E$100=J$2,ROW('Par table'!$A$6:$A$100)-5,""),ROW($A3))),"")} | K5: {=IFERROR(INDEX('Fichier principal'!$F$6:$F$100&" "&'Fichier principal'!$G$6:$G$100,SMALL(IF('Fichier principal'!$E$6:$E$100=J$2,ROW('Par table'!$A$6:$A$100)-5,""),ROW($A3))),"")} | L5: {=IFERROR(INDEX('Fichier principal'!$A$6:$A$100&" "&'Fichier principal'!$B$6:$B$100,SMALL(IF('Fichier principal'!$E$6:$E$100=L$2,ROW('Par table'!$A$6:$A$100)-5,""),ROW($A3))),"")} | M5: {=IFERROR(INDEX('Fichier principal'!$F$6:$F$100&" "&'Fichier principal'!$G$6:$G$100,SMALL(IF('Fichier principal'!$E$6:$E$100=L$2,ROW('Par table'!$A$6:$A$100)-5,""),ROW($A3))),"")} | N5: {=IFERROR(INDEX('Fichier principal'!$A$6:$A$100&" "&'Fichier principal'!$B$6:$B$100,SMALL(IF('Fichier principal'!$E$6:$E$100=N$2,ROW('Par table'!$A$6:$A$100)-5,""),ROW($A3))),"")} | O5: {=IFERROR(INDEX('Fichier principal'!$F$6:$F$100&" "&'Fichier principal'!$G$6:$G$100,SMALL(IF('Fichier principal'!$E$6:$E$100=N$2,ROW('Par table'!$A$6:$A$100)-5,""),ROW($A3))),"")} | P5: {=IFERROR(INDEX('Fichier principal'!$A$6:$A$100&" "&'Fichier principal'!$B$6:$B$100,SMALL(IF('Fichier principal'!$E$6:$E$100=P$2,ROW('Par table'!$A$6:$A$100)-5,""),ROW($A3))),"")} | Q5: {=IFERROR(INDEX('Fichier principal'!$F$6:$F$100&" "&'Fichier principal'!$G$6:$G$100,SMALL(IF('Fichier principal'!$E$6:$E$100=P$2,ROW('Par table'!$A$6:$A$100)-5,""),ROW($A3))),"")} | R5: {=IFERROR(INDEX('Fichier principal'!$A$6:$A$100&" "&'Fichier principal'!$B$6:$B$100,SMALL(IF('Fichier principal'!$E$6:$E$100=R$2,ROW('Par table'!$A$6:$A$100)-5,""),ROW($A3))),"")} | S5: {=IFERROR(INDEX('Fichier principal'!$F$6:$F$100&" "&'Fichier principal'!$G$6:$G$100,SMALL(IF('Fichier principal'!$E$6:$E$100=R$2,ROW('Par table'!$A$6:$A$100)-5,""),ROW($A3))),"")} | T5: {=IFERROR(INDEX('Fichier principal'!$A$6:$A$100&" "&'Fichier principal'!$B$6:$B$100,SMALL(IF('Fichier principal'!$E$6:$E$100=T$2,ROW('Par table'!$A$6:$A$100)-5,""),ROW($A3))),"")} | U5: {=IFERROR(INDEX('Fichier principal'!$F$6:$F$100&" "&'Fichier principal'!$G$6:$G$100,SMALL(IF('Fichier principal'!$E$6:$E$100=T$2,ROW('Par table'!$A$6:$A$100)-5,""),ROW($A3))),"")} | V5: {=IFERROR(INDEX('Fichier principal'!$A$6:$A$100&" "&'Fichier principal'!$B$6:$B$100,SMALL(IF('Fichier principal'!$E$6:$E$100=V$2,ROW('Par table'!$A$6:$A$100)-5,""),ROW($A3))),"")} | W5: {=IFERROR(INDEX('Fichier principal'!$F$6:$F$100&" "&'Fichier principal'!$G$6:$G$100,SMALL(IF('Fichier principal'!$E$6:$E$100=V$2,ROW('Par table'!$A$6:$A$100)-5,""),ROW($A3))),"")} | X5: {=IFERROR(INDEX('Fichier principal'!$A$6:$A$100&" "&'Fichier principal'!$B$6:$B$100,SMALL(IF('Fichier principal'!$E$6:$E$100=X$2,ROW('Par table'!$A$6:$A$100)-5,""),ROW($A3))),"")} | Y5: {=IFERROR(INDEX('Fichier principal'!$F$6:$F$100&" "&'Fichier principal'!$G$6:$G$100,SMALL(IF('Fichier principal'!$E$6:$E$100=X$2,ROW('Par table'!$A$6:$A$100)-5,""),ROW($A3))),"")} | Z5: {=IFERROR(INDEX('Fichier principal'!$A$6:$A$100&" "&'Fichier principal'!$B$6:$B$100,SMALL(IF('Fichier principal'!$E$6:$E$100=Z$2,ROW('Par table'!$A$6:$A$100)-5,""),ROW($A3))),"")} | AA5: {=IFERROR(INDEX('Fichier principal'!$F$6:$F$100&" "&'Fichier principal'!$G$6:$G$100,SMALL(IF('Fichier principal'!$E$6:$E$100=Z$2,ROW('Par table'!$A$6:$A$100)-5,""),ROW($A3))),"")}
B6: {=IFERROR(INDEX('Fichier principal'!$A$6:$A$22&" "&'Fichier principal'!$B$6:$B$22,SMALL(IF('Fichier principal'!$E$6:$E$22='Par table'!$B$2,ROW('Par table'!$A$3:$A$19)-2,""),ROW($A4))),"")} | C6: {=IFERROR(INDEX('Fichier principal'!$F$6:$F$100&" "&'Fichier principal'!$G$6:$G$100,SMALL(IF('Fichier principal'!$E$6:$E$100=B$2,ROW('Par table'!$A$6:$A$100)-5,""),ROW($A4))),"")} | D6: {=IFERROR(INDEX('Fichier principal'!$A$6:$A$22&" "&'Fichier principal'!$B$6:$B$22,SMALL(IF('Fichier principal'!$E$6:$E$22='Par table'!$D$2,ROW('Par table'!$A$3:$A$19)-2,""),ROW($A4))),"")} | E6: {=IFERROR(INDEX('Fichier principal'!$F$6:$F$100&" "&'Fichier principal'!$G$6:$G$100,SMALL(IF('Fichier principal'!$E$6:$E$100=D$2,ROW('Par table'!$A$6:$A$100)-5,""),ROW($A4))),"")} | F6: {=IFERROR(INDEX('Fichier principal'!$A$6:$A$22&" "&'Fichier principal'!$B$6:$B$22,SMALL(IF('Fichier principal'!$E$6:$E$22='Par table'!$F$2,ROW('Par table'!$A$3:$A$19)-2,""),ROW($A4))),"")} | G6: {=IFERROR(INDEX('Fichier principal'!$F$6:$F$100&" "&'Fichier principal'!$G$6:$G$100,SMALL(IF('Fichier principal'!$E$6:$E$100=F$2,ROW('Par table'!$A$6:$A$100)-5,""),ROW($A4))),"")} | H6: {=IFERROR(INDEX('Fichier principal'!$A$6:$A$100&" "&'Fichier principal'!$B$6:$B$100,SMALL(IF('Fichier principal'!$E$6:$E$100=H$2,ROW('Par table'!$A$6:$A$100)-5,""),ROW($A4))),"")} | I6: {=IFERROR(INDEX('Fichier principal'!$F$6:$F$100&" "&'Fichier principal'!$G$6:$G$100,SMALL(IF('Fichier principal'!$E$6:$E$100=H$2,ROW('Par table'!$A$6:$A$100)-5,""),ROW($A4))),"")} | J6: {=IFERROR(INDEX('Fichier principal'!$A$6:$A$100&" "&'Fichier principal'!$B$6:$B$100,SMALL(IF('Fichier principal'!$E$6:$E$100=J$2,ROW('Par table'!$A$6:$A$100)-5,""),ROW($A4))),"")} | K6: {=IFERROR(INDEX('Fichier principal'!$F$6:$F$100&" "&'Fichier principal'!$G$6:$G$100,SMALL(IF('Fichier principal'!$E$6:$E$100=J$2,ROW('Par table'!$A$6:$A$100)-5,""),ROW($A4))),"")} | L6: {=IFERROR(INDEX('Fichier principal'!$A$6:$A$100&" "&'Fichier principal'!$B$6:$B$100,SMALL(IF('Fichier principal'!$E$6:$E$100=L$2,ROW('Par table'!$A$6:$A$100)-5,""),ROW($A4))),"")} | M6: {=IFERROR(INDEX('Fichier principal'!$F$6:$F$100&" "&'Fichier principal'!$G$6:$G$100,SMALL(IF('Fichier principal'!$E$6:$E$100=L$2,ROW('Par table'!$A$6:$A$100)-5,""),ROW($A4))),"")} | N6: {=IFERROR(INDEX('Fichier principal'!$A$6:$A$100&" "&'Fichier principal'!$B$6:$B$100,SMALL(IF('Fichier principal'!$E$6:$E$100=N$2,ROW('Par table'!$A$6:$A$100)-5,""),ROW($A4))),"")} | O6: {=IFERROR(INDEX('Fichier principal'!$F$6:$F$100&" "&'Fichier principal'!$G$6:$G$100,SMALL(IF('Fichier principal'!$E$6:$E$100=N$2,ROW('Par table'!$A$6:$A$100)-5,""),ROW($A4))),"")} | P6: {=IFERROR(INDEX('Fichier principal'!$A$6:$A$100&" "&'Fichier principal'!$B$6:$B$100,SMALL(IF('Fichier principal'!$E$6:$E$100=P$2,ROW('Par table'!$A$6:$A$100)-5,""),ROW($A4))),"")} | Q6: {=IFERROR(INDEX('Fichier principal'!$F$6:$F$100&" "&'Fichier principal'!$G$6:$G$100,SMALL(IF('Fichier principal'!$E$6:$E$100=P$2,ROW('Par table'!$A$6:$A$100)-5,""),ROW($A4))),"")} | R6: {=IFERROR(INDEX('Fichier principal'!$A$6:$A$100&" "&'Fichier principal'!$B$6:$B$100,SMALL(IF('Fichier principal'!$E$6:$E$100=R$2,ROW('Par table'!$A$6:$A$100)-5,""),ROW($A4))),"")} | S6: {=IFERROR(INDEX('Fichier principal'!$F$6:$F$100&" "&'Fichier principal'!$G$6:$G$100,SMALL(IF('Fichier principal'!$E$6:$E$100=R$2,ROW('Par table'!$A$6:$A$100)-5,""),ROW($A4))),"")} | T6: {=IFERROR(INDEX('Fichier principal'!$A$6:$A$100&" "&'Fichier principal'!$B$6:$B$100,SMALL(IF('Fichier principal'!$E$6:$E$100=T$2,ROW('Par table'!$A$6:$A$100)-5,""),ROW($A4))),"")} | U6: {=IFERROR(INDEX('Fichier principal'!$F$6:$F$100&" "&'Fichier principal'!$G$6:$G$100,SMALL(IF('Fichier principal'!$E$6:$E$100=T$2,ROW('Par table'!$A$6:$A$100)-5,""),ROW($A4))),"")} | V6: {=IFERROR(INDEX('Fichier principal'!$A$6:$A$100&" "&'Fichier principal'!$B$6:$B$100,SMALL(IF('Fichier principal'!$E$6:$E$100=V$2,ROW('Par table'!$A$6:$A$100)-5,""),ROW($A4))),"")} | W6: {=IFERROR(INDEX('Fichier principal'!$F$6:$F$100&" "&'Fichier principal'!$G$6:$G$100,SMALL(IF('Fichier principal'!$E$6:$E$100=V$2,ROW('Par table'!$A$6:$A$100)-5,""),ROW($A4))),"")} | X6: {=IFERROR(INDEX('Fichier principal'!$A$6:$A$100&" "&'Fichier principal'!$B$6:$B$100,SMALL(IF('Fichier principal'!$E$6:$E$100=X$2,ROW('Par table'!$A$6:$A$100)-5,""),ROW($A4))),"")} | Y6: {=IFERROR(INDEX('Fichier principal'!$F$6:$F$100&" "&'Fichier principal'!$G$6:$G$100,SMALL(IF('Fichier principal'!$E$6:$E$100=X$2,ROW('Par table'!$A$6:$A$100)-5,""),ROW($A4))),"")} | Z6: {=IFERROR(INDEX('Fichier principal'!$A$6:$A$100&" "&'Fichier principal'!$B$6:$B$100,SMALL(IF('Fichier principal'!$E$6:$E$100=Z$2,ROW('Par table'!$A$6:$A$100)-5,""),ROW($A4))),"")} | AA6: {=IFERROR(INDEX('Fichier principal'!$F$6:$F$100&" "&'Fichier principal'!$G$6:$G$100,SMALL(IF('Fichier principal'!$E$6:$E$100=Z$2,ROW('Par table'!$A$6:$A$100)-5,""),ROW($A4))),"")}
B7: {=IFERROR(INDEX('Fichier principal'!$A$6:$A$22&" "&'Fichier principal'!$B$6:$B$22,SMALL(IF('Fichier principal'!$E$6:$E$22='Par table'!$B$2,ROW('Par table'!$A$3:$A$19)-2,""),ROW($A5))),"")} | C7: {=IFERROR(INDEX('Fichier principal'!$F$6:$F$100&" "&'Fichier principal'!$G$6:$G$100,SMALL(IF('Fichier principal'!$E$6:$E$100=B$2,ROW('Par table'!$A$6:$A$100)-5,""),ROW($A5))),"")} | D7: {=IFERROR(INDEX('Fichier principal'!$A$6:$A$22&" "&'Fichier principal'!$B$6:$B$22,SMALL(IF('Fichier principal'!$E$6:$E$22='Par table'!$D$2,ROW('Par table'!$A$3:$A$19)-2,""),ROW($A5))),"")} | E7: {=IFERROR(INDEX('Fichier principal'!$F$6:$F$100&" "&'Fichier principal'!$G$6:$G$100,SMALL(IF('Fichier principal'!$E$6:$E$100=D$2,ROW('Par table'!$A$6:$A$100)-5,""),ROW($A5))),"")} | F7: {=IFERROR(INDEX('Fichier principal'!$A$6:$A$22&" "&'Fichier principal'!$B$6:$B$22,SMALL(IF('Fichier principal'!$E$6:$E$22='Par table'!$F$2,ROW('Par table'!$A$3:$A$19)-2,""),ROW($A5))),"")} | G7: {=IFERROR(INDEX('Fichier principal'!$F$6:$F$100&" "&'Fichier principal'!$G$6:$G$100,SMALL(IF('Fichier principal'!$E$6:$E$100=F$2,ROW('Par table'!$A$6:$A$100)-5,""),ROW($A5))),"")} | H7: {=IFERROR(INDEX('Fichier principal'!$A$6:$A$100&" "&'Fichier principal'!$B$6:$B$100,SMALL(IF('Fichier principal'!$E$6:$E$100=H$2,ROW('Par table'!$A$6:$A$100)-5,""),ROW($A5))),"")} | I7: {=IFERROR(INDEX('Fichier principal'!$F$6:$F$100&" "&'Fichier principal'!$G$6:$G$100,SMALL(IF('Fichier principal'!$E$6:$E$100=H$2,ROW('Par table'!$A$6:$A$100)-5,""),ROW($A5))),"")} | J7: {=IFERROR(INDEX('Fichier principal'!$A$6:$A$100&" "&'Fichier principal'!$B$6:$B$100,SMALL(IF('Fichier principal'!$E$6:$E$100=J$2,ROW('Par table'!$A$6:$A$100)-5,""),ROW($A5))),"")} | K7: {=IFERROR(INDEX('Fichier principal'!$F$6:$F$100&" "&'Fichier principal'!$G$6:$G$100,SMALL(IF('Fichier principal'!$E$6:$E$100=J$2,ROW('Par table'!$A$6:$A$100)-5,""),ROW($A5))),"")} | L7: {=IFERROR(INDEX('Fichier principal'!$A$6:$A$100&" "&'Fichier principal'!$B$6:$B$100,SMALL(IF('Fichier principal'!$E$6:$E$100=L$2,ROW('Par table'!$A$6:$A$100)-5,""),ROW($A5))),"")} | M7: {=IFERROR(INDEX('Fichier principal'!$F$6:$F$100&" "&'Fichier principal'!$G$6:$G$100,SMALL(IF('Fichier principal'!$E$6:$E$100=L$2,ROW('Par table'!$A$6:$A$100)-5,""),ROW($A5))),"")} | N7: {=IFERROR(INDEX('Fichier principal'!$A$6:$A$100&" "&'Fichier principal'!$B$6:$B$100,SMALL(IF('Fichier principal'!$E$6:$E$100=N$2,ROW('Par table'!$A$6:$A$100)-5,""),ROW($A5))),"")} | O7: {=IFERROR(INDEX('Fichier principal'!$F$6:$F$100&" "&'Fichier principal'!$G$6:$G$100,SMALL(IF('Fichier principal'!$E$6:$E$100=N$2,ROW('Par table'!$A$6:$A$100)-5,""),ROW($A5))),"")} | P7: {=IFERROR(INDEX('Fichier principal'!$A$6:$A$100&" "&'Fichier principal'!$B$6:$B$100,SMALL(IF('Fichier principal'!$E$6:$E$100=P$2,ROW('Par table'!$A$6:$A$100)-5,""),ROW($A5))),"")} | Q7: {=IFERROR(INDEX('Fichier principal'!$F$6:$F$100&" "&'Fichier principal'!$G$6:$G$100,SMALL(IF('Fichier principal'!$E$6:$E$100=P$2,ROW('Par table'!$A$6:$A$100)-5,""),ROW($A5))),"")} | R7: {=IFERROR(INDEX('Fichier principal'!$A$6:$A$100&" "&'Fichier principal'!$B$6:$B$100,SMALL(IF('Fichier principal'!$E$6:$E$100=R$2,ROW('Par table'!$A$6:$A$100)-5,""),ROW($A5))),"")} | S7: {=IFERROR(INDEX('Fichier principal'!$F$6:$F$100&" "&'Fichier principal'!$G$6:$G$100,SMALL(IF('Fichier principal'!$E$6:$E$100=R$2,ROW('Par table'!$A$6:$A$100)-5,""),ROW($A5))),"")} | T7: {=IFERROR(INDEX('Fichier principal'!$A$6:$A$100&" "&'Fichier principal'!$B$6:$B$100,SMALL(IF('Fichier principal'!$E$6:$E$100=T$2,ROW('Par table'!$A$6:$A$100)-5,""),ROW($A5))),"")} | U7: {=IFERROR(INDEX('Fichier principal'!$F$6:$F$100&" "&'Fichier principal'!$G$6:$G$100,SMALL(IF('Fichier principal'!$E$6:$E$100=T$2,ROW('Par table'!$A$6:$A$100)-5,""),ROW($A5))),"")} | V7: {=IFERROR(INDEX('Fichier principal'!$A$6:$A$100&" "&'Fichier principal'!$B$6:$B$100,SMALL(IF('Fichier principal'!$E$6:$E$100=V$2,ROW('Par table'!$A$6:$A$100)-5,""),ROW($A5))),"")} | W7: {=IFERROR(INDEX('Fichier principal'!$F$6:$F$100&" "&'Fichier principal'!$G$6:$G$100,SMALL(IF('Fichier principal'!$E$6:$E$100=V$2,ROW('Par table'!$A$6:$A$100)-5,""),ROW($A5))),"")} | X7: {=IFERROR(INDEX('Fichier principal'!$A$6:$A$100&" "&'Fichier principal'!$B$6:$B$100,SMALL(IF('Fichier principal'!$E$6:$E$100=X$2,ROW('Par table'!$A$6:$A$100)-5,""),ROW($A5))),"")} | Y7: {=IFERROR(INDEX('Fichier principal'!$F$6:$F$100&" "&'Fichier principal'!$G$6:$G$100,SMALL(IF('Fichier principal'!$E$6:$E$100=X$2,ROW('Par table'!$A$6:$A$100)-5,""),ROW($A5))),"")} | Z7: {=IFERROR(INDEX('Fichier principal'!$A$6:$A$100&" "&'Fichier principal'!$B$6:$B$100,SMALL(IF('Fichier principal'!$E$6:$E$100=Z$2,ROW('Par table'!$A$6:$A$100)-5,""),ROW($A5))),"")} | AA7: {=IFERROR(INDEX('Fichier principal'!$F$6:$F$100&" "&'Fichier principal'!$G$6:$G$100,SMALL(IF('Fichier principal'!$E$6:$E$100=Z$2,ROW('Par table'!$A$6:$A$100)-5,""),ROW($A5))),"")}
