Workbook
Name cola: OFFSET('SUIVI DE VOYAGE'!$A$3,,,COUNTIF('SUIVI DE VOYAGE'!$A:$A,"><")-1)
Name colb: OFFSET(cola,,1,)
Name colc: OFFSET(cola,,2,)
Name cold: OFFSET(cola,,3,)

Sheet Fiche Elementaire
A3: Ville | B3: Prix de Carburant( XAF ) | D3: Vehicules | E3: Marque | F3: Nom du chauffeur
A5: Douala | B5: 575 | D5: LT-548-S | E5: Jac | F5: JACQUE
A6: Edea | B6: 575 | D6: LT-549-S | E6: Jac | F6: Claude
A7: Yaounde | B7: 634.25 | D7: LT-548-W | E7: Renault | F7: Andreas
A8: Bertoua | B8: 584 | D8: LT-548-M | E8: Renault | F8: Elvis
A9: yokadouma | B9: 689.53 | D9: LT-540-S | E9: Renault | F9: Frank
A10: kousseri | B10: 690.23 | D10: LT-549-S | E10: Mercedes | F10: Leonel
A11: Garoua | B11: 695.23 | D11: LT-548-W | E11: Mercedes | F11: Ulrich
A12: Ngaoundere | B12: 575 | D12: LT-548-M | E12: Toyata | F12: Florian
D13: LT-548-T | E13: Toyota | F13: Guy
D14: LT-549-A | E14: Toyota | F14: Duplex
D15: LT-548-K | E15: Jac | F15: Mersland
D16: LT-548-L | E16: Jac | F16: Junior
D17: LT-548-U | E17: Renault | F17: Miguel
D18: LT-549-P | E18: Renault | F18: William
D19: LT-548-O | E19: Renault | F19: Fabrice
D20: LT-548-V | E20: Mercedes | F20: Alain
D21: LT-548-B | E21: Mercedes | F21: Dieudonne
D22: LT-549-C | E22: Toyata | F22: Gaetan
D23: LT-548-X | E23: Toyota | F23: Rodrigue
D24: LT-548-D | E24: Toyota | F24: David
... D28: LT-548-MH | E28: Renault | F28: Julien

Sheet SUIVI DE VOYAGE
A1: Vehicules | B1: Nature | C1: Tonnage | D1: Carburant
B2: Vge | D2: consommé
A3: TR01 | B3: v | C3: 25 | D3: 12
A4: TR09 | B4: v | C4: 28 | D4: 14
A5: TR20 | B5: v | C5: 30 | D5: 1500
A6: TR18 | B6: v | C6: 18 | D6: 1501
A7: TR01 | B7: t | C7: 40 | D7: 15
A8: TR06 | B8: t | C8: 35 | D8: 40
A9: TR07 | B9: v | C9: 25 | D9: 1300
A10: TR08 | B10: t | C10: 28 | D10: 18
A11: TR09 | B11: v | C11: 30 | D11: 800
A12: TR10 | B12: v | C12: 18 | D12: 900
A13: TR11 | B13: t | C13: 40 | D13: 15
A14: TR12 | B14: t | C14: 35 | D14: 16
... A23: TR11 | B23: v | C23: 30 | D23: 950
A24: TR03 | B24: v | C24: 18
A25: TR09 | B25: t | C25: 40 | D25: 1350
A26: TR11 | B26: v | C26: 35
A27: TR01 | B27: v | C27: 25 | D27: 1200
A28: TR09 | B28: v | C28: 28 | D28: 1150
A29: TR20 | B29: v | C29: 30 | D29: 1500
A30: TR16 | B30: v | C30: 18 | D30: 1700
A31: TR17 | B31: t | C31: 40 | D31: 15
A32: TR18 | B32: t | C32: 35 | D32: 15
A33: TR09 | B33: v | C33: 25 | D33: 1150
A34: TR03 | B34: v | C34: 18
A35: TR09 | B35: t | C35: 40 | D35: 1450
A36: TR11 | B36: v | C36: 35
A37: TR18 | B37: v | C37: 18 | D37: 1501
A38: TR01 | B38: t | C38: 40 | D38: 15
A39: TR06 | B39: t | C39: 35 | D39: 40
A40: TR07 | B40: v | C40: 25 | D40: 1300
A41: TR10 | B41: v | C41: 18 | D41: 900
A42: TR11 | B42: t | C42: 40 | D42: 15
A43: TR23 | B43: t | C43: 35 | D43: 16

Sheet REPPORTING
A3: Vehicules | B3: Nombre de V | C3: Nombre de T | D3: Tonnage total | E3: Total Carburant consommé
A4: {=IFERROR(OFFSET('SUIVI DE VOYAGE'!A$2,MATCH(0,COUNTIF(A$3:A3,cola),0),),"")} -> TR01 | B4: =SUMPRODUCT(--(cola=$A4)*(colb="v")) -> 1 | C4: =SUMPRODUCT(--(cola=$A4)*(colb="t")) -> 2 | D4: =SUMPRODUCT((cola=$A4)*(colc)) -> 160 | E4: =SUMPRODUCT((cola=$A4)*(cold)) -> 2682 | H4: rien a faire tout est automatisé
A5: {=IFERROR(OFFSET('SUIVI DE VOYAGE'!A$2,MATCH(0,COUNTIF(A$3:A4,cola),0),),"")} -> TR09 | B5: =SUMPRODUCT(--(cola=A5)*(colb="v")) -> 1 | C5: =SUMPRODUCT(--(cola=$A5)*(colb="t")) -> 2 | D5: =SUMPRODUCT((cola=$A5)*(colc)) -> 216 | E5: =SUMPRODUCT((cola=$A5)*(cold)) -> 7064 | H5: les vehicules sont triés sans double auto
A6: {=IFERROR(OFFSET('SUIVI DE VOYAGE'!A$2,MATCH(0,COUNTIF(A$3:A5,cola),0),),"")} -> TR20 | B6: =SUMPRODUCT(--(cola=A6)*(colb="v")) -> 2 | C6: =SUMPRODUCT(--(cola=$A6)*(colb="t")) -> 1 | D6: =SUMPRODUCT((cola=$A6)*(colc)) -> 113 | E6: =SUMPRODUCT((cola=$A6)*(cold)) -> 3621
A7: {=IFERROR(OFFSET('SUIVI DE VOYAGE'!A$2,MATCH(0,COUNTIF(A$3:A6,cola),0),),"")} -> TR18 | B7: =SUMPRODUCT(--(cola=A7)*(colb="v")) -> 2 | C7: =SUMPRODUCT(--(cola=$A7)*(colb="t")) -> 2 | D7: =SUMPRODUCT((cola=$A7)*(colc)) -> 106 | E7: =SUMPRODUCT((cola=$A7)*(cold)) -> 3032
A8: {=IFERROR(OFFSET('SUIVI DE VOYAGE'!A$2,MATCH(0,COUNTIF(A$3:A7,cola),0),),"")} -> TR06 | B8: =SUMPRODUCT(--(cola=A8)*(colb="v")) -> 0 | C8: =SUMPRODUCT(--(cola=$A8)*(colb="t")) -> 2 | D8: =SUMPRODUCT((cola=$A8)*(colc)) -> 70 | E8: =SUMPRODUCT((cola=$A8)*(cold)) -> 80
A9: {=IFERROR(OFFSET('SUIVI DE VOYAGE'!A$2,MATCH(0,COUNTIF(A$3:A8,cola),0),),"")} -> TR07 | B9: =SUMPRODUCT(--(cola=A9)*(colb="v")) -> 0 | C9: =SUMPRODUCT(--(cola=$A9)*(colb="t")) -> 0 | D9: =SUMPRODUCT((cola=$A9)*(colc)) -> 50 | E9: =SUMPRODUCT((cola=$A9)*(cold)) -> 2600
A10: {=IFERROR(OFFSET('SUIVI DE VOYAGE'!A$2,MATCH(0,COUNTIF(A$3:A9,cola),0),),"")} -> TR08 | B10: =SUMPRODUCT(--(cola=A10)*(colb="v")) -> 0 | C10: =SUMPRODUCT(--(cola=$A10)*(colb="t")) -> 1 | D10: =SUMPRODUCT((cola=$A10)*(colc)) -> 28 | E10: =SUMPRODUCT((cola=$A10)*(cold)) -> 18
A11: {=IFERROR(OFFSET('SUIVI DE VOYAGE'!A$2,MATCH(0,COUNTIF(A$3:A10,cola),0),),"")} -> TR10 | B11: =SUMPRODUCT(--(cola=A11)*(colb="v")) -> 2 | C11: =SUMPRODUCT(--(cola=$A11)*(colb="t")) -> 0 | D11: =SUMPRODUCT((cola=$A11)*(colc)) -> 36 | E11: =SUMPRODUCT((cola=$A11)*(cold)) -> 1800
A12: {=IFERROR(OFFSET('SUIVI DE VOYAGE'!A$2,MATCH(0,COUNTIF(A$3:A11,cola),0),),"")} -> TR11 | B12: =SUMPRODUCT(--(cola=A12)*(colb="v")) -> 3 | C12: =SUMPRODUCT(--(cola=$A12)*(colb="t")) -> 2 | D12: =SUMPRODUCT((cola=$A12)*(colc)) -> 180 | E12: =SUMPRODUCT((cola=$A12)*(cold)) -> 980
A13: {=IFERROR(OFFSET('SUIVI DE VOYAGE'!A$2,MATCH(0,COUNTIF(A$3:A12,cola),0),),"")} -> TR12 | B13: =SUMPRODUCT(--(cola=A13)*(colb="v")) -> 0 | C13: =SUMPRODUCT(--(cola=$A13)*(colb="t")) -> 1 | D13: =SUMPRODUCT((cola=$A13)*(colc)) -> 35 | E13: =SUMPRODUCT((cola=$A13)*(cold)) -> 16
A14: {=IFERROR(OFFSET('SUIVI DE VOYAGE'!A$2,MATCH(0,COUNTIF(A$3:A13,cola),0),),"")} -> TR14 | B14: =SUMPRODUCT(--(cola=A14)*(colb="v")) -> 0 | C14: =SUMPRODUCT(--(cola=$A14)*(colb="t")) -> 1 | D14: =SUMPRODUCT((cola=$A14)*(colc)) -> 28 | E14: =SUMPRODUCT((cola=$A14)*(cold)) -> 25
A15: {=IFERROR(OFFSET('SUIVI DE VOYAGE'!A$2,MATCH(0,COUNTIF(A$3:A14,cola),0),),"")} -> TR16 | B15: =SUMPRODUCT(--(cola=A15)*(colb="v")) -> 2 | C15: =SUMPRODUCT(--(cola=$A15)*(colb="t")) -> 0 | D15: =SUMPRODUCT((cola=$A15)*(colc)) -> 36 | E15: =SUMPRODUCT((cola=$A15)*(cold)) -> 3400
A16: {=IFERROR(OFFSET('SUIVI DE VOYAGE'!A$2,MATCH(0,COUNTIF(A$3:A15,cola),0),),"")} -> TR17 | B16: =SUMPRODUCT(--(cola=A16)*(colb="v")) -> 0 | C16: =SUMPRODUCT(--(cola=$A16)*(colb="t")) -> 2 | D16: =SUMPRODUCT((cola=$A16)*(colc)) -> 80 | E16: =SUMPRODUCT((cola=$A16)*(cold)) -> 30
A17: {=IFERROR(OFFSET('SUIVI DE VOYAGE'!A$2,MATCH(0,COUNTIF(A$3:A16,cola),0),),"")} -> TR03 | B17: =SUMPRODUCT(--(cola=A17)*(colb="v")) -> 2 | C17: =SUMPRODUCT(--(cola=$A17)*(colb="t")) -> 0 | D17: =SUMPRODUCT((cola=$A17)*(colc)) -> 36 | E17: =SUMPRODUCT((cola=$A17)*(cold)) -> 0
... A46: {=IFERROR(OFFSET('SUIVI DE VOYAGE'!A$2,MATCH(0,COUNTIF(A$3:A45,cola),0),),"")} | B46: =SUMPRODUCT(--(cola=A46)*(colb="v")) -> 0 | C46: =SUMPRODUCT(--(cola=$A46)*(colb="t")) -> 0 | D46: =SUMPRODUCT((cola=$A46)*(colc)) -> 0 | E46: =SUMPRODUCT((cola=$A46)*(cold)) -> 0
