Workbook
Name cola: 'Fichier principal'!$A$6:$A$77

Sheet Fichier principal
H1: sa table | I1: place | J1: statut
E2: affinité recherche | G2: tulipe15 | H2: =IF(VLOOKUP($G2,$A$6:$G$24,5,0)=0,"pas inscrit",VLOOKUP($G2,$A$6:$G$24,5,0)) -> pas inscrit | I2: =VLOOKUP($G2,$A$6:$G$24,6,0) -> 0 | J2: =VLOOKUP($G2,$A$6:$G$24,7,0) -> 0
A5: Nom | B5: Prénom | C5: Entreprise | D5: Poste | E5: Table | F5: Place | G5: Chef de table | J5: Tables | K5: Places | L5: Chef de table
A6: tulipe1 | B6: Michel1 | C6: ABC | D6: Chef | E6: 1 | F6: 1 | G6: Chef de table | H6: =IF(F6="","",IF(SUMPRODUCT(--(E$6:E$22&F$6:F$22=E6&F6))>1,"deja pris","")) | J6: 1 | K6: 3 | M6: =MIN(COLUMN(A4),K6) -> 1 | N6: =IF(COLUMNS($A:A)>$K6-1,"",MAX(MIN(COLUMN(B4),$K6))) -> 2 | O6: =IF(COLUMNS($A:B)>$K6-1,"",MAX(MIN(COLUMN(C4),$K6))) -> 3 | P6: =IF(COLUMNS($A:C)>$K6-1,"",MAX(MIN(COLUMN(D4),$K6))) | Q6: =IF(COLUMNS($A:D)>$K6-1,"",MAX(MIN(COLUMN(E4),$K6))) | R6: =IF(COLUMNS($A:E)>$K6-1,"",MAX(MIN(COLUMN(#REF!),$K6))) | S6: =IF(COLUMNS($A:F)>$K6-1,"",MAX(MIN(COLUMN(G4),$K6))) | T6: =IF(COLUMNS($A:G)>$K6-1,"",MAX(MIN(COLUMN(H4),$K6))) | U6: =IF(COLUMNS($A:H)>$K6-1,"",MAX(MIN(COLUMN(I4),$K6))) | V6: =IF(COLUMNS($A:I)>$K6-1,"",MAX(MIN(COLUMN(J4),$K6)))
A7: tulipe2 | B7: Michel2 | C7: CBA | D7: Vendeur | E7: 5 | F7: 1 | H7: =IF(F7="","",IF(SUMPRODUCT(--(E$6:E$22&F$6:F$22=E7&F7))>1,"deja pris","")) | J7: 2 | K7: 2 | M7: =MIN(COLUMN(A5),K7) -> 1 | N7: =IF(COLUMNS($A:A)>$K7-1,"",MAX(MIN(COLUMN(B5),$K7))) -> 2 | O7: =IF(COLUMNS($A:B)>$K7-1,"",MAX(MIN(COLUMN(C5),$K7))) | P7: =IF(COLUMNS($A:C)>$K7-1,"",MAX(MIN(COLUMN(D5),$K7))) | Q7: =IF(COLUMNS($A:D)>$K7-1,"",MAX(MIN(COLUMN(E5),$K7))) | R7: =IF(COLUMNS($A:E)>$K7-1,"",MAX(MIN(COLUMN(F5),$K7))) | S7: =IF(COLUMNS($A:F)>$K7-1,"",MAX(MIN(COLUMN(G5),$K7))) | T7: =IF(COLUMNS($A:G)>$K7-1,"",MAX(MIN(COLUMN(H5),$K7))) | U7: =IF(COLUMNS($A:H)>$K7-1,"",MAX(MIN(COLUMN(I5),$K7))) | V7: =IF(COLUMNS($A:I)>$K7-1,"",MAX(MIN(COLUMN(J5),$K7)))
A8: tulipe3 | B8: Michel3 | C8: BCD | D8: Comptable | E8: 1 | F8: 3 | H8: =IF(F8="","",IF(SUMPRODUCT(--(E$6:E$22&F$6:F$22=E8&F8))>1,"deja pris","")) | J8: 3 | K8: 3 | M8: =MIN(COLUMN(A6),K8) -> 1 | N8: =IF(COLUMNS($A:A)>$K8-1,"",MAX(MIN(COLUMN(B6),$K8))) -> 2 | O8: =IF(COLUMNS($A:B)>$K8-1,"",MAX(MIN(COLUMN(C6),$K8))) -> 3 | P8: =IF(COLUMNS($A:C)>$K8-1,"",MAX(MIN(COLUMN(D6),$K8))) | Q8: =IF(COLUMNS($A:D)>$K8-1,"",MAX(MIN(COLUMN(E6),$K8))) | R8: =IF(COLUMNS($A:E)>$K8-1,"",MAX(MIN(COLUMN(F6),$K8))) | S8: =IF(COLUMNS($A:F)>$K8-1,"",MAX(MIN(COLUMN(L7),$K8))) | T8: =IF(COLUMNS($A:G)>$K8-1,"",MAX(MIN(COLUMN(H6),$K8))) | U8: =IF(COLUMNS($A:H)>$K8-1,"",MAX(MIN(COLUMN(I6),$K8))) | V8: =IF(COLUMNS($A:I)>$K8-1,"",MAX(MIN(COLUMN(J6),$K8)))
A9: tulipe4 | B9: Michel4 | C9: DCB | D9: Gérant | E9: 2 | F9: 1 | H9: =IF(F9="","",IF(SUMPRODUCT(--(E$6:E$22&F$6:F$22=E9&F9))>1,"deja pris","")) | J9: 4 | K9: 5 | M9: =MIN(COLUMN(A7),K9) -> 1 | N9: =IF(COLUMNS($A:A)>$K9-1,"",MAX(MIN(COLUMN(B7),$K9))) -> 2 | O9: =IF(COLUMNS($A:B)>$K9-1,"",MAX(MIN(COLUMN(C7),$K9))) -> 3 | P9: =IF(COLUMNS($A:C)>$K9-1,"",MAX(MIN(COLUMN(D7),$K9))) -> 4 | Q9: =IF(COLUMNS($A:D)>$K9-1,"",MAX(MIN(COLUMN(E7),$K9))) -> 5 | R9: =IF(COLUMNS($A:E)>$K9-1,"",MAX(MIN(COLUMN(F7),$K9))) | S9: =IF(COLUMNS($A:F)>$K9-1,"",MAX(MIN(COLUMN(G7),$K9))) | T9: =IF(COLUMNS($A:G)>$K9-1,"",MAX(MIN(COLUMN(H7),$K9))) | U9: =IF(COLUMNS($A:H)>$K9-1,"",MAX(MIN(COLUMN(I7),$K9))) | V9: =IF(COLUMNS($A:I)>$K9-1,"",MAX(MIN(COLUMN(J7),$K9)))
A10: tulipe5 | B10: Michel5 | C10: DCB | D10: Gérant | E10: 2 | F10: 2 | G10: Chef de table | H10: =IF(F10="","",IF(SUMPRODUCT(--(E$6:E$22&F$6:F$22=E10&F10))>1,"deja pris","")) | J10: 5 | K10: 5 | M10: =MIN(COLUMN(A8),K10) -> 1 | N10: =IF(COLUMNS($A:A)>$K10-1,"",MAX(MIN(COLUMN(B8),$K10))) -> 2 | O10: =IF(COLUMNS($A:B)>$K10-1,"",MAX(MIN(COLUMN(C8),$K10))) -> 3 | P10: =IF(COLUMNS($A:C)>$K10-1,"",MAX(MIN(COLUMN(D8),$K10))) -> 4 | Q10: =IF(COLUMNS($A:D)>$K10-1,"",MAX(MIN(COLUMN(E8),$K10))) -> 5 | R10: =IF(COLUMNS($A:E)>$K10-1,"",MAX(MIN(COLUMN(F8),$K10))) | S10: =IF(COLUMNS($A:F)>$K10-1,"",MAX(MIN(COLUMN(G8),$K10))) | T10: =IF(COLUMNS($A:G)>$K10-1,"",MAX(MIN(COLUMN(H8),$K10))) | U10: =IF(COLUMNS($A:H)>$K10-1,"",MAX(MIN(COLUMN(I8),$K10))) | V10: =IF(COLUMNS($A:I)>$K10-1,"",MAX(MIN(COLUMN(J8),$K10)))
A11: tulipe6 | B11: Michel6 | C11: DCB | D11: Gérant | E11: 6 | F11: 2 | H11: =IF(F11="","",IF(SUMPRODUCT(--(E$6:E$22&F$6:F$22=E11&F11))>1,"deja pris","")) | J11: 6 | K11: 3 | M11: =MIN(COLUMN(A9),K11) -> 1 | N11: =IF(COLUMNS($A:A)>$K11-1,"",MAX(MIN(COLUMN(B9),$K11))) -> 2 | O11: =IF(COLUMNS($A:B)>$K11-1,"",MAX(MIN(COLUMN(C9),$K11))) -> 3 | P11: =IF(COLUMNS($A:C)>$K11-1,"",MAX(MIN(COLUMN(D9),$K11))) | Q11: =IF(COLUMNS($A:D)>$K11-1,"",MAX(MIN(COLUMN(E9),$K11))) | R11: =IF(COLUMNS($A:E)>$K11-1,"",MAX(MIN(COLUMN(F9),$K11))) | S11: =IF(COLUMNS($A:F)>$K11-1,"",MAX(MIN(COLUMN(G9),$K11))) | T11: =IF(COLUMNS($A:G)>$K11-1,"",MAX(MIN(COLUMN(H9),$K11))) | U11: =IF(COLUMNS($A:H)>$K11-1,"",MAX(MIN(COLUMN(I9),$K11))) | V11: =IF(COLUMNS($A:I)>$K11-1,"",MAX(MIN(COLUMN(J9),$K11)))
A12: tulipe7 | B12: Michel7 | C12: DCB | D12: Gérant | E12: 6 | F12: 3 | H12: =IF(F12="","",IF(SUMPRODUCT(--(E$6:E$22&F$6:F$22=E12&F12))>1,"deja pris","")) | J12: 7 | K12: 8 | M12: =MIN(COLUMN(A10),K12) -> 1 | N12: =IF(COLUMNS($A:A)>$K12-1,"",MAX(MIN(COLUMN(B10),$K12))) -> 2 | O12: =IF(COLUMNS($A:B)>$K12-1,"",MAX(MIN(COLUMN(C10),$K12))) -> 3 | P12: =IF(COLUMNS($A:C)>$K12-1,"",MAX(MIN(COLUMN(D10),$K12))) -> 4 | Q12: =IF(COLUMNS($A:D)>$K12-1,"",MAX(MIN(COLUMN(E10),$K12))) -> 5 | R12: =IF(COLUMNS($A:E)>$K12-1,"",MAX(MIN(COLUMN(F10),$K12))) -> 6 | S12: =IF(COLUMNS($A:F)>$K12-1,"",MAX(MIN(COLUMN(G10),$K12))) -> 7 | T12: =IF(COLUMNS($A:G)>$K12-1,"",MAX(MIN(COLUMN(H10),$K12))) -> 8 | U12: =IF(COLUMNS($A:H)>$K12-1,"",MAX(MIN(COLUMN(I10),$K12))) | V12: =IF(COLUMNS($A:I)>$K12-1,"",MAX(MIN(COLUMN(J10),$K12)))
A13: tulipe8 | B13: Michel8 | C13: DCB | D13: Gérant | E13: 6 | F13: 1 | H13: =IF(F13="","",IF(SUMPRODUCT(--(E$6:E$22&F$6:F$22=E13&F13))>1,"deja pris","")) | J13: 8 | K13: 10 | M13: =MIN(COLUMN(A11),K13) -> 1 | N13: =IF(COLUMNS($A:A)>$K13-1,"",MAX(MIN(COLUMN(B11),$K13))) -> 2 | O13: =IF(COLUMNS($A:B)>$K13-1,"",MAX(MIN(COLUMN(C11),$K13))) -> 3 | P13: =IF(COLUMNS($A:C)>$K13-1,"",MAX(MIN(COLUMN(D11),$K13))) -> 4 | Q13: =IF(COLUMNS($A:D)>$K13-1,"",MAX(MIN(COLUMN(E11),$K13))) -> 5 | R13: =IF(COLUMNS($A:E)>$K13-1,"",MAX(MIN(COLUMN(F11),$K13))) -> 6 | S13: =IF(COLUMNS($A:F)>$K13-1,"",MAX(MIN(COLUMN(G11),$K13))) -> 7 | T13: =IF(COLUMNS($A:G)>$K13-1,"",MAX(MIN(COLUMN(H11),$K13))) -> 8 | U13: =IF(COLUMNS($A:H)>$K13-1,"",MAX(MIN(COLUMN(I11),$K13))) -> 9 | V13: =IF(COLUMNS($A:I)>$K13-1,"",MAX(MIN(COLUMN(J11),$K13))) -> 10
A14: tulipe9 | B14: Michel9 | C14: DCB | D14: Gérant | E14: 9 | F14: 2 | H14: =IF(F14="","",IF(SUMPRODUCT(--(E$6:E$22&F$6:F$22=E14&F14))>1,"deja pris","")) | J14: 9 | K14: 9 | M14: =MIN(COLUMN(A12),K14) -> 1 | N14: =IF(COLUMNS($A:A)>$K14-1,"",MAX(MIN(COLUMN(B12),$K14))) -> 2 | O14: =IF(COLUMNS($A:B)>$K14-1,"",MAX(MIN(COLUMN(C12),$K14))) -> 3 | P14: =IF(COLUMNS($A:C)>$K14-1,"",MAX(MIN(COLUMN(D12),$K14))) -> 4 | Q14: =IF(COLUMNS($A:D)>$K14-1,"",MAX(MIN(COLUMN(E12),$K14))) -> 5 | R14: =IF(COLUMNS($A:E)>$K14-1,"",MAX(MIN(COLUMN(F12),$K14))) -> 6 | S14: =IF(COLUMNS($A:F)>$K14-1,"",MAX(MIN(COLUMN(G12),$K14))) -> 7 | T14: =IF(COLUMNS($A:G)>$K14-1,"",MAX(MIN(COLUMN(H12),$K14))) -> 8 | U14: =IF(COLUMNS($A:H)>$K14-1,"",MAX(MIN(COLUMN(I12),$K14))) -> 9 | V14: =IF(COLUMNS($A:I)>$K14-1,"",MAX(MIN(COLUMN(J12),$K14)))
A15: tulipe10 | B15: Michel10 | C15: DCB | D15: Gérant | E15: 11 | F15: 2 | G15: Chef de table | H15: =IF(F15="","",IF(SUMPRODUCT(--(E$6:E$22&F$6:F$22=E15&F15))>1,"deja pris","")) | J15: 10 | K15: 10 | M15: =MIN(COLUMN(A13),K15) -> 1 | N15: =IF(COLUMNS($A:A)>$K15-1,"",MAX(MIN(COLUMN(B13),$K15))) -> 2 | O15: =IF(COLUMNS($A:B)>$K15-1,"",MAX(MIN(COLUMN(C13),$K15))) -> 3 | P15: =IF(COLUMNS($A:C)>$K15-1,"",MAX(MIN(COLUMN(D13),$K15))) -> 4 | Q15: =IF(COLUMNS($A:D)>$K15-1,"",MAX(MIN(COLUMN(E13),$K15))) -> 5 | R15: =IF(COLUMNS($A:E)>$K15-1,"",MAX(MIN(COLUMN(F13),$K15))) -> 6 | S15: =IF(COLUMNS($A:F)>$K15-1,"",MAX(MIN(COLUMN(G13),$K15))) -> 7 | T15: =IF(COLUMNS($A:G)>$K15-1,"",MAX(MIN(COLUMN(H13),$K15))) -> 8 | U15: =IF(COLUMNS($A:H)>$K15-1,"",MAX(MIN(COLUMN(I13),$K15))) -> 9 | V15: =IF(COLUMNS($A:I)>$K15-1,"",MAX(MIN(COLUMN(J13),$K15))) -> 10
A16: tulipe11 | B16: Michel11 | C16: DCB | D16: Gérant | E16: 18 | F16: 4 | H16: =IF(F16="","",IF(SUMPRODUCT(--(E$6:E$22&F$6:F$22=E16&F16))>1,"deja pris","")) | J16: 11 | K16: 5 | M16: =MIN(COLUMN(A14),K16) -> 1 | N16: =IF(COLUMNS($A:A)>$K16-1,"",MAX(MIN(COLUMN(B14),$K16))) -> 2 | O16: =IF(COLUMNS($A:B)>$K16-1,"",MAX(MIN(COLUMN(C14),$K16))) -> 3 | P16: =IF(COLUMNS($A:C)>$K16-1,"",MAX(MIN(COLUMN(D14),$K16))) -> 4 | Q16: =IF(COLUMNS($A:D)>$K16-1,"",MAX(MIN(COLUMN(E14),$K16))) -> 5 | R16: =IF(COLUMNS($A:E)>$K16-1,"",MAX(MIN(COLUMN(F14),$K16))) | S16: =IF(COLUMNS($A:F)>$K16-1,"",MAX(MIN(COLUMN(G14),$K16))) | T16: =IF(COLUMNS($A:G)>$K16-1,"",MAX(MIN(COLUMN(H14),$K16))) | U16: =IF(COLUMNS($A:H)>$K16-1,"",MAX(MIN(COLUMN(I14),$K16))) | V16: =IF(COLUMNS($A:I)>$K16-1,"",MAX(MIN(COLUMN(J14),$K16)))
A17: tulipe12 | B17: Michel12 | C17: CBA | D17: Gérant | E17: 18 | F17: 3 | H17: =IF(F17="","",IF(SUMPRODUCT(--(E$6:E$22&F$6:F$22=E17&F17))>1,"deja pris","")) | J17: 12 | K17: 12 | M17: =MIN(COLUMN(A15),K17) -> 1 | N17: =IF(COLUMNS($A:A)>$K17-1,"",MAX(MIN(COLUMN(B15),$K17))) -> 2 | O17: =IF(COLUMNS($A:B)>$K17-1,"",MAX(MIN(COLUMN(C15),$K17))) -> 3 | P17: =IF(COLUMNS($A:C)>$K17-1,"",MAX(MIN(COLUMN(D15),$K17))) -> 4 | Q17: =IF(COLUMNS($A:D)>$K17-1,"",MAX(MIN(COLUMN(E15),$K17))) -> 5 | R17: =IF(COLUMNS($A:E)>$K17-1,"",MAX(MIN(COLUMN(F15),$K17))) -> 6 | S17: =IF(COLUMNS($A:F)>$K17-1,"",MAX(MIN(COLUMN(G15),$K17))) -> 7 | T17: =IF(COLUMNS($A:G)>$K17-1,"",MAX(MIN(COLUMN(H15),$K17))) -> 8 | U17: =IF(COLUMNS($A:H)>$K17-1,"",MAX(MIN(COLUMN(I15),$K17))) -> 9 | V17: =IF(COLUMNS($A:I)>$K17-1,"",MAX(MIN(COLUMN(J15),$K17))) -> 10
A18: tulipe13 | B18: Michel13 | C18: CBA | D18: Gérant | E18: 3 | F18: 1 | G18: Chef de table | H18: =IF(F18="","",IF(SUMPRODUCT(--(E$6:E$22&F$6:F$22=E18&F18))>1,"deja pris","")) | J18: 13 | K18: 4 | M18: =MIN(COLUMN(A16),K18) -> 1 | N18: =IF(COLUMNS($A:A)>$K18-1,"",MAX(MIN(COLUMN(B16),$K18))) -> 2 | O18: =IF(COLUMNS($A:B)>$K18-1,"",MAX(MIN(COLUMN(C16),$K18))) -> 3 | P18: =IF(COLUMNS($A:C)>$K18-1,"",MAX(MIN(COLUMN(D16),$K18))) -> 4 | Q18: =IF(COLUMNS($A:D)>$K18-1,"",MAX(MIN(COLUMN(E16),$K18))) | R18: =IF(COLUMNS($A:E)>$K18-1,"",MAX(MIN(COLUMN(F16),$K18))) | S18: =IF(COLUMNS($A:F)>$K18-1,"",MAX(MIN(COLUMN(G16),$K18))) | T18: =IF(COLUMNS($A:G)>$K18-1,"",MAX(MIN(COLUMN(H16),$K18))) | U18: =IF(COLUMNS($A:H)>$K18-1,"",MAX(MIN(COLUMN(I16),$K18))) | V18: =IF(COLUMNS($A:I)>$K18-1,"",MAX(MIN(COLUMN(J16),$K18)))
A19: tulipe14 | B19: Michel14 | C19: CBA | D19: Gérant | E19: 3 | F19: 2 | H19: =IF(F19="","",IF(SUMPRODUCT(--(E$6:E$22&F$6:F$22=E19&F19))>1,"deja pris","")) | J19: 14 | K19: 14 | M19: =MIN(COLUMN(A17),K19) -> 1 | N19: =IF(COLUMNS($A:A)>$K19-1,"",MAX(MIN(COLUMN(B17),$K19))) -> 2 | O19: =IF(COLUMNS($A:B)>$K19-1,"",MAX(MIN(COLUMN(C17),$K19))) -> 3 | P19: =IF(COLUMNS($A:C)>$K19-1,"",MAX(MIN(COLUMN(D17),$K19))) -> 4 | Q19: =IF(COLUMNS($A:D)>$K19-1,"",MAX(MIN(COLUMN(E17),$K19))) -> 5 | R19: =IF(COLUMNS($A:E)>$K19-1,"",MAX(MIN(COLUMN(F17),$K19))) -> 6 | S19: =IF(COLUMNS($A:F)>$K19-1,"",MAX(MIN(COLUMN(G17),$K19))) -> 7 | T19: =IF(COLUMNS($A:G)>$K19-1,"",MAX(MIN(COLUMN(H17),$K19))) -> 8 | U19: =IF(COLUMNS($A:H)>$K19-1,"",MAX(MIN(COLUMN(I17),$K19))) -> 9 | V19: =IF(COLUMNS($A:I)>$K19-1,"",MAX(MIN(COLUMN(J17),$K19))) -> 10
A20: tulipe15 | B20: Michel15 | C20: CBA | D20: Gérant | H20: =IF(F20="","",IF(SUMPRODUCT(--(E$6:E$22&F$6:F$22=E20&F20))>1,"deja pris","")) | J20: 15 | K20: 5 | M20: =MIN(COLUMN(A18),K20) -> 1 | N20: =IF(COLUMNS($A:A)>$K20-1,"",MAX(MIN(COLUMN(B18),$K20))) -> 2 | O20: =IF(COLUMNS($A:B)>$K20-1,"",MAX(MIN(COLUMN(C18),$K20))) -> 3 | P20: =IF(COLUMNS($A:C)>$K20-1,"",MAX(MIN(COLUMN(D18),$K20))) -> 4 | Q20: =IF(COLUMNS($A:D)>$K20-1,"",MAX(MIN(COLUMN(E18),$K20))) -> 5 | R20: =IF(COLUMNS($A:E)>$K20-1,"",MAX(MIN(COLUMN(F18),$K20))) | S20: =IF(COLUMNS($A:F)>$K20-1,"",MAX(MIN(COLUMN(G18),$K20))) | T20: =IF(COLUMNS($A:G)>$K20-1,"",MAX(MIN(COLUMN(H18),$K20))) | U20: =IF(COLUMNS($A:H)>$K20-1,"",MAX(MIN(COLUMN(I18),$K20))) | V20: =IF(COLUMNS($A:I)>$K20-1,"",MAX(MIN(COLUMN(J18),$K20)))
A21: tulipe16 | B21: Michel16 | C21: CBA | D21: Gérant | H21: =IF(F21="","",IF(SUMPRODUCT(--(E$6:E$22&F$6:F$22=E21&F21))>1,"deja pris","")) | J21: 16 | K21: 4 | M21: =MIN(COLUMN(A19),K21) -> 1 | N21: =IF(COLUMNS($A:A)>$K21-1,"",MAX(MIN(COLUMN(B19),$K21))) -> 2 | O21: =IF(COLUMNS($A:B)>$K21-1,"",MAX(MIN(COLUMN(C19),$K21))) -> 3 | P21: =IF(COLUMNS($A:C)>$K21-1,"",MAX(MIN(COLUMN(D19),$K21))) -> 4 | Q21: =IF(COLUMNS($A:D)>$K21-1,"",MAX(MIN(COLUMN(E19),$K21))) | R21: =IF(COLUMNS($A:E)>$K21-1,"",MAX(MIN(COLUMN(F19),$K21))) | S21: =IF(COLUMNS($A:F)>$K21-1,"",MAX(MIN(COLUMN(G19),$K21))) | T21: =IF(COLUMNS($A:G)>$K21-1,"",MAX(MIN(COLUMN(H19),$K21))) | U21: =IF(COLUMNS($A:H)>$K21-1,"",MAX(MIN(COLUMN(I19),$K21))) | V21: =IF(COLUMNS($A:I)>$K21-1,"",MAX(MIN(COLUMN(J19),$K21)))
A22: tulipe17 | B22: Michel17 | C22: CBA | D22: Gérant | H22: =IF(F22="","",IF(SUMPRODUCT(--(E$6:E$22&F$6:F$22=E22&F22))>1,"deja pris","")) | J22: 17 | K22: 4 | M22: =MIN(COLUMN(A20),K22) -> 1 | N22: =IF(COLUMNS($A:A)>$K22-1,"",MAX(MIN(COLUMN(B20),$K22))) -> 2 | O22: =IF(COLUMNS($A:B)>$K22-1,"",MAX(MIN(COLUMN(C20),$K22))) -> 3 | P22: =IF(COLUMNS($A:C)>$K22-1,"",MAX(MIN(COLUMN(D20),$K22))) -> 4 | Q22: =IF(COLUMNS($A:D)>$K22-1,"",MAX(MIN(COLUMN(E20),$K22))) | R22: =IF(COLUMNS($A:E)>$K22-1,"",MAX(MIN(COLUMN(F20),$K22))) | S22: =IF(COLUMNS($A:F)>$K22-1,"",MAX(MIN(COLUMN(G20),$K22))) | T22: =IF(COLUMNS($A:G)>$K22-1,"",MAX(MIN(COLUMN(H20),$K22))) | U22: =IF(COLUMNS($A:H)>$K22-1,"",MAX(MIN(COLUMN(I20),$K22))) | V22: =IF(COLUMNS($A:I)>$K22-1,"",MAX(MIN(COLUMN(J20),$K22)))
A23: tulipe18 | B23: Michel18 | C23: CBA | D23: Gérant | H23: =IF(F23="","",IF(SUMPRODUCT(--(E$6:E$22&F$6:F$22=E23&F23))>1,"deja pris","")) | J23: 18 | K23: 4 | M23: =MIN(COLUMN(A21),K23) -> 1 | N23: =IF(COLUMNS($A:A)>$K23-1,"",MAX(MIN(COLUMN(B21),$K23))) -> 2 | O23: =IF(COLUMNS($A:B)>$K23-1,"",MAX(MIN(COLUMN(C21),$K23))) -> 3 | P23: =IF(COLUMNS($A:C)>$K23-1,"",MAX(MIN(COLUMN(D21),$K23))) -> 4 | Q23: =IF(COLUMNS($A:D)>$K23-1,"",MAX(MIN(COLUMN(E21),$K23))) | R23: =IF(COLUMNS($A:E)>$K23-1,"",MAX(MIN(COLUMN(F21),$K23))) | S23: =IF(COLUMNS($A:F)>$K23-1,"",MAX(MIN(COLUMN(G21),$K23))) | T23: =IF(COLUMNS($A:G)>$K23-1,"",MAX(MIN(COLUMN(H21),$K23))) | U23: =IF(COLUMNS($A:H)>$K23-1,"",MAX(MIN(COLUMN(I21),$K23))) | V23: =IF(COLUMNS($A:I)>$K23-1,"",MAX(MIN(COLUMN(J21),$K23)))
A24: tulipe19 | B24: Michel19 | C24: CBA | D24: Gérant | H24: =IF(F24="","",IF(SUMPRODUCT(--(E$6:E$22&F$6:F$22=E24&F24))>1,"deja pris","")) | J24: 19 | K24: 4 | M24: =MIN(COLUMN(A22),K24) -> 1 | N24: =IF(COLUMNS($A:A)>$K24-1,"",MAX(MIN(COLUMN(B22),$K24))) -> 2 | O24: =IF(COLUMNS($A:B)>$K24-1,"",MAX(MIN(COLUMN(C22),$K24))) -> 3 | P24: =IF(COLUMNS($A:C)>$K24-1,"",MAX(MIN(COLUMN(D22),$K24))) -> 4 | Q24: =IF(COLUMNS($A:D)>$K24-1,"",MAX(MIN(COLUMN(F4),$K24))) | R24: =IF(COLUMNS($A:E)>$K24-1,"",MAX(MIN(COLUMN(F22),$K24))) | S24: =IF(COLUMNS($A:F)>$K24-1,"",MAX(MIN(COLUMN(G22),$K24))) | T24: =IF(COLUMNS($A:G)>$K24-1,"",MAX(MIN(COLUMN(H22),$K24))) | U24: =IF(COLUMNS($A:H)>$K24-1,"",MAX(MIN(COLUMN(I22),$K24))) | V24: =IF(COLUMNS($A:I)>$K24-1,"",MAX(MIN(COLUMN(J22),$K24)))
A25: tulipe20 | B25: Michel20 | C25: CBA | D25: Gérant | H25: =IF(F25="","",IF(SUMPRODUCT(--(E$6:E$22&F$6:F$22=E25&F25))>1,"deja pris","")) | J25: 20 | K25: 4 | M25: =MIN(COLUMN(A23),K25) -> 1 | N25: =IF(COLUMNS($A:A)>$K25-1,"",MAX(MIN(COLUMN(B23),$K25))) -> 2 | O25: =IF(COLUMNS($A:B)>$K25-1,"",MAX(MIN(COLUMN(C23),$K25))) -> 3 | P25: =IF(COLUMNS($A:C)>$K25-1,"",MAX(MIN(COLUMN(D23),$K25))) -> 4 | Q25: =IF(COLUMNS($A:D)>$K25-1,"",MAX(MIN(COLUMN(E23),$K25))) | R25: =IF(COLUMNS($A:E)>$K25-1,"",MAX(MIN(COLUMN(F23),$K25))) | S25: =IF(COLUMNS($A:F)>$K25-1,"",MAX(MIN(COLUMN(G23),$K25))) | T25: =IF(COLUMNS($A:G)>$K25-1,"",MAX(MIN(COLUMN(H23),$K25))) | U25: =IF(COLUMNS($A:H)>$K25-1,"",MAX(MIN(COLUMN(I23),$K25))) | V25: =IF(COLUMNS($A:I)>$K25-1,"",MAX(MIN(COLUMN(J23),$K25)))
A26: tulipe21 | B26: Michel21 | C26: CBA | D26: Gérant
A27: tulipe22 | B27: Michel22 | C27: CBA | D27: Gérant
A28: tulipe23 | B28: Michel23 | C28: CBA | D28: Gérant
A29: tulipe24 | B29: Michel24 | C29: CBA | D29: Gérant
A30: tulipe25 | B30: Michel25 | C30: CBA | D30: Gérant
A31: tulipe26 | B31: Michel26 | C31: CBA | D31: Gérant
A32: tulipe27 | B32: Michel27 | C32: CBA | D32: Gérant
A33: tulipe28 | B33: Michel28 | C33: CBA | D33: Gérant
A34: tulipe29 | B34: Michel29 | C34: CBA | D34: Gérant
A35: tulipe30 | B35: Michel30 | C35: CBA | D35: Gérant
A36: tulipe31 | B36: Michel31 | C36: CBA | D36: Gérant
A37: tulipe32 | B37: Michel32 | C37: CBA | D37: Gérant
... A77: tulipe72 | B77: Michel72 | C77: CBA | D77: Gérant

Sheet Paramètres
A2: Date | B2: 41640
A3: Ville | B3: Paris
A4: Logo

Sheet Par table
B2: 1 | C2: postion/statut | D2: 2 | E2: postion/statut | F2: 3 | G2: postion/statut | H2: 4 | I2: postion/statut | J2: 5 | K2: 6 | L2: 7 | M2: 8 | N2: 9 | O2: 10 | P2: 11
B3: {=IFERROR(INDEX('Fichier principal'!$A$6:$A$22&" "&'Fichier principal'!$B$6:$B$22,SMALL(IF('Fichier principal'!$E$6:$E$22='Par table'!$B$2,ROW('Par table'!$A$3:$A$19)-2,""),ROW($A1))),"")} -> tulipe1 Michel1 | C3: {=IFERROR(INDEX('Fichier principal'!$F$6:$F$22&" "&'Fichier principal'!$G$6:$G$22,SMALL(IF('Fichier principal'!$E$6:$E$22='Par table'!$B$2,ROW('Par table'!$A$3:$A$19)-2,""),ROW($A1))),"")} -> 1 Chef de table | D3: {=IFERROR(INDEX('Fichier principal'!$A$6:$A$22&" "&'Fichier principal'!$B$6:$B$22,SMALL(IF('Fichier principal'!$E$6:$E$22='Par table'!$D$2,ROW('Par table'!$A$3:$A$19)-2,""),ROW($A1))),"")} -> tulipe4 Michel4 | E3: {=IFERROR(INDEX('Fichier principal'!$F$6:$F$22&" "&'Fichier principal'!$G$6:$G$22,SMALL(IF('Fichier principal'!$E$6:$E$22='Par table'!$D$2,ROW('Par table'!$A$3:$A$19)-2,""),ROW($A1))),"")} -> 1 | F3: {=IFERROR(INDEX('Fichier principal'!$A$6:$A$22&" "&'Fichier principal'!$B$6:$B$22,SMALL(IF('Fichier principal'!$E$6:$E$22='Par table'!$F$2,ROW('Par table'!$A$3:$A$19)-2,""),ROW($A1))),"")} -> tulipe13 Michel13 | G3: {=IFERROR(INDEX('Fichier principal'!$F$6:$F$22&" "&'Fichier principal'!$G$6:$G$22,SMALL(IF('Fichier principal'!$E$6:$E$22='Par table'!$F$2,ROW('Par table'!$A$3:$A$19)-2,""),ROW($A1))),"")} -> 1 Chef de table | H3: Prénom1 | J3: Nom | K3: Prénom
B4: {=IFERROR(INDEX('Fichier principal'!$A$6:$A$22&" "&'Fichier principal'!$B$6:$B$22,SMALL(IF('Fichier principal'!$E$6:$E$22='Par table'!$B$2,ROW('Par table'!$A$3:$A$19)-2,""),ROW($A2))),"")} -> tulipe3 Michel3 | C4: {=IFERROR(INDEX('Fichier principal'!$F$6:$F$22&" "&'Fichier principal'!$G$6:$G$22,SMALL(IF('Fichier principal'!$E$6:$E$22='Par table'!$B$2,ROW('Par table'!$A$3:$A$19)-2,""),ROW($A2))),"")} -> 3 | D4: {=IFERROR(INDEX('Fichier principal'!$A$6:$A$22&" "&'Fichier principal'!$B$6:$B$22,SMALL(IF('Fichier principal'!$E$6:$E$22='Par table'!$D$2,ROW('Par table'!$A$3:$A$19)-2,""),ROW($A2))),"")} -> tulipe5 Michel5 | E4: {=IFERROR(INDEX('Fichier principal'!$F$6:$F$22&" "&'Fichier principal'!$G$6:$G$22,SMALL(IF('Fichier principal'!$E$6:$E$22='Par table'!$D$2,ROW('Par table'!$A$3:$A$19)-2,""),ROW($A2))),"")} -> 2 Chef de table | F4: {=IFERROR(INDEX('Fichier principal'!$A$6:$A$22&" "&'Fichier principal'!$B$6:$B$22,SMALL(IF('Fichier principal'!$E$6:$E$22='Par table'!$F$2,ROW('Par table'!$A$3:$A$19)-2,""),ROW($A2))),"")} -> tulipe14 Michel14 | G4: {=IFERROR(INDEX('Fichier principal'!$F$6:$F$22&" "&'Fichier principal'!$G$6:$G$22,SMALL(IF('Fichier principal'!$E$6:$E$22='Par table'!$F$2,ROW('Par table'!$A$3:$A$19)-2,""),ROW($A2))),"")} -> 2
B5: {=IFERROR(INDEX('Fichier principal'!$A$6:$A$22&" "&'Fichier principal'!$B$6:$B$22,SMALL(IF('Fichier principal'!$E$6:$E$22='Par table'!$B$2,ROW('Par table'!$A$3:$A$19)-2,""),ROW($A3))),"")} | C5: {=IFERROR(INDEX('Fichier principal'!$F$6:$F$22&" "&'Fichier principal'!$G$6:$G$22,SMALL(IF('Fichier principal'!$E$6:$E$22='Par table'!$B$2,ROW('Par table'!$A$3:$A$19)-2,""),ROW($A3))),"")} | D5: {=IFERROR(INDEX('Fichier principal'!$A$6:$A$22&" "&'Fichier principal'!$B$6:$B$22,SMALL(IF('Fichier principal'!$E$6:$E$22='Par table'!$D$2,ROW('Par table'!$A$3:$A$19)-2,""),ROW($A3))),"")} | E5: {=IFERROR(INDEX('Fichier principal'!$F$6:$F$22&" "&'Fichier principal'!$G$6:$G$22,SMALL(IF('Fichier principal'!$E$6:$E$22='Par table'!$D$2,ROW('Par table'!$A$3:$A$19)-2,""),ROW($A3))),"")} | F5: {=IFERROR(INDEX('Fichier principal'!$A$6:$A$22&" "&'Fichier principal'!$B$6:$B$22,SMALL(IF('Fichier principal'!$E$6:$E$22='Par table'!$F$2,ROW('Par table'!$A$3:$A$19)-2,""),ROW($A3))),"")} | G5: {=IFERROR(INDEX('Fichier principal'!$F$6:$F$22&" "&'Fichier principal'!$G$6:$G$22,SMALL(IF('Fichier principal'!$E$6:$E$22='Par table'!$F$2,ROW('Par table'!$A$3:$A$19)-2,""),ROW($A3))),"")}
B6: {=IFERROR(INDEX('Fichier principal'!$A$6:$A$22&" "&'Fichier principal'!$B$6:$B$22,SMALL(IF('Fichier principal'!$E$6:$E$22='Par table'!$B$2,ROW('Par table'!$A$3:$A$19)-2,""),ROW($A4))),"")} | C6: {=IFERROR(INDEX('Fichier principal'!$F$6:$F$22&" "&'Fichier principal'!$G$6:$G$22,SMALL(IF('Fichier principal'!$E$6:$E$22='Par table'!$B$2,ROW('Par table'!$A$3:$A$19)-2,""),ROW($A4))),"")} | D6: {=IFERROR(INDEX('Fichier principal'!$A$6:$A$22&" "&'Fichier principal'!$B$6:$B$22,SMALL(IF('Fichier principal'!$E$6:$E$22='Par table'!$D$2,ROW('Par table'!$A$3:$A$19)-2,""),ROW($A4))),"")} | E6: {=IFERROR(INDEX('Fichier principal'!$F$6:$F$22&" "&'Fichier principal'!$G$6:$G$22,SMALL(IF('Fichier principal'!$E$6:$E$22='Par table'!$D$2,ROW('Par table'!$A$3:$A$19)-2,""),ROW($A4))),"")} | F6: {=IFERROR(INDEX('Fichier principal'!$A$6:$A$22&" "&'Fichier principal'!$B$6:$B$22,SMALL(IF('Fichier principal'!$E$6:$E$22='Par table'!$F$2,ROW('Par table'!$A$3:$A$19)-2,""),ROW($A4))),"")} | G6: {=IFERROR(INDEX('Fichier principal'!$F$6:$F$22&" "&'Fichier principal'!$G$6:$G$22,SMALL(IF('Fichier principal'!$E$6:$E$22='Par table'!$F$2,ROW('Par table'!$A$3:$A$19)-2,""),ROW($A4))),"")}
B7: {=IFERROR(INDEX('Fichier principal'!$A$6:$A$22&" "&'Fichier principal'!$B$6:$B$22,SMALL(IF('Fichier principal'!$E$6:$E$22='Par table'!$B$2,ROW('Par table'!$A$3:$A$19)-2,""),ROW($A5))),"")} | C7: {=IFERROR(INDEX('Fichier principal'!$F$6:$F$22&" "&'Fichier principal'!$G$6:$G$22,SMALL(IF('Fichier principal'!$E$6:$E$22='Par table'!$B$2,ROW('Par table'!$A$3:$A$19)-2,""),ROW($A5))),"")} | D7: {=IFERROR(INDEX('Fichier principal'!$A$6:$A$22&" "&'Fichier principal'!$B$6:$B$22,SMALL(IF('Fichier principal'!$E$6:$E$22='Par table'!$D$2,ROW('Par table'!$A$3:$A$19)-2,""),ROW($A5))),"")} | E7: {=IFERROR(INDEX('Fichier principal'!$F$6:$F$22&" "&'Fichier principal'!$G$6:$G$22,SMALL(IF('Fichier principal'!$E$6:$E$22='Par table'!$D$2,ROW('Par table'!$A$3:$A$19)-2,""),ROW($A5))),"")} | F7: {=IFERROR(INDEX('Fichier principal'!$A$6:$A$22&" "&'Fichier principal'!$B$6:$B$22,SMALL(IF('Fichier principal'!$E$6:$E$22='Par table'!$F$2,ROW('Par table'!$A$3:$A$19)-2,""),ROW($A5))),"")} | G7: {=IFERROR(INDEX('Fichier principal'!$F$6:$F$22&" "&'Fichier principal'!$G$6:$G$22,SMALL(IF('Fichier principal'!$E$6:$E$22='Par table'!$F$2,ROW('Par table'!$A$3:$A$19)-2,""),ROW($A5))),"")}
B8: {=IFERROR(INDEX('Fichier principal'!$A$6:$A$22&" "&'Fichier principal'!$B$6:$B$22,SMALL(IF('Fichier principal'!$E$6:$E$22='Par table'!$B$2,ROW('Par table'!$A$3:$A$19)-2,""),ROW($A6))),"")} | C8: {=IFERROR(INDEX('Fichier principal'!$F$6:$F$22&" "&'Fichier principal'!$G$6:$G$22,SMALL(IF('Fichier principal'!$E$6:$E$22='Par table'!$B$2,ROW('Par table'!$A$3:$A$19)-2,""),ROW($A6))),"")} | D8: {=IFERROR(INDEX('Fichier principal'!$A$6:$A$22&" "&'Fichier principal'!$B$6:$B$22,SMALL(IF('Fichier principal'!$E$6:$E$22='Par table'!$D$2,ROW('Par table'!$A$3:$A$19)-2,""),ROW($A6))),"")} | E8: {=IFERROR(INDEX('Fichier principal'!$F$6:$F$22&" "&'Fichier principal'!$G$6:$G$22,SMALL(IF('Fichier principal'!$E$6:$E$22='Par table'!$D$2,ROW('Par table'!$A$3:$A$19)-2,""),ROW($A6))),"")} | F8: {=IFERROR(INDEX('Fichier principal'!$A$6:$A$22&" "&'Fichier principal'!$B$6:$B$22,SMALL(IF('Fichier principal'!$E$6:$E$22='Par table'!$F$2,ROW('Par table'!$A$3:$A$19)-2,""),ROW($A6))),"")} | G8: {=IFERROR(INDEX('Fichier principal'!$F$6:$F$22&" "&'Fichier principal'!$G$6:$G$22,SMALL(IF('Fichier principal'!$E$6:$E$22='Par table'!$F$2,ROW('Par table'!$A$3:$A$19)-2,""),ROW($A6))),"")}
B9: {=IFERROR(INDEX('Fichier principal'!$A$6:$A$22&" "&'Fichier principal'!$B$6:$B$22,SMALL(IF('Fichier principal'!$E$6:$E$22='Par table'!$B$2,ROW('Par table'!$A$3:$A$19)-2,""),ROW($A7))),"")} | C9: {=IFERROR(INDEX('Fichier principal'!$F$6:$F$22&" "&'Fichier principal'!$G$6:$G$22,SMALL(IF('Fichier principal'!$E$6:$E$22='Par table'!$B$2,ROW('Par table'!$A$3:$A$19)-2,""),ROW($A7))),"")} | D9: {=IFERROR(INDEX('Fichier principal'!$A$6:$A$22&" "&'Fichier principal'!$B$6:$B$22,SMALL(IF('Fichier principal'!$E$6:$E$22='Par table'!$D$2,ROW('Par table'!$A$3:$A$19)-2,""),ROW($A7))),"")} | E9: {=IFERROR(INDEX('Fichier principal'!$F$6:$F$22&" "&'Fichier principal'!$G$6:$G$22,SMALL(IF('Fichier principal'!$E$6:$E$22='Par table'!$D$2,ROW('Par table'!$A$3:$A$19)-2,""),ROW($A7))),"")} | F9: {=IFERROR(INDEX('Fichier principal'!$A$6:$A$22&" "&'Fichier principal'!$B$6:$B$22,SMALL(IF('Fichier principal'!$E$6:$E$22='Par table'!$F$2,ROW('Par table'!$A$3:$A$19)-2,""),ROW($A7))),"")} | G9: {=IFERROR(INDEX('Fichier principal'!$F$6:$F$22&" "&'Fichier principal'!$G$6:$G$22,SMALL(IF('Fichier principal'!$E$6:$E$22='Par table'!$F$2,ROW('Par table'!$A$3:$A$19)-2,""),ROW($A7))),"")}
B10: {=IFERROR(INDEX('Fichier principal'!$A$6:$A$22&" "&'Fichier principal'!$B$6:$B$22,SMALL(IF('Fichier principal'!$E$6:$E$22='Par table'!$B$2,ROW('Par table'!$A$3:$A$19)-2,""),ROW($A8))),"")} | C10: {=IFERROR(INDEX('Fichier principal'!$F$6:$F$22&" "&'Fichier principal'!$G$6:$G$22,SMALL(IF('Fichier principal'!$E$6:$E$22='Par table'!$B$2,ROW('Par table'!$A$3:$A$19)-2,""),ROW($A8))),"")} | D10: {=IFERROR(INDEX('Fichier principal'!$A$6:$A$22&" "&'Fichier principal'!$B$6:$B$22,SMALL(IF('Fichier principal'!$E$6:$E$22='Par table'!$D$2,ROW('Par table'!$A$3:$A$19)-2,""),ROW($A8))),"")} | E10: {=IFERROR(INDEX('Fichier principal'!$F$6:$F$22&" "&'Fichier principal'!$G$6:$G$22,SMALL(IF('Fichier principal'!$E$6:$E$22='Par table'!$D$2,ROW('Par table'!$A$3:$A$19)-2,""),ROW($A8))),"")} | F10: {=IFERROR(INDEX('Fichier principal'!$A$6:$A$22&" "&'Fichier principal'!$B$6:$B$22,SMALL(IF('Fichier principal'!$E$6:$E$22='Par table'!$F$2,ROW('Par table'!$A$3:$A$19)-2,""),ROW($A8))),"")} | G10: {=IFERROR(INDEX('Fichier principal'!$F$6:$F$22&" "&'Fichier principal'!$G$6:$G$22,SMALL(IF('Fichier principal'!$E$6:$E$22='Par table'!$F$2,ROW('Par table'!$A$3:$A$19)-2,""),ROW($A8))),"")}
B11: {=IFERROR(INDEX('Fichier principal'!$A$6:$A$22&" "&'Fichier principal'!$B$6:$B$22,SMALL(IF('Fichier principal'!$E$6:$E$22='Par table'!$B$2,ROW('Par table'!$A$3:$A$19)-2,""),ROW($A9))),"")} | C11: {=IFERROR(INDEX('Fichier principal'!$F$6:$F$22&" "&'Fichier principal'!$G$6:$G$22,SMALL(IF('Fichier principal'!$E$6:$E$22='Par table'!$B$2,ROW('Par table'!$A$3:$A$19)-2,""),ROW($A9))),"")} | D11: {=IFERROR(INDEX('Fichier principal'!$A$6:$A$22&" "&'Fichier principal'!$B$6:$B$22,SMALL(IF('Fichier principal'!$E$6:$E$22='Par table'!$D$2,ROW('Par table'!$A$3:$A$19)-2,""),ROW($A9))),"")} | E11: {=IFERROR(INDEX('Fichier principal'!$F$6:$F$22&" "&'Fichier principal'!$G$6:$G$22,SMALL(IF('Fichier principal'!$E$6:$E$22='Par table'!$D$2,ROW('Par table'!$A$3:$A$19)-2,""),ROW($A9))),"")} | F11: {=IFERROR(INDEX('Fichier principal'!$A$6:$A$22&" "&'Fichier principal'!$B$6:$B$22,SMALL(IF('Fichier principal'!$E$6:$E$22='Par table'!$F$2,ROW('Par table'!$A$3:$A$19)-2,""),ROW($A9))),"")} | G11: {=IFERROR(INDEX('Fichier principal'!$F$6:$F$22&" "&'Fichier principal'!$G$6:$G$22,SMALL(IF('Fichier principal'!$E$6:$E$22='Par table'!$F$2,ROW('Par table'!$A$3:$A$19)-2,""),ROW($A9))),"")}
B12: {=IFERROR(INDEX('Fichier principal'!$A$6:$A$22&" "&'Fichier principal'!$B$6:$B$22,SMALL(IF('Fichier principal'!$E$6:$E$22='Par table'!$B$2,ROW('Par table'!$A$3:$A$19)-2,""),ROW($A10))),"")} | C12: {=IFERROR(INDEX('Fichier principal'!$F$6:$F$22&" "&'Fichier principal'!$G$6:$G$22,SMALL(IF('Fichier principal'!$E$6:$E$22='Par table'!$B$2,ROW('Par table'!$A$3:$A$19)-2,""),ROW($A10))),"")} | D12: {=IFERROR(INDEX('Fichier principal'!$A$6:$A$22&" "&'Fichier principal'!$B$6:$B$22,SMALL(IF('Fichier principal'!$E$6:$E$22='Par table'!$D$2,ROW('Par table'!$A$3:$A$19)-2,""),ROW($A10))),"")} | E12: {=IFERROR(INDEX('Fichier principal'!$F$6:$F$22&" "&'Fichier principal'!$G$6:$G$22,SMALL(IF('Fichier principal'!$E$6:$E$22='Par table'!$D$2,ROW('Par table'!$A$3:$A$19)-2,""),ROW($A10))),"")} | F12: {=IFERROR(INDEX('Fichier principal'!$A$6:$A$22&" "&'Fichier principal'!$B$6:$B$22,SMALL(IF('Fichier principal'!$E$6:$E$22='Par table'!$F$2,ROW('Par table'!$A$3:$A$19)-2,""),ROW($A10))),"")} | G12: {=IFERROR(INDEX('Fichier principal'!$F$6:$F$22&" "&'Fichier principal'!$G$6:$G$22,SMALL(IF('Fichier principal'!$E$6:$E$22='Par table'!$F$2,ROW('Par table'!$A$3:$A$19)-2,""),ROW($A10))),"")}
B13: {=IFERROR(INDEX('Fichier principal'!$A$6:$A$22&" "&'Fichier principal'!$B$6:$B$22,SMALL(IF('Fichier principal'!$E$6:$E$22='Par table'!$B$2,ROW('Par table'!$A$3:$A$19)-2,""),ROW($A11))),"")} | C13: {=IFERROR(INDEX('Fichier principal'!$F$6:$F$22&" "&'Fichier principal'!$G$6:$G$22,SMALL(IF('Fichier principal'!$E$6:$E$22='Par table'!$B$2,ROW('Par table'!$A$3:$A$19)-2,""),ROW($A11))),"")} | D13: {=IFERROR(INDEX('Fichier principal'!$A$6:$A$22&" "&'Fichier principal'!$B$6:$B$22,SMALL(IF('Fichier principal'!$E$6:$E$22='Par table'!$D$2,ROW('Par table'!$A$3:$A$19)-2,""),ROW($A11))),"")} | E13: {=IFERROR(INDEX('Fichier principal'!$F$6:$F$22&" "&'Fichier principal'!$G$6:$G$22,SMALL(IF('Fichier principal'!$E$6:$E$22='Par table'!$D$2,ROW('Par table'!$A$3:$A$19)-2,""),ROW($A11))),"")} | F13: {=IFERROR(INDEX('Fichier principal'!$A$6:$A$22&" "&'Fichier principal'!$B$6:$B$22,SMALL(IF('Fichier principal'!$E$6:$E$22='Par table'!$F$2,ROW('Par table'!$A$3:$A$19)-2,""),ROW($A11))),"")} | G13: {=IFERROR(INDEX('Fichier principal'!$F$6:$F$22&" "&'Fichier principal'!$G$6:$G$22,SMALL(IF('Fichier principal'!$E$6:$E$22='Par table'!$F$2,ROW('Par table'!$A$3:$A$19)-2,""),ROW($A11))),"")}
B14: {=IFERROR(INDEX('Fichier principal'!$A$6:$A$22&" "&'Fichier principal'!$B$6:$B$22,SMALL(IF('Fichier principal'!$E$6:$E$22='Par table'!$B$2,ROW('Par table'!$A$3:$A$19)-2,""),ROW($A12))),"")} | C14: {=IFERROR(INDEX('Fichier principal'!$F$6:$F$22&" "&'Fichier principal'!$G$6:$G$22,SMALL(IF('Fichier principal'!$E$6:$E$22='Par table'!$B$2,ROW('Par table'!$A$3:$A$19)-2,""),ROW($A12))),"")} | D14: {=IFERROR(INDEX('Fichier principal'!$A$6:$A$22&" "&'Fichier principal'!$B$6:$B$22,SMALL(IF('Fichier principal'!$E$6:$E$22='Par table'!$D$2,ROW('Par table'!$A$3:$A$19)-2,""),ROW($A12))),"")} | E14: {=IFERROR(INDEX('Fichier principal'!$F$6:$F$22&" "&'Fichier principal'!$G$6:$G$22,SMALL(IF('Fichier principal'!$E$6:$E$22='Par table'!$D$2,ROW('Par table'!$A$3:$A$19)-2,""),ROW($A12))),"")} | F14: {=IFERROR(INDEX('Fichier principal'!$A$6:$A$22&" "&'Fichier principal'!$B$6:$B$22,SMALL(IF('Fichier principal'!$E$6:$E$22='Par table'!$F$2,ROW('Par table'!$A$3:$A$19)-2,""),ROW($A12))),"")} | G14: {=IFERROR(INDEX('Fichier principal'!$F$6:$F$22&" "&'Fichier principal'!$G$6:$G$22,SMALL(IF('Fichier principal'!$E$6:$E$22='Par table'!$F$2,ROW('Par table'!$A$3:$A$19)-2,""),ROW($A12))),"")}
B15: {=IFERROR(INDEX('Fichier principal'!$A$6:$A$22&" "&'Fichier principal'!$B$6:$B$22,SMALL(IF('Fichier principal'!$E$6:$E$22='Par table'!$B$2,ROW('Par table'!$A$3:$A$19)-2,""),ROW($A13))),"")} | C15: {=IFERROR(INDEX('Fichier principal'!$F$6:$F$22&" "&'Fichier principal'!$G$6:$G$22,SMALL(IF('Fichier principal'!$E$6:$E$22='Par table'!$B$2,ROW('Par table'!$A$3:$A$19)-2,""),ROW($A13))),"")} | D15: {=IFERROR(INDEX('Fichier principal'!$A$6:$A$22&" "&'Fichier principal'!$B$6:$B$22,SMALL(IF('Fichier principal'!$E$6:$E$22='Par table'!$D$2,ROW('Par table'!$A$3:$A$19)-2,""),ROW($A13))),"")} | E15: {=IFERROR(INDEX('Fichier principal'!$F$6:$F$22&" "&'Fichier principal'!$G$6:$G$22,SMALL(IF('Fichier principal'!$E$6:$E$22='Par table'!$D$2,ROW('Par table'!$A$3:$A$19)-2,""),ROW($A13))),"")} | F15: {=IFERROR(INDEX('Fichier principal'!$A$6:$A$22&" "&'Fichier principal'!$B$6:$B$22,SMALL(IF('Fichier principal'!$E$6:$E$22='Par table'!$F$2,ROW('Par table'!$A$3:$A$19)-2,""),ROW($A13))),"")} | G15: {=IFERROR(INDEX('Fichier principal'!$F$6:$F$22&" "&'Fichier principal'!$G$6:$G$22,SMALL(IF('Fichier principal'!$E$6:$E$22='Par table'!$F$2,ROW('Par table'!$A$3:$A$19)-2,""),ROW($A13))),"")}
... B19: {=IFERROR(INDEX('Fichier principal'!$A$6:$A$22&" "&'Fichier principal'!$B$6:$B$22,SMALL(IF('Fichier principal'!$E$6:$E$22='Par table'!$B$2,ROW('Par table'!$A$3:$A$19)-2,""),ROW($A17))),"")} | C19: {=IFERROR(INDEX('Fichier principal'!$F$6:$F$22&" "&'Fichier principal'!$G$6:$G$22,SMALL(IF('Fichier principal'!$E$6:$E$22='Par table'!$B$2,ROW('Par table'!$A$3:$A$19)-2,""),ROW($A17))),"")} | D19: {=IFERROR(INDEX('Fichier principal'!$A$6:$A$22&" "&'Fichier principal'!$B$6:$B$22,SMALL(IF('Fichier principal'!$E$6:$E$22='Par table'!$D$2,ROW('Par table'!$A$3:$A$19)-2,""),ROW($A17))),"")} | E19: {=IFERROR(INDEX('Fichier principal'!$F$6:$F$22&" "&'Fichier principal'!$G$6:$G$22,SMALL(IF('Fichier principal'!$E$6:$E$22='Par table'!$D$2,ROW('Par table'!$A$3:$A$19)-2,""),ROW($A17))),"")} | F19: {=IFERROR(INDEX('Fichier principal'!$A$6:$A$22&" "&'Fichier principal'!$B$6:$B$22,SMALL(IF('Fichier principal'!$E$6:$E$22='Par table'!$F$2,ROW('Par table'!$A$3:$A$19)-2,""),ROW($A17))),"")} | G19: {=IFERROR(INDEX('Fichier principal'!$F$6:$F$22&" "&'Fichier principal'!$G$6:$G$22,SMALL(IF('Fichier principal'!$E$6:$E$22='Par table'!$F$2,ROW('Par table'!$A$3:$A$19)-2,""),ROW($A17))),"")}

Sheet Chevalets
