Workbook
Name colonnes: Feuil2!$B$2:$V$2
Name dates: Feuil2!$A$3:$A$33
Name qui: Feuil2!$B$1:$V$1
Name tablo: Feuil2!$B$3:$V$33

Sheet Feuil2
B1: PREPARATEUR | F1: CARISTE | K1: RECEPTION | N1: CONTRÔLE | S1: CHARGEMENT
A2: Mois | B2: Nombre d'erreur | C2: Colis en + | D2: Colis en - | E2: Commentaire | F2: Nombre d'erreur | G2: Non repect process Réa | H2: Non repect process Gerbage (empl , pied cassé,non filmée,,,,) | I2: Non repect process Dégerbage | J2: Commentaire | K2: Nombre d'erreur | L2: Dossier incomplet (reserves,type support,,,,) | M2: Commentaire | N2: Nombre d'erreur | O2: Erreur Quantité | P2: Erreur Qualité | Q2: Inversion | R2: Commentaire | S2: Nombre d'erreur | T2: RAQ | U2: Non respect process | V2: Commentaire
A3: 42370 | B3: 1 | C3: x | E3: aaa | K3: 1 | L3: x | M3: bbb
A4: =A3+1 -> 42371
A5: =A4+1 -> 42372
A6: =A5+1 -> 42373 | F6: 1 | H6: x | J6: nnn
A7: =A6+1 -> 42374
A8: =A7+1 -> 42375
A9: =A8+1 -> 42376
A10: =A9+1 -> 42377
A11: =A10+1 -> 42378
A12: =A11+1 -> 42379
A13: =A12+1 -> 42380
A14: =A13+1 -> 42381
A15: =A14+1 -> 42382
A16: =A15+1 -> 42383
A17: =A16+1 -> 42384
A18: =A17+1 -> 42385
... A33: =A32+1 -> 42400

Sheet recap
C2: Date | D2: Métier | E2: Type d'erreur | F2: Commentaire
C3: =IF(ROW(A1)>COUNTIF(tablo,">0"),"",INDEX(dates,SUMPRODUCT(LARGE((colonnes=Feuil2!$S$2)*(tablo<>"")*(ROW(dates)-2),ROW(A1))))) -> 42373 | D3: =INDEX(qui,,SUMPRODUCT(LARGE((dates=$C3)*(colonnes=Feuil2!$B$2)*(tablo>0)*(COLUMN(qui)-1),COUNTIF(C$3:C3,C3)))) -> CARISTE | E3: =IF(C3="","",INDEX(colonnes,,SUMPRODUCT(LARGE((dates=$C3)*(tablo="x")*(COLUMN(qui)-1),COUNTIF(C$3:C3,C3))))) -> Non repect process Gerbage (empl , pied cassé,non filmée,,,,) | F3: =IFERROR(INDEX(OFFSET(tablo,,MATCH($D3,qui,0)-1,,5),MATCH(C3,dates,0),MATCH(F$2,OFFSET(colonnes,,MATCH(D3,qui,0)-1,,5),0)),"") -> nnn
C4: =IF(ROW(A2)>COUNTIF(tablo,">0"),"",INDEX(dates,SUMPRODUCT(LARGE((colonnes=Feuil2!$S$2)*(tablo<>"")*(ROW(dates)-2),ROW(A2))))) -> 42370 | D4: =INDEX(qui,,SUMPRODUCT(LARGE((dates=$C4)*(colonnes=Feuil2!$B$2)*(tablo>0)*(COLUMN(qui)-1),COUNTIF(C$3:C4,C4)))) -> RECEPTION | E4: =IF(C4="","",INDEX(colonnes,,SUMPRODUCT(LARGE((dates=$C4)*(tablo="x")*(COLUMN(qui)-1),COUNTIF(C$3:C4,C4))))) -> Dossier incomplet (reserves,type support,,,,) | F4: =IFERROR(INDEX(OFFSET(tablo,,MATCH($D4,qui,0)-1,,5),MATCH(C4,dates,0),MATCH(F$2,OFFSET(colonnes,,MATCH(D4,qui,0)-1,,5),0)),"") -> bbb
C5: =IF(ROW(A3)>COUNTIF(tablo,">0"),"",INDEX(dates,SUMPRODUCT(LARGE((colonnes=Feuil2!$S$2)*(tablo<>"")*(ROW(dates)-2),ROW(A3))))) -> 42370 | D5: =INDEX(qui,,SUMPRODUCT(LARGE((dates=$C5)*(colonnes=Feuil2!$B$2)*(tablo>0)*(COLUMN(qui)-1),COUNTIF(C$3:C5,C5)))) -> PREPARATEUR | E5: =IF(C5="","",INDEX(colonnes,,SUMPRODUCT(LARGE((dates=$C5)*(tablo="x")*(COLUMN(qui)-1),COUNTIF(C$3:C5,C5))))) -> Colis en + | F5: =IFERROR(INDEX(OFFSET(tablo,,MATCH($D5,qui,0)-1,,5),MATCH(C5,dates,0),MATCH(F$2,OFFSET(colonnes,,MATCH(D5,qui,0)-1,,5),0)),"") -> aaa
C6: =IF(ROW(A4)>COUNTIF(tablo,">0"),"",INDEX(dates,SUMPRODUCT(LARGE((colonnes=Feuil2!$S$2)*(tablo<>"")*(ROW(dates)-2),ROW(A4))))) | D6: =INDEX(qui,,SUMPRODUCT(LARGE((dates=$C6)*(colonnes=Feuil2!$B$2)*(tablo>0)*(COLUMN(qui)-1),COUNTIF(C$3:C6,C6)))) -> 0 | E6: =IF(C6="","",INDEX(colonnes,,SUMPRODUCT((dates=$C6)*(tablo="x")*(COLUMN(qui)-1)))) | F6: =IFERROR(INDEX(OFFSET(tablo,,MATCH($D6,qui,0)-1,,5),MATCH(C6,dates,0),MATCH(F$2,OFFSET(colonnes,,MATCH(D6,qui,0)-1,,5),0)),"")
C7: =IF(ROW(A5)>COUNTIF(tablo,">0"),"",INDEX(dates,SUMPRODUCT(LARGE((colonnes=Feuil2!$S$2)*(tablo<>"")*(ROW(dates)-2),ROW(A5))))) | D7: =INDEX(qui,,SUMPRODUCT(LARGE((dates=$C7)*(colonnes=Feuil2!$B$2)*(tablo>0)*(COLUMN(qui)-1),COUNTIF(C$3:C7,C7)))) -> 0 | E7: =IF(C7="","",INDEX(colonnes,,SUMPRODUCT((dates=$C7)*(tablo="x")*(COLUMN(qui)-1)))) | F7: =IFERROR(INDEX(OFFSET(tablo,,MATCH($D7,qui,0)-1,,5),MATCH(C7,dates,0),MATCH(F$2,OFFSET(colonnes,,MATCH(D7,qui,0)-1,,5),0)),"")
C8: =IF(ROW(A6)>COUNTIF(tablo,">0"),"",INDEX(dates,SUMPRODUCT(LARGE((colonnes=Feuil2!$S$2)*(tablo<>"")*(ROW(dates)-2),ROW(A6))))) | D8: =INDEX(qui,,SUMPRODUCT(LARGE((dates=$C8)*(colonnes=Feuil2!$B$2)*(tablo>0)*(COLUMN(qui)-1),COUNTIF(C$3:C8,C8)))) -> 0 | E8: =IF(C8="","",INDEX(colonnes,,SUMPRODUCT((dates=$C8)*(tablo="x")*(COLUMN(qui)-1)))) | F8: =IFERROR(INDEX(OFFSET(tablo,,MATCH($D8,qui,0)-1,,5),MATCH(C8,dates,0),MATCH(F$2,OFFSET(colonnes,,MATCH(D8,qui,0)-1,,5),0)),"")
C9: =IF(ROW(A7)>COUNTIF(tablo,">0"),"",INDEX(dates,SUMPRODUCT(LARGE((colonnes=Feuil2!$S$2)*(tablo<>"")*(ROW(dates)-2),ROW(A7))))) | D9: =INDEX(qui,,SUMPRODUCT(LARGE((dates=$C9)*(colonnes=Feuil2!$B$2)*(tablo>0)*(COLUMN(qui)-1),COUNTIF(C$3:C9,C9)))) -> 0 | E9: =IF(C9="","",INDEX(colonnes,,SUMPRODUCT((dates=$C9)*(tablo="x")*(COLUMN(qui)-1)))) | F9: =IFERROR(INDEX(OFFSET(tablo,,MATCH($D9,qui,0)-1,,5),MATCH(C9,dates,0),MATCH(F$2,OFFSET(colonnes,,MATCH(D9,qui,0)-1,,5),0)),"")
C13: faire Ctrl et F3 pour voir les noms et les plages
