Workbook

Sheet Tableau
A1: Pays | B1: Nb transports | C1: X | D1: Y | E1: Calcul B*E | F1: Calcul B*F
A2: Algéria | B2: 5 | C2: =IFERROR(VLOOKUP(A2,[1]Donnée!A1:C54,2,FALSE),0) -> 42 | D2: =IFERROR(VLOOKUP(A2,[1]Donnée!A1:C54,3,FALSE),0) -> 63 | E2: =IFERROR(B2*C2,0) -> 210 | F2: =IFERROR(B2*D2,0) -> 315
A3: Argentina | B3: 4 | C3: =IFERROR(VLOOKUP(A3,[1]Donnée!A2:C55,2,FALSE),0) -> 22 | D3: =IFERROR(VLOOKUP(A3,[1]Donnée!A2:C55,3,FALSE),0) -> 20 | E3: =IFERROR(B3*C3,0) -> 88 | F3: =IFERROR(B3*D3,0) -> 80
A4: Austria | B4: 2 | C4: =IFERROR(VLOOKUP(A4,[1]Donnée!A3:C56,2,FALSE),0) -> 45 | D4: =IFERROR(VLOOKUP(A4,[1]Donnée!A3:C56,3,FALSE),0) -> 77 | E4: =IFERROR(B4*C4,0) -> 90 | F4: =IFERROR(B4*D4,0) -> 154
B5: 0 | C5: =IFERROR(VLOOKUP(A5,[1]Donnée!A4:C57,2,FALSE),0) -> 0 | D5: =IFERROR(VLOOKUP(A5,[1]Donnée!A4:C57,3,FALSE),0) -> 0 | E5: =IFERROR(B5*C5,0) -> 0 | F5: =IFERROR(B5*D5,0) -> 0
B6: 0 | C6: =IFERROR(VLOOKUP(A6,[1]Donnée!A5:C58,2,FALSE),0) -> 0 | D6: =IFERROR(VLOOKUP(A6,[1]Donnée!A5:C58,3,FALSE),0) -> 0 | E6: =IFERROR(B6*C6,0) -> 0 | F6: =IFERROR(B6*D6,0) -> 0
B7: =SUM(B2:B6) -> 11
A16: Pays | B16: Nb transports | C16: X | D16: Y | E16: Calcul B*E | F16: Calcul B*F
A17: Algéria | B17: 5 | C17: 42 | D17: 63 | E17: 210 | F17: 315
A18: Argentina | B18: 4 | C18: 22 | D18: 20 | E18: 88 | F18: 80
A19: Austria | B19: 2 | C19: 45 | D19: 77 | E19: 90 | F19: 154
A20: France | B20: 10 | C20: 0 | D20: 0 | E20: 0 | F20: 0
B21: 0 | C21: 0 | D21: 0 | E21: 0 | F21: 0
A22: tulipe | B22: =SUMPRODUCT(SUMIF(A17:A20,A2:A6,B17:B21)) -> 11
A24: Ligne en rouge, car le pays "France" n'est pas dans la matrice de la feuille 2, aussi je ne veux donc pas qu'il impacte le résultat de la somme de la colonne

Sheet Donnée
A1: Pays | B1: Nb transports | C1: X | D1: Y
A2: Algéria | B2: 0 | C2: =IFERROR(VLOOKUP(A2,[1]Donnée!A1:C54,2,FALSE),0) -> 42 | D2: =IFERROR(VLOOKUP(A2,[1]Donnée!A1:C54,3,FALSE),0) -> 63
A3: Argentina | B3: 0 | C3: =IFERROR(VLOOKUP(A3,[1]Donnée!A2:C55,2,FALSE),0) -> 22 | D3: =IFERROR(VLOOKUP(A3,[1]Donnée!A2:C55,3,FALSE),0) -> 20
A4: Austria | B4: 0 | C4: =IFERROR(VLOOKUP(A4,[1]Donnée!A3:C56,2,FALSE),0) -> 45 | D4: =IFERROR(VLOOKUP(A4,[1]Donnée!A3:C56,3,FALSE),0) -> 77
A5: Belarus | B5: 0 | C5: =IFERROR(VLOOKUP(A5,[1]Donnée!A4:C57,2,FALSE),0) -> 48 | D5: =IFERROR(VLOOKUP(A5,[1]Donnée!A4:C57,3,FALSE),0) -> 80
A6: Belgium | B6: 0 | C6: =IFERROR(VLOOKUP(A6,[1]Donnée!A5:C58,2,FALSE),0) -> 42.5 | D6: =IFERROR(VLOOKUP(A6,[1]Donnée!A5:C58,3,FALSE),0) -> 79
