Workbook
Name plage: OFFSET(Feuil1!$A$2:$A$16,,ROW(Feuil1!$A1048559),)
Name plage2: plage

Sheet Feuil1
A1: NOM | B1: 2009 | C1: =B1+1 -> 2010 | D1: =C1+1 -> 2011 | E1: =D1+1 -> 2012 | F1: =E1+1 -> 2013 | G1: =F1+1 -> 2014 | H1: =G1+1 -> 2015 | I1: =H1+1 -> 2016 | J1: =I1+1 -> 2017 | K1: =J1+1 -> 2018 | M1: 2017 | N1: tu choisis l'année
A2: DUPONT | B2: =7000 -> 7000 | C2: =4043.6 -> 4043.6 | D2: =3260.4+5684.8 -> 8945.2 | E2: =1309.09 -> 1309.09 | F2: =1650 -> 1650 | G2: =14052+4854.84 -> 18906.84 | H2: =14052+4854.84 -> 18906.84 | I2: =1650 -> 1650 | J2: =1309.09 -> 1309.09 | K2: =2400 -> 2400 | M2: client min | N2: client max
A3: DOUCET | B3: =4400 -> 4400 | C3: =1012+7166.5+1896 -> 10074.5 | D3: =20350+3788.4 -> 24138.4 | E3: =1650 -> 1650 | F3: =14052+4854.84 -> 18906.84 | G3: =1309.09 -> 1309.09 | H3: =1309.09 -> 1309.09 | I3: =14052+4854.84 -> 18906.84 | J3: =1650 -> 1650 | K3: =5000 -> 5000 | M3: {=IFERROR(INDEX($A$2:A$16,SMALL(IF(OFFSET($A$2:$A$16,,MATCH($M$1,$B$1:$K$1,0),)=MIN(OFFSET($A$2:$A$16,,MATCH($M$1,$B$1:$K$1,0),)),ROW(A$2:A$16)-1,""),ROW(A1))),"")} -> CANAVESIO | N3: {=IFERROR(INDEX($A$2:$A$16,SMALL(IF(OFFSET($A$2:$A$16,,MATCH($M$1,$B$1:$K$1,0),)=MAX(OFFSET($A$2:$A$16,,MATCH($M$1,$B$1:$K$1,0),)),ROW(B$2:B$16)-1,""),ROW(B1))),"")} -> VERNIER
A4: VERNIER | B4: 3200 | C4: =15226.2 -> 15226.2 | D4: =1650 -> 1650 | E4: =14052+4854.84 -> 18906.84 | F4: =1309.09 -> 1309.09 | G4: =1650 -> 1650 | H4: =1650 -> 1650 | I4: =1309.09 -> 1309.09 | J4: =14052+4854.84 -> 18906.84 | K4: =20350+3788.4 -> 24138.4 | M4: {=IFERROR(INDEX($A$2:A$16,SMALL(IF(OFFSET(A$2:A$16,,MATCH($M$1,$B$1:$K$1,0),)=MIN(OFFSET($A$2:$A$16,,MATCH($M$1,$B$1:$K$1,0),)),ROW(A$2:A$16)-1,""),ROW(A2))),"")} | N4: {=IFERROR(INDEX($A$2:$A$16,SMALL(IF(OFFSET($A$2:$A$16,,MATCH($M$1,$B$1:$K$1,0),)=MAX(OFFSET($A$2:$A$16,,MATCH($M$1,$B$1:$K$1,0),)),ROW(B$2:B$16)-1,""),ROW(B2))),"")} -> SOLON
A5: PONSARD | B5: =3260.4+5684.8 -> 8945.2 | C5: =2400 -> 2400 | D5: =14052+4854.84 -> 18906.84 | E5: =1309.09 -> 1309.09 | F5: =1650 -> 1650 | G5: =14052+4854.84 -> 18906.84 | H5: =14052+4854.84 -> 18906.84 | I5: =1650 -> 1650 | J5: =1309.09 -> 1309.09 | K5: =1650 -> 1650 | M5: {=IFERROR(INDEX($A$2:A$16,SMALL(IF(OFFSET(A$2:A$16,,MATCH($M$1,$B$1:$K$1,0),)=MIN(OFFSET($A$2:$A$16,,MATCH($M$1,$B$1:$K$1,0),)),ROW(A$2:A$16)-1,""),ROW(A3))),"")} | N5: {=IFERROR(INDEX($A$2:$A$16,SMALL(IF(OFFSET($A$2:$A$16,,MATCH($M$1,$B$1:$K$1,0),)=MAX(OFFSET($A$2:$A$16,,MATCH($M$1,$B$1:$K$1,0),)),ROW(B$2:B$16)-1,""),ROW(B3))),"")}
A6: MINARD | B6: =20350+3788.4 -> 24138.4 | C6: =5000 -> 5000 | D6: =1309.09 -> 1309.09 | E6: 7040 | F6: =14052+4854.84 -> 18906.84 | G6: =1309.09 -> 1309.09 | H6: =1309.09 -> 1309.09 | I6: =14052+4854.84 -> 18906.84 | J6: 7040 | K6: =14052+4854.84 -> 18906.84 | M6: {=IFERROR(INDEX($A$2:A$16,SMALL(IF(OFFSET(A$2:A$16,,MATCH($M$1,$B$1:$K$1,0),)=MIN(OFFSET($A$2:$A$16,,MATCH($M$1,$B$1:$K$1,0),)),ROW(A$2:A$16)-1,""),ROW(A4))),"")} | N6: {=IFERROR(INDEX($A$2:$A$16,SMALL(IF(OFFSET($A$2:$A$16,,MATCH($M$1,$B$1:$K$1,0),)=MAX(OFFSET($A$2:$A$16,,MATCH($M$1,$B$1:$K$1,0),)),ROW(B$2:B$16)-1,""),ROW(B4))),"")}
A7: CANAVESIO | B7: =1650 -> 1650 | C7: =20350+3788.4 -> 24138.4 | D7: =1650 -> 1650 | E7: =1200 -> 1200 | F7: =1309.09 -> 1309.09 | G7: =1309.09 -> 1309.09 | H7: =1309.09 -> 1309.09 | I7: =1309.09 -> 1309.09 | J7: =1200 -> 1200 | K7: =2400 -> 2400 | M7: {=IFERROR(INDEX($A$2:A$16,SMALL(IF(OFFSET(A$2:A$16,,MATCH($M$1,$B$1:$K$1,0),)=MIN(OFFSET($A$2:$A$16,,MATCH($M$1,$B$1:$K$1,0),)),ROW(A$2:A$16)-1,""),ROW(A5))),"")} | N7: {=IFERROR(INDEX($A$2:$A$16,SMALL(IF(OFFSET($A$2:$A$16,,MATCH($M$1,$B$1:$K$1,0),)=MAX(OFFSET($A$2:$A$16,,MATCH($M$1,$B$1:$K$1,0),)),ROW(B$2:B$16)-1,""),ROW(B5))),"")}
A8: IME LES VALLEES | B8: =14052+4854.84 -> 18906.84 | C8: =1650 -> 1650 | D8: =14052+4854.84 -> 18906.84 | E8: =1309.09 -> 1309.09 | F8: =1309.09 -> 1309.09 | G8: =14052+4854.84 -> 18906.84 | H8: =1650 -> 1650 | I8: 7040 | J8: =1309.09 -> 1309.09 | K8: =5000 -> 5000 | M8: {=IFERROR(INDEX($A$2:A$16,SMALL(IF(OFFSET(A$2:A$16,,MATCH($M$1,$B$1:$K$1,0),)=MIN(OFFSET($A$2:$A$16,,MATCH($M$1,$B$1:$K$1,0),)),ROW(A$2:A$16)-1,""),ROW(A6))),"")} | N8: {=IFERROR(INDEX($A$2:$A$16,SMALL(IF(OFFSET($A$2:$A$16,,MATCH($M$1,$B$1:$K$1,0),)=MAX(OFFSET($A$2:$A$16,,MATCH($M$1,$B$1:$K$1,0),)),ROW(B$2:B$16)-1,""),ROW(B6))),"")}
A9: DECO PRO | B9: =1309.09 -> 1309.09 | C9: =14052+4854.84 -> 18906.84 | D9: =1309.09 -> 1309.09 | E9: =1650 -> 1650 | F9: =1650 -> 1650 | G9: =1309.09 -> 1309.09 | H9: =14052+4854.84 -> 18906.84 | I9: =1309.09 -> 1309.09 | J9: =1650 -> 1650 | K9: =20350+3788.4 -> 24138.4 | M9: {=IFERROR(INDEX($A$2:A$16,SMALL(IF(OFFSET(A$2:A$16,,MATCH($M$1,$B$1:$K$1,0),)=MIN(OFFSET($A$2:$A$16,,MATCH($M$1,$B$1:$K$1,0),)),ROW(A$2:A$16)-1,""),ROW(A7))),"")} | N9: {=IFERROR(INDEX($A$2:$A$16,SMALL(IF(OFFSET($A$2:$A$16,,MATCH($M$1,$B$1:$K$1,0),)=MAX(OFFSET($A$2:$A$16,,MATCH($M$1,$B$1:$K$1,0),)),ROW(B$2:B$16)-1,""),ROW(B7))),"")}
A10: SOLON | B10: 7040 | C10: =1309.09 -> 1309.09 | D10: 7040 | E10: =14052+4854.84 -> 18906.84 | F10: =14052+4854.84 -> 18906.84 | G10: =1650 -> 1650 | H10: =1309.09 -> 1309.09 | I10: =1650 -> 1650 | J10: =14052+4854.84 -> 18906.84 | K10: =1650 -> 1650 | M10: {=IFERROR(INDEX($A$2:A$16,SMALL(IF(OFFSET(A$2:A$16,,MATCH($M$1,$B$1:$K$1,0),)=MIN(OFFSET($A$2:$A$16,,MATCH($M$1,$B$1:$K$1,0),)),ROW(A$2:A$16)-1,""),ROW(A8))),"")} | N10: {=IFERROR(INDEX($A$2:$A$16,SMALL(IF(OFFSET($A$2:$A$16,,MATCH($M$1,$B$1:$K$1,0),)=MAX(OFFSET($A$2:$A$16,,MATCH($M$1,$B$1:$K$1,0),)),ROW(B$2:B$16)-1,""),ROW(B8))),"")}
A11: FOUCHER | B11: =1200 -> 1200 | C11: 2550 | D11: =1200 -> 1200 | E11: =1309.09 -> 1309.09 | F11: =1309.09 -> 1309.09 | G11: =14052+4854.84 -> 18906.84 | H11: =1309.09 -> 1309.09 | I11: =14052+4854.84 -> 18906.84 | J11: =1309.09 -> 1309.09 | K11: =14052+4854.84 -> 18906.84 | M11: {=IFERROR(INDEX($A$2:A$16,SMALL(IF(OFFSET(A$2:A$16,,MATCH($M$1,$B$1:$K$1,0),)=MIN(OFFSET($A$2:$A$16,,MATCH($M$1,$B$1:$K$1,0),)),ROW(A$2:A$16)-1,""),ROW(A9))),"")} | N11: {=IFERROR(INDEX($A$2:$A$16,SMALL(IF(OFFSET($A$2:$A$16,,MATCH($M$1,$B$1:$K$1,0),)=MAX(OFFSET($A$2:$A$16,,MATCH($M$1,$B$1:$K$1,0),)),ROW(B$2:B$16)-1,""),ROW(B9))),"")}
A12: FALCIONI | B12: =4043.6 -> 4043.6 | C12: =1650 -> 1650 | D12: =20350+3788.4 -> 24138.4 | E12: 7040 | F12: =1309.09 -> 1309.09 | G12: =1309.09 -> 1309.09 | H12: =1650 -> 1650 | I12: =1309.09 -> 1309.09 | J12: 7040 | K12: =1309.09 -> 1309.09 | M12: {=IFERROR(INDEX($A$2:A$16,SMALL(IF(OFFSET(A$2:A$16,,MATCH($M$1,$B$1:$K$1,0),)=MIN(OFFSET($A$2:$A$16,,MATCH($M$1,$B$1:$K$1,0),)),ROW(A$2:A$16)-1,""),ROW(A10))),"")} | N12: {=IFERROR(INDEX($A$2:$A$16,SMALL(IF(OFFSET($A$2:$A$16,,MATCH($M$1,$B$1:$K$1,0),)=MAX(OFFSET($A$2:$A$16,,MATCH($M$1,$B$1:$K$1,0),)),ROW(B$2:B$16)-1,""),ROW(B10))),"")}
A13: ORPI | B13: =1012+7166.5+1896 -> 10074.5 | C13: =14052+4854.84 -> 18906.84 | D13: =1650 -> 1650 | E13: =1200 -> 1200 | F13: =1650 -> 1650 | G13: =1650 -> 1650 | H13: =14052+4854.84 -> 18906.84 | I13: =1650 -> 1650 | J13: 7040 | K13: 2550
A14: HASSLER | B14: =15226.2 -> 15226.2 | C14: =1309.09 -> 1309.09 | D14: =14052+4854.84 -> 18906.84 | E14: =20350+3788.4 -> 24138.4 | F14: =14052+4854.84 -> 18906.84 | G14: =14052+4854.84 -> 18906.84 | H14: =1309.09 -> 1309.09 | I14: =14052+4854.84 -> 18906.84 | J14: 7040 | K14: =1309.09 -> 1309.09
A15: DENIS | B15: =2400 -> 2400 | C15: 7040 | D15: =1309.09 -> 1309.09 | E15: =14052+4854.84 -> 18906.84 | F15: =1309.09 -> 1309.09 | G15: =1309.09 -> 1309.09 | H15: =1650 -> 1650 | I15: =1309.09 -> 1309.09 | J15: 7040 | K15: =1650 -> 1650
A16: FATH | B16: =5000 -> 5000 | C16: =1200 -> 1200 | D16: 1800 | E16: =1309.09 -> 1309.09 | F16: 7040 | G16: =1309.09 -> 1309.09 | H16: =14052+4854.84 -> 18906.84 | I16: =1309.09 -> 1309.09 | J16: 7040 | K16: =14052+4854.84 -> 18906.84
D18: min
C19: 2009 | D19: =MIN(plage) -> 1200 | E19: {=IFERROR(INDEX($A$2:$A$16,SMALL(IF(plage=$D19,ROW($A$2:$A$16)-1,""),COLUMN(A:A))),"")} -> FOUCHER | F19: {=IFERROR(INDEX($A$2:$A$16,SMALL(IF(plage=$D19,ROW($A$2:$A$16)-1,""),COLUMN(B:B))),"")} | G19: {=IFERROR(INDEX($A$2:$A$16,SMALL(IF(plage=$D19,ROW($A$2:$A$16)-1,""),COLUMN(C:C))),"")} | H19: {=IFERROR(INDEX($A$2:$A$16,SMALL(IF(plage=$D19,ROW($A$2:$A$16)-1,""),COLUMN(D:D))),"")} | I19: {=IFERROR(INDEX($A$2:$A$16,SMALL(IF(plage=$D19,ROW($A$2:$A$16)-1,""),COLUMN(E:E))),"")} | J19: {=IFERROR(INDEX($A$2:$A$16,SMALL(IF(plage=$D19,ROW($A$2:$A$16)-1,""),COLUMN(F:F))),"")}
C20: 2010 | D20: =MIN(plage) -> 1200 | E20: {=IFERROR(INDEX($A$2:$A$16,SMALL(IF(plage=$D20,ROW($A$2:$A$16)-1,""),COLUMN(A:A))),"")} -> FATH | F20: {=IFERROR(INDEX($A$2:$A$16,SMALL(IF(plage=$D20,ROW($A$2:$A$16)-1,""),COLUMN(B:B))),"")} | G20: {=IFERROR(INDEX($A$2:$A$16,SMALL(IF(plage=$D20,ROW($A$2:$A$16)-1,""),COLUMN(C:C))),"")} | H20: {=IFERROR(INDEX($A$2:$A$16,SMALL(IF(plage=$D20,ROW($A$2:$A$16)-1,""),COLUMN(D:D))),"")} | I20: {=IFERROR(INDEX($A$2:$A$16,SMALL(IF(plage=$D20,ROW($A$2:$A$16)-1,""),COLUMN(E:E))),"")} | J20: {=IFERROR(INDEX($A$2:$A$16,SMALL(IF(plage=$D20,ROW($A$2:$A$16)-1,""),COLUMN(F:F))),"")}
C21: 2011 | D21: =MIN(plage) -> 1200 | E21: {=IFERROR(INDEX($A$2:$A$16,SMALL(IF(plage=$D21,ROW($A$2:$A$16)-1,""),COLUMN(A:A))),"")} -> FOUCHER | F21: {=IFERROR(INDEX($A$2:$A$16,SMALL(IF(plage=$D21,ROW($A$2:$A$16)-1,""),COLUMN(B:B))),"")} | G21: {=IFERROR(INDEX($A$2:$A$16,SMALL(IF(plage=$D21,ROW($A$2:$A$16)-1,""),COLUMN(C:C))),"")} | H21: {=IFERROR(INDEX($A$2:$A$16,SMALL(IF(plage=$D21,ROW($A$2:$A$16)-1,""),COLUMN(D:D))),"")} | I21: {=IFERROR(INDEX($A$2:$A$16,SMALL(IF(plage=$D21,ROW($A$2:$A$16)-1,""),COLUMN(E:E))),"")} | J21: {=IFERROR(INDEX($A$2:$A$16,SMALL(IF(plage=$D21,ROW($A$2:$A$16)-1,""),COLUMN(F:F))),"")}
C22: 2012 | D22: =MIN(plage) -> 1200 | E22: {=IFERROR(INDEX($A$2:$A$16,SMALL(IF(plage=$D22,ROW($A$2:$A$16)-1,""),COLUMN(A:A))),"")} -> CANAVESIO | F22: {=IFERROR(INDEX($A$2:$A$16,SMALL(IF(plage=$D22,ROW($A$2:$A$16)-1,""),COLUMN(B:B))),"")} -> ORPI | G22: {=IFERROR(INDEX($A$2:$A$16,SMALL(IF(plage=$D22,ROW($A$2:$A$16)-1,""),COLUMN(C:C))),"")} | H22: {=IFERROR(INDEX($A$2:$A$16,SMALL(IF(plage=$D22,ROW($A$2:$A$16)-1,""),COLUMN(D:D))),"")} | I22: {=IFERROR(INDEX($A$2:$A$16,SMALL(IF(plage=$D22,ROW($A$2:$A$16)-1,""),COLUMN(E:E))),"")} | J22: {=IFERROR(INDEX($A$2:$A$16,SMALL(IF(plage=$D22,ROW($A$2:$A$16)-1,""),COLUMN(F:F))),"")}
C23: 2013 | D23: =MIN(plage) -> 1309.09 | E23: {=IFERROR(INDEX($A$2:$A$16,SMALL(IF(plage=$D23,ROW($A$2:$A$16)-1,""),COLUMN(A:A))),"")} -> VERNIER | F23: {=IFERROR(INDEX($A$2:$A$16,SMALL(IF(plage=$D23,ROW($A$2:$A$16)-1,""),COLUMN(B:B))),"")} -> CANAVESIO | G23: {=IFERROR(INDEX($A$2:$A$16,SMALL(IF(plage=$D23,ROW($A$2:$A$16)-1,""),COLUMN(C:C))),"")} -> IME LES VALLEES | H23: {=IFERROR(INDEX($A$2:$A$16,SMALL(IF(plage=$D23,ROW($A$2:$A$16)-1,""),COLUMN(D:D))),"")} -> FOUCHER | I23: {=IFERROR(INDEX($A$2:$A$16,SMALL(IF(plage=$D23,ROW($A$2:$A$16)-1,""),COLUMN(E:E))),"")} -> FALCIONI | J23: {=IFERROR(INDEX($A$2:$A$16,SMALL(IF(plage=$D23,ROW($A$2:$A$16)-1,""),COLUMN(F:F))),"")} -> DENIS
C24: 2014 | D24: =MIN(plage) -> 1309.09 | E24: {=IFERROR(INDEX($A$2:$A$16,SMALL(IF(plage=$D24,ROW($A$2:$A$16)-1,""),COLUMN(A:A))),"")} -> DOUCET | F24: {=IFERROR(INDEX($A$2:$A$16,SMALL(IF(plage=$D24,ROW($A$2:$A$16)-1,""),COLUMN(B:B))),"")} -> MINARD | G24: {=IFERROR(INDEX($A$2:$A$16,SMALL(IF(plage=$D24,ROW($A$2:$A$16)-1,""),COLUMN(C:C))),"")} -> CANAVESIO | H24: {=IFERROR(INDEX($A$2:$A$16,SMALL(IF(plage=$D24,ROW($A$2:$A$16)-1,""),COLUMN(D:D))),"")} -> DECO PRO | I24: {=IFERROR(INDEX($A$2:$A$16,SMALL(IF(plage=$D24,ROW($A$2:$A$16)-1,""),COLUMN(E:E))),"")} -> FALCIONI | J24: {=IFERROR(INDEX($A$2:$A$16,SMALL(IF(plage=$D24,ROW($A$2:$A$16)-1,""),COLUMN(F:F))),"")} -> DENIS
C25: 2015 | D25: =MIN(plage) -> 1309.09 | E25: {=IFERROR(INDEX($A$2:$A$16,SMALL(IF(plage=$D25,ROW($A$2:$A$16)-1,""),COLUMN(A:A))),"")} -> DOUCET | F25: {=IFERROR(INDEX($A$2:$A$16,SMALL(IF(plage=$D25,ROW($A$2:$A$16)-1,""),COLUMN(B:B))),"")} -> MINARD | G25: {=IFERROR(INDEX($A$2:$A$16,SMALL(IF(plage=$D25,ROW($A$2:$A$16)-1,""),COLUMN(C:C))),"")} -> CANAVESIO | H25: {=IFERROR(INDEX($A$2:$A$16,SMALL(IF(plage=$D25,ROW($A$2:$A$16)-1,""),COLUMN(D:D))),"")} -> SOLON | I25: {=IFERROR(INDEX($A$2:$A$16,SMALL(IF(plage=$D25,ROW($A$2:$A$16)-1,""),COLUMN(E:E))),"")} -> FOUCHER | J25: {=IFERROR(INDEX($A$2:$A$16,SMALL(IF(plage=$D25,ROW($A$2:$A$16)-1,""),COLUMN(F:F))),"")} -> HASSLER
C26: 2016 | D26: =MIN(plage) -> 1309.09 | E26: {=IFERROR(INDEX($A$2:$A$16,SMALL(IF(plage=$D26,ROW($A$2:$A$16)-1,""),COLUMN(A:A))),"")} -> VERNIER | F26: {=IFERROR(INDEX($A$2:$A$16,SMALL(IF(plage=$D26,ROW($A$2:$A$16)-1,""),COLUMN(B:B))),"")} -> CANAVESIO | G26: {=IFERROR(INDEX($A$2:$A$16,SMALL(IF(plage=$D26,ROW($A$2:$A$16)-1,""),COLUMN(C:C))),"")} -> DECO PRO | H26: {=IFERROR(INDEX($A$2:$A$16,SMALL(IF(plage=$D26,ROW($A$2:$A$16)-1,""),COLUMN(D:D))),"")} -> FALCIONI | I26: {=IFERROR(INDEX($A$2:$A$16,SMALL(IF(plage=$D26,ROW($A$2:$A$16)-1,""),COLUMN(E:E))),"")} -> DENIS | J26: {=IFERROR(INDEX($A$2:$A$16,SMALL(IF(plage=$D26,ROW($A$2:$A$16)-1,""),COLUMN(F:F))),"")} -> FATH
C27: 2017 | D27: =MIN(plage) -> 1200 | E27: {=IFERROR(INDEX($A$2:$A$16,SMALL(IF(plage=$D27,ROW($A$2:$A$16)-1,""),COLUMN(A:A))),"")} -> CANAVESIO | F27: {=IFERROR(INDEX($A$2:$A$16,SMALL(IF(plage=$D27,ROW($A$2:$A$16)-1,""),COLUMN(B:B))),"")} | G27: {=IFERROR(INDEX($A$2:$A$16,SMALL(IF(plage=$D27,ROW($A$2:$A$16)-1,""),COLUMN(C:C))),"")} | H27: {=IFERROR(INDEX($A$2:$A$16,SMALL(IF(plage=$D27,ROW($A$2:$A$16)-1,""),COLUMN(D:D))),"")} | I27: {=IFERROR(INDEX($A$2:$A$16,SMALL(IF(plage=$D27,ROW($A$2:$A$16)-1,""),COLUMN(E:E))),"")} | J27: {=IFERROR(INDEX($A$2:$A$16,SMALL(IF(plage=$D27,ROW($A$2:$A$16)-1,""),COLUMN(F:F))),"")}
C28: 2018 | D28: =MIN(plage) -> 1309.09 | E28: {=IFERROR(INDEX($A$2:$A$16,SMALL(IF(plage=$D28,ROW($A$2:$A$16)-1,""),COLUMN(A:A))),"")} -> FALCIONI | F28: {=IFERROR(INDEX($A$2:$A$16,SMALL(IF(plage=$D28,ROW($A$2:$A$16)-1,""),COLUMN(B:B))),"")} -> HASSLER | G28: {=IFERROR(INDEX($A$2:$A$16,SMALL(IF(plage=$D28,ROW($A$2:$A$16)-1,""),COLUMN(C:C))),"")} | H28: {=IFERROR(INDEX($A$2:$A$16,SMALL(IF(plage=$D28,ROW($A$2:$A$16)-1,""),COLUMN(D:D))),"")} | I28: {=IFERROR(INDEX($A$2:$A$16,SMALL(IF(plage=$D28,ROW($A$2:$A$16)-1,""),COLUMN(E:E))),"")} | J28: {=IFERROR(INDEX($A$2:$A$16,SMALL(IF(plage=$D28,ROW($A$2:$A$16)-1,""),COLUMN(F:F))),"")}
D30: max
C31: 2009 | D31: =MAX(OFFSET(Feuil1!$A$2:$A$16,,ROW(Feuil1!$A1),)) -> 24138.4 | E31: {=IFERROR(INDEX($A$2:$A$16,SMALL(IF(OFFSET(Feuil1!$A$2:$A$16,,1,)=$D31,ROW($A$2:$A$16)-1,""),COLUMN(A:A))),"")} -> MINARD | F31: {=IFERROR(INDEX($A$2:$A$16,SMALL(IF(OFFSET(Feuil1!$A$2:$A$16,,1,)=$D31,ROW($A$2:$A$16)-1,""),COLUMN(B:B))),"")} | G31: {=IFERROR(INDEX($A$2:$A$16,SMALL(IF(OFFSET(Feuil1!$A$2:$A$16,,1,)=$D31,ROW($A$2:$A$16)-1,""),COLUMN(C:C))),"")} | H31: {=IFERROR(INDEX($A$2:$A$16,SMALL(IF(OFFSET(Feuil1!$A$2:$A$16,,1,)=$D31,ROW($A$2:$A$16)-1,""),COLUMN(D:D))),"")} | I31: {=IFERROR(INDEX($A$2:$A$16,SMALL(IF(OFFSET(Feuil1!$A$2:$A$16,,1,)=$D31,ROW($A$2:$A$16)-1,""),COLUMN(E:E))),"")} | J31: {=IFERROR(INDEX($A$2:$A$16,SMALL(IF(OFFSET(Feuil1!$A$2:$A$16,,1,)=$D31,ROW($A$2:$A$16)-1,""),COLUMN(F:F))),"")}
C32: 2010 | D32: =MAX(OFFSET(Feuil1!$A$2:$A$16,,ROW(Feuil1!$A2),)) -> 24138.4 | E32: {=IFERROR(INDEX($A$2:$A$16,SMALL(IF(OFFSET(Feuil1!$A$2:$A$16,,2,)=$D32,ROW($A$2:$A$16)-1,""),COLUMN(A:A))),"")} -> CANAVESIO | F32: {=IFERROR(INDEX($A$2:$A$16,SMALL(IF(OFFSET(Feuil1!$A$2:$A$16,,2,)=$D32,ROW($A$2:$A$16)-1,""),COLUMN(B:B))),"")} | G32: {=IFERROR(INDEX($A$2:$A$16,SMALL(IF(OFFSET(Feuil1!$A$2:$A$16,,2,)=$D32,ROW($A$2:$A$16)-1,""),COLUMN(C:C))),"")} | H32: {=IFERROR(INDEX($A$2:$A$16,SMALL(IF(OFFSET(Feuil1!$A$2:$A$16,,2,)=$D32,ROW($A$2:$A$16)-1,""),COLUMN(D:D))),"")} | I32: {=IFERROR(INDEX($A$2:$A$16,SMALL(IF(OFFSET(Feuil1!$A$2:$A$16,,2,)=$D32,ROW($A$2:$A$16)-1,""),COLUMN(E:E))),"")} | J32: {=IFERROR(INDEX($A$2:$A$16,SMALL(IF(OFFSET(Feuil1!$A$2:$A$16,,2,)=$D32,ROW($A$2:$A$16)-1,""),COLUMN(F:F))),"")}
C33: 2011 | D33: =MAX(OFFSET(Feuil1!$A$2:$A$16,,ROW(Feuil1!$A3),)) -> 24138.4 | E33: {=IFERROR(INDEX($A$2:$A$16,SMALL(IF(OFFSET(Feuil1!$A$2:$A$16,,3,)=$D33,ROW($A$2:$A$16)-1,""),COLUMN(A:A))),"")} -> DOUCET | F33: {=IFERROR(INDEX($A$2:$A$16,SMALL(IF(OFFSET(Feuil1!$A$2:$A$16,,3,)=$D33,ROW($A$2:$A$16)-1,""),COLUMN(B:B))),"")} -> FALCIONI | G33: {=IFERROR(INDEX($A$2:$A$16,SMALL(IF(OFFSET(Feuil1!$A$2:$A$16,,3,)=$D33,ROW($A$2:$A$16)-1,""),COLUMN(C:C))),"")} | H33: {=IFERROR(INDEX($A$2:$A$16,SMALL(IF(OFFSET(Feuil1!$A$2:$A$16,,3,)=$D33,ROW($A$2:$A$16)-1,""),COLUMN(D:D))),"")} | I33: {=IFERROR(INDEX($A$2:$A$16,SMALL(IF(OFFSET(Feuil1!$A$2:$A$16,,3,)=$D33,ROW($A$2:$A$16)-1,""),COLUMN(E:E))),"")} | J33: {=IFERROR(INDEX($A$2:$A$16,SMALL(IF(OFFSET(Feuil1!$A$2:$A$16,,3,)=$D33,ROW($A$2:$A$16)-1,""),COLUMN(F:F))),"")}
C34: 2012 | D34: =MAX(OFFSET(Feuil1!$A$2:$A$16,,ROW(Feuil1!$A4),)) -> 24138.4 | E34: {=IFERROR(INDEX($A$2:$A$16,SMALL(IF(OFFSET(Feuil1!$A$2:$A$16,,4,)=$D34,ROW($A$2:$A$16)-1,""),COLUMN(A:A))),"")} -> HASSLER | F34: {=IFERROR(INDEX($A$2:$A$16,SMALL(IF(OFFSET(Feuil1!$A$2:$A$16,,4,)=$D34,ROW($A$2:$A$16)-1,""),COLUMN(B:B))),"")} | G34: {=IFERROR(INDEX($A$2:$A$16,SMALL(IF(OFFSET(Feuil1!$A$2:$A$16,,4,)=$D34,ROW($A$2:$A$16)-1,""),COLUMN(C:C))),"")} | H34: {=IFERROR(INDEX($A$2:$A$16,SMALL(IF(OFFSET(Feuil1!$A$2:$A$16,,4,)=$D34,ROW($A$2:$A$16)-1,""),COLUMN(D:D))),"")} | I34: {=IFERROR(INDEX($A$2:$A$16,SMALL(IF(OFFSET(Feuil1!$A$2:$A$16,,4,)=$D34,ROW($A$2:$A$16)-1,""),COLUMN(E:E))),"")} | J34: {=IFERROR(INDEX($A$2:$A$16,SMALL(IF(OFFSET(Feuil1!$A$2:$A$16,,4,)=$D34,ROW($A$2:$A$16)-1,""),COLUMN(F:F))),"")}
C35: 2013 | D35: =MAX(OFFSET(Feuil1!$A$2:$A$16,,ROW(Feuil1!$A5),)) -> 18906.84 | E35: {=IFERROR(INDEX($A$2:$A$16,SMALL(IF(OFFSET(Feuil1!$A$2:$A$16,,5,)=$D35,ROW($A$2:$A$16)-1,""),COLUMN(A:A))),"")} -> DOUCET | F35: {=IFERROR(INDEX($A$2:$A$16,SMALL(IF(OFFSET(Feuil1!$A$2:$A$16,,5,)=$D35,ROW($A$2:$A$16)-1,""),COLUMN(B:B))),"")} -> MINARD | G35: {=IFERROR(INDEX($A$2:$A$16,SMALL(IF(OFFSET(Feuil1!$A$2:$A$16,,5,)=$D35,ROW($A$2:$A$16)-1,""),COLUMN(C:C))),"")} -> SOLON | H35: {=IFERROR(INDEX($A$2:$A$16,SMALL(IF(OFFSET(Feuil1!$A$2:$A$16,,5,)=$D35,ROW($A$2:$A$16)-1,""),COLUMN(D:D))),"")} -> HASSLER | I35: {=IFERROR(INDEX($A$2:$A$16,SMALL(IF(OFFSET(Feuil1!$A$2:$A$16,,5,)=$D35,ROW($A$2:$A$16)-1,""),COLUMN(E:E))),"")} | J35: {=IFERROR(INDEX($A$2:$A$16,SMALL(IF(OFFSET(Feuil1!$A$2:$A$16,,5,)=$D35,ROW($A$2:$A$16)-1,""),COLUMN(F:F))),"")}
C36: 2014 | D36: =MAX(OFFSET(Feuil1!$A$2:$A$16,,ROW(Feuil1!$A6),)) -> 18906.84 | E36: {=IFERROR(INDEX($A$2:$A$16,SMALL(IF(OFFSET(Feuil1!$A$2:$A$16,,6,)=$D36,ROW($A$2:$A$16)-1,""),COLUMN(A:A))),"")} -> DUPONT | F36: {=IFERROR(INDEX($A$2:$A$16,SMALL(IF(OFFSET(Feuil1!$A$2:$A$16,,6,)=$D36,ROW($A$2:$A$16)-1,""),COLUMN(B:B))),"")} -> PONSARD | G36: {=IFERROR(INDEX($A$2:$A$16,SMALL(IF(OFFSET(Feuil1!$A$2:$A$16,,6,)=$D36,ROW($A$2:$A$16)-1,""),COLUMN(C:C))),"")} -> IME LES VALLEES | H36: {=IFERROR(INDEX($A$2:$A$16,SMALL(IF(OFFSET(Feuil1!$A$2:$A$16,,6,)=$D36,ROW($A$2:$A$16)-1,""),COLUMN(D:D))),"")} -> FOUCHER | I36: {=IFERROR(INDEX($A$2:$A$16,SMALL(IF(OFFSET(Feuil1!$A$2:$A$16,,6,)=$D36,ROW($A$2:$A$16)-1,""),COLUMN(E:E))),"")} -> HASSLER | J36: {=IFERROR(INDEX($A$2:$A$16,SMALL(IF(OFFSET(Feuil1!$A$2:$A$16,,6,)=$D36,ROW($A$2:$A$16)-1,""),COLUMN(F:F))),"")}
C37: 2015 | D37: =MAX(OFFSET(Feuil1!$A$2:$A$16,,ROW(Feuil1!$A7),)) -> 18906.84 | E37: {=IFERROR(INDEX($A$2:$A$16,SMALL(IF(OFFSET(Feuil1!$A$2:$A$16,,7,)=$D37,ROW($A$2:$A$16)-1,""),COLUMN(A:A))),"")} -> DUPONT | F37: {=IFERROR(INDEX($A$2:$A$16,SMALL(IF(OFFSET(Feuil1!$A$2:$A$16,,7,)=$D37,ROW($A$2:$A$16)-1,""),COLUMN(B:B))),"")} -> PONSARD | G37: {=IFERROR(INDEX($A$2:$A$16,SMALL(IF(OFFSET(Feuil1!$A$2:$A$16,,7,)=$D37,ROW($A$2:$A$16)-1,""),COLUMN(C:C))),"")} -> DECO PRO | H37: {=IFERROR(INDEX($A$2:$A$16,SMALL(IF(OFFSET(Feuil1!$A$2:$A$16,,7,)=$D37,ROW($A$2:$A$16)-1,""),COLUMN(D:D))),"")} -> ORPI | I37: {=IFERROR(INDEX($A$2:$A$16,SMALL(IF(OFFSET(Feuil1!$A$2:$A$16,,7,)=$D37,ROW($A$2:$A$16)-1,""),COLUMN(E:E))),"")} -> FATH | J37: {=IFERROR(INDEX($A$2:$A$16,SMALL(IF(OFFSET(Feuil1!$A$2:$A$16,,7,)=$D37,ROW($A$2:$A$16)-1,""),COLUMN(F:F))),"")}
C38: 2016 | D38: =MAX(OFFSET(Feuil1!$A$2:$A$16,,ROW(Feuil1!$A8),)) -> 18906.84 | E38: {=IFERROR(INDEX($A$2:$A$16,SMALL(IF(OFFSET(Feuil1!$A$2:$A$16,,8,)=$D38,ROW($A$2:$A$16)-1,""),COLUMN(A:A))),"")} -> DOUCET | F38: {=IFERROR(INDEX($A$2:$A$16,SMALL(IF(OFFSET(Feuil1!$A$2:$A$16,,8,)=$D38,ROW($A$2:$A$16)-1,""),COLUMN(B:B))),"")} -> MINARD | G38: {=IFERROR(INDEX($A$2:$A$16,SMALL(IF(OFFSET(Feuil1!$A$2:$A$16,,8,)=$D38,ROW($A$2:$A$16)-1,""),COLUMN(C:C))),"")} -> FOUCHER | H38: {=IFERROR(INDEX($A$2:$A$16,SMALL(IF(OFFSET(Feuil1!$A$2:$A$16,,8,)=$D38,ROW($A$2:$A$16)-1,""),COLUMN(D:D))),"")} -> HASSLER | I38: {=IFERROR(INDEX($A$2:$A$16,SMALL(IF(OFFSET(Feuil1!$A$2:$A$16,,8,)=$D38,ROW($A$2:$A$16)-1,""),COLUMN(E:E))),"")} | J38: {=IFERROR(INDEX($A$2:$A$16,SMALL(IF(OFFSET(Feuil1!$A$2:$A$16,,8,)=$D38,ROW($A$2:$A$16)-1,""),COLUMN(F:F))),"")}
C39: 2017 | D39: =MAX(OFFSET(Feuil1!$A$2:$A$16,,ROW(Feuil1!$A9),)) -> 18906.84 | E39: {=IFERROR(INDEX($A$2:$A$16,SMALL(IF(OFFSET(Feuil1!$A$2:$A$16,,9,)=$D39,ROW($A$2:$A$16)-1,""),COLUMN(A:A))),"")} -> VERNIER | F39: {=IFERROR(INDEX($A$2:$A$16,SMALL(IF(OFFSET(Feuil1!$A$2:$A$16,,9,)=$D39,ROW($A$2:$A$16)-1,""),COLUMN(B:B))),"")} -> SOLON | G39: {=IFERROR(INDEX($A$2:$A$16,SMALL(IF(OFFSET(Feuil1!$A$2:$A$16,,9,)=$D39,ROW($A$2:$A$16)-1,""),COLUMN(C:C))),"")} | H39: {=IFERROR(INDEX($A$2:$A$16,SMALL(IF(OFFSET(Feuil1!$A$2:$A$16,,9,)=$D39,ROW($A$2:$A$16)-1,""),COLUMN(D:D))),"")} | I39: {=IFERROR(INDEX($A$2:$A$16,SMALL(IF(OFFSET(Feuil1!$A$2:$A$16,,9,)=$D39,ROW($A$2:$A$16)-1,""),COLUMN(E:E))),"")} | J39: {=IFERROR(INDEX($A$2:$A$16,SMALL(IF(OFFSET(Feuil1!$A$2:$A$16,,9,)=$D39,ROW($A$2:$A$16)-1,""),COLUMN(F:F))),"")}
C40: 2018 | D40: =MAX(OFFSET(Feuil1!$A$2:$A$16,,ROW(Feuil1!$A10),)) -> 24138.4 | E40: {=IFERROR(INDEX($A$2:$A$16,SMALL(IF(OFFSET(Feuil1!$A$2:$A$16,,10,)=$D40,ROW($A$2:$A$16)-1,""),COLUMN(A:A))),"")} -> VERNIER | F40: {=IFERROR(INDEX($A$2:$A$16,SMALL(IF(OFFSET(Feuil1!$A$2:$A$16,,10,)=$D40,ROW($A$2:$A$16)-1,""),COLUMN(B:B))),"")} -> DECO PRO | G40: {=IFERROR(INDEX($A$2:$A$16,SMALL(IF(OFFSET(Feuil1!$A$2:$A$16,,10,)=$D40,ROW($A$2:$A$16)-1,""),COLUMN(C:C))),"")} | H40: {=IFERROR(INDEX($A$2:$A$16,SMALL(IF(OFFSET(Feuil1!$A$2:$A$16,,10,)=$D40,ROW($A$2:$A$16)-1,""),COLUMN(D:D))),"")} | I40: {=IFERROR(INDEX($A$2:$A$16,SMALL(IF(OFFSET(Feuil1!$A$2:$A$16,,10,)=$D40,ROW($A$2:$A$16)-1,""),COLUMN(E:E))),"")} | J40: {=IFERROR(INDEX($A$2:$A$16,SMALL(IF(OFFSET(Feuil1!$A$2:$A$16,,10,)=$D40,ROW($A$2:$A$16)-1,""),COLUMN(F:F))),"")}
