Workbook
Name acceuilmat: Feuil1!$D$3
Name accsoir: Feuil1!$D$23
Name activiteam: Feuil1!$D$17:$D$22
Name activitemat: Feuil1!$D$4:$D$9
Name Animateur: Feuil1!$B$31:$B$35
Name essai: OFFSET(activitemat,,2,)
Name heuream: Feuil1!$J$17:$K$22
Name heuremat: Feuil1!$J$4:$K$9
Name heurerep: Feuil1!$J$15:$K$16
Name heuresoir: Feuil1!$J$23:$K$23
Name heuresoiree: Feuil1!$J$25:$K$27
Name jours: Feuil1!$D$2:$H$2
Name repas: Feuil1!$D$15:$D$16
Name soirée: Feuil1!$D$25:$D$27
Name sortiemat: Feuil1!$D$10:$D$14

Sheet Feuil4

Sheet Feuil1
B2: Début | C2: Fin | D2: LUNDI | E2: MARDI | F2: MERCREDI | G2: JEUDI | H2: VENDREDI
A3: Accueil Matin | B3: 0.33333333 | C3: 0.39583333 | D3: Erwan | E3: Loic | F3: Erwan | G3: Loic | H3: Erwan | I3: Accueil Matin | J3: 0.33333333 | K3: 0.39583333
A4: activité 1 | B4: 0.39583333 | C4: 0.51041667 | I4: activité matin | J4: 0.39583333 | K4: 0.51041667
B5: 0.39583333 | C5: 0.51041667 | D5: Erwan | F5: Erwan | I5: activité matin | J5: 0.39583333 | K5: 0.50694444
B6: 0.39583333 | C6: 0.51041667 | I6: activité matin | J6: 0.39583333 | K6: 0.51041667
A7: activité 2 | B7: 0.39583333 | C7: 0.51041667 | I7: activité matin | J7: 0.39583333 | K7: 0.51041667
B8: 0.39583333 | C8: 0.51041667 | I8: activité matin | J8: 0.39583333 | K8: 0.51041667
B9: 0.39583333 | C9: 0.51041667 | I9: activité matin | J9: 0.39583333 | K9: 0.51041667
A10: sortie | B10: 0.39583333 | C10: 0.72916667 | F10: Loic | I10: sortie | J10: 0.39583333 | K10: 0.72916667
B11: 0.39583333 | C11: 0.72916667 | I11: sortie | J11: 0.39583333 | K11: 0.72916667
B12: 0.39583333 | C12: 0.72916667 | I12: sortie | J12: 0.39583333 | K12: 0.72916667
B13: 0.39583333 | C13: 0.72916667 | I13: sortie | J13: 0.39583333 | K13: 0.72916667
B14: 0.39583333 | C14: 0.72916667 | I14: sortie | J14: 0.39583333 | K14: 0.72916667
A15: prépa repas | B15: 0.47916667 | C15: 0.5625 | D15: Loic | E15: Erwan | F15: Laure | G15: Benjamin | H15: Eloise | I15: prépa repas | J15: 0.47916667 | K15: 0.5625
A16: repas | B16: 0.51041667 | C16: 0.5625 | E16: Loic | F16: Erwan | H16: Loic | I16: repas | J16: 0.51041667 | K16: 0.55208333
A17: activité 1 | B17: 0.5625 | C17: 0.67708333 | D17: Erwan | E17: Loic | I17: activité am | J17: 0.5625 | K17: 0.67708333
B18: 0.5625 | C18: 0.67708333 | D18: Loic | I18: activité am | J18: 0.5625 | K18: 0.67708333
B19: 0.5625 | C19: 0.67708333 | I19: activité am | J19: 0.5625 | K19: 0.67708333
A20: activité 2 | B20: 0.5625 | C20: 0.67708333 | H20: Loic | I20: activité am | J20: 0.5625 | K20: 0.67708333
B21: 0.5625 | C21: 0.67708333 | G21: Loic | I21: activité am | J21: 0.5625 | K21: 0.67708333
B22: 0.5625 | C22: 0.67708333 | I22: activité am | J22: 0.5625 | K22: 0.67708333
A23: Accueil Soire | B23: 0.67708333 | C23: 0.77083333 | D23: Erwan | H23: Erwan | I23: Accueil Soir | J23: 0.67708333 | K23: 0.77083333
A25: Soirée | B25: 0.82291667 | C25: 0.92708333 | E25: Erwan | I25: Soirée | J25: 0.82291667 | K25: 0.92708333
B26: 0.82291667 | C26: 0.92708333 | F26: Loic | J26: 0.82291667 | K26: 0.92708333
B27: 0.82291667 | C27: 0.92708333 | J27: 0.82291667 | K27: 0.92708333
A31: Animateur | B31: Loic
B32: Erwan
B33: Laure
B34: Benjamin
B35: Eloise

Sheet Feuil2
A2: Erwan | C2: Acceuil Matin | F2: Activité matin | I2: repas | M2: Activité Après-midi | P2: Accueil Soir | S2: Soirée | V2: Total
A3: Lundi | C3: =IF(acceuilmat=Feuil2!$A$2,Feuil1!J$3,0) -> 0.33333333 | D3: =IF(acceuilmat=Feuil2!$A$2,Feuil1!K$3,0) -> 0.39583333 | F3: =IFERROR(INDEX(heuremat,MATCH($A$2,OFFSET(activitemat,,MATCH($A3,jours,0)-1,,),0),1),0) -> 0.39583333 | G3: =IFERROR(INDEX(heuremat,MATCH($A$2,OFFSET(activitemat,,MATCH($A3,jours,0)-1,,),0),2),0) -> 0.50694444 | J3: =IFERROR(INDEX(heurerep,MATCH($A$2,OFFSET(repas,,MATCH($A3,jours,0)-1,,),0),1),0) -> 0 | K3: =IFERROR(INDEX(heurerep,MATCH($A$2,OFFSET(repas,,MATCH($A3,jours,0)-1,,),0),2),0) -> 0 | M3: =IFERROR(INDEX(heuream,MATCH($A$2,OFFSET(activiteam,,MATCH($A3,jours,0)-1,,),0),1),0) -> 0.5625 | N3: =IFERROR(INDEX(heuream,MATCH($A$2,OFFSET(activiteam,,MATCH($A3,jours,0)-1,,),0),2),0) -> 0.67708333 | P3: =IFERROR(INDEX(heuresoir,MATCH($A$2,OFFSET(accsoir,,MATCH($A3,jours,0)-1,,),0),1),0) -> 0.67708333 | Q3: =IFERROR(INDEX(heuresoir,MATCH($A$2,OFFSET(accsoir,,MATCH($A3,jours,0)-1,,),0),2),0) -> 0.77083333 | S3: =IFERROR(INDEX(heuresoiree,MATCH($A$2,OFFSET(soirée,,MATCH($A3,jours,0)-1,,),0),1),0) -> 0 | T3: =IFERROR(INDEX(heuresoiree,MATCH($A$2,OFFSET(soirée,,MATCH($A3,jours,0)-1,,),0),2),0) -> 0 | V3: =D3-C3+G3-F3+K3-J3-I3+N3-M3+Q3-P3+T3-S3 -> 0.38194444
A4: Mardi | C4: =IF(OFFSET(acceuilmat,,1)=Feuil2!$A$2,Feuil1!J$3,0) -> 0 | D4: =IF(OFFSET(acceuilmat,,1)=Feuil2!$A$2,Feuil1!K$3,0) -> 0 | F4: =IFERROR(INDEX(heuremat,MATCH($A$2,OFFSET(activitemat,,MATCH($A4,jours,0)-1,,),0),1),0) -> 0 | G4: =IFERROR(INDEX(heuremat,MATCH($A$2,OFFSET(activitemat,,MATCH($A4,jours,0)-1,,),0),2),0) -> 0 | J4: =IFERROR(INDEX(heurerep,MATCH($A$2,OFFSET(repas,,MATCH($A4,jours,0)-1,,),0),1),0) -> 0.47916667 | K4: =IFERROR(INDEX(heurerep,MATCH($A$2,OFFSET(repas,,MATCH($A4,jours,0)-1,,),0),2),0) -> 0.5625 | M4: =IFERROR(INDEX(heuream,MATCH($A$2,OFFSET(activiteam,,MATCH($A4,jours,0)-1,,),0),1),0) -> 0 | N4: =IFERROR(INDEX(heuream,MATCH($A$2,OFFSET(activiteam,,MATCH($A4,jours,0)-1,,),0),2),0) -> 0 | P4: =IFERROR(INDEX(heuresoir,MATCH($A$2,OFFSET(accsoir,,MATCH($A4,jours,0)-1,,),0),1),0) -> 0 | Q4: =IFERROR(INDEX(heuresoir,MATCH($A$2,OFFSET(accsoir,,MATCH($A4,jours,0)-1,,),0),2),0) -> 0 | S4: =IFERROR(INDEX(heuresoiree,MATCH($A$2,OFFSET(soirée,,MATCH($A4,jours,0)-1,,),0),1),0) -> 0.82291667 | T4: =IFERROR(INDEX(heuresoiree,MATCH($A$2,OFFSET(soirée,,MATCH($A4,jours,0)-1,,),0),2),0) -> 0.92708333 | V4: =D4-C4+G4-F4+K4-J4-I4+N4-M4+Q4-P4+T4-S4 -> 0.1875
A5: Mercredi | B5: sortie à la journée | C5: =IF(Feuil1!$F$3=Feuil2!$A$2,Feuil1!J$3,0) -> 0.33333333 | D5: =IF(Feuil1!$F$3=Feuil2!$A$2,Feuil1!K$3,0) -> 0.39583333 | F5: =IFERROR(INDEX(heuremat,MATCH($A$2,OFFSET(activitemat,,MATCH($A5,jours,0)-1,,),0),1),0) -> 0.39583333 | G5: =IFERROR(INDEX(heuremat,MATCH($A$2,OFFSET(activitemat,,MATCH($A5,jours,0)-1,,),0),2),0) -> 0.50694444 | J5: =IFERROR(INDEX(heurerep,MATCH($A$2,OFFSET(repas,,MATCH($A5,jours,0)-1,,),0),1),0) -> 0.51041667 | K5: =IFERROR(INDEX(heurerep,MATCH($A$2,OFFSET(repas,,MATCH($A5,jours,0)-1,,),0),2),0) -> 0.55208333 | M5: =IFERROR(INDEX(heuream,MATCH($A$2,OFFSET(activiteam,,MATCH($A5,jours,0)-1,,),0),1),0) -> 0 | N5: =IFERROR(INDEX(heuream,MATCH($A$2,OFFSET(activiteam,,MATCH($A5,jours,0)-1,,),0),2),0) -> 0 | P5: =IFERROR(INDEX(heuresoir,MATCH($A$2,OFFSET(accsoir,,MATCH($A5,jours,0)-1,,),0),1),0) -> 0 | Q5: =IFERROR(INDEX(heuresoir,MATCH($A$2,OFFSET(accsoir,,MATCH($A5,jours,0)-1,,),0),2),0) -> 0 | S5: =IFERROR(INDEX(heuresoiree,MATCH($A$2,OFFSET(soirée,,MATCH($A5,jours,0)-1,,),0),1),0) -> 0 | T5: =IFERROR(INDEX(heuresoiree,MATCH($A$2,OFFSET(soirée,,MATCH($A5,jours,0)-1,,),0),2),0) -> 0 | V5: =D5-C5+G5-F5+K5-J5-I5+N5-M5+Q5-P5+T5-S5 -> 0.21527778
A6: Jeudi | C6: =IF(OFFSET(acceuilmat,,3)=Feuil2!$A$2,Feuil1!J$3,0) -> 0 | D6: =IF(OFFSET(acceuilmat,,3)=Feuil2!$A$2,Feuil1!K$3,0) -> 0 | F6: =IFERROR(INDEX(heuremat,MATCH($A$2,OFFSET(activitemat,,MATCH($A6,jours,0)-1,,),0),1),0) -> 0 | G6: =IFERROR(INDEX(heuremat,MATCH($A$2,OFFSET(activitemat,,MATCH($A6,jours,0)-1,,),0),2),0) -> 0 | J6: =IFERROR(INDEX(heurerep,MATCH($A$2,OFFSET(repas,,MATCH($A6,jours,0)-1,,),0),1),0) -> 0 | K6: =IFERROR(INDEX(heurerep,MATCH($A$2,OFFSET(repas,,MATCH($A6,jours,0)-1,,),0),2),0) -> 0 | M6: =IFERROR(INDEX(heuream,MATCH($A$2,OFFSET(activiteam,,MATCH($A6,jours,0)-1,,),0),1),0) -> 0 | N6: =IFERROR(INDEX(heuream,MATCH($A$2,OFFSET(activiteam,,MATCH($A6,jours,0)-1,,),0),2),0) -> 0 | P6: =IFERROR(INDEX(heuresoir,MATCH($A$2,OFFSET(accsoir,,MATCH($A6,jours,0)-1,,),0),1),0) -> 0 | Q6: =IFERROR(INDEX(heuresoir,MATCH($A$2,OFFSET(accsoir,,MATCH($A6,jours,0)-1,,),0),2),0) -> 0 | S6: =IFERROR(INDEX(heuresoiree,MATCH($A$2,OFFSET(soirée,,MATCH($A6,jours,0)-1,,),0),1),0) -> 0 | T6: =IFERROR(INDEX(heuresoiree,MATCH($A$2,OFFSET(soirée,,MATCH($A6,jours,0)-1,,),0),2),0) -> 0 | V6: =D6-C6+G6-F6+K6-J6-I6+N6-M6+Q6-P6+T6-S6 -> 0
A7: Vendredi | B7: journée JO | C7: =IF(OFFSET(acceuilmat,,4)=Feuil2!$A$2,Feuil1!J$3,0) -> 0.33333333 | D7: =IF(OFFSET(acceuilmat,,4)=Feuil2!$A$2,Feuil1!K$3,0) -> 0.39583333 | F7: =IFERROR(INDEX(heuremat,MATCH($A$2,OFFSET(activitemat,,MATCH($A7,jours,0)-1,,),0),1),0) -> 0 | G7: =IFERROR(INDEX(heuremat,MATCH($A$2,OFFSET(activitemat,,MATCH($A7,jours,0)-1,,),0),2),0) -> 0 | J7: =IFERROR(INDEX(heurerep,MATCH($A$2,OFFSET(repas,,MATCH($A7,jours,0)-1,,),0),1),0) -> 0 | K7: =IFERROR(INDEX(heurerep,MATCH($A$2,OFFSET(repas,,MATCH($A7,jours,0)-1,,),0),2),0) -> 0 | M7: =IFERROR(INDEX(heuream,MATCH($A$2,OFFSET(activiteam,,MATCH($A7,jours,0)-1,,),0),1),0) -> 0 | N7: =IFERROR(INDEX(heuream,MATCH($A$2,OFFSET(activiteam,,MATCH($A7,jours,0)-1,,),0),2),0) -> 0 | P7: =IFERROR(INDEX(heuresoir,MATCH($A$2,OFFSET(accsoir,,MATCH($A7,jours,0)-1,,),0),1),0) -> 0.67708333 | Q7: =IFERROR(INDEX(heuresoir,MATCH($A$2,OFFSET(accsoir,,MATCH($A7,jours,0)-1,,),0),2),0) -> 0.77083333 | S7: =IFERROR(INDEX(heuresoiree,MATCH($A$2,OFFSET(soirée,,MATCH($A7,jours,0)-1,,),0),1),0) -> 0 | T7: =IFERROR(INDEX(heuresoiree,MATCH($A$2,OFFSET(soirée,,MATCH($A7,jours,0)-1,,),0),2),0) -> 0 | V7: =D7-C7+G7-F7+K7-J7-I7+N7-M7+Q7-P7+T7-S7 -> 0.15625
D8: {=SUM(D3:D7-C3:C7)} -> 0.1875 | G8: {=SUM(G3:G7-F3:F7)} -> 0.22222222 | K8: {=SUM(K3:K7-J3:J7)} -> 0.125 | N8: {=SUM(N3:N7-M3:M7)} -> 0.11458333 | Q8: =Q7-P7+Q6-P6+Q5-P5+Q4-P4+Q3-P3 -> 0.1875 | T8: =T7-S7+T6-S6+T5-S5+T4-S4+T3-S3 -> 0.10416667 | V8: =SUM(V3:V7) -> 0.94097222
A10: Loic | C10: Acceuil Matin | F10: Activité matin | I10: repas | M10: Activité Après-midi | P10: Accueil Soir | S10: Soirée | V10: Total
A11: Lundi | V11: =D11-C11+G11-F11+K11-J11-I11+N11-M11+Q11-P11+T11-S11 -> 0
A12: Mardi | V12: =D12-C12+G12-F12+K12-J12-I12+N12-M12+Q12-P12+T12-S12 -> 0
A13: Mercredi | B13: sortie à la journée | V13: =D13-C13+G13-F13+K13-J13-I13+N13-M13+Q13-P13+T13-S13 -> 0
A14: Jeudi | V14: =D14-C14+G14-F14+K14-J14-I14+N14-M14+Q14-P14+T14-S14 -> 0
A15: Vendredi | B15: journée JO | V15: =D15-C15+G15-F15+K15-J15-I15+N15-M15+Q15-P15+T15-S15 -> 0
D16: =D15-C15+D14-C14+D13-C13+D12-C12+D11-C11 -> 0 | G16: =G15-F15+G14-F14+G13-F13+G12-F12+G11-F11 -> 0 | K16: =K15-J15+K14-J14+K13-J13+K12-J12+K11-J11 -> 0 | N16: =N15-M15+N14-M14+N13-M13+N12-M12+N11-M11 -> 0 | Q16: =Q15-P15+Q14-P14+Q13-P13+Q12-P12+Q11-P11 -> 0 | T16: =T15-S15+T14-S14+T13-S13+T12-S12+T11-S11 -> 0 | V16: =SUM(V11:V15) -> 0
A18: Laure | C18: Acceuil Matin | F18: Activité matin | I18: repas | M18: Activité Après-midi | P18: Accueil Soir | S18: Soirée | V18: Total
A19: Lundi | V19: =D19-C19+G19-F19+K19-J19-I19+N19-M19+Q19-P19+T19-S19 -> 0
A20: Mardi | V20: =D20-C20+G20-F20+K20-J20-I20+N20-M20+Q20-P20+T20-S20 -> 0
A21: Mercredi | B21: sortie à la journée | V21: =D21-C21+G21-F21+K21-J21-I21+N21-M21+Q21-P21+T21-S21 -> 0
A22: Jeudi | V22: =D22-C22+G22-F22+K22-J22-I22+N22-M22+Q22-P22+T22-S22 -> 0
A23: Vendredi | B23: journée JO | V23: =D23-C23+G23-F23+K23-J23-I23+N23-M23+Q23-P23+T23-S23 -> 0
D24: =D23-C23+D22-C22+D21-C21+D20-C20+D19-C19 -> 0 | G24: =G23-F23+G22-F22+G21-F21+G20-F20+G19-F19 -> 0 | K24: =K23-J23+K22-J22+K21-J21+K20-J20+K19-J19 -> 0 | N24: =N23-M23+N22-M22+N21-M21+N20-M20+N19-M19 -> 0 | Q24: =Q23-P23+Q22-P22+Q21-P21+Q20-P20+Q19-P19 -> 0 | T24: =T23-S23+T22-S22+T21-S21+T20-S20+T19-S19 -> 0 | V24: =SUM(V19:V23) -> 0
A26: Benjamin | C26: Acceuil Matin | F26: Activité matin | I26: repas | M26: Activité Après-midi | P26: Accueil Soir | S26: Soirée | V26: Total
A27: Lundi | V27: =D27-C27+G27-F27+K27-J27-I27+N27-M27+Q27-P27+T27-S27 -> 0
A28: Mardi | V28: =D28-C28+G28-F28+K28-J28-I28+N28-M28+Q28-P28+T28-S28 -> 0
A29: Mercredi | B29: sortie à la journée | V29: =D29-C29+G29-F29+K29-J29-I29+N29-M29+Q29-P29+T29-S29 -> 0
A30: Jeudi | V30: =D30-C30+G30-F30+K30-J30-I30+N30-M30+Q30-P30+T30-S30 -> 0
A31: Vendredi | B31: journée JO | V31: =D31-C31+G31-F31+K31-J31-I31+N31-M31+Q31-P31+T31-S31 -> 0
D32: =D31-C31+D30-C30+D29-C29+D28-C28+D27-C27 -> 0 | G32: =G31-F31+G30-F30+G29-F29+G28-F28+G27-F27 -> 0 | K32: =K31-J31+K30-J30+K29-J29+K28-J28+K27-J27 -> 0 | N32: =N31-M31+N30-M30+N29-M29+N28-M28+N27-M27 -> 0 | Q32: =Q31-P31+Q30-P30+Q29-P29+Q28-P28+Q27-P27 -> 0 | T32: =T31-S31+T30-S30+T29-S29+T28-S28+T27-S27 -> 0 | V32: =SUM(V27:V31) -> 0
A34: Eloise | C34: Acceuil Matin | F34: Activité matin | I34: repas | M34: Activité Après-midi | P34: Accueil Soir | S34: Soirée | V34: Total
A35: Lundi | V35: =D35-C35+G35-F35+K35-J35-I35+N35-M35+Q35-P35+T35-S35 -> 0
A36: Mardi | V36: =D36-C36+G36-F36+K36-J36-I36+N36-M36+Q36-P36+T36-S36 -> 0
A37: Mercredi | B37: sortie à la journée | V37: =D37-C37+G37-F37+K37-J37-I37+N37-M37+Q37-P37+T37-S37 -> 0
A38: Jeudi | V38: =D38-C38+G38-F38+K38-J38-I38+N38-M38+Q38-P38+T38-S38 -> 0
A39: Vendredi | B39: journée JO | V39: =D39-C39+G39-F39+K39-J39-I39+N39-M39+Q39-P39+T39-S39 -> 0
D40: =D39-C39+D38-C38+D37-C37+D36-C36+D35-C35 -> 0 | G40: =G39-F39+G38-F38+G37-F37+G36-F36+G35-F35 -> 0 | K40: =K39-J39+K38-J38+K37-J37+K36-J36+K35-J35 -> 0 | N40: =N39-M39+N38-M38+N37-M37+N36-M36+N35-M35 -> 0 | Q40: =Q39-P39+Q38-P38+Q37-P37+Q36-P36+Q35-P35 -> 0 | T40: =T39-S39+T38-S38+T37-S37+T36-S36+T35-S35 -> 0 | V40: =SUM(V35:V39) -> 0

Sheet Feuil3
