Workbook
Name animal: OFFSET(Données!$B$7,,,COUNTIF(Données!$B:$B,"><")-1)
Name jour: Info!$O$2:$O$32
Name mois: Info!$Q$2:$Q$13

Sheet Info
O2: 1 | Q2: janvier
O3: =O2+1 -> 2 | Q3: février
A4: Année : | B4: 2018 | O4: =O3+1 -> 3 | Q4: mars
O5: =O4+1 -> 4 | Q5: avril
O6: =O5+1 -> 5 | Q6: mai
O7: =O6+1 -> 6 | Q7: juin
A8: Les jours feriés | O8: =O7+1 -> 7 | Q8: juillet
O9: =O8+1 -> 8 | Q9: août
O10: =O9+1 -> 9 | Q10: septembre
A11: =DATE(B4,1,1) -> 43101 | C11: Nouvel An | O11: =O10+1 -> 10 | Q11: octobre
A12: =A13-3 -> 43189 | C12: Vendredi-Saint | O12: =O11+1 -> 11 | Q12: novembre
A13: =ROUND(DATE(B4,4,MOD(234-11*MOD(B4,19),30))/7,)*7-5 -> 43192 | C13: Lundi de Pâques | O13: =O12+1 -> 12 | Q13: décembre
A14: =A13+38 -> 43230 | C14: Jeudi de l'Ascension | O14: =O13+1 -> 13
A15: =A13+49 -> 43241 | C15: Lundi de Pentecôte | O15: =O14+1 -> 14
A16: =DATE(B4,8,1) -> 43313 | C16: Fête Nationale | O16: =O15+1 -> 15
A17: =DATE((B4),9,1) -(MOD(( DATE((B4),9,1) -1),7))+4+(7*(WEEKDAY( DATE((B4),9,0.1) )>1)) -> 43349 | C17: Jeûne Genevois | O17: =O16+1 -> 16
A18: =DATE(B4,12,25) -> 43459 | C18: Noël | O18: =O17+1 -> 17
A19: =DATE(B4,12,31) -> 43465 | C19: Restauration de la République | O19: =O18+1 -> 18
O20: =O19+1 -> 19
O21: =O20+1 -> 20
O22: =O21+1 -> 21
O23: =O22+1 -> 22
O24: =O23+1 -> 23
O25: =O24+1 -> 24
O26: =O25+1 -> 25
O27: =O26+1 -> 26
O28: =O27+1 -> 27
O29: =O28+1 -> 28
O30: =O29+1 -> 29
O31: =O30+1 -> 30
O32: =O31+1 -> 31

Sheet Données
B6: Nom annimal | C6: Promenade (P) | D6: Visite (V) | E6: Garde (G)
B7: Cap et Clem | C7: 16 | D7: 13 | E7: 25
B8: Fox | C8: 17 | D8: 14 | E8: 20
B9: Fripouille | C9: 16 | D9: 12 | E9: 23
B10: Rex | C10: 17 | D10: 18 | E10: 19
B11: Zia | C11: 17 | D11: 5
B12: Aron | C12: 17
B13: Looky | E13: 13
B14: Chien 7
B15: Chien 8
B16: Chien 9
B17: Chien 10
B18: Chat Loisin | D18: 15
B19: Chat 2
B20: Chat 3
B21: Chat 4
B22: Chat 5

Sheet Janvier
D2: Jours Fériés Suisses | I2: Vacances France Zone A
D3: Vacances Suisses | I3: Vacances France Zone C
B4: =DATE(Info!B$4,1,1) -> 43101
C5: =INDEX({"D";"L";"M";"M";"J";"V";"S"},WEEKDAY(C6)) -> L | D5: =INDEX({"D";"L";"M";"M";"J";"V";"S"},WEEKDAY(D6)) -> M | E5: =INDEX({"D";"L";"M";"M";"J";"V";"S"},WEEKDAY(E6)) -> M | F5: =INDEX({"D";"L";"M";"M";"J";"V";"S"},WEEKDAY(F6)) -> J | G5: =INDEX({"D";"L";"M";"M";"J";"V";"S"},WEEKDAY(G6)) -> V | H5: =INDEX({"D";"L";"M";"M";"J";"V";"S"},WEEKDAY(H6)) -> S | I5: =INDEX({"D";"L";"M";"M";"J";"V";"S"},WEEKDAY(I6)) -> D | J5: =INDEX({"D";"L";"M";"M";"J";"V";"S"},WEEKDAY(J6)) -> L | ... AG5: =INDEX({"D";"L";"M";"M";"J";"V";"S"},WEEKDAY(AG6)) -> M | AH5: Total
C6: =B4 -> 43101 | D6: =C6+1 -> 43102 | E6: =D6+1 -> 43103 | F6: =E6+1 -> 43104 | G6: =F6+1 -> 43105 | H6: =G6+1 -> 43106 | I6: =H6+1 -> 43107 | J6: =I6+1 -> 43108 | K6: =J6+1 -> 43109 | ... AG6: =AF6+1 -> 43131
A9: Matin | B9: Cap et Clem | AH9: =AL9+AL10+AL11 -> 250 | AI9: P | AJ9: =COUNTIF(C9:AG11,"P") -> 0 | AK9: =VLOOKUP(B9,Données!B$7:E25,2,FALSE) -> 16 | AL9: =AJ9*AK9 -> 0
A10: Après-midi | Q10: G | R10: G | S10: G | T10: G | U10: G | X10: G | Y10: G | Z10: G | AA10: G | AB10: G | AI10: G | AJ10: =COUNTIF(C9:AG11,"G") -> 10 | AK10: =VLOOKUP(B9,Données!B$7:E25,4,FALSE) -> 25 | AL10: =AJ10*AK10 -> 250
A11: Soir | AI11: V | AJ11: =COUNTIF(C9:AG11,"V") -> 0 | AK11: =VLOOKUP(B9,Données!B$7:E25,3,FALSE) -> 13 | AL11: =AJ11*AK11 -> 0
A12: Matin | B12: Fripouille | AH12: =AL12+AL13+AL14 -> 176 | AI12: P | AJ12: =COUNTIF(C12:AG14,"P") -> 11 | AK12: =VLOOKUP(B12,Données!B$7:E25,2,FALSE) -> 16 | AL12: =AJ12*AK12 -> 176
A13: Après-midi | Q13: P | R13: P | S13: P | T13: P | U13: P | X13: P | Y13: P | Z13: P | AA13: P | AB13: P | AI13: G | AJ13: =COUNTIF(C12:AG14,"G") -> 0 | AK13: =VLOOKUP(B12,Données!B$7:E28,4,FALSE) -> 23 | AL13: =AJ13*AK13 -> 0
A14: Soir | X14: P | AI14: V | AJ14: =COUNTIF(C12:AG14,"V") -> 0 | AK14: =VLOOKUP(B12,Données!B$7:E28,3,FALSE) -> 12 | AL14: =AJ14*AK14 -> 0
A15: Matin | B15: Rex | AH15: =AL15+AL16+AL17 -> 136 | AI15: P | AJ15: =COUNTIF(C15:AG17,"P") -> 8 | AK15: =VLOOKUP(B15,Données!B$7:E31,2,FALSE) -> 17 | AL15: =AJ15*AK15 -> 136
A16: Après-midi | Q16: P | R16: P | T16: P | U16: P | X16: P | Y16: P | AA16: P | AB16: P | AI16: G | AJ16: =COUNTIF(C15:AG17,"G") -> 0 | AK16: =VLOOKUP(B15,Données!B$7:E31,4,FALSE) -> 19 | AL16: =AJ16*AK16 -> 0
A17: Soir | AI17: V | AJ17: =COUNTIF(C15:AG17,"V") -> 0 | AK17: =VLOOKUP(B15,Données!B$7:E31,3,FALSE) -> 18 | AL17: =AJ17*AK17 -> 0
A18: Matin | B18: Zia | AH18: =AL18+AL19+AL20 -> 208 | AI18: P | AJ18: =COUNTIF(C18:AG20,"P") -> 9 | AK18: =VLOOKUP(B18,Données!B$7:E31,2,FALSE) -> 17 | AL18: =AJ18*AK18 -> 153
A19: Après-midi | Q19: P | R19: V | S19: P | T19: P | U19: P | X19: P | Y19: P | Z19: P | AA19: P | AB19: P | AI19: G | AJ19: =COUNTIF(C18:AG20,"G") -> 0 | AK19: =VLOOKUP(B18,Données!B$7:E34,4,FALSE) -> 0 | AL19: =AJ19*AK19 -> 0
A20: Soir | Q20: V | R20: V | S20: V | T20: V | U20: V | X20: V | Y20: V | Z20: V | AA20: V | AB20: V | AI20: V | AJ20: =COUNTIF(C18:AG20,"V") -> 11 | AK20: =VLOOKUP(B18,Données!B$7:E34,3,FALSE) -> 5 | AL20: =AJ20*AK20 -> 55
A21: Matin | B21: Fox | Q21: P | R21: P | AH21: =AL21+AL22+AL23 -> 276 | AI21: P | AJ21: =COUNTIF(C21:AG23,"P") -> 2 | AK21: =VLOOKUP(B21,Données!B$7:E37,2,FALSE) -> 17 | AL21: =AJ21*AK21 -> 34
A22: Après-midi | S22: g | U22: G | V22: G | W22: G | X22: G | Y22: G | Z22: G | AA22: G | AB22: G | AC22: G | AI22: G | AJ22: =COUNTIF(C21:AG23,"G") -> 10 | AK22: =VLOOKUP(B21,Données!B$7:E37,4,FALSE) -> 20 | AL22: =AJ22*AK22 -> 200
A23: Soir | R23: V | U23: V | AC23: v | AI23: V | AJ23: =COUNTIF(C21:AG23,"V") -> 3 | AK23: =VLOOKUP(B21,Données!B$7:E37,3,FALSE) -> 14 | AL23: =AJ23*AK23 -> 42
A24: Matin | B24: Looky | AH24: =AL24+AL25+AL26 -> 13 | AI24: P | AJ24: =COUNTIF(C24:AG26,"P") -> 0 | AK24: =VLOOKUP(B24,Données!B$7:E38,2,FALSE) -> 0 | AL24: =AJ24*AK24 -> 0
A25: Après-midi | Z25: G | AI25: G | AJ25: =COUNTIF(C24:AG26,"G") -> 1 | AK25: =VLOOKUP(B24,Données!B$7:E39,4,FALSE) -> 13 | AL25: =AJ25*AK25 -> 13
A26: Soir | AI26: V | AJ26: =COUNTIF(C24:AG26,"V") -> 0 | AK26: =VLOOKUP(B$24,Données!B$7:E40,3,FALSE) -> 0 | AL26: =AJ26*AK26 -> 0
A27: Matin | B27: Chien 7 | AH27: =AL27+AL28+AL29 -> 0 | AI27: P | AJ27: =COUNTIF(C27:AG29,"P") -> 0 | AK27: =VLOOKUP(B27,Données!B$7:E40,2,FALSE) -> 0 | AL27: =AJ27*AK27 -> 0
A28: Après-midi | AI28: G | AJ28: =COUNTIF(C27:AG29,"G") -> 0 | AK28: =VLOOKUP(B$27,Données!B$7:E42,4,FALSE) -> 0 | AL28: =AJ28*AK28 -> 0
A29: Soir | AI29: V | AJ29: =COUNTIF(C27:AG29,"V") -> 0 | AK29: =VLOOKUP(B$27,Données!B$7:E43,3,FALSE) -> 0 | AL29: =AJ29*AK29 -> 0
A30: Matin | B30: Chien 8 | AH30: =AL30+AL31+AL32 -> 0 | AI30: P | AJ30: =COUNTIF(C30:AG32,"P") -> 0 | AK30: =VLOOKUP(B30,Données!B$7:E44,2,FALSE) -> 0 | AL30: =AJ30*AK30 -> 0
A31: Après-midi | AI31: G | AJ31: =COUNTIF(C30:AG32,"G") -> 0 | AK31: =VLOOKUP(B30,Données!B$7:E45,4,FALSE) -> 0 | AL31: =AJ31*AK31 -> 0
A32: Soir | AI32: V | AJ32: =COUNTIF(C30:AG32,"V") -> 0 | AK32: =VLOOKUP(B30,Données!B$7:E46,3,FALSE) -> 0 | AL32: =AJ32*AK32 -> 0
A33: Matin | B33: Chien 9 | AH33: =AL33+AL34+AL35 -> 0 | AI33: P | AJ33: =COUNTIF(C33:AG35,"P") -> 0 | AK33: =VLOOKUP(B33,Données!B$7:E47,2,FALSE) -> 0 | AL33: =AJ33*AK33 -> 0
A34: Après-midi | AI34: G | AJ34: =COUNTIF(C33:AG35,"G") -> 0 | AK34: =VLOOKUP(B33,Données!B$7:E48,4,FALSE) -> 0 | AL34: =AJ34*AK34 -> 0
A35: Soir | AI35: V | AJ35: =COUNTIF(C33:AG35,"V") -> 0 | AK35: =VLOOKUP(B33,Données!B$7:E49,3,FALSE) -> 0 | AL35: =AJ35*AK35 -> 0
A36: Matin | B36: Chien 10 | AH36: =AL36+AL37+AL38 -> 0 | AI36: P | AJ36: =COUNTIF(C36:AG38,"P") -> 0 | AK36: =VLOOKUP(B36,Données!B$7:E50,2,FALSE) -> 0 | AL36: =AJ36*AK36 -> 0
A37: Après-midi | AI37: G | AJ37: =COUNTIF(C36:AG38,"G") -> 0 | AK37: =VLOOKUP(B36,Données!B$7:E51,4,FALSE) -> 0 | AL37: =AJ37*AK37 -> 0
A38: Soir | AI38: V | AJ38: =COUNTIF(C36:AG38,"V") -> 0 | AK38: =VLOOKUP(B36,Données!B$7:E52,3,FALSE) -> 0 | AL38: =AJ38*AK38 -> 0
A39: Matin | B39: Chat Loisin | AH39: =AL39+AL40+AL41 -> 75 | AI39: P | AJ39: =COUNTIF(C39:AG41,"P") -> 0 | AK39: =VLOOKUP(B39,Données!B$7:E53,2,FALSE) -> 0 | AL39: =AJ39*AK39 -> 0
A40: Après-midi | X40: V | Y40: V | Z40: V | AA40: V | AB40: V | AI40: G | AJ40: =COUNTIF(C39:AG41,"G") -> 0 | AK40: =VLOOKUP(B39,Données!B$7:E54,4,FALSE) -> 0 | AL40: =AJ40*AK40 -> 0
A41: Soir | AI41: V | AJ41: =COUNTIF(C39:AG41,"V") -> 5 | AK41: =VLOOKUP(B39,Données!B$7:E55,3,FALSE) -> 15 | AL41: =AJ41*AK41 -> 75
A42: Matin | B42: Chat 2 | AH42: =AL42+AL43+AL44 -> 0 | AI42: P | AJ42: =COUNTIF(C42:AG44,"P") -> 0 | AK42: =VLOOKUP(B42,Données!B$7:E56,2,FALSE) -> 0 | AL42: =AJ42*AK42 -> 0
A43: Après-midi | AI43: G | AJ43: =COUNTIF(C42:AG44,"G") -> 0 | AK43: =VLOOKUP(B42,Données!B$7:E57,4,FALSE) -> 0 | AL43: =AJ43*AK43 -> 0
...

Sheet Février
D2: Jours Fériés Suisses | I2: Vacances France Zone A
D3: Vacances Suisses | I3: Vacances France Zone C
B4: =DATE(Info!B$4,2,1) -> 43132
C5: =INDEX({"D";"L";"M";"M";"J";"V";"S"},WEEKDAY(C6)) -> J | D5: =INDEX({"D";"L";"M";"M";"J";"V";"S"},WEEKDAY(D6)) -> V | E5: =INDEX({"D";"L";"M";"M";"J";"V";"S"},WEEKDAY(E6)) -> S | F5: =INDEX({"D";"L";"M";"M";"J";"V";"S"},WEEKDAY(F6)) -> D | G5: =INDEX({"D";"L";"M";"M";"J";"V";"S"},WEEKDAY(G6)) -> L | H5: =INDEX({"D";"L";"M";"M";"J";"V";"S"},WEEKDAY(H6)) -> M | I5: =INDEX({"D";"L";"M";"M";"J";"V";"S"},WEEKDAY(I6)) -> M | J5: =INDEX({"D";"L";"M";"M";"J";"V";"S"},WEEKDAY(J6)) -> J | ... AG5: =INDEX({"D";"L";"M";"M";"J";"V";"S"},WEEKDAY(AG6)) -> S | AH5: Total
C6: =B4 -> 43132 | D6: =C6+1 -> 43133 | E6: =D6+1 -> 43134 | F6: =E6+1 -> 43135 | G6: =F6+1 -> 43136 | H6: =G6+1 -> 43137 | I6: =H6+1 -> 43138 | J6: =I6+1 -> 43139 | K6: =J6+1 -> 43140 | ... AG6: =AF6+1 -> 43162
A9: Matin | B9: Cap et Clem | AH9: =AL9+AL10+AL11 -> 0 | AI9: P | AJ9: =COUNTIF(C9:AG11,"P") -> 0 | AK9: =VLOOKUP(B9,Données!B$7:E25,2,FALSE) -> 16 | AL9: =AJ9*AK9 -> 0
A10: Après-midi | AI10: G | AJ10: =COUNTIF(C9:AG11,"G") -> 0 | AK10: =VLOOKUP(B9,Données!B$7:E25,4,FALSE) -> 25 | AL10: =AJ10*AK10 -> 0
A11: Soir | AI11: V | AJ11: =COUNTIF(C9:AG11,"V") -> 0 | AK11: =VLOOKUP(B9,Données!B$7:E25,3,FALSE) -> 13 | AL11: =AJ11*AK11 -> 0
A12: Matin | B12: Fox | AH12: =AL12+AL13+AL14 -> 0 | AI12: P | AJ12: =COUNTIF(C12:AG14,"P") -> 0 | AK12: =VLOOKUP(B12,Données!B$7:E25,2,FALSE) -> 17 | AL12: =AJ12*AK12 -> 0
A13: Après-midi | AI13: G | AJ13: =COUNTIF(C12:AG14,"G") -> 0 | AK13: =VLOOKUP(B12,Données!B$7:E28,3,FALSE) -> 14 | AL13: =AJ13*AK13 -> 0
A14: Soir | AI14: V | AJ14: =COUNTIF(C12:AG14,"V") -> 0 | AK14: =VLOOKUP(B12,Données!B$7:E28,4,FALSE) -> 20 | AL14: =AJ14*AK14 -> 0
A15: Matin | B15: Fripouille | AH15: =AL12+AL13+AL14 -> 0 | AI15: P | AJ15: =COUNTIF(C15:AG17,"P") -> 0 | AK15: =VLOOKUP(B15,Données!B$7:E31,2,FALSE) -> 16 | AL15: =AJ15*AK15 -> 0
A16: Après-midi | AI16: G | AJ16: =COUNTIF(C15:AG17,"G") -> 0 | AK16: =VLOOKUP(B15,Données!B$7:E31,3,FALSE) -> 12 | AL16: =AJ16*AK16 -> 0
A17: Soir | AI17: V | AJ17: =COUNTIF(C15:AG17,"V") -> 0 | AK17: =VLOOKUP(B15,Données!B$7:E31,4,FALSE) -> 23 | AL17: =AJ17*AK17 -> 0
A18: Matin | B18: Rex | AH18: =AL12+AL13+AL14 -> 0 | AI18: P | AJ18: =COUNTIF(C18:AG20,"P") -> 0 | AK18: =VLOOKUP(B18,Données!B$7:E31,2,FALSE) -> 17 | AL18: =AJ18*AK18 -> 0
A19: Après-midi | AI19: G | AJ19: =COUNTIF(C18:AG20,"G") -> 0 | AK19: =VLOOKUP(B18,Données!B$7:E34,3,FALSE) -> 18 | AL19: =AJ19*AK19 -> 0
A20: Soir | AI20: V | AJ20: =COUNTIF(C18:AG20,"V") -> 0 | AK20: =VLOOKUP(B18,Données!B$7:E34,4,FALSE) -> 19 | AL20: =AJ20*AK20 -> 0
A21: Matin | B21: Zia | AH21: =AL15+AL16+AL18 -> 0 | AI21: P | AJ21: =COUNTIF(C27:AG29,"P") -> 0 | AK21: =VLOOKUP(B21,Données!B$7:E37,2,FALSE) -> 17 | AL21: =AJ21*AK21 -> 0
A22: Après-midi | AI22: G | AJ22: =COUNTIF(C27:AG29,"G") -> 0 | AK22: =VLOOKUP(B21,Données!B$7:E37,3,FALSE) -> 5 | AL22: =AJ22*AK22 -> 0
A23: Soir | AI23: V | AJ23: =COUNTIF(C27:AG29,"V") -> 0 | AK23: =VLOOKUP(B21,Données!B$7:E37,4,FALSE) -> 0 | AL23: =AJ23*AK23 -> 0
A24: Matin | B24: Aron | AH24: =AL19+AL20+AL21 -> 0 | AI24: P | AJ24: =COUNTIF(C24:AG26,"P") -> 0 | AK24: =VLOOKUP(B24,Données!B$7:E38,2,FALSE) -> 17 | AL24: =AJ24*AK24 -> 0
A25: Après-midi | AI25: G | AJ25: =COUNTIF(C24:AG26,"G") -> 0 | AK25: =VLOOKUP(B24,Données!B$7:E39,3,FALSE) -> 0 | AL25: =AJ25*AK25 -> 0
A26: Soir | AI26: V | AJ26: =COUNTIF(C24:AG26,"V") -> 0 | AK26: =VLOOKUP(B$24,Données!B$7:E40,4,FALSE) -> 0 | AL26: =AJ26*AK26 -> 0
A27: Matin | B27: Chien 7 | AH27: =AL21+AL22+AL23 -> 0 | AI27: P | AJ27: =COUNTIF(C27:AG29,"P") -> 0 | AK27: =VLOOKUP(B$27,Données!B$7:E41,2,FALSE) -> 0 | AL27: =AJ27*AK27 -> 0
A28: Après-midi | AI28: G | AJ28: =COUNTIF(C27:AG29,"G") -> 0 | AK28: =VLOOKUP(B$27,Données!B$7:E42,3,FALSE) -> 0 | AL28: =AJ28*AK28 -> 0
A29: Soir | AI29: V | AJ29: =COUNTIF(C27:AG29,"V") -> 0 | AK29: =VLOOKUP(B$27,Données!B$7:E43,4,FALSE) -> 0 | AL29: =AJ29*AK29 -> 0
A30: Matin | B30: Chien 8 | AH30: =AL24+AL25+AL26 -> 0 | AI30: P | AJ30: =COUNTIF(C30:AG32,"P") -> 0 | AK30: =VLOOKUP(B$27,Données!B$7:E44,2,FALSE) -> 0 | AL30: =AJ30*AK30 -> 0
A31: Après-midi | AI31: G | AJ31: =COUNTIF(C30:AG32,"G") -> 0 | AK31: =VLOOKUP(B$27,Données!B$7:E45,3,FALSE) -> 0 | AL31: =AJ31*AK31 -> 0
A32: Soir | AI32: V | AJ32: =COUNTIF(C30:AG32,"V") -> 0 | AK32: =VLOOKUP(B$27,Données!B$7:E46,4,FALSE) -> 0 | AL32: =AJ32*AK32 -> 0
A33: Matin | B33: Chien 9 | AH33: =AL27+AL28+AL29 -> 0 | AI33: P | AJ33: =COUNTIF(C33:AG35,"P") -> 0 | AK33: =VLOOKUP(B$27,Données!B$7:E47,2,FALSE) -> 0 | AL33: =AJ33*AK33 -> 0
A34: Après-midi | AI34: G | AJ34: =COUNTIF(C33:AG35,"G") -> 0 | AK34: =VLOOKUP(B$27,Données!B$7:E48,3,FALSE) -> 0 | AL34: =AJ34*AK34 -> 0
A35: Soir | AI35: V | AJ35: =COUNTIF(C33:AG35,"V") -> 0 | AK35: =VLOOKUP(B$27,Données!B$7:E49,4,FALSE) -> 0 | AL35: =AJ35*AK35 -> 0
A36: Matin | B36: Chien 10 | AH36: =AL30+AL31+AL32 -> 0 | AI36: P | AJ36: =COUNTIF(C36:AG38,"P") -> 0 | AK36: =VLOOKUP(B$27,Données!B$7:E50,2,FALSE) -> 0 | AL36: =AJ36*AK36 -> 0
A37: Après-midi | AI37: G | AJ37: =COUNTIF(C36:AG38,"G") -> 0 | AK37: =VLOOKUP(B$27,Données!B$7:E51,3,FALSE) -> 0 | AL37: =AJ37*AK37 -> 0
A38: Soir | AI38: V | AJ38: =COUNTIF(C36:AG38,"V") -> 0 | AK38: =VLOOKUP(B$27,Données!B$7:E52,4,FALSE) -> 0 | AL38: =AJ38*AK38 -> 0
A39: Matin | B39: Chat Loisin | AH39: =AL33+AL34+AL35 -> 0 | AI39: P | AJ39: =COUNTIF(C39:AG41,"P") -> 0 | AK39: =VLOOKUP(B$27,Données!B$7:E53,2,FALSE) -> 0 | AL39: =AJ39*AK39 -> 0
A40: Après-midi | AI40: G | AJ40: =COUNTIF(C39:AG41,"G") -> 0 | AK40: =VLOOKUP(B$27,Données!B$7:E54,3,FALSE) -> 0 | AL40: =AJ40*AK40 -> 0
A41: Soir | AI41: V | AJ41: =COUNTIF(C39:AG41,"V") -> 0 | AK41: =VLOOKUP(B$27,Données!B$7:E55,4,FALSE) -> 0 | AL41: =AJ41*AK41 -> 0
A42: Matin | B42: Chat 2 | AH42: =AL36+AL37+AL38 -> 0 | AI42: P | AJ42: =COUNTIF(C42:AG44,"P") -> 0 | AK42: =VLOOKUP(B$27,Données!B$7:E56,2,FALSE) -> 0 | AL42: =AJ42*AK42 -> 0
A43: Après-midi | AI43: G | AJ43: =COUNTIF(C42:AG44,"G") -> 0 | AK43: =VLOOKUP(B$27,Données!B$7:E57,3,FALSE) -> 0 | AL43: =AJ43*AK43 -> 0
...

Sheet Mars
D2: Jours Fériés Suisses | I2: Vacances France Zone A
D3: Vacances Suisses | I3: Vacances France Zone C
B4: =DATE(Info!B$4,3,1) -> 43160
C5: =INDEX({"D";"L";"M";"M";"J";"V";"S"},WEEKDAY(C6)) -> J | D5: =INDEX({"D";"L";"M";"M";"J";"V";"S"},WEEKDAY(D6)) -> V | E5: =INDEX({"D";"L";"M";"M";"J";"V";"S"},WEEKDAY(E6)) -> S | F5: =INDEX({"D";"L";"M";"M";"J";"V";"S"},WEEKDAY(F6)) -> D | G5: =INDEX({"D";"L";"M";"M";"J";"V";"S"},WEEKDAY(G6)) -> L | H5: =INDEX({"D";"L";"M";"M";"J";"V";"S"},WEEKDAY(H6)) -> M | I5: =INDEX({"D";"L";"M";"M";"J";"V";"S"},WEEKDAY(I6)) -> M | J5: =INDEX({"D";"L";"M";"M";"J";"V";"S"},WEEKDAY(J6)) -> J | ... AG5: =INDEX({"D";"L";"M";"M";"J";"V";"S"},WEEKDAY(AG6)) -> S | AH5: Total
C6: =B4 -> 43160 | D6: =C6+1 -> 43161 | E6: =D6+1 -> 43162 | F6: =E6+1 -> 43163 | G6: =F6+1 -> 43164 | H6: =G6+1 -> 43165 | I6: =H6+1 -> 43166 | J6: =I6+1 -> 43167 | K6: =J6+1 -> 43168 | ... AG6: =AF6+1 -> 43190
A9: Matin | B9: Cap et Clem | AH9: =AL9+AL10+AL11 -> 0 | AI9: P | AJ9: =COUNTIF(C9:AG11,"P") -> 0 | AK9: =VLOOKUP(B9,Données!B$7:E25,2,FALSE) -> 16 | AL9: =AJ9*AK9 -> 0
A10: Après-midi | AI10: G | AJ10: =COUNTIF(C9:AG11,"G") -> 0 | AK10: =VLOOKUP(B9,Données!B$7:E25,4,FALSE) -> 25 | AL10: =AJ10*AK10 -> 0
A11: Soir | AI11: V | AJ11: =COUNTIF(C9:AG11,"V") -> 0 | AK11: =VLOOKUP(B9,Données!B$7:E25,3,FALSE) -> 13 | AL11: =AJ11*AK11 -> 0
A12: Matin | B12: Fox | AH12: =AL12+AL13+AL14 -> 0 | AI12: P | AJ12: =COUNTIF(C12:AG14,"P") -> 0 | AK12: =VLOOKUP(B12,Données!B$7:E25,2,FALSE) -> 17 | AL12: =AJ12*AK12 -> 0
A13: Après-midi | AI13: G | AJ13: =COUNTIF(C12:AG14,"G") -> 0 | AK13: =VLOOKUP(B12,Données!B$7:E28,3,FALSE) -> 14 | AL13: =AJ13*AK13 -> 0
A14: Soir | AI14: V | AJ14: =COUNTIF(C12:AG14,"V") -> 0 | AK14: =VLOOKUP(B12,Données!B$7:E28,4,FALSE) -> 20 | AL14: =AJ14*AK14 -> 0
A15: Matin | B15: Fripouille | AH15: =AL12+AL13+AL14 -> 0 | AI15: P | AJ15: =COUNTIF(C15:AG17,"P") -> 0 | AK15: =VLOOKUP(B15,Données!B$7:E31,2,FALSE) -> 16 | AL15: =AJ15*AK15 -> 0
A16: Après-midi | AI16: G | AJ16: =COUNTIF(C15:AG17,"G") -> 0 | AK16: =VLOOKUP(B15,Données!B$7:E31,3,FALSE) -> 12 | AL16: =AJ16*AK16 -> 0
A17: Soir | AI17: V | AJ17: =COUNTIF(C15:AG17,"V") -> 0 | AK17: =VLOOKUP(B15,Données!B$7:E31,4,FALSE) -> 23 | AL17: =AJ17*AK17 -> 0
A18: Matin | B18: Rex | AH18: =AL12+AL13+AL14 -> 0 | AI18: P | AJ18: =COUNTIF(C18:AG20,"P") -> 0 | AK18: =VLOOKUP(B18,Données!B$7:E31,2,FALSE) -> 17 | AL18: =AJ18*AK18 -> 0
A19: Après-midi | AI19: G | AJ19: =COUNTIF(C18:AG20,"G") -> 0 | AK19: =VLOOKUP(B18,Données!B$7:E34,3,FALSE) -> 18 | AL19: =AJ19*AK19 -> 0
A20: Soir | AI20: V | AJ20: =COUNTIF(C18:AG20,"V") -> 0 | AK20: =VLOOKUP(B18,Données!B$7:E34,4,FALSE) -> 19 | AL20: =AJ20*AK20 -> 0
A21: Matin | B21: Zia | AH21: =AL15+AL16+AL18 -> 0 | AI21: P | AJ21: =COUNTIF(C27:AG29,"P") -> 0 | AK21: =VLOOKUP(B21,Données!B$7:E37,2,FALSE) -> 17 | AL21: =AJ21*AK21 -> 0
A22: Après-midi | AI22: G | AJ22: =COUNTIF(C27:AG29,"G") -> 0 | AK22: =VLOOKUP(B21,Données!B$7:E37,3,FALSE) -> 5 | AL22: =AJ22*AK22 -> 0
A23: Soir | AI23: V | AJ23: =COUNTIF(C27:AG29,"V") -> 0 | AK23: =VLOOKUP(B21,Données!B$7:E37,4,FALSE) -> 0 | AL23: =AJ23*AK23 -> 0
A24: Matin | B24: Aron | AH24: =AL19+AL20+AL21 -> 0 | AI24: P | AJ24: =COUNTIF(C24:AG26,"P") -> 0 | AK24: =VLOOKUP(B24,Données!B$7:E38,2,FALSE) -> 17 | AL24: =AJ24*AK24 -> 0
A25: Après-midi | AI25: G | AJ25: =COUNTIF(C24:AG26,"G") -> 0 | AK25: =VLOOKUP(B24,Données!B$7:E39,3,FALSE) -> 0 | AL25: =AJ25*AK25 -> 0
A26: Soir | AI26: V | AJ26: =COUNTIF(C24:AG26,"V") -> 0 | AK26: =VLOOKUP(B$24,Données!B$7:E40,4,FALSE) -> 0 | AL26: =AJ26*AK26 -> 0
A27: Matin | B27: Chien 7 | AH27: =AL21+AL22+AL23 -> 0 | AI27: P | AJ27: =COUNTIF(C27:AG29,"P") -> 0 | AK27: =VLOOKUP(B$27,Données!B$7:E41,2,FALSE) -> 0 | AL27: =AJ27*AK27 -> 0
A28: Après-midi | AI28: G | AJ28: =COUNTIF(C27:AG29,"G") -> 0 | AK28: =VLOOKUP(B$27,Données!B$7:E42,3,FALSE) -> 0 | AL28: =AJ28*AK28 -> 0
A29: Soir | AI29: V | AJ29: =COUNTIF(C27:AG29,"V") -> 0 | AK29: =VLOOKUP(B$27,Données!B$7:E43,4,FALSE) -> 0 | AL29: =AJ29*AK29 -> 0
A30: Matin | B30: Chien 8 | AH30: =AL24+AL25+AL26 -> 0 | AI30: P | AJ30: =COUNTIF(C30:AG32,"P") -> 0 | AK30: =VLOOKUP(B$27,Données!B$7:E44,2,FALSE) -> 0 | AL30: =AJ30*AK30 -> 0
A31: Après-midi | AI31: G | AJ31: =COUNTIF(C30:AG32,"G") -> 0 | AK31: =VLOOKUP(B$27,Données!B$7:E45,3,FALSE) -> 0 | AL31: =AJ31*AK31 -> 0
A32: Soir | AI32: V | AJ32: =COUNTIF(C30:AG32,"V") -> 0 | AK32: =VLOOKUP(B$27,Données!B$7:E46,4,FALSE) -> 0 | AL32: =AJ32*AK32 -> 0
A33: Matin | B33: Chien 9 | AH33: =AL27+AL28+AL29 -> 0 | AI33: P | AJ33: =COUNTIF(C33:AG35,"P") -> 0 | AK33: =VLOOKUP(B$27,Données!B$7:E47,2,FALSE) -> 0 | AL33: =AJ33*AK33 -> 0
A34: Après-midi | AI34: G | AJ34: =COUNTIF(C33:AG35,"G") -> 0 | AK34: =VLOOKUP(B$27,Données!B$7:E48,3,FALSE) -> 0 | AL34: =AJ34*AK34 -> 0
A35: Soir | AI35: V | AJ35: =COUNTIF(C33:AG35,"V") -> 0 | AK35: =VLOOKUP(B$27,Données!B$7:E49,4,FALSE) -> 0 | AL35: =AJ35*AK35 -> 0
A36: Matin | B36: Chien 10 | AH36: =AL30+AL31+AL32 -> 0 | AI36: P | AJ36: =COUNTIF(C36:AG38,"P") -> 0 | AK36: =VLOOKUP(B$27,Données!B$7:E50,2,FALSE) -> 0 | AL36: =AJ36*AK36 -> 0
A37: Après-midi | AI37: G | AJ37: =COUNTIF(C36:AG38,"G") -> 0 | AK37: =VLOOKUP(B$27,Données!B$7:E51,3,FALSE) -> 0 | AL37: =AJ37*AK37 -> 0
A38: Soir | AI38: V | AJ38: =COUNTIF(C36:AG38,"V") -> 0 | AK38: =VLOOKUP(B$27,Données!B$7:E52,4,FALSE) -> 0 | AL38: =AJ38*AK38 -> 0
A39: Matin | B39: Chat Loisin | AH39: =AL33+AL34+AL35 -> 0 | AI39: P | AJ39: =COUNTIF(C39:AG41,"P") -> 0 | AK39: =VLOOKUP(B$27,Données!B$7:E53,2,FALSE) -> 0 | AL39: =AJ39*AK39 -> 0
A40: Après-midi | AI40: G | AJ40: =COUNTIF(C39:AG41,"G") -> 0 | AK40: =VLOOKUP(B$27,Données!B$7:E54,3,FALSE) -> 0 | AL40: =AJ40*AK40 -> 0
A41: Soir | AI41: V | AJ41: =COUNTIF(C39:AG41,"V") -> 0 | AK41: =VLOOKUP(B$27,Données!B$7:E55,4,FALSE) -> 0 | AL41: =AJ41*AK41 -> 0
A42: Matin | B42: Chat 2 | AH42: =AL36+AL37+AL38 -> 0 | AI42: P | AJ42: =COUNTIF(C42:AG44,"P") -> 0 | AK42: =VLOOKUP(B$27,Données!B$7:E56,2,FALSE) -> 0 | AL42: =AJ42*AK42 -> 0
A43: Après-midi | AI43: G | AJ43: =COUNTIF(C42:AG44,"G") -> 0 | AK43: =VLOOKUP(B$27,Données!B$7:E57,3,FALSE) -> 0 | AL43: =AJ43*AK43 -> 0
...

Sheet Avril
D2: Jours Fériés Suisses | I2: Vacances France Zone A
D3: Vacances Suisses | I3: Vacances France Zone C
B4: =DATE(Info!B$4,4,1) -> 43191
C5: =INDEX({"D";"L";"M";"M";"J";"V";"S"},WEEKDAY(C6)) -> D | D5: =INDEX({"D";"L";"M";"M";"J";"V";"S"},WEEKDAY(D6)) -> L | E5: =INDEX({"D";"L";"M";"M";"J";"V";"S"},WEEKDAY(E6)) -> M | F5: =INDEX({"D";"L";"M";"M";"J";"V";"S"},WEEKDAY(F6)) -> M | G5: =INDEX({"D";"L";"M";"M";"J";"V";"S"},WEEKDAY(G6)) -> J | H5: =INDEX({"D";"L";"M";"M";"J";"V";"S"},WEEKDAY(H6)) -> V | I5: =INDEX({"D";"L";"M";"M";"J";"V";"S"},WEEKDAY(I6)) -> S | J5: =INDEX({"D";"L";"M";"M";"J";"V";"S"},WEEKDAY(J6)) -> D | ... AG5: =INDEX({"D";"L";"M";"M";"J";"V";"S"},WEEKDAY(AG6)) -> M | AH5: Total
C6: =B4 -> 43191 | D6: =C6+1 -> 43192 | E6: =D6+1 -> 43193 | F6: =E6+1 -> 43194 | G6: =F6+1 -> 43195 | H6: =G6+1 -> 43196 | I6: =H6+1 -> 43197 | J6: =I6+1 -> 43198 | K6: =J6+1 -> 43199 | ... AG6: =AF6+1 -> 43221
A9: Matin | B9: Cap et Clem | AH9: =AL9+AL10+AL11 -> 0 | AI9: P | AJ9: =COUNTIF(C9:AG11,"P") -> 0 | AK9: =VLOOKUP(B9,Données!B$7:E25,2,FALSE) -> 16 | AL9: =AJ9*AK9 -> 0
A10: Après-midi | AI10: G | AJ10: =COUNTIF(C9:AG11,"G") -> 0 | AK10: =VLOOKUP(B9,Données!B$7:E25,4,FALSE) -> 25 | AL10: =AJ10*AK10 -> 0
A11: Soir | AI11: V | AJ11: =COUNTIF(C9:AG11,"V") -> 0 | AK11: =VLOOKUP(B9,Données!B$7:E25,3,FALSE) -> 13 | AL11: =AJ11*AK11 -> 0
A12: Matin | B12: Fox | AH12: =AL12+AL13+AL14 -> 0 | AI12: P | AJ12: =COUNTIF(C12:AG14,"P") -> 0 | AK12: =VLOOKUP(B12,Données!B$7:E25,2,FALSE) -> 17 | AL12: =AJ12*AK12 -> 0
A13: Après-midi | AI13: G | AJ13: =COUNTIF(C12:AG14,"G") -> 0 | AK13: =VLOOKUP(B12,Données!B$7:E28,3,FALSE) -> 14 | AL13: =AJ13*AK13 -> 0
A14: Soir | AI14: V | AJ14: =COUNTIF(C12:AG14,"V") -> 0 | AK14: =VLOOKUP(B12,Données!B$7:E28,4,FALSE) -> 20 | AL14: =AJ14*AK14 -> 0
A15: Matin | B15: Fripouille | AH15: =AL12+AL13+AL14 -> 0 | AI15: P | AJ15: =COUNTIF(C15:AG17,"P") -> 0 | AK15: =VLOOKUP(B15,Données!B$7:E31,2,FALSE) -> 16 | AL15: =AJ15*AK15 -> 0
A16: Après-midi | AI16: G | AJ16: =COUNTIF(C15:AG17,"G") -> 0 | AK16: =VLOOKUP(B15,Données!B$7:E31,3,FALSE) -> 12 | AL16: =AJ16*AK16 -> 0
A17: Soir | AI17: V | AJ17: =COUNTIF(C15:AG17,"V") -> 0 | AK17: =VLOOKUP(B15,Données!B$7:E31,4,FALSE) -> 23 | AL17: =AJ17*AK17 -> 0
A18: Matin | B18: Rex | AH18: =AL12+AL13+AL14 -> 0 | AI18: P | AJ18: =COUNTIF(C18:AG20,"P") -> 0 | AK18: =VLOOKUP(B18,Données!B$7:E31,2,FALSE) -> 17 | AL18: =AJ18*AK18 -> 0
A19: Après-midi | AI19: G | AJ19: =COUNTIF(C18:AG20,"G") -> 0 | AK19: =VLOOKUP(B18,Données!B$7:E34,3,FALSE) -> 18 | AL19: =AJ19*AK19 -> 0
A20: Soir | AI20: V | AJ20: =COUNTIF(C18:AG20,"V") -> 0 | AK20: =VLOOKUP(B18,Données!B$7:E34,4,FALSE) -> 19 | AL20: =AJ20*AK20 -> 0
A21: Matin | B21: Zia | AH21: =AL15+AL16+AL18 -> 0 | AI21: P | AJ21: =COUNTIF(C27:AG29,"P") -> 0 | AK21: =VLOOKUP(B21,Données!B$7:E37,2,FALSE) -> 17 | AL21: =AJ21*AK21 -> 0
A22: Après-midi | AI22: G | AJ22: =COUNTIF(C27:AG29,"G") -> 0 | AK22: =VLOOKUP(B21,Données!B$7:E37,3,FALSE) -> 5 | AL22: =AJ22*AK22 -> 0
A23: Soir | AI23: V | AJ23: =COUNTIF(C27:AG29,"V") -> 0 | AK23: =VLOOKUP(B21,Données!B$7:E37,4,FALSE) -> 0 | AL23: =AJ23*AK23 -> 0
A24: Matin | B24: Aron | AH24: =AL19+AL20+AL21 -> 0 | AI24: P | AJ24: =COUNTIF(C24:AG26,"P") -> 0 | AK24: =VLOOKUP(B24,Données!B$7:E38,2,FALSE) -> 17 | AL24: =AJ24*AK24 -> 0
A25: Après-midi | AI25: G | AJ25: =COUNTIF(C24:AG26,"G") -> 0 | AK25: =VLOOKUP(B24,Données!B$7:E39,3,FALSE) -> 0 | AL25: =AJ25*AK25 -> 0
A26: Soir | AI26: V | AJ26: =COUNTIF(C24:AG26,"V") -> 0 | AK26: =VLOOKUP(B$24,Données!B$7:E40,4,FALSE) -> 0 | AL26: =AJ26*AK26 -> 0
A27: Matin | B27: Chien 7 | AH27: =AL21+AL22+AL23 -> 0 | AI27: P | AJ27: =COUNTIF(C27:AG29,"P") -> 0 | AK27: =VLOOKUP(B$27,Données!B$7:E41,2,FALSE) -> 0 | AL27: =AJ27*AK27 -> 0
A28: Après-midi | AI28: G | AJ28: =COUNTIF(C27:AG29,"G") -> 0 | AK28: =VLOOKUP(B$27,Données!B$7:E42,3,FALSE) -> 0 | AL28: =AJ28*AK28 -> 0
A29: Soir | AI29: V | AJ29: =COUNTIF(C27:AG29,"V") -> 0 | AK29: =VLOOKUP(B$27,Données!B$7:E43,4,FALSE) -> 0 | AL29: =AJ29*AK29 -> 0
A30: Matin | B30: Chien 8 | AH30: =AL24+AL25+AL26 -> 0 | AI30: P | AJ30: =COUNTIF(C30:AG32,"P") -> 0 | AK30: =VLOOKUP(B$27,Données!B$7:E44,2,FALSE) -> 0 | AL30: =AJ30*AK30 -> 0
A31: Après-midi | AI31: G | AJ31: =COUNTIF(C30:AG32,"G") -> 0 | AK31: =VLOOKUP(B$27,Données!B$7:E45,3,FALSE) -> 0 | AL31: =AJ31*AK31 -> 0
A32: Soir | AI32: V | AJ32: =COUNTIF(C30:AG32,"V") -> 0 | AK32: =VLOOKUP(B$27,Données!B$7:E46,4,FALSE) -> 0 | AL32: =AJ32*AK32 -> 0
A33: Matin | B33: Chien 9 | AH33: =AL27+AL28+AL29 -> 0 | AI33: P | AJ33: =COUNTIF(C33:AG35,"P") -> 0 | AK33: =VLOOKUP(B$27,Données!B$7:E47,2,FALSE) -> 0 | AL33: =AJ33*AK33 -> 0
A34: Après-midi | AI34: G | AJ34: =COUNTIF(C33:AG35,"G") -> 0 | AK34: =VLOOKUP(B$27,Données!B$7:E48,3,FALSE) -> 0 | AL34: =AJ34*AK34 -> 0
A35: Soir | AI35: V | AJ35: =COUNTIF(C33:AG35,"V") -> 0 | AK35: =VLOOKUP(B$27,Données!B$7:E49,4,FALSE) -> 0 | AL35: =AJ35*AK35 -> 0
A36: Matin | B36: Chien 10 | AH36: =AL30+AL31+AL32 -> 0 | AI36: P | AJ36: =COUNTIF(C36:AG38,"P") -> 0 | AK36: =VLOOKUP(B$27,Données!B$7:E50,2,FALSE) -> 0 | AL36: =AJ36*AK36 -> 0
A37: Après-midi | AI37: G | AJ37: =COUNTIF(C36:AG38,"G") -> 0 | AK37: =VLOOKUP(B$27,Données!B$7:E51,3,FALSE) -> 0 | AL37: =AJ37*AK37 -> 0
A38: Soir | AI38: V | AJ38: =COUNTIF(C36:AG38,"V") -> 0 | AK38: =VLOOKUP(B$27,Données!B$7:E52,4,FALSE) -> 0 | AL38: =AJ38*AK38 -> 0
A39: Matin | B39: Chat Loisin | AH39: =AL33+AL34+AL35 -> 0 | AI39: P | AJ39: =COUNTIF(C39:AG41,"P") -> 0 | AK39: =VLOOKUP(B$27,Données!B$7:E53,2,FALSE) -> 0 | AL39: =AJ39*AK39 -> 0
A40: Après-midi | AI40: G | AJ40: =COUNTIF(C39:AG41,"G") -> 0 | AK40: =VLOOKUP(B$27,Données!B$7:E54,3,FALSE) -> 0 | AL40: =AJ40*AK40 -> 0
A41: Soir | AI41: V | AJ41: =COUNTIF(C39:AG41,"V") -> 0 | AK41: =VLOOKUP(B$27,Données!B$7:E55,4,FALSE) -> 0 | AL41: =AJ41*AK41 -> 0
A42: Matin | B42: Chat 2 | AH42: =AL36+AL37+AL38 -> 0 | AI42: P | AJ42: =COUNTIF(C42:AG44,"P") -> 0 | AK42: =VLOOKUP(B$27,Données!B$7:E56,2,FALSE) -> 0 | AL42: =AJ42*AK42 -> 0
A43: Après-midi | AI43: G | AJ43: =COUNTIF(C42:AG44,"G") -> 0 | AK43: =VLOOKUP(B$27,Données!B$7:E57,3,FALSE) -> 0 | AL43: =AJ43*AK43 -> 0
...

Sheet Mai
D2: Jours Fériés Suisses | I2: Vacances France Zone A
D3: Vacances Suisses | I3: Vacances France Zone C
B4: =DATE(Info!B$4,5,1) -> 43221
C5: =INDEX({"D";"L";"M";"M";"J";"V";"S"},WEEKDAY(C6)) -> M | D5: =INDEX({"D";"L";"M";"M";"J";"V";"S"},WEEKDAY(D6)) -> M | E5: =INDEX({"D";"L";"M";"M";"J";"V";"S"},WEEKDAY(E6)) -> J | F5: =INDEX({"D";"L";"M";"M";"J";"V";"S"},WEEKDAY(F6)) -> V | G5: =INDEX({"D";"L";"M";"M";"J";"V";"S"},WEEKDAY(G6)) -> S | H5: =INDEX({"D";"L";"M";"M";"J";"V";"S"},WEEKDAY(H6)) -> D | I5: =INDEX({"D";"L";"M";"M";"J";"V";"S"},WEEKDAY(I6)) -> L | J5: =INDEX({"D";"L";"M";"M";"J";"V";"S"},WEEKDAY(J6)) -> M | ... AG5: =INDEX({"D";"L";"M";"M";"J";"V";"S"},WEEKDAY(AG6)) -> J | AH5: Total
C6: =B4 -> 43221 | D6: =C6+1 -> 43222 | E6: =D6+1 -> 43223 | F6: =E6+1 -> 43224 | G6: =F6+1 -> 43225 | H6: =G6+1 -> 43226 | I6: =H6+1 -> 43227 | J6: =I6+1 -> 43228 | K6: =J6+1 -> 43229 | ... AG6: =AF6+1 -> 43251
A9: Matin | B9: Cap et Clem | AH9: =AL9+AL10+AL11 -> 0 | AI9: P | AJ9: =COUNTIF(C9:AG11,"P") -> 0 | AK9: =VLOOKUP(B9,Données!B$7:E25,2,FALSE) -> 16 | AL9: =AJ9*AK9 -> 0
A10: Après-midi | AI10: G | AJ10: =COUNTIF(C9:AG11,"G") -> 0 | AK10: =VLOOKUP(B9,Données!B$7:E25,4,FALSE) -> 25 | AL10: =AJ10*AK10 -> 0
A11: Soir | AI11: V | AJ11: =COUNTIF(C9:AG11,"V") -> 0 | AK11: =VLOOKUP(B9,Données!B$7:E25,3,FALSE) -> 13 | AL11: =AJ11*AK11 -> 0
A12: Matin | B12: Fox | AH12: =AL12+AL13+AL14 -> 0 | AI12: P | AJ12: =COUNTIF(C12:AG14,"P") -> 0 | AK12: =VLOOKUP(B12,Données!B$7:E25,2,FALSE) -> 17 | AL12: =AJ12*AK12 -> 0
A13: Après-midi | AI13: G | AJ13: =COUNTIF(C12:AG14,"G") -> 0 | AK13: =VLOOKUP(B12,Données!B$7:E28,3,FALSE) -> 14 | AL13: =AJ13*AK13 -> 0
A14: Soir | AI14: V | AJ14: =COUNTIF(C12:AG14,"V") -> 0 | AK14: =VLOOKUP(B12,Données!B$7:E28,4,FALSE) -> 20 | AL14: =AJ14*AK14 -> 0
A15: Matin | B15: Fripouille | AH15: =AL12+AL13+AL14 -> 0 | AI15: P | AJ15: =COUNTIF(C15:AG17,"P") -> 0 | AK15: =VLOOKUP(B15,Données!B$7:E31,2,FALSE) -> 16 | AL15: =AJ15*AK15 -> 0
A16: Après-midi | AI16: G | AJ16: =COUNTIF(C15:AG17,"G") -> 0 | AK16: =VLOOKUP(B15,Données!B$7:E31,3,FALSE) -> 12 | AL16: =AJ16*AK16 -> 0
A17: Soir | AI17: V | AJ17: =COUNTIF(C15:AG17,"V") -> 0 | AK17: =VLOOKUP(B15,Données!B$7:E31,4,FALSE) -> 23 | AL17: =AJ17*AK17 -> 0
A18: Matin | B18: Rex | AH18: =AL12+AL13+AL14 -> 0 | AI18: P | AJ18: =COUNTIF(C18:AG20,"P") -> 0 | AK18: =VLOOKUP(B18,Données!B$7:E31,2,FALSE) -> 17 | AL18: =AJ18*AK18 -> 0
A19: Après-midi | AI19: G | AJ19: =COUNTIF(C18:AG20,"G") -> 0 | AK19: =VLOOKUP(B18,Données!B$7:E34,3,FALSE) -> 18 | AL19: =AJ19*AK19 -> 0
A20: Soir | AI20: V | AJ20: =COUNTIF(C18:AG20,"V") -> 0 | AK20: =VLOOKUP(B18,Données!B$7:E34,4,FALSE) -> 19 | AL20: =AJ20*AK20 -> 0
A21: Matin | B21: Zia | AH21: =AL15+AL16+AL18 -> 0 | AI21: P | AJ21: =COUNTIF(C27:AG29,"P") -> 0 | AK21: =VLOOKUP(B21,Données!B$7:E37,2,FALSE) -> 17 | AL21: =AJ21*AK21 -> 0
A22: Après-midi | AI22: G | AJ22: =COUNTIF(C27:AG29,"G") -> 0 | AK22: =VLOOKUP(B21,Données!B$7:E37,3,FALSE) -> 5 | AL22: =AJ22*AK22 -> 0
A23: Soir | AI23: V | AJ23: =COUNTIF(C27:AG29,"V") -> 0 | AK23: =VLOOKUP(B21,Données!B$7:E37,4,FALSE) -> 0 | AL23: =AJ23*AK23 -> 0
A24: Matin | B24: Aron | AH24: =AL19+AL20+AL21 -> 0 | AI24: P | AJ24: =COUNTIF(C24:AG26,"P") -> 0 | AK24: =VLOOKUP(B24,Données!B$7:E38,2,FALSE) -> 17 | AL24: =AJ24*AK24 -> 0
A25: Après-midi | AI25: G | AJ25: =COUNTIF(C24:AG26,"G") -> 0 | AK25: =VLOOKUP(B24,Données!B$7:E39,3,FALSE) -> 0 | AL25: =AJ25*AK25 -> 0
A26: Soir | AI26: V | AJ26: =COUNTIF(C24:AG26,"V") -> 0 | AK26: =VLOOKUP(B$24,Données!B$7:E40,4,FALSE) -> 0 | AL26: =AJ26*AK26 -> 0
A27: Matin | B27: Chien 7 | AH27: =AL21+AL22+AL23 -> 0 | AI27: P | AJ27: =COUNTIF(C27:AG29,"P") -> 0 | AK27: =VLOOKUP(B$27,Données!B$7:E41,2,FALSE) -> 0 | AL27: =AJ27*AK27 -> 0
A28: Après-midi | AI28: G | AJ28: =COUNTIF(C27:AG29,"G") -> 0 | AK28: =VLOOKUP(B$27,Données!B$7:E42,3,FALSE) -> 0 | AL28: =AJ28*AK28 -> 0
A29: Soir | AI29: V | AJ29: =COUNTIF(C27:AG29,"V") -> 0 | AK29: =VLOOKUP(B$27,Données!B$7:E43,4,FALSE) -> 0 | AL29: =AJ29*AK29 -> 0
A30: Matin | B30: Chien 8 | AH30: =AL24+AL25+AL26 -> 0 | AI30: P | AJ30: =COUNTIF(C30:AG32,"P") -> 0 | AK30: =VLOOKUP(B$27,Données!B$7:E44,2,FALSE) -> 0 | AL30: =AJ30*AK30 -> 0
A31: Après-midi | AI31: G | AJ31: =COUNTIF(C30:AG32,"G") -> 0 | AK31: =VLOOKUP(B$27,Données!B$7:E45,3,FALSE) -> 0 | AL31: =AJ31*AK31 -> 0
A32: Soir | AI32: V | AJ32: =COUNTIF(C30:AG32,"V") -> 0 | AK32: =VLOOKUP(B$27,Données!B$7:E46,4,FALSE) -> 0 | AL32: =AJ32*AK32 -> 0
A33: Matin | B33: Chien 9 | AH33: =AL27+AL28+AL29 -> 0 | AI33: P | AJ33: =COUNTIF(C33:AG35,"P") -> 0 | AK33: =VLOOKUP(B$27,Données!B$7:E47,2,FALSE) -> 0 | AL33: =AJ33*AK33 -> 0
A34: Après-midi | AI34: G | AJ34: =COUNTIF(C33:AG35,"G") -> 0 | AK34: =VLOOKUP(B$27,Données!B$7:E48,3,FALSE) -> 0 | AL34: =AJ34*AK34 -> 0
A35: Soir | AI35: V | AJ35: =COUNTIF(C33:AG35,"V") -> 0 | AK35: =VLOOKUP(B$27,Données!B$7:E49,4,FALSE) -> 0 | AL35: =AJ35*AK35 -> 0
A36: Matin | B36: Chien 10 | AH36: =AL30+AL31+AL32 -> 0 | AI36: P | AJ36: =COUNTIF(C36:AG38,"P") -> 0 | AK36: =VLOOKUP(B$27,Données!B$7:E50,2,FALSE) -> 0 | AL36: =AJ36*AK36 -> 0
A37: Après-midi | AI37: G | AJ37: =COUNTIF(C36:AG38,"G") -> 0 | AK37: =VLOOKUP(B$27,Données!B$7:E51,3,FALSE) -> 0 | AL37: =AJ37*AK37 -> 0
A38: Soir | AI38: V | AJ38: =COUNTIF(C36:AG38,"V") -> 0 | AK38: =VLOOKUP(B$27,Données!B$7:E52,4,FALSE) -> 0 | AL38: =AJ38*AK38 -> 0
A39: Matin | B39: Chat Loisin | AH39: =AL33+AL34+AL35 -> 0 | AI39: P | AJ39: =COUNTIF(C39:AG41,"P") -> 0 | AK39: =VLOOKUP(B$27,Données!B$7:E53,2,FALSE) -> 0 | AL39: =AJ39*AK39 -> 0
A40: Après-midi | AI40: G | AJ40: =COUNTIF(C39:AG41,"G") -> 0 | AK40: =VLOOKUP(B$27,Données!B$7:E54,3,FALSE) -> 0 | AL40: =AJ40*AK40 -> 0
A41: Soir | AI41: V | AJ41: =COUNTIF(C39:AG41,"V") -> 0 | AK41: =VLOOKUP(B$27,Données!B$7:E55,4,FALSE) -> 0 | AL41: =AJ41*AK41 -> 0
A42: Matin | B42: Chat 2 | AH42: =AL36+AL37+AL38 -> 0 | AI42: P | AJ42: =COUNTIF(C42:AG44,"P") -> 0 | AK42: =VLOOKUP(B$27,Données!B$7:E56,2,FALSE) -> 0 | AL42: =AJ42*AK42 -> 0
A43: Après-midi | AI43: G | AJ43: =COUNTIF(C42:AG44,"G") -> 0 | AK43: =VLOOKUP(B$27,Données!B$7:E57,3,FALSE) -> 0 | AL43: =AJ43*AK43 -> 0
...

Sheet Juin
D2: Jours Fériés Suisses | I2: Vacances France Zone A
D3: Vacances Suisses | I3: Vacances France Zone C
B4: =DATE(Info!B$4,6,1) -> 43252
C5: =INDEX({"D";"L";"M";"M";"J";"V";"S"},WEEKDAY(C6)) -> V | D5: =INDEX({"D";"L";"M";"M";"J";"V";"S"},WEEKDAY(D6)) -> S | E5: =INDEX({"D";"L";"M";"M";"J";"V";"S"},WEEKDAY(E6)) -> D | F5: =INDEX({"D";"L";"M";"M";"J";"V";"S"},WEEKDAY(F6)) -> L | G5: =INDEX({"D";"L";"M";"M";"J";"V";"S"},WEEKDAY(G6)) -> M | H5: =INDEX({"D";"L";"M";"M";"J";"V";"S"},WEEKDAY(H6)) -> M | I5: =INDEX({"D";"L";"M";"M";"J";"V";"S"},WEEKDAY(I6)) -> J | J5: =INDEX({"D";"L";"M";"M";"J";"V";"S"},WEEKDAY(J6)) -> V | ... AG5: =INDEX({"D";"L";"M";"M";"J";"V";"S"},WEEKDAY(AG6)) -> D | AH5: Total
C6: =B4 -> 43252 | D6: =C6+1 -> 43253 | E6: =D6+1 -> 43254 | F6: =E6+1 -> 43255 | G6: =F6+1 -> 43256 | H6: =G6+1 -> 43257 | I6: =H6+1 -> 43258 | J6: =I6+1 -> 43259 | K6: =J6+1 -> 43260 | ... AG6: =AF6+1 -> 43282
A9: Matin | B9: Cap et Clem | AH9: =AL9+AL10+AL11 -> 0 | AI9: P | AJ9: =COUNTIF(C9:AG11,"P") -> 0 | AK9: =VLOOKUP(B9,Données!B$7:E25,2,FALSE) -> 16 | AL9: =AJ9*AK9 -> 0
A10: Après-midi | AI10: G | AJ10: =COUNTIF(C9:AG11,"G") -> 0 | AK10: =VLOOKUP(B9,Données!B$7:E25,4,FALSE) -> 25 | AL10: =AJ10*AK10 -> 0
A11: Soir | AI11: V | AJ11: =COUNTIF(C9:AG11,"V") -> 0 | AK11: =VLOOKUP(B9,Données!B$7:E25,3,FALSE) -> 13 | AL11: =AJ11*AK11 -> 0
A12: Matin | B12: Fox | AH12: =AL12+AL13+AL14 -> 0 | AI12: P | AJ12: =COUNTIF(C12:AG14,"P") -> 0 | AK12: =VLOOKUP(B12,Données!B$7:E25,2,FALSE) -> 17 | AL12: =AJ12*AK12 -> 0
A13: Après-midi | AI13: G | AJ13: =COUNTIF(C12:AG14,"G") -> 0 | AK13: =VLOOKUP(B12,Données!B$7:E28,3,FALSE) -> 14 | AL13: =AJ13*AK13 -> 0
A14: Soir | AI14: V | AJ14: =COUNTIF(C12:AG14,"V") -> 0 | AK14: =VLOOKUP(B12,Données!B$7:E28,4,FALSE) -> 20 | AL14: =AJ14*AK14 -> 0
A15: Matin | B15: Fripouille | AH15: =AL12+AL13+AL14 -> 0 | AI15: P | AJ15: =COUNTIF(C15:AG17,"P") -> 0 | AK15: =VLOOKUP(B15,Données!B$7:E31,2,FALSE) -> 16 | AL15: =AJ15*AK15 -> 0
A16: Après-midi | AI16: G | AJ16: =COUNTIF(C15:AG17,"G") -> 0 | AK16: =VLOOKUP(B15,Données!B$7:E31,3,FALSE) -> 12 | AL16: =AJ16*AK16 -> 0
A17: Soir | AI17: V | AJ17: =COUNTIF(C15:AG17,"V") -> 0 | AK17: =VLOOKUP(B15,Données!B$7:E31,4,FALSE) -> 23 | AL17: =AJ17*AK17 -> 0
A18: Matin | B18: Rex | AH18: =AL12+AL13+AL14 -> 0 | AI18: P | AJ18: =COUNTIF(C18:AG20,"P") -> 0 | AK18: =VLOOKUP(B18,Données!B$7:E31,2,FALSE) -> 17 | AL18: =AJ18*AK18 -> 0
A19: Après-midi | AI19: G | AJ19: =COUNTIF(C18:AG20,"G") -> 0 | AK19: =VLOOKUP(B18,Données!B$7:E34,3,FALSE) -> 18 | AL19: =AJ19*AK19 -> 0
A20: Soir | AI20: V | AJ20: =COUNTIF(C18:AG20,"V") -> 0 | AK20: =VLOOKUP(B18,Données!B$7:E34,4,FALSE) -> 19 | AL20: =AJ20*AK20 -> 0
A21: Matin | B21: Zia | AH21: =AL15+AL16+AL18 -> 0 | AI21: P | AJ21: =COUNTIF(C27:AG29,"P") -> 0 | AK21: =VLOOKUP(B21,Données!B$7:E37,2,FALSE) -> 17 | AL21: =AJ21*AK21 -> 0
A22: Après-midi | AI22: G | AJ22: =COUNTIF(C27:AG29,"G") -> 0 | AK22: =VLOOKUP(B21,Données!B$7:E37,3,FALSE) -> 5 | AL22: =AJ22*AK22 -> 0
A23: Soir | AI23: V | AJ23: =COUNTIF(C27:AG29,"V") -> 0 | AK23: =VLOOKUP(B21,Données!B$7:E37,4,FALSE) -> 0 | AL23: =AJ23*AK23 -> 0
A24: Matin | B24: Aron | AH24: =AL19+AL20+AL21 -> 0 | AI24: P | AJ24: =COUNTIF(C24:AG26,"P") -> 0 | AK24: =VLOOKUP(B24,Données!B$7:E38,2,FALSE) -> 17 | AL24: =AJ24*AK24 -> 0
A25: Après-midi | AI25: G | AJ25: =COUNTIF(C24:AG26,"G") -> 0 | AK25: =VLOOKUP(B24,Données!B$7:E39,3,FALSE) -> 0 | AL25: =AJ25*AK25 -> 0
A26: Soir | AI26: V | AJ26: =COUNTIF(C24:AG26,"V") -> 0 | AK26: =VLOOKUP(B$24,Données!B$7:E40,4,FALSE) -> 0 | AL26: =AJ26*AK26 -> 0
A27: Matin | B27: Chien 7 | AH27: =AL21+AL22+AL23 -> 0 | AI27: P | AJ27: =COUNTIF(C27:AG29,"P") -> 0 | AK27: =VLOOKUP(B$27,Données!B$7:E41,2,FALSE) -> 0 | AL27: =AJ27*AK27 -> 0
A28: Après-midi | AI28: G | AJ28: =COUNTIF(C27:AG29,"G") -> 0 | AK28: =VLOOKUP(B$27,Données!B$7:E42,3,FALSE) -> 0 | AL28: =AJ28*AK28 -> 0
A29: Soir | AI29: V | AJ29: =COUNTIF(C27:AG29,"V") -> 0 | AK29: =VLOOKUP(B$27,Données!B$7:E43,4,FALSE) -> 0 | AL29: =AJ29*AK29 -> 0
A30: Matin | B30: Chien 8 | AH30: =AL24+AL25+AL26 -> 0 | AI30: P | AJ30: =COUNTIF(C30:AG32,"P") -> 0 | AK30: =VLOOKUP(B$27,Données!B$7:E44,2,FALSE) -> 0 | AL30: =AJ30*AK30 -> 0
A31: Après-midi | AI31: G | AJ31: =COUNTIF(C30:AG32,"G") -> 0 | AK31: =VLOOKUP(B$27,Données!B$7:E45,3,FALSE) -> 0 | AL31: =AJ31*AK31 -> 0
A32: Soir | AI32: V | AJ32: =COUNTIF(C30:AG32,"V") -> 0 | AK32: =VLOOKUP(B$27,Données!B$7:E46,4,FALSE) -> 0 | AL32: =AJ32*AK32 -> 0
A33: Matin | B33: Chien 9 | AH33: =AL27+AL28+AL29 -> 0 | AI33: P | AJ33: =COUNTIF(C33:AG35,"P") -> 0 | AK33: =VLOOKUP(B$27,Données!B$7:E47,2,FALSE) -> 0 | AL33: =AJ33*AK33 -> 0
A34: Après-midi | AI34: G | AJ34: =COUNTIF(C33:AG35,"G") -> 0 | AK34: =VLOOKUP(B$27,Données!B$7:E48,3,FALSE) -> 0 | AL34: =AJ34*AK34 -> 0
A35: Soir | AI35: V | AJ35: =COUNTIF(C33:AG35,"V") -> 0 | AK35: =VLOOKUP(B$27,Données!B$7:E49,4,FALSE) -> 0 | AL35: =AJ35*AK35 -> 0
A36: Matin | B36: Chien 10 | AH36: =AL30+AL31+AL32 -> 0 | AI36: P | AJ36: =COUNTIF(C36:AG38,"P") -> 0 | AK36: =VLOOKUP(B$27,Données!B$7:E50,2,FALSE) -> 0 | AL36: =AJ36*AK36 -> 0
A37: Après-midi | AI37: G | AJ37: =COUNTIF(C36:AG38,"G") -> 0 | AK37: =VLOOKUP(B$27,Données!B$7:E51,3,FALSE) -> 0 | AL37: =AJ37*AK37 -> 0
A38: Soir | AI38: V | AJ38: =COUNTIF(C36:AG38,"V") -> 0 | AK38: =VLOOKUP(B$27,Données!B$7:E52,4,FALSE) -> 0 | AL38: =AJ38*AK38 -> 0
A39: Matin | B39: Chat Loisin | AH39: =AL33+AL34+AL35 -> 0 | AI39: P | AJ39: =COUNTIF(C39:AG41,"P") -> 0 | AK39: =VLOOKUP(B$27,Données!B$7:E53,2,FALSE) -> 0 | AL39: =AJ39*AK39 -> 0
A40: Après-midi | AI40: G | AJ40: =COUNTIF(C39:AG41,"G") -> 0 | AK40: =VLOOKUP(B$27,Données!B$7:E54,3,FALSE) -> 0 | AL40: =AJ40*AK40 -> 0
A41: Soir | AI41: V | AJ41: =COUNTIF(C39:AG41,"V") -> 0 | AK41: =VLOOKUP(B$27,Données!B$7:E55,4,FALSE) -> 0 | AL41: =AJ41*AK41 -> 0
A42: Matin | B42: Chat 2 | AH42: =AL36+AL37+AL38 -> 0 | AI42: P | AJ42: =COUNTIF(C42:AG44,"P") -> 0 | AK42: =VLOOKUP(B$27,Données!B$7:E56,2,FALSE) -> 0 | AL42: =AJ42*AK42 -> 0
A43: Après-midi | AI43: G | AJ43: =COUNTIF(C42:AG44,"G") -> 0 | AK43: =VLOOKUP(B$27,Données!B$7:E57,3,FALSE) -> 0 | AL43: =AJ43*AK43 -> 0
...

Sheet Juillet
D2: Jours Fériés Suisses | I2: Vacances France Zone A
D3: Vacances Suisses | I3: Vacances France Zone C
B4: =DATE(Info!B$4,7,1) -> 43282
C5: =INDEX({"D";"L";"M";"M";"J";"V";"S"},WEEKDAY(C6)) -> D | D5: =INDEX({"D";"L";"M";"M";"J";"V";"S"},WEEKDAY(D6)) -> L | E5: =INDEX({"D";"L";"M";"M";"J";"V";"S"},WEEKDAY(E6)) -> M | F5: =INDEX({"D";"L";"M";"M";"J";"V";"S"},WEEKDAY(F6)) -> M | G5: =INDEX({"D";"L";"M";"M";"J";"V";"S"},WEEKDAY(G6)) -> J | H5: =INDEX({"D";"L";"M";"M";"J";"V";"S"},WEEKDAY(H6)) -> V | I5: =INDEX({"D";"L";"M";"M";"J";"V";"S"},WEEKDAY(I6)) -> S | J5: =INDEX({"D";"L";"M";"M";"J";"V";"S"},WEEKDAY(J6)) -> D | ... AG5: =INDEX({"D";"L";"M";"M";"J";"V";"S"},WEEKDAY(AG6)) -> M | AH5: Total
C6: =B4 -> 43282 | D6: =C6+1 -> 43283 | E6: =D6+1 -> 43284 | F6: =E6+1 -> 43285 | G6: =F6+1 -> 43286 | H6: =G6+1 -> 43287 | I6: =H6+1 -> 43288 | J6: =I6+1 -> 43289 | K6: =J6+1 -> 43290 | ... AG6: =AF6+1 -> 43312
A9: Matin | B9: Cap et Clem | AH9: =AL9+AL10+AL11 -> 0 | AI9: P | AJ9: =COUNTIF(C9:AG11,"P") -> 0 | AK9: =VLOOKUP(B9,Données!B$7:E25,2,FALSE) -> 16 | AL9: =AJ9*AK9 -> 0
A10: Après-midi | AI10: G | AJ10: =COUNTIF(C9:AG11,"G") -> 0 | AK10: =VLOOKUP(B9,Données!B$7:E25,4,FALSE) -> 25 | AL10: =AJ10*AK10 -> 0
A11: Soir | AI11: V | AJ11: =COUNTIF(C9:AG11,"V") -> 0 | AK11: =VLOOKUP(B9,Données!B$7:E25,3,FALSE) -> 13 | AL11: =AJ11*AK11 -> 0
A12: Matin | B12: Fox | AH12: =AL12+AL13+AL14 -> 0 | AI12: P | AJ12: =COUNTIF(C12:AG14,"P") -> 0 | AK12: =VLOOKUP(B12,Données!B$7:E25,2,FALSE) -> 17 | AL12: =AJ12*AK12 -> 0
A13: Après-midi | AI13: G | AJ13: =COUNTIF(C12:AG14,"G") -> 0 | AK13: =VLOOKUP(B12,Données!B$7:E28,3,FALSE) -> 14 | AL13: =AJ13*AK13 -> 0
A14: Soir | AI14: V | AJ14: =COUNTIF(C12:AG14,"V") -> 0 | AK14: =VLOOKUP(B12,Données!B$7:E28,4,FALSE) -> 20 | AL14: =AJ14*AK14 -> 0
A15: Matin | B15: Fripouille | AH15: =AL12+AL13+AL14 -> 0 | AI15: P | AJ15: =COUNTIF(C15:AG17,"P") -> 0 | AK15: =VLOOKUP(B15,Données!B$7:E31,2,FALSE) -> 16 | AL15: =AJ15*AK15 -> 0
A16: Après-midi | AI16: G | AJ16: =COUNTIF(C15:AG17,"G") -> 0 | AK16: =VLOOKUP(B15,Données!B$7:E31,3,FALSE) -> 12 | AL16: =AJ16*AK16 -> 0
A17: Soir | AI17: V | AJ17: =COUNTIF(C15:AG17,"V") -> 0 | AK17: =VLOOKUP(B15,Données!B$7:E31,4,FALSE) -> 23 | AL17: =AJ17*AK17 -> 0
A18: Matin | B18: Rex | AH18: =AL12+AL13+AL14 -> 0 | AI18: P | AJ18: =COUNTIF(C18:AG20,"P") -> 0 | AK18: =VLOOKUP(B18,Données!B$7:E31,2,FALSE) -> 17 | AL18: =AJ18*AK18 -> 0
A19: Après-midi | AI19: G | AJ19: =COUNTIF(C18:AG20,"G") -> 0 | AK19: =VLOOKUP(B18,Données!B$7:E34,3,FALSE) -> 18 | AL19: =AJ19*AK19 -> 0
A20: Soir | AI20: V | AJ20: =COUNTIF(C18:AG20,"V") -> 0 | AK20: =VLOOKUP(B18,Données!B$7:E34,4,FALSE) -> 19 | AL20: =AJ20*AK20 -> 0
A21: Matin | B21: Zia | AH21: =AL15+AL16+AL18 -> 0 | AI21: P | AJ21: =COUNTIF(C27:AG29,"P") -> 0 | AK21: =VLOOKUP(B21,Données!B$7:E37,2,FALSE) -> 17 | AL21: =AJ21*AK21 -> 0
A22: Après-midi | AI22: G | AJ22: =COUNTIF(C27:AG29,"G") -> 0 | AK22: =VLOOKUP(B21,Données!B$7:E37,3,FALSE) -> 5 | AL22: =AJ22*AK22 -> 0
A23: Soir | AI23: V | AJ23: =COUNTIF(C27:AG29,"V") -> 0 | AK23: =VLOOKUP(B21,Données!B$7:E37,4,FALSE) -> 0 | AL23: =AJ23*AK23 -> 0
A24: Matin | B24: Aron | AH24: =AL19+AL20+AL21 -> 0 | AI24: P | AJ24: =COUNTIF(C24:AG26,"P") -> 0 | AK24: =VLOOKUP(B24,Données!B$7:E38,2,FALSE) -> 17 | AL24: =AJ24*AK24 -> 0
A25: Après-midi | AI25: G | AJ25: =COUNTIF(C24:AG26,"G") -> 0 | AK25: =VLOOKUP(B24,Données!B$7:E39,3,FALSE) -> 0 | AL25: =AJ25*AK25 -> 0
A26: Soir | AI26: V | AJ26: =COUNTIF(C24:AG26,"V") -> 0 | AK26: =VLOOKUP(B$24,Données!B$7:E40,4,FALSE) -> 0 | AL26: =AJ26*AK26 -> 0
A27: Matin | B27: Chien 7 | AH27: =AL21+AL22+AL23 -> 0 | AI27: P | AJ27: =COUNTIF(C27:AG29,"P") -> 0 | AK27: =VLOOKUP(B$27,Données!B$7:E41,2,FALSE) -> 0 | AL27: =AJ27*AK27 -> 0
A28: Après-midi | AI28: G | AJ28: =COUNTIF(C27:AG29,"G") -> 0 | AK28: =VLOOKUP(B$27,Données!B$7:E42,3,FALSE) -> 0 | AL28: =AJ28*AK28 -> 0
A29: Soir | AI29: V | AJ29: =COUNTIF(C27:AG29,"V") -> 0 | AK29: =VLOOKUP(B$27,Données!B$7:E43,4,FALSE) -> 0 | AL29: =AJ29*AK29 -> 0
A30: Matin | B30: Chien 8 | AH30: =AL24+AL25+AL26 -> 0 | AI30: P | AJ30: =COUNTIF(C30:AG32,"P") -> 0 | AK30: =VLOOKUP(B$27,Données!B$7:E44,2,FALSE) -> 0 | AL30: =AJ30*AK30 -> 0
A31: Après-midi | AI31: G | AJ31: =COUNTIF(C30:AG32,"G") -> 0 | AK31: =VLOOKUP(B$27,Données!B$7:E45,3,FALSE) -> 0 | AL31: =AJ31*AK31 -> 0
A32: Soir | AI32: V | AJ32: =COUNTIF(C30:AG32,"V") -> 0 | AK32: =VLOOKUP(B$27,Données!B$7:E46,4,FALSE) -> 0 | AL32: =AJ32*AK32 -> 0
A33: Matin | B33: Chien 9 | AH33: =AL27+AL28+AL29 -> 0 | AI33: P | AJ33: =COUNTIF(C33:AG35,"P") -> 0 | AK33: =VLOOKUP(B$27,Données!B$7:E47,2,FALSE) -> 0 | AL33: =AJ33*AK33 -> 0
A34: Après-midi | AI34: G | AJ34: =COUNTIF(C33:AG35,"G") -> 0 | AK34: =VLOOKUP(B$27,Données!B$7:E48,3,FALSE) -> 0 | AL34: =AJ34*AK34 -> 0
A35: Soir | AI35: V | AJ35: =COUNTIF(C33:AG35,"V") -> 0 | AK35: =VLOOKUP(B$27,Données!B$7:E49,4,FALSE) -> 0 | AL35: =AJ35*AK35 -> 0
A36: Matin | B36: Chien 10 | AH36: =AL30+AL31+AL32 -> 0 | AI36: P | AJ36: =COUNTIF(C36:AG38,"P") -> 0 | AK36: =VLOOKUP(B$27,Données!B$7:E50,2,FALSE) -> 0 | AL36: =AJ36*AK36 -> 0
A37: Après-midi | AI37: G | AJ37: =COUNTIF(C36:AG38,"G") -> 0 | AK37: =VLOOKUP(B$27,Données!B$7:E51,3,FALSE) -> 0 | AL37: =AJ37*AK37 -> 0
A38: Soir | AI38: V | AJ38: =COUNTIF(C36:AG38,"V") -> 0 | AK38: =VLOOKUP(B$27,Données!B$7:E52,4,FALSE) -> 0 | AL38: =AJ38*AK38 -> 0
A39: Matin | B39: Chat Loisin | AH39: =AL33+AL34+AL35 -> 0 | AI39: P | AJ39: =COUNTIF(C39:AG41,"P") -> 0 | AK39: =VLOOKUP(B$27,Données!B$7:E53,2,FALSE) -> 0 | AL39: =AJ39*AK39 -> 0
A40: Après-midi | AI40: G | AJ40: =COUNTIF(C39:AG41,"G") -> 0 | AK40: =VLOOKUP(B$27,Données!B$7:E54,3,FALSE) -> 0 | AL40: =AJ40*AK40 -> 0
A41: Soir | AI41: V | AJ41: =COUNTIF(C39:AG41,"V") -> 0 | AK41: =VLOOKUP(B$27,Données!B$7:E55,4,FALSE) -> 0 | AL41: =AJ41*AK41 -> 0
A42: Matin | B42: Chat 2 | AH42: =AL36+AL37+AL38 -> 0 | AI42: P | AJ42: =COUNTIF(C42:AG44,"P") -> 0 | AK42: =VLOOKUP(B$27,Données!B$7:E56,2,FALSE) -> 0 | AL42: =AJ42*AK42 -> 0
A43: Après-midi | AI43: G | AJ43: =COUNTIF(C42:AG44,"G") -> 0 | AK43: =VLOOKUP(B$27,Données!B$7:E57,3,FALSE) -> 0 | AL43: =AJ43*AK43 -> 0
...

Sheet Aout
D2: Jours Fériés Suisses | I2: Vacances France Zone A
D3: Vacances Suisses | I3: Vacances France Zone C
B4: =DATE(Info!B$4,8,1) -> 43313
C5: =INDEX({"D";"L";"M";"M";"J";"V";"S"},WEEKDAY(C6)) -> M | D5: =INDEX({"D";"L";"M";"M";"J";"V";"S"},WEEKDAY(D6)) -> J | E5: =INDEX({"D";"L";"M";"M";"J";"V";"S"},WEEKDAY(E6)) -> V | F5: =INDEX({"D";"L";"M";"M";"J";"V";"S"},WEEKDAY(F6)) -> S | G5: =INDEX({"D";"L";"M";"M";"J";"V";"S"},WEEKDAY(G6)) -> D | H5: =INDEX({"D";"L";"M";"M";"J";"V";"S"},WEEKDAY(H6)) -> L | I5: =INDEX({"D";"L";"M";"M";"J";"V";"S"},WEEKDAY(I6)) -> M | J5: =INDEX({"D";"L";"M";"M";"J";"V";"S"},WEEKDAY(J6)) -> M | ... AG5: =INDEX({"D";"L";"M";"M";"J";"V";"S"},WEEKDAY(AG6)) -> V | AH5: Total
C6: =B4 -> 43313 | D6: =C6+1 -> 43314 | E6: =D6+1 -> 43315 | F6: =E6+1 -> 43316 | G6: =F6+1 -> 43317 | H6: =G6+1 -> 43318 | I6: =H6+1 -> 43319 | J6: =I6+1 -> 43320 | K6: =J6+1 -> 43321 | ... AG6: =AF6+1 -> 43343
A9: Matin | B9: Cap et Clem | AH9: =AL9+AL10+AL11 -> 0 | AI9: P | AJ9: =COUNTIF(C9:AG11,"P") -> 0 | AK9: =VLOOKUP(B9,Données!B$7:E25,2,FALSE) -> 16 | AL9: =AJ9*AK9 -> 0
A10: Après-midi | AI10: G | AJ10: =COUNTIF(C9:AG11,"G") -> 0 | AK10: =VLOOKUP(B9,Données!B$7:E25,4,FALSE) -> 25 | AL10: =AJ10*AK10 -> 0
A11: Soir | AI11: V | AJ11: =COUNTIF(C9:AG11,"V") -> 0 | AK11: =VLOOKUP(B9,Données!B$7:E25,3,FALSE) -> 13 | AL11: =AJ11*AK11 -> 0
A12: Matin | B12: Fox | AH12: =AL12+AL13+AL14 -> 0 | AI12: P | AJ12: =COUNTIF(C12:AG14,"P") -> 0 | AK12: =VLOOKUP(B12,Données!B$7:E25,2,FALSE) -> 17 | AL12: =AJ12*AK12 -> 0
A13: Après-midi | AI13: G | AJ13: =COUNTIF(C12:AG14,"G") -> 0 | AK13: =VLOOKUP(B12,Données!B$7:E28,3,FALSE) -> 14 | AL13: =AJ13*AK13 -> 0
A14: Soir | AI14: V | AJ14: =COUNTIF(C12:AG14,"V") -> 0 | AK14: =VLOOKUP(B12,Données!B$7:E28,4,FALSE) -> 20 | AL14: =AJ14*AK14 -> 0
A15: Matin | B15: Fripouille | AH15: =AL12+AL13+AL14 -> 0 | AI15: P | AJ15: =COUNTIF(C15:AG17,"P") -> 0 | AK15: =VLOOKUP(B15,Données!B$7:E31,2,FALSE) -> 16 | AL15: =AJ15*AK15 -> 0
A16: Après-midi | AI16: G | AJ16: =COUNTIF(C15:AG17,"G") -> 0 | AK16: =VLOOKUP(B15,Données!B$7:E31,3,FALSE) -> 12 | AL16: =AJ16*AK16 -> 0
A17: Soir | AI17: V | AJ17: =COUNTIF(C15:AG17,"V") -> 0 | AK17: =VLOOKUP(B15,Données!B$7:E31,4,FALSE) -> 23 | AL17: =AJ17*AK17 -> 0
A18: Matin | B18: Rex | AH18: =AL12+AL13+AL14 -> 0 | AI18: P | AJ18: =COUNTIF(C18:AG20,"P") -> 0 | AK18: =VLOOKUP(B18,Données!B$7:E31,2,FALSE) -> 17 | AL18: =AJ18*AK18 -> 0
A19: Après-midi | AI19: G | AJ19: =COUNTIF(C18:AG20,"G") -> 0 | AK19: =VLOOKUP(B18,Données!B$7:E34,3,FALSE) -> 18 | AL19: =AJ19*AK19 -> 0
A20: Soir | AI20: V | AJ20: =COUNTIF(C18:AG20,"V") -> 0 | AK20: =VLOOKUP(B18,Données!B$7:E34,4,FALSE) -> 19 | AL20: =AJ20*AK20 -> 0
A21: Matin | B21: Zia | AH21: =AL15+AL16+AL18 -> 0 | AI21: P | AJ21: =COUNTIF(C27:AG29,"P") -> 0 | AK21: =VLOOKUP(B21,Données!B$7:E37,2,FALSE) -> 17 | AL21: =AJ21*AK21 -> 0
A22: Après-midi | AI22: G | AJ22: =COUNTIF(C27:AG29,"G") -> 0 | AK22: =VLOOKUP(B21,Données!B$7:E37,3,FALSE) -> 5 | AL22: =AJ22*AK22 -> 0
A23: Soir | AI23: V | AJ23: =COUNTIF(C27:AG29,"V") -> 0 | AK23: =VLOOKUP(B21,Données!B$7:E37,4,FALSE) -> 0 | AL23: =AJ23*AK23 -> 0
A24: Matin | B24: Aron | AH24: =AL19+AL20+AL21 -> 0 | AI24: P | AJ24: =COUNTIF(C24:AG26,"P") -> 0 | AK24: =VLOOKUP(B24,Données!B$7:E38,2,FALSE) -> 17 | AL24: =AJ24*AK24 -> 0
A25: Après-midi | AI25: G | AJ25: =COUNTIF(C24:AG26,"G") -> 0 | AK25: =VLOOKUP(B24,Données!B$7:E39,3,FALSE) -> 0 | AL25: =AJ25*AK25 -> 0
A26: Soir | AI26: V | AJ26: =COUNTIF(C24:AG26,"V") -> 0 | AK26: =VLOOKUP(B$24,Données!B$7:E40,4,FALSE) -> 0 | AL26: =AJ26*AK26 -> 0
A27: Matin | B27: Chien 7 | AH27: =AL21+AL22+AL23 -> 0 | AI27: P | AJ27: =COUNTIF(C27:AG29,"P") -> 0 | AK27: =VLOOKUP(B$27,Données!B$7:E41,2,FALSE) -> 0 | AL27: =AJ27*AK27 -> 0
A28: Après-midi | AI28: G | AJ28: =COUNTIF(C27:AG29,"G") -> 0 | AK28: =VLOOKUP(B$27,Données!B$7:E42,3,FALSE) -> 0 | AL28: =AJ28*AK28 -> 0
A29: Soir | AI29: V | AJ29: =COUNTIF(C27:AG29,"V") -> 0 | AK29: =VLOOKUP(B$27,Données!B$7:E43,4,FALSE) -> 0 | AL29: =AJ29*AK29 -> 0
A30: Matin | B30: Chien 8 | AH30: =AL24+AL25+AL26 -> 0 | AI30: P | AJ30: =COUNTIF(C30:AG32,"P") -> 0 | AK30: =VLOOKUP(B$27,Données!B$7:E44,2,FALSE) -> 0 | AL30: =AJ30*AK30 -> 0
A31: Après-midi | AI31: G | AJ31: =COUNTIF(C30:AG32,"G") -> 0 | AK31: =VLOOKUP(B$27,Données!B$7:E45,3,FALSE) -> 0 | AL31: =AJ31*AK31 -> 0
A32: Soir | AI32: V | AJ32: =COUNTIF(C30:AG32,"V") -> 0 | AK32: =VLOOKUP(B$27,Données!B$7:E46,4,FALSE) -> 0 | AL32: =AJ32*AK32 -> 0
A33: Matin | B33: Chien 9 | AH33: =AL27+AL28+AL29 -> 0 | AI33: P | AJ33: =COUNTIF(C33:AG35,"P") -> 0 | AK33: =VLOOKUP(B$27,Données!B$7:E47,2,FALSE) -> 0 | AL33: =AJ33*AK33 -> 0
A34: Après-midi | AI34: G | AJ34: =COUNTIF(C33:AG35,"G") -> 0 | AK34: =VLOOKUP(B$27,Données!B$7:E48,3,FALSE) -> 0 | AL34: =AJ34*AK34 -> 0
A35: Soir | AI35: V | AJ35: =COUNTIF(C33:AG35,"V") -> 0 | AK35: =VLOOKUP(B$27,Données!B$7:E49,4,FALSE) -> 0 | AL35: =AJ35*AK35 -> 0
A36: Matin | B36: Chien 10 | AH36: =AL30+AL31+AL32 -> 0 | AI36: P | AJ36: =COUNTIF(C36:AG38,"P") -> 0 | AK36: =VLOOKUP(B$27,Données!B$7:E50,2,FALSE) -> 0 | AL36: =AJ36*AK36 -> 0
A37: Après-midi | AI37: G | AJ37: =COUNTIF(C36:AG38,"G") -> 0 | AK37: =VLOOKUP(B$27,Données!B$7:E51,3,FALSE) -> 0 | AL37: =AJ37*AK37 -> 0
A38: Soir | AI38: V | AJ38: =COUNTIF(C36:AG38,"V") -> 0 | AK38: =VLOOKUP(B$27,Données!B$7:E52,4,FALSE) -> 0 | AL38: =AJ38*AK38 -> 0
A39: Matin | B39: Chat Loisin | AH39: =AL33+AL34+AL35 -> 0 | AI39: P | AJ39: =COUNTIF(C39:AG41,"P") -> 0 | AK39: =VLOOKUP(B$27,Données!B$7:E53,2,FALSE) -> 0 | AL39: =AJ39*AK39 -> 0
A40: Après-midi | AI40: G | AJ40: =COUNTIF(C39:AG41,"G") -> 0 | AK40: =VLOOKUP(B$27,Données!B$7:E54,3,FALSE) -> 0 | AL40: =AJ40*AK40 -> 0
A41: Soir | AI41: V | AJ41: =COUNTIF(C39:AG41,"V") -> 0 | AK41: =VLOOKUP(B$27,Données!B$7:E55,4,FALSE) -> 0 | AL41: =AJ41*AK41 -> 0
A42: Matin | B42: Chat 2 | AH42: =AL36+AL37+AL38 -> 0 | AI42: P | AJ42: =COUNTIF(C42:AG44,"P") -> 0 | AK42: =VLOOKUP(B$27,Données!B$7:E56,2,FALSE) -> 0 | AL42: =AJ42*AK42 -> 0
A43: Après-midi | AI43: G | AJ43: =COUNTIF(C42:AG44,"G") -> 0 | AK43: =VLOOKUP(B$27,Données!B$7:E57,3,FALSE) -> 0 | AL43: =AJ43*AK43 -> 0
...

Sheet Septembre
D2: Jours Fériés Suisses | I2: Vacances France Zone A
D3: Vacances Suisses | I3: Vacances France Zone C
B4: =DATE(Info!B$4,9,1) -> 43344
C5: =INDEX({"D";"L";"M";"M";"J";"V";"S"},WEEKDAY(C6)) -> S | D5: =INDEX({"D";"L";"M";"M";"J";"V";"S"},WEEKDAY(D6)) -> D | E5: =INDEX({"D";"L";"M";"M";"J";"V";"S"},WEEKDAY(E6)) -> L | F5: =INDEX({"D";"L";"M";"M";"J";"V";"S"},WEEKDAY(F6)) -> M | G5: =INDEX({"D";"L";"M";"M";"J";"V";"S"},WEEKDAY(G6)) -> M | H5: =INDEX({"D";"L";"M";"M";"J";"V";"S"},WEEKDAY(H6)) -> J | I5: =INDEX({"D";"L";"M";"M";"J";"V";"S"},WEEKDAY(I6)) -> V | J5: =INDEX({"D";"L";"M";"M";"J";"V";"S"},WEEKDAY(J6)) -> S | ... AG5: =INDEX({"D";"L";"M";"M";"J";"V";"S"},WEEKDAY(AG6)) -> L | AH5: Total
C6: =B4 -> 43344 | D6: =C6+1 -> 43345 | E6: =D6+1 -> 43346 | F6: =E6+1 -> 43347 | G6: =F6+1 -> 43348 | H6: =G6+1 -> 43349 | I6: =H6+1 -> 43350 | J6: =I6+1 -> 43351 | K6: =J6+1 -> 43352 | ... AG6: =AF6+1 -> 43374
A9: Matin | B9: Cap et Clem | AH9: =AL9+AL10+AL11 -> 0 | AI9: P | AJ9: =COUNTIF(C9:AG11,"P") -> 0 | AK9: =VLOOKUP(B9,Données!B$7:E25,2,FALSE) -> 16 | AL9: =AJ9*AK9 -> 0
A10: Après-midi | AI10: G | AJ10: =COUNTIF(C9:AG11,"G") -> 0 | AK10: =VLOOKUP(B9,Données!B$7:E25,4,FALSE) -> 25 | AL10: =AJ10*AK10 -> 0
A11: Soir | AI11: V | AJ11: =COUNTIF(C9:AG11,"V") -> 0 | AK11: =VLOOKUP(B9,Données!B$7:E25,3,FALSE) -> 13 | AL11: =AJ11*AK11 -> 0
A12: Matin | B12: Fox | AH12: =AL12+AL13+AL14 -> 0 | AI12: P | AJ12: =COUNTIF(C12:AG14,"P") -> 0 | AK12: =VLOOKUP(B12,Données!B$7:E25,2,FALSE) -> 17 | AL12: =AJ12*AK12 -> 0
A13: Après-midi | AI13: G | AJ13: =COUNTIF(C12:AG14,"G") -> 0 | AK13: =VLOOKUP(B12,Données!B$7:E28,3,FALSE) -> 14 | AL13: =AJ13*AK13 -> 0
A14: Soir | AI14: V | AJ14: =COUNTIF(C12:AG14,"V") -> 0 | AK14: =VLOOKUP(B12,Données!B$7:E28,4,FALSE) -> 20 | AL14: =AJ14*AK14 -> 0
A15: Matin | B15: Fripouille | AH15: =AL12+AL13+AL14 -> 0 | AI15: P | AJ15: =COUNTIF(C15:AG17,"P") -> 0 | AK15: =VLOOKUP(B15,Données!B$7:E31,2,FALSE) -> 16 | AL15: =AJ15*AK15 -> 0
A16: Après-midi | AI16: G | AJ16: =COUNTIF(C15:AG17,"G") -> 0 | AK16: =VLOOKUP(B15,Données!B$7:E31,3,FALSE) -> 12 | AL16: =AJ16*AK16 -> 0
A17: Soir | AI17: V | AJ17: =COUNTIF(C15:AG17,"V") -> 0 | AK17: =VLOOKUP(B15,Données!B$7:E31,4,FALSE) -> 23 | AL17: =AJ17*AK17 -> 0
A18: Matin | B18: Rex | AH18: =AL12+AL13+AL14 -> 0 | AI18: P | AJ18: =COUNTIF(C18:AG20,"P") -> 0 | AK18: =VLOOKUP(B18,Données!B$7:E31,2,FALSE) -> 17 | AL18: =AJ18*AK18 -> 0
A19: Après-midi | AI19: G | AJ19: =COUNTIF(C18:AG20,"G") -> 0 | AK19: =VLOOKUP(B18,Données!B$7:E34,3,FALSE) -> 18 | AL19: =AJ19*AK19 -> 0
A20: Soir | AI20: V | AJ20: =COUNTIF(C18:AG20,"V") -> 0 | AK20: =VLOOKUP(B18,Données!B$7:E34,4,FALSE) -> 19 | AL20: =AJ20*AK20 -> 0
A21: Matin | B21: Zia | AH21: =AL15+AL16+AL18 -> 0 | AI21: P | AJ21: =COUNTIF(C27:AG29,"P") -> 0 | AK21: =VLOOKUP(B21,Données!B$7:E37,2,FALSE) -> 17 | AL21: =AJ21*AK21 -> 0
A22: Après-midi | AI22: G | AJ22: =COUNTIF(C27:AG29,"G") -> 0 | AK22: =VLOOKUP(B21,Données!B$7:E37,3,FALSE) -> 5 | AL22: =AJ22*AK22 -> 0
A23: Soir | AI23: V | AJ23: =COUNTIF(C27:AG29,"V") -> 0 | AK23: =VLOOKUP(B21,Données!B$7:E37,4,FALSE) -> 0 | AL23: =AJ23*AK23 -> 0
A24: Matin | B24: Aron | AH24: =AL19+AL20+AL21 -> 0 | AI24: P | AJ24: =COUNTIF(C24:AG26,"P") -> 0 | AK24: =VLOOKUP(B24,Données!B$7:E38,2,FALSE) -> 17 | AL24: =AJ24*AK24 -> 0
A25: Après-midi | AI25: G | AJ25: =COUNTIF(C24:AG26,"G") -> 0 | AK25: =VLOOKUP(B24,Données!B$7:E39,3,FALSE) -> 0 | AL25: =AJ25*AK25 -> 0
A26: Soir | AI26: V | AJ26: =COUNTIF(C24:AG26,"V") -> 0 | AK26: =VLOOKUP(B$24,Données!B$7:E40,4,FALSE) -> 0 | AL26: =AJ26*AK26 -> 0
A27: Matin | B27: Chien 7 | AH27: =AL21+AL22+AL23 -> 0 | AI27: P | AJ27: =COUNTIF(C27:AG29,"P") -> 0 | AK27: =VLOOKUP(B$27,Données!B$7:E41,2,FALSE) -> 0 | AL27: =AJ27*AK27 -> 0
A28: Après-midi | AI28: G | AJ28: =COUNTIF(C27:AG29,"G") -> 0 | AK28: =VLOOKUP(B$27,Données!B$7:E42,3,FALSE) -> 0 | AL28: =AJ28*AK28 -> 0
A29: Soir | AI29: V | AJ29: =COUNTIF(C27:AG29,"V") -> 0 | AK29: =VLOOKUP(B$27,Données!B$7:E43,4,FALSE) -> 0 | AL29: =AJ29*AK29 -> 0
A30: Matin | B30: Chien 8 | AH30: =AL24+AL25+AL26 -> 0 | AI30: P | AJ30: =COUNTIF(C30:AG32,"P") -> 0 | AK30: =VLOOKUP(B$27,Données!B$7:E44,2,FALSE) -> 0 | AL30: =AJ30*AK30 -> 0
A31: Après-midi | AI31: G | AJ31: =COUNTIF(C30:AG32,"G") -> 0 | AK31: =VLOOKUP(B$27,Données!B$7:E45,3,FALSE) -> 0 | AL31: =AJ31*AK31 -> 0
A32: Soir | AI32: V | AJ32: =COUNTIF(C30:AG32,"V") -> 0 | AK32: =VLOOKUP(B$27,Données!B$7:E46,4,FALSE) -> 0 | AL32: =AJ32*AK32 -> 0
A33: Matin | B33: Chien 9 | AH33: =AL27+AL28+AL29 -> 0 | AI33: P | AJ33: =COUNTIF(C33:AG35,"P") -> 0 | AK33: =VLOOKUP(B$27,Données!B$7:E47,2,FALSE) -> 0 | AL33: =AJ33*AK33 -> 0
A34: Après-midi | AI34: G | AJ34: =COUNTIF(C33:AG35,"G") -> 0 | AK34: =VLOOKUP(B$27,Données!B$7:E48,3,FALSE) -> 0 | AL34: =AJ34*AK34 -> 0
A35: Soir | AI35: V | AJ35: =COUNTIF(C33:AG35,"V") -> 0 | AK35: =VLOOKUP(B$27,Données!B$7:E49,4,FALSE) -> 0 | AL35: =AJ35*AK35 -> 0
A36: Matin | B36: Chien 10 | AH36: =AL30+AL31+AL32 -> 0 | AI36: P | AJ36: =COUNTIF(C36:AG38,"P") -> 0 | AK36: =VLOOKUP(B$27,Données!B$7:E50,2,FALSE) -> 0 | AL36: =AJ36*AK36 -> 0
A37: Après-midi | AI37: G | AJ37: =COUNTIF(C36:AG38,"G") -> 0 | AK37: =VLOOKUP(B$27,Données!B$7:E51,3,FALSE) -> 0 | AL37: =AJ37*AK37 -> 0
A38: Soir | AI38: V | AJ38: =COUNTIF(C36:AG38,"V") -> 0 | AK38: =VLOOKUP(B$27,Données!B$7:E52,4,FALSE) -> 0 | AL38: =AJ38*AK38 -> 0
A39: Matin | B39: Chat Loisin | AH39: =AL33+AL34+AL35 -> 0 | AI39: P | AJ39: =COUNTIF(C39:AG41,"P") -> 0 | AK39: =VLOOKUP(B$27,Données!B$7:E53,2,FALSE) -> 0 | AL39: =AJ39*AK39 -> 0
A40: Après-midi | AI40: G | AJ40: =COUNTIF(C39:AG41,"G") -> 0 | AK40: =VLOOKUP(B$27,Données!B$7:E54,3,FALSE) -> 0 | AL40: =AJ40*AK40 -> 0
A41: Soir | AI41: V | AJ41: =COUNTIF(C39:AG41,"V") -> 0 | AK41: =VLOOKUP(B$27,Données!B$7:E55,4,FALSE) -> 0 | AL41: =AJ41*AK41 -> 0
A42: Matin | B42: Chat 2 | AH42: =AL36+AL37+AL38 -> 0 | AI42: P | AJ42: =COUNTIF(C42:AG44,"P") -> 0 | AK42: =VLOOKUP(B$27,Données!B$7:E56,2,FALSE) -> 0 | AL42: =AJ42*AK42 -> 0
A43: Après-midi | AI43: G | AJ43: =COUNTIF(C42:AG44,"G") -> 0 | AK43: =VLOOKUP(B$27,Données!B$7:E57,3,FALSE) -> 0 | AL43: =AJ43*AK43 -> 0
...

Sheet Octobre
D2: Jours Fériés Suisses | I2: Vacances France Zone A
D3: Vacances Suisses | I3: Vacances France Zone C
B4: =DATE(Info!B$4,10,1) -> 43374
C5: =INDEX({"D";"L";"M";"M";"J";"V";"S"},WEEKDAY(C6)) -> L | D5: =INDEX({"D";"L";"M";"M";"J";"V";"S"},WEEKDAY(D6)) -> M | E5: =INDEX({"D";"L";"M";"M";"J";"V";"S"},WEEKDAY(E6)) -> M | F5: =INDEX({"D";"L";"M";"M";"J";"V";"S"},WEEKDAY(F6)) -> J | G5: =INDEX({"D";"L";"M";"M";"J";"V";"S"},WEEKDAY(G6)) -> V | H5: =INDEX({"D";"L";"M";"M";"J";"V";"S"},WEEKDAY(H6)) -> S | I5: =INDEX({"D";"L";"M";"M";"J";"V";"S"},WEEKDAY(I6)) -> D | J5: =INDEX({"D";"L";"M";"M";"J";"V";"S"},WEEKDAY(J6)) -> L | ... AG5: =INDEX({"D";"L";"M";"M";"J";"V";"S"},WEEKDAY(AG6)) -> M | AH5: Total
C6: =B4 -> 43374 | D6: =C6+1 -> 43375 | E6: =D6+1 -> 43376 | F6: =E6+1 -> 43377 | G6: =F6+1 -> 43378 | H6: =G6+1 -> 43379 | I6: =H6+1 -> 43380 | J6: =I6+1 -> 43381 | K6: =J6+1 -> 43382 | ... AG6: =AF6+1 -> 43404
A9: Matin | B9: Cap et Clem | AH9: =AL9+AL10+AL11 -> 0 | AI9: P | AJ9: =COUNTIF(C9:AG11,"P") -> 0 | AK9: =VLOOKUP(B9,Données!B$7:E25,2,FALSE) -> 16 | AL9: =AJ9*AK9 -> 0
A10: Après-midi | AI10: G | AJ10: =COUNTIF(C9:AG11,"G") -> 0 | AK10: =VLOOKUP(B9,Données!B$7:E25,4,FALSE) -> 25 | AL10: =AJ10*AK10 -> 0
A11: Soir | AI11: V | AJ11: =COUNTIF(C9:AG11,"V") -> 0 | AK11: =VLOOKUP(B9,Données!B$7:E25,3,FALSE) -> 13 | AL11: =AJ11*AK11 -> 0
A12: Matin | B12: Fox | AH12: =AL12+AL13+AL14 -> 0 | AI12: P | AJ12: =COUNTIF(C12:AG14,"P") -> 0 | AK12: =VLOOKUP(B12,Données!B$7:E25,2,FALSE) -> 17 | AL12: =AJ12*AK12 -> 0
A13: Après-midi | AI13: G | AJ13: =COUNTIF(C12:AG14,"G") -> 0 | AK13: =VLOOKUP(B12,Données!B$7:E28,3,FALSE) -> 14 | AL13: =AJ13*AK13 -> 0
A14: Soir | AI14: V | AJ14: =COUNTIF(C12:AG14,"V") -> 0 | AK14: =VLOOKUP(B12,Données!B$7:E28,4,FALSE) -> 20 | AL14: =AJ14*AK14 -> 0
A15: Matin | B15: Fripouille | AH15: =AL12+AL13+AL14 -> 0 | AI15: P | AJ15: =COUNTIF(C15:AG17,"P") -> 0 | AK15: =VLOOKUP(B15,Données!B$7:E31,2,FALSE) -> 16 | AL15: =AJ15*AK15 -> 0
A16: Après-midi | AI16: G | AJ16: =COUNTIF(C15:AG17,"G") -> 0 | AK16: =VLOOKUP(B15,Données!B$7:E31,3,FALSE) -> 12 | AL16: =AJ16*AK16 -> 0
