Workbook

Sheet Feuil1
B1: =INDEX(D3:D23,MATCH(1,Feuil2!A1:A25,0)) -> merci
D2: FILTRE
D3: bonjour
D4: bonjour
D5: bonjour
D6: bonjour
D7: bonjour
D8: merci
D9: merci
D10: merci
D11: merci | G11: le "segment" en feuille2
D12: merci
D13: merci
D14: de rien
D15: de rien
D16: de rien
D17: de rien
D18: de rien

Sheet Feuil2
A1: =SUBTOTAL(3,OFFSET(Feuil1!$D$2,ROW(A1),)) -> 0
A2: =SUBTOTAL(3,OFFSET(Feuil1!$D$2,ROW(A2),)) -> 0
A3: =SUBTOTAL(3,OFFSET(Feuil1!$D$2,ROW(A3),)) -> 0
A4: =SUBTOTAL(3,OFFSET(Feuil1!$D$2,ROW(A4),)) -> 0
A5: =SUBTOTAL(3,OFFSET(Feuil1!$D$2,ROW(A5),)) -> 0
A6: =SUBTOTAL(3,OFFSET(Feuil1!$D$2,ROW(A6),)) -> 1
A7: =SUBTOTAL(3,OFFSET(Feuil1!$D$2,ROW(A7),)) -> 1
A8: =SUBTOTAL(3,OFFSET(Feuil1!$D$2,ROW(A8),)) -> 1
A9: =SUBTOTAL(3,OFFSET(Feuil1!$D$2,ROW(A9),)) -> 1
A10: =SUBTOTAL(3,OFFSET(Feuil1!$D$2,ROW(A10),)) -> 1
A11: =SUBTOTAL(3,OFFSET(Feuil1!$D$2,ROW(A11),)) -> 1
A12: =SUBTOTAL(3,OFFSET(Feuil1!$D$2,ROW(A12),)) -> 0
... A25: =SUBTOTAL(3,OFFSET(Feuil1!$D$2,ROW(A25),)) -> 0

Sheet Feuil3
