Workbook

Sheet FACTURE
B4: PRODUITS | C4: Q | D4: PRIX U | E4: TOTAL
B5: A | D5: =IF(B5="","",VLOOKUP(B5,REF!C:D,2,0)) -> 10
B6: B | D6: =IF(B6="","",VLOOKUP(B6,REF!C:D,2,0)) -> 12
D7: =IF(B7="","",VLOOKUP(B7,REF!C:D,2,0)) | F7: Que le prix (colonne D) soit égal automatiquement ,selon le produit du texte défilant de (colonne B), du cadencier de l'onglet "REF"
D8: =IF(B8="","",VLOOKUP(B8,REF!C:D,2,0))
D9: =IF(B9="","",VLOOKUP(B9,REF!C:D,2,0))
D10: =IF(B10="","",VLOOKUP(B10,REF!C:D,2,0))
D11: =IF(B11="","",VLOOKUP(B11,REF!C:D,2,0))
D12: =IF(B12="","",VLOOKUP(B12,REF!C:D,2,0))
D13: =IF(B13="","",VLOOKUP(B13,REF!C:D,2,0))
D14: =IF(B14="","",VLOOKUP(B14,REF!C:D,2,0))
D15: =IF(B15="","",VLOOKUP(B15,REF!C:D,2,0))
D16: =IF(B16="","",VLOOKUP(B16,REF!C:D,2,0))
D17: =IF(B17="","",VLOOKUP(B17,REF!C:D,2,0))
D18: =IF(B18="","",VLOOKUP(B18,REF!C:D,2,0))
D19: =IF(B19="","",VLOOKUP(B19,REF!C:D,2,0))
... D32: =IF(B32="","",VLOOKUP(B32,REF!C:D,2,0))

Sheet REF
C4: PRODUIT | D4: PRIX
C5: A | D5: 10
C6: B | D6: 12
C7: C | D7: 34
C8: D | D8: 35
C9: E | D9: 23
C10: F | D10: 34
C11: G | D11: 56
