Workbook
Name article: 'REPORT DONNÉES'!$C$1:$C$180
Name bdd: 'REPORT DONNÉES'!$B$3:$W$25
Name colg: OFFSET('REPORT DONNÉES'!$G$1,,,200)
Name indexdr: 'REPORT DONNÉES'!$I$3:$I$25

Sheet REPORT DONNÉES
A1: S 40 | C1: 45254 Courgette Bio 700g | F1: 37 | G1: MEA Mer-Dim | J1: Qtés pour livraison entrepôt en COLIS | V1: Total | W1: UVC
A2: GEO | B2: DR | C2: Nom DR | D2: CA DR / CA FR TOTAL | E2: CA FL / CA | F2: Nombre magasins | G2: UVC / Colis | H2: Colis/Pal. | I2: DR | J2: samedi | K2: Colis /mag | L2: Lundi | M2: Colis /mag | N2: Mardi | O2: Colis /mag | P2: Mercredi | Q2: Colis /mag | R2: Jeudi | S2: Colis /mag | T2: Vendredi | U2: Colis /mag
A3: B | B3: 50 | C3: DATA 1 | F3: =53+53 -> 106 | G3: 8 | H3: 64 | I3: 50 | K3: =J3/F3 -> 0 | M3: =L3/F3 -> 0 | N3: 320 | O3: =N3/F3 -> 3.0188679 | P3: 128 | Q3: =P3/F3 -> 1.2075472 | R3: 320 | S3: =R3/F3 -> 3.0188679 | T3: 128 | U3: =T3/F3 -> 1.2075472 | V3: =+J3+L3+N3+P3+R3+T3 -> 896 | W3: =+V3*G3 -> 7168
A4: C | B4: 25 | C4: DATA 2 | F4: 70 | G4: 8 | H4: 64 | I4: 25 | K4: =J4/F4 -> 0 | M4: =L4/F4 -> 0 | N4: 256 | O4: =N4/F4 -> 3.6571429 | P4: 128 | Q4: =P4/F4 -> 1.8285714 | R4: 128 | S4: =R4/F4 -> 1.8285714 | T4: 224 | U4: =T4/F4 -> 3.2 | V4: =+J4+L4+N4+P4+R4+T4 -> 736 | W4: =+V4*G4 -> 5888
A5: D | B5: 64 | C5: DATA 3 | F5: =61+58 -> 119 | G5: 8 | H5: 64 | I5: 64 | K5: =J5/F5 -> 0 | M5: =L5/F5 -> 0 | N5: 576 | O5: =N5/F5 -> 4.8403361 | P5: 384 | Q5: 5 | R5: 576 | S5: =R5/F5 -> 4.8403361 | T5: 384 | U5: =T5/F5 -> 3.2268908 | V5: =+J5+L5+N5+P5+R5+T5 -> 1920 | W5: =+V5*G5 -> 15360
A6: F | B6: 78 | C6: DATA 4 | F6: 69 | G6: 8 | H6: 64 | I6: 78 | K6: =J6/F6 -> 0 | M6: =L6/F6 -> 0 | N6: 320 | O6: =N6/F6 -> 4.6376812 | P6: 128 | Q6: =P6/F6 -> 1.8550725 | R6: 192 | S6: =R6/F6 -> 2.7826087 | T6: 128 | U6: =T6/F6 -> 1.8550725 | V6: =+J6+L6+N6+P6+R6+T6 -> 768 | W6: =+V6*G6 -> 6144
A7: G | B7: 94 | C7: DATA 5 | F7: 63 | G7: 8 | H7: 64 | I7: 94 | K7: =J7/F7 -> 0 | M7: =L7/F7 -> 0 | N7: 256 | O7: =N7/F7 -> 4.0634921 | P7: 128 | Q7: =P7/F7 -> 2.031746 | R7: 256 | S7: =R7/F7 -> 4.0634921 | T7: 128 | U7: =T7/F7 -> 2.031746 | V7: =+J7+L7+N7+P7+R7+T7 -> 768 | W7: =+V7*G7 -> 6144
A8: H | B8: 21 | C8: DATA 6 | F8: 50 | G8: 8 | H8: 64 | I8: 21 | K8: =J8/F8 -> 0 | M8: =L8/F8 -> 0 | N8: 256 | O8: =N8/F8 -> 5.12 | P8: 64 | Q8: =P8/F8 -> 1.28 | R8: 192 | S8: =R8/F8 -> 3.84 | T8: 128 | U8: =T8/F8 -> 2.56 | V8: =+J8+L8+N8+P8+R8+T8 -> 640 | W8: =+V8*G8 -> 5120
A9: J | B9: 45 | C9: DATA 7 | F9: 52 | G9: 8 | H9: 64 | I9: 45 | K9: =J9/F9 -> 0 | M9: =L9/F9 -> 0 | N9: 256 | O9: =N9/F9 -> 4.9230769 | P9: 64 | Q9: =P9/F9 -> 1.2307692 | R9: 192 | S9: =R9/F9 -> 3.6923077 | T9: 192 | U9: =T9/F9 -> 3.6923077 | V9: =+J9+L9+N9+P9+R9+T9 -> 704 | W9: =+V9*G9 -> 5632
A10: K | B10: 70 | C10: DATA 8 | F10: =34+59 -> 93 | G10: 8 | H10: 64 | I10: 67 | K10: =J10/F10 -> 0 | M10: =L10/F10 -> 0 | N10: 320 | O10: =N10/F10 -> 3.4408602 | P10: 320 | Q10: =P10/F10 -> 3.4408602 | R10: 320 | S10: =R10/F10 -> 3.4408602 | T10: 320 | U10: =T10/F10 -> 3.4408602 | V10: =+J10+L10+N10+P10+R10+T10 -> 1280 | W10: =+V10*G10 -> 10240
A11: L | B11: 82 | C11: DATA 9 | F11: 60 | G11: 8 | H11: 64 | I11: 82 | K11: 0 | M11: =L11/F11 -> 0 | N11: 256 | O11: =N11/F11 -> 4.2666667 | P11: 128 | Q11: =P11/F11 -> 2.1333333 | R11: 256 | S11: =R11/F11 -> 4.2666667 | T11: 128 | U11: =T11/F11 -> 2.1333333 | V11: =+J11+L11+N11+P11+R11+T11 -> 768 | W11: =+V11*G11 -> 6144
A12: M | B12: 34 | C12: DATA 10 | F12: 59 | G12: 8 | H12: 64 | I12: 34 | K12: =J12/F12 -> 0 | M12: =L12/F12 -> 0 | N12: 192 | O12: =N12/F12 -> 3.2542373 | P12: 64 | Q12: =P12/F12 -> 1.0847458 | R12: 192 | S12: =R12/F12 -> 3.2542373 | T12: 128 | U12: =T12/F12 -> 2.1694915 | V12: =+J12+L12+N12+P12+R12+T12 -> 576 | W12: =+V12*G12 -> 4608
A13: N | B13: 11 | C13: DATA 11 | F13: 60 | G13: 8 | H13: 64 | I13: 11 | K13: =J13/F13 -> 0 | M13: =L13/F13 -> 0 | N13: 192 | O13: =N13/F13 -> 3.2 | P13: 128 | Q13: =P13/F13 -> 2.1333333 | R13: 192 | S13: =R13/F13 -> 3.2 | T13: 128 | U13: =T13/F13 -> 2.1333333 | V13: =+J13+L13+N13+P13+R13+T13 -> 640 | W13: =+V13*G13 -> 5120
A14: O | B14: 16 | C14: DATA 12 | F14: 78 | G14: 8 | H14: 64 | I14: 16 | K14: =J14/F14 -> 0 | M14: =L14/F14 -> 0 | N14: 320 | O14: =N14/F14 -> 4.1025641 | P14: 128 | Q14: =P14/F14 -> 1.6410256 | R14: 256 | S14: =R14/F14 -> 3.2820513 | T14: 128 | U14: =T14/F14 -> 1.6410256 | V14: =+J14+L14+N14+P14+R14+T14 -> 832 | W14: =+V14*G14 -> 6656
B15: TOTAL KORTRICHT | F15: =SUM(F2:F14) -> 879 | J15: =SUM(J3:J14) -> 0 | L15: =SUM(L3:L14) -> 0 | N15: =SUM(N3:N14) -> 3520 | O15: =N15/F15 -> 4.0045506 | P15: =SUM(P3:P14) -> 1792 | Q15: =P15/F15 -> 2.0386803 | R15: =SUM(R3:R14) -> 3072 | S15: =R15/F15 -> 3.4948805 | T15: =SUM(T3:T14) -> 2144 | U15: =T15/F15 -> 2.4391354 | V15: =SUM(V3:V14) -> 10528 | W15: =SUM(W3:W14) -> 84224
A16: P | B16: 74 | C16: DATA 13 | F16: 65 | G16: 8 | H16: 64 | I16: 74 | K16: =J16/F16 -> 0 | M16: =L16/F16 -> 0 | N16: 192 | O16: =N16/F16 -> 2.9538462 | P16: 64 | Q16: =P16/F16 -> 0.98461538 | R16: 192 | S16: =R16/F16 -> 2.9538462 | T16: 128 | U16: =T16/F16 -> 1.9692308 | V16: =+J16+L16+N16+P16+R16+T16 -> 576 | W16: =+V16*G16 -> 4608
A17: Q | B17: 59 | C17: DATA 14 | F17: 57 | G17: 8 | H17: 64 | I17: 59 | K17: =J17/F17 -> 0 | M17: =L17/F17 -> 0 | N17: 192 | O17: =N17/F17 -> 3.3684211 | P17: 0 | Q17: =P17/F17 -> 0 | R17: 128 | S17: =R17/F17 -> 2.245614 | T17: 64 | U17: =T17/F17 -> 1.122807 | V17: =+J17+L17+N17+P17+R17+T17 -> 384 | W17: =+V17*G17 -> 3072
A18: R | B18: 67 | C18: DATA 15 | F18: 57 | G18: 8 | H18: 64 | I18: 67 | K18: =J18/F18 -> 0 | M18: =L18/F18 -> 0 | N18: 256 | O18: =N18/F18 -> 4.4912281 | P18: 64 | Q18: =P18/F18 -> 1.122807 | R18: 128 | S18: =R18/F18 -> 2.245614 | T18: 128 | U18: =T18/F18 -> 2.245614 | V18: =+J18+L18+N18+P18+R18+T18 -> 576 | W18: =+V18*G18 -> 4608
A19: S | B19: 14 | C19: DATA 16 | F19: 66 | G19: 8 | H19: 64 | I19: 14 | K19: =J19/F19 -> 0 | M19: =L19/F19 -> 0 | N19: 256 | O19: =N19/F19 -> 3.8787879 | P19: 0 | Q19: =P19/F19 -> 0 | R19: 256 | S19: =R19/F19 -> 3.8787879 | T19: 128 | U19: =T19/F19 -> 1.9393939 | V19: =+J19+L19+N19+P19+R19+T19 -> 640 | W19: =+V19*G19 -> 5120
A20: T | B20: 29 | C20: DATA 17 | F20: 72 | G20: 8 | H20: 64 | I20: 29 | K20: =J20/F20 -> 0 | M20: =L20/F20 -> 0 | N20: 256 | O20: =N20/F20 -> 3.5555556 | P20: 64 | Q20: =P20/F20 -> 0.88888889 | R20: 256 | S20: =R20/F20 -> 3.5555556 | T20: 128 | U20: =T20/F20 -> 1.7777778 | V20: =+J20+L20+N20+P20+R20+T20 -> 704 | W20: =+V20*G20 -> 5632
A21: U | B21: 39 | C21: DATA 18 | F21: 77 | G21: 8 | H21: 64 | I21: 39 | K21: =J21/F21 -> 0 | M21: =L21/F21 -> 0 | N21: 256 | O21: =N21/F21 -> 3.3246753 | P21: 64 | Q21: =P21/F21 -> 0.83116883 | R21: 192 | S21: =R21/F21 -> 2.4935065 | T21: 256 | U21: =T21/F21 -> 3.3246753 | V21: =+J21+L21+N21+P21+R21+T21 -> 768 | W21: =+V21*G21 -> 6144
A22: V | B22: 66 | C22: DATA 19 | F22: 55 | G22: 8 | H22: 64 | I22: 66 | K22: =J22/F22 -> 0 | M22: =L22/F22 -> 0 | N22: 192 | O22: =N22/F22 -> 3.4909091 | P22: 64 | Q22: =P22/F22 -> 1.1636364 | R22: 192 | S22: =R22/F22 -> 3.4909091 | T22: 64 | U22: =T22/F22 -> 1.1636364 | V22: =+J22+L22+N22+P22+R22+T22 -> 512 | W22: =+V22*G22 -> 4096
A23: W | B23: 55 | C23: DATA 20 | F23: 61 | G23: 8 | H23: 64 | I23: 55 | K23: =J23/F23 -> 0 | M23: =L23/F23 -> 0 | N23: 192 | O23: =N23/F23 -> 3.147541 | P23: 64 | Q23: =P23/F23 -> 1.0491803 | R23: 192 | S23: =R23/F23 -> 3.147541 | T23: 64 | U23: =T23/F23 -> 1.0491803 | V23: =+J23+L23+N23+P23+R23+T23 -> 512 | W23: =+V23*G23 -> 4096
A24: X | B24: 44 | C24: DATA 21 | F24: 51 | G24: 8 | H24: 64 | I24: 44 | K24: =J24/F24 -> 0 | M24: =L24/F24 -> 0 | N24: 128 | O24: =N24/F24 -> 2.5098039 | P24: 64 | Q24: =P24/F24 -> 1.254902 | R24: 128 | S24: =R24/F24 -> 2.5098039 | T24: 224 | U24: =T24/F24 -> 4.3921569 | V24: =+J24+L24+N24+P24+R24+T24 -> 544 | W24: =+V24*G24 -> 4352
A25: Y | B25: 98 | C25: DATA 22 | F25: 37 | G25: 8 | H25: 64 | I25: 98 | K25: =J25/F25 -> 0 | M25: =L25/F25 -> 0 | N25: 192 | O25: =N25/F25 -> 5.1891892 | P25: 64 | Q25: =P25/F25 -> 1.7297297 | R25: 192 | S25: =R25/F25 -> 5.1891892 | T25: 64 | U25: =T25/F25 -> 1.7297297 | V25: =+J25+L25+N25+P25+R25+T25 -> 512 | W25: =+V25*G25 -> 4096
B26: TOTAL MONTPELLIER | F26: =SUM(F16:F25) -> 598 | J26: =SUM(J16:J25) -> 0 | L26: =SUM(L16:L25) -> 0 | N26: =SUM(N16:N25) -> 2112 | O26: =N26/F26 -> 3.5317726 | P26: =SUM(P16:P25) -> 512 | Q26: =P26/F26 -> 0.85618729 | R26: =SUM(R16:R25) -> 1856 | S26: =R26/F26 -> 3.1036789 | T26: =SUM(T16:T25) -> 1248 | U26: =T26/F26 -> 2.0869565 | V26: =SUM(V16:V25) -> 5728 | W26: =SUM(W16:W25) -> 45824
B27: TOTAL France | F27: =SUM(F26,F15) -> 1477 | J27: =J15+J26 -> 0 | L27: =L15+L26 -> 0 | N27: =N26+N15 -> 5632 | O27: =N27/F27 -> 3.8131347 | P27: =P26+P15 -> 2304 | Q27: =P27/F27 -> 1.5599188 | R27: =R15+R26 -> 4928 | S27: =S15+S26 -> 6.5985595 | T27: =T15+T26 -> 3392 | U27: =T27/F27 -> 2.2965471 | V27: =V15+V26 -> 16256 | W27: =W15+W26 -> 130048
A28: VEUILLEZ ATTRIBUER QUOTIDIENNEMENT TOUT LE STOCK ET TOUTES LES QUANTITES RECEPTIONNEES
B29: 1 | C29: 2 | G29: 6 | H29: 7 | J29: 9 | L29: 11 | N29: 13 | P29: 15 | R29: 17 | T29: 19 | V29: 21 | W29: 22
A35: S40 | C35: 46996-Ananas 300g | F35: 25 | G35: MEA Mer-Dim | J35: Qtés pour livraison entrepôt en COLIS | V35: Total | W35: UVC
A36: GEO | B36: DR | C36: Nom DR | D36: CA DR / CA FR TOTAL | E36: CA FL / CA | F36: Nombre magasins | G36: UVC / Colis | H36: Colis/Pal. | I36: DR | J36: samedi | K36: Colis /mag | L36: Lundi | M36: Colis /mag | N36: Mardi | O36: Colis /mag | P36: Mercredi | Q36: Colis /mag | R36: Jeudi | S36: Colis /mag | T36: Vendredi | U36: Colis /mag
A37: B | B37: 50 | C37: DATA 1 | F37: =53+53 -> 106 | G37: 56 | H37: 145 | I37: 50 | K37: =J37/F37 -> 0 | M37: =L37/F37 -> 0 | N37: 870 | O37: =N37/F37 -> 8.2075472 | P37: 0 | Q37: =P37/F37 -> 0 | R37: 435 | S37: =R37/F37 -> 4.1037736 | T37: 290 | U37: =T37/F37 -> 2.7358491 | V37: =+J37+L37+N37+P37+R37+T37 -> 1595 | W37: =+V37*G37 -> 89320
A38: C | B38: 25 | C38: DATA 2 | F38: 70 | G38: 56 | H38: 145 | I38: 25 | K38: =J38/F38 -> 0 | M38: =L38/F38 -> 0 | N38: 580 | O38: =N38/F38 -> 8.2857143 | P38: 0 | Q38: =P38/F38 -> 0 | R38: 290 | S38: =R38/F38 -> 4.1428571 | T38: 145 | U38: =T38/F38 -> 2.0714286 | V38: =+J38+L38+N38+P38+R38+T38 -> 1015 | W38: =+V38*G38 -> 56840
A39: D | B39: 64 | C39: DATA 3 | F39: =61+58 -> 119 | G39: 56 | H39: 145 | I39: 64 | K39: =J39/F39 -> 0 | M39: =L39/F39 -> 0 | N39: 1015 | O39: =N39/F39 -> 8.5294118 | P39: 0 | Q39: =P39/F39 -> 0 | R39: 435 | S39: =R39/F39 -> 3.6554622 | T39: 290 | U39: =T39/F39 -> 2.4369748 | V39: =+J39+L39+N39+P39+R39+T39 -> 1740 | W39: =+V39*G39 -> 97440
A40: F | B40: 78 | C40: DATA 4 | F40: 69 | G40: 56 | H40: 145 | I40: 78 | K40: =J40/F40 -> 0 | M40: =L40/F40 -> 0 | N40: 580 | O40: =N40/F40 -> 8.4057971 | P40: 0 | Q40: =P40/F40 -> 0 | R40: 290 | S40: =R40/F40 -> 4.2028986 | T40: 145 | U40: =T40/F40 -> 2.1014493 | V40: =+J40+L40+N40+P40+R40+T40 -> 1015 | W40: =+V40*G40 -> 56840
A41: G | B41: 94 | C41: DATA 5 | F41: 63 | G41: 56 | H41: 145 | I41: 94 | K41: =J41/F41 -> 0 | M41: =L41/F41 -> 0 | N41: 580 | O41: =N41/F41 -> 9.2063492 | P41: 0 | Q41: =P41/F41 -> 0 | R41: 290 | S41: =R41/F41 -> 4.6031746 | T41: 145 | U41: =T41/F41 -> 2.3015873 | V41: =+J41+L41+N41+P41+R41+T41 -> 1015 | W41: =+V41*G41 -> 56840
A42: H | B42: 21 | C42: DATA 6 | F42: 50 | G42: 56 | H42: 145 | I42: 21 | K42: =J42/F42 -> 0 | M42: =L42/F42 -> 0 | N42: 580 | O42: =N42/F42 -> 11.6 | P42: 0 | Q42: =P42/F42 -> 0 | R42: 290 | S42: =R42/F42 -> 5.8 | T42: 145 | U42: =T42/F42 -> 2.9 | V42: =+J42+L42+N42+P42+R42+T42 -> 1015 | W42: =+V42*G42 -> 56840
A43: J | B43: 45 | C43: DATA 7 | F43: 52 | G43: 56 | H43: 145 | I43: 45 | K43: =J43/F43 -> 0 | M43: =L43/F43 -> 0 | N43: 580 | O43: =N43/F43 -> 11.153846 | P43: 0 | Q43: =P43/F43 -> 0 | R43: 290 | S43: =R43/F43 -> 5.5769231 | T43: 145 | U43: =T43/F43 -> 2.7884615 | V43: =+J43+L43+N43+P43+R43+T43 -> 1015 | W43: =+V43*G43 -> 56840
A44: K | B44: 70 | C44: DATA 8 | F44: =34+59 -> 93 | G44: 56 | H44: 145 | I44: 67 | K44: =J44/F44 -> 0 | M44: =L44/F44 -> 0 | N44: 870 | O44: =N44/F44 -> 9.3548387 | P44: 0 | Q44: =P44/F44 -> 0 | R44: 435 | S44: =R44/F44 -> 4.6774194 | T44: 290 | U44: =T44/F44 -> 3.1182796 | V44: =+J44+L44+N44+P44+R44+T44 -> 1595 | W44: =+V44*G44 -> 89320
A45: L | B45: 82 | C45: DATA 9 | F45: 60 | G45: 56 | H45: 145 | I45: 82 | K45: =J45/F45 -> 0 | M45: =L45/F45 -> 0 | N45: 580 | O45: =N45/F45 -> 9.6666667 | P45: 0 | Q45: =P45/F45 -> 0 | R45: 290 | S45: =R45/F45 -> 4.8333333 | T45: 145 | U45: =T45/F45 -> 2.4166667 | V45: =+J45+L45+N45+P45+R45+T45 -> 1015 | W45: =+V45*G45 -> 56840
...

Sheet CALCUL PALETTES (À TRAVAILLER) 
A1: S40 | G1: QUANTITÉ PALETTES | M1: TOTAL PALETTES
A2: 67 | B2: ARTICLE | C2: PRIX | D2: UVC / COLIS | E2: COLIS / PAL. | G2: SAMEDI | H2: LUNDI | I2: MARDI | J2: MERCREDI | K2: JEUDI | L2: VENDREDI
A3: =A$2 -> 67 | B3: {=IFERROR(INDEX(article,SMALL(IF(ISNUMBER(SEARCH("MEA",colg)),ROW(article),""),ROW(A1))),"")} -> 45254 Courgette Bio 700g | C3: =VLOOKUP($B3,'REPORT DONNÉES'!$C1:$H178,4,0) -> 37 | D3: =VLOOKUP($A$2,OFFSET(bdd,MATCH($B3,article,0)-1,),6,0) -> 8 | E3: =VLOOKUP($A$2,OFFSET(bdd,MATCH($B3,article,0)-1,),7,0) -> 64 | G3: =VLOOKUP($A$2,OFFSET(bdd,MATCH($B3,article,0)-1,),9,0)/$E3 -> 0 | H3: =VLOOKUP($A$2,OFFSET(bdd,MATCH($B3,article,0)-1,),11,0)/$E3 -> 0 | I3: =VLOOKUP($A$2,OFFSET(bdd,MATCH($B3,article,0)-1,),13,0)/$E3 -> 4 | J3: =VLOOKUP($A$2,OFFSET(bdd,MATCH($B3,article,0)-1,),15,0)/$E3 -> 1 | K3: =VLOOKUP($A$2,OFFSET(bdd,MATCH($B3,article,0)-1,),17,0)/$E3 -> 2 | L3: =VLOOKUP($A$2,OFFSET(bdd,MATCH($B3,article,0)-1,),19,0)/$E3 -> 2 | M3: =SUM(G3:L3) -> 9
A4: =A$2 -> 67 | B4: {=IFERROR(INDEX(article,SMALL(IF(ISNUMBER(SEARCH("MEA",colg)),ROW(article),""),ROW(A2))),"")} -> 46996-Ananas 300g | C4: =VLOOKUP($B4,'REPORT DONNÉES'!$C2:$H179,4,0) -> 25 | D4: =VLOOKUP($A$2,OFFSET(bdd,MATCH($B4,article,0)-1,),6,0) -> 56 | E4: =VLOOKUP($A$2,OFFSET(bdd,MATCH($B4,article,0)-1,),7,0) -> 145 | G4: =VLOOKUP($A$2,OFFSET(bdd,MATCH($B4,article,0)-1,),9,0)/$E4 -> 0 | H4: =VLOOKUP($A$2,OFFSET(bdd,MATCH($B4,article,0)-1,),11,0)/$E4 -> 0 | I4: =VLOOKUP($A$2,OFFSET(bdd,MATCH($B4,article,0)-1,),13,0)/$E4 -> 4 | J4: =VLOOKUP($A$2,OFFSET(bdd,MATCH($B4,article,0)-1,),15,0)/$E4 -> 0 | K4: =VLOOKUP($A$2,OFFSET(bdd,MATCH($B4,article,0)-1,),17,0)/$E4 -> 2 | L4: =VLOOKUP($A$2,OFFSET(bdd,MATCH($B4,article,0)-1,),19,0)/$E4 -> 1 | M4: =SUM(G4:L4) -> 7
A5: =A$2 -> 67 | B5: {=IFERROR(INDEX(article,SMALL(IF(ISNUMBER(SEARCH("MEA",colg)),ROW(article),""),ROW(A3))),"")} -> 90154-Orange 1kg | C5: =VLOOKUP($B5,'REPORT DONNÉES'!$C3:$H180,4,0) -> 18 | D5: =VLOOKUP($A$2,OFFSET(bdd,MATCH($B5,article,0)-1,),6,0) -> 6 | E5: =VLOOKUP($A$2,OFFSET(bdd,MATCH($B5,article,0)-1,),7,0) -> 80 | G5: =VLOOKUP($A$2,OFFSET(bdd,MATCH($B5,article,0)-1,),9,0)/$E5 -> 0 | H5: =VLOOKUP($A$2,OFFSET(bdd,MATCH($B5,article,0)-1,),11,0)/$E5 -> 0 | I5: =VLOOKUP($A$2,OFFSET(bdd,MATCH($B5,article,0)-1,),13,0)/$E5 -> 6 | J5: =VLOOKUP($A$2,OFFSET(bdd,MATCH($B5,article,0)-1,),15,0)/$E5 -> 2 | K5: =VLOOKUP($A$2,OFFSET(bdd,MATCH($B5,article,0)-1,),17,0)/$E5 -> 6 | L5: =VLOOKUP($A$2,OFFSET(bdd,MATCH($B5,article,0)-1,),19,0)/$E5 -> 2 | M5: =SUM(G5:L5) -> 16
A6: =A$2 -> 67 | B6: {=IFERROR(INDEX(article,SMALL(IF(ISNUMBER(SEARCH("MEA",colg)),ROW(article),""),ROW(A4))),"")} -> 45985-Herbes aromatiques 25g | C6: =VLOOKUP($B6,'REPORT DONNÉES'!$C4:$H181,4,0) -> 15 | D6: =VLOOKUP($A$2,OFFSET(bdd,MATCH($B6,article,0)-1,),6,0) -> 6 | E6: =VLOOKUP($A$2,OFFSET(bdd,MATCH($B6,article,0)-1,),7,0) -> 80 | G6: =VLOOKUP($A$2,OFFSET(bdd,MATCH($B6,article,0)-1,),9,0)/$E6 -> 0 | H6: =VLOOKUP($A$2,OFFSET(bdd,MATCH($B6,article,0)-1,),11,0)/$E6 -> 0 | I6: =VLOOKUP($A$2,OFFSET(bdd,MATCH($B6,article,0)-1,),13,0)/$E6 -> 2 | J6: =VLOOKUP($A$2,OFFSET(bdd,MATCH($B6,article,0)-1,),15,0)/$E6 -> 0 | K6: =VLOOKUP($A$2,OFFSET(bdd,MATCH($B6,article,0)-1,),17,0)/$E6 -> 1 | L6: =VLOOKUP($A$2,OFFSET(bdd,MATCH($B6,article,0)-1,),19,0)/$E6 -> 1 | M6: =SUM(G6:L6) -> 4
A7: =A$2 -> 67 | B7: {=IFERROR(INDEX(article,SMALL(IF(ISNUMBER(SEARCH("MEA",colg)),ROW(article),""),ROW(A5))),"")} -> 125546 citron | C7: =VLOOKUP($B7,'REPORT DONNÉES'!$C5:$H182,4,0) -> 100 | D7: =VLOOKUP($A$2,OFFSET(bdd,MATCH($B7,article,0)-1,),6,0) -> 30 | E7: =VLOOKUP($A$2,OFFSET(bdd,MATCH($B7,article,0)-1,),7,0) -> 48 | G7: =VLOOKUP($A$2,OFFSET(bdd,MATCH($B7,article,0)-1,),9,0)/$E7 -> 0 | H7: =VLOOKUP($A$2,OFFSET(bdd,MATCH($B7,article,0)-1,),11,0)/$E7 -> 0 | I7: =VLOOKUP($A$2,OFFSET(bdd,MATCH($B7,article,0)-1,),13,0)/$E7 -> 6 | J7: =VLOOKUP($A$2,OFFSET(bdd,MATCH($B7,article,0)-1,),15,0)/$E7 -> 4 | K7: =VLOOKUP($A$2,OFFSET(bdd,MATCH($B7,article,0)-1,),17,0)/$E7 -> 4 | L7: =VLOOKUP($A$2,OFFSET(bdd,MATCH($B7,article,0)-1,),19,0)/$E7 -> 5 | M7: =SUM(G7:L7) -> 19
A8: =A$2 -> 67 | B8: {=IFERROR(INDEX(article,SMALL(IF(ISNUMBER(SEARCH("MEA",colg)),ROW(article),""),ROW(A6))),"")} -> 80611-Ananas | C8: =VLOOKUP($B8,'REPORT DONNÉES'!$C6:$H183,4,0) -> 2 | D8: =VLOOKUP($A$2,OFFSET(bdd,MATCH($B8,article,0)-1,),6,0) -> 8 | E8: =VLOOKUP($A$2,OFFSET(bdd,MATCH($B8,article,0)-1,),7,0) -> 80 | G8: =VLOOKUP($A$2,OFFSET(bdd,MATCH($B8,article,0)-1,),9,0)/$E8 -> 5 | H8: =VLOOKUP($A$2,OFFSET(bdd,MATCH($B8,article,0)-1,),11,0)/$E8 -> 0 | I8: =VLOOKUP($A$2,OFFSET(bdd,MATCH($B8,article,0)-1,),13,0)/$E8 -> 0 | J8: =VLOOKUP($A$2,OFFSET(bdd,MATCH($B8,article,0)-1,),15,0)/$E8 -> 0 | K8: =VLOOKUP($A$2,OFFSET(bdd,MATCH($B8,article,0)-1,),17,0)/$E8 -> 0 | L8: =VLOOKUP($A$2,OFFSET(bdd,MATCH($B8,article,0)-1,),19,0)/$E8 -> 0 | M8: =SUM(G8:L8) -> 5
B12: tu peux choisir le DR au cas ou
