Workbook
Name article: 'REPORT DONNÉES'!$C$1:$C$180
Name bdd: 'REPORT DONNÉES'!$B$3:$W$25
Name colg: OFFSET('REPORT DONNÉES'!$G$1,,,200)
Name indexdr: 'REPORT DONNÉES'!$I$3:$I$25

Sheet REPORT DONNÉES
A1: S 40 | C1: 45254 Courgette Bio 700g | F1: 37 | G1: MEA Mer-Dim | J1: Qtés pour livraison entrepôt en COLIS | V1: Total | W1: UVC
A2: GEO | B2: DR | C2: Nom DR | D2: CA DR / CA FR TOTAL | E2: CA FL / CA | F2: Nombre magasins | G2: UVC / Colis | H2: Colis/Pal. | I2: DR | J2: samedi | K2: Colis /mag | L2: Lundi | M2: Colis /mag | N2: Mardi | O2: Colis /mag | P2: Mercredi | Q2: Colis /mag | R2: Jeudi | S2: Colis /mag | T2: Vendredi | U2: Colis /mag
A3: B | B3: 50 | C3: DATA 1 | F3: =53+53 -> 106 | G3: 8 | H3: 64 | I3: 50 | K3: =J3/F3 -> 0 | M3: =L3/F3 -> 0 | N3: 320 | O3: =N3/F3 -> 3.0188679 | P3: 128 | Q3: =P3/F3 -> 1.2075472 | R3: 320 | S3: =R3/F3 -> 3.0188679 | T3: 128 | U3: =T3/F3 -> 1.2075472 | V3: =+J3+L3+N3+P3+R3+T3 -> 896 | W3: =+V3*G3 -> 7168
A4: C | B4: 25 | C4: DATA 2 | F4: 70 | G4: 8 | H4: 64 | I4: 25 | K4: =J4/F4 -> 0 | M4: =L4/F4 -> 0 | N4: 256 | O4: =N4/F4 -> 3.6571429 | P4: 128 | Q4: =P4/F4 -> 1.8285714 | R4: 128 | S4: =R4/F4 -> 1.8285714 | T4: 224 | U4: =T4/F4 -> 3.2 | V4: =+J4+L4+N4+P4+R4+T4 -> 736 | W4: =+V4*G4 -> 5888
A5: D | B5: 64 | C5: DATA 3 | F5: =61+58 -> 119 | G5: 8 | H5: 64 | I5: 64 | K5: =J5/F5 -> 0 | M5: =L5/F5 -> 0 | N5: 576 | O5: =N5/F5 -> 4.8403361 | P5: 384 | Q5: 5 | R5: 576 | S5: =R5/F5 -> 4.8403361 | T5: 384 | U5: =T5/F5 -> 3.2268908 | V5: =+J5+L5+N5+P5+R5+T5 -> 1920 | W5: =+V5*G5 -> 15360
A6: F | B6: 78 | C6: DATA 4 | F6: 69 | G6: 8 | H6: 64 | I6: 78 | K6: =J6/F6 -> 0 | M6: =L6/F6 -> 0 | N6: 320 | O6: =N6/F6 -> 4.6376812 | P6: 128 | Q6: =P6/F6 -> 1.8550725 | R6: 192 | S6: =R6/F6 -> 2.7826087 | T6: 128 | U6: =T6/F6 -> 1.8550725 | V6: =+J6+L6+N6+P6+R6+T6 -> 768 | W6: =+V6*G6 -> 6144
A7: G | B7: 94 | C7: DATA 5 | F7: 63 | G7: 8 | H7: 64 | I7: 94 | K7: =J7/F7 -> 0 | M7: =L7/F7 -> 0 | N7: 256 | O7: =N7/F7 -> 4.0634921 | P7: 128 | Q7: =P7/F7 -> 2.031746 | R7: 256 | S7: =R7/F7 -> 4.0634921 | T7: 128 | U7: =T7/F7 -> 2.031746 | V7: =+J7+L7+N7+P7+R7+T7 -> 768 | W7: =+V7*G7 -> 6144
A8: H | B8: 21 | C8: DATA 6 | F8: 50 | G8: 8 | H8: 64 | I8: 21 | K8: =J8/F8 -> 0 | M8: =L8/F8 -> 0 | N8: 256 | O8: =N8/F8 -> 5.12 | P8: 64 | Q8: =P8/F8 -> 1.28 | R8: 192 | S8: =R8/F8 -> 3.84 | T8: 128 | U8: =T8/F8 -> 2.56 | V8: =+J8+L8+N8+P8+R8+T8 -> 640 | W8: =+V8*G8 -> 5120
A9: J | B9: 45 | C9: DATA 7 | F9: 52 | G9: 8 | H9: 64 | I9: 45 | K9: =J9/F9 -> 0 | M9: =L9/F9 -> 0 | N9: 256 | O9: =N9/F9 -> 4.9230769 | P9: 64 | Q9: =P9/F9 -> 1.2307692 | R9: 192 | S9: =R9/F9 -> 3.6923077 | T9: 192 | U9: =T9/F9 -> 3.6923077 | V9: =+J9+L9+N9+P9+R9+T9 -> 704 | W9: =+V9*G9 -> 5632
A10: K | B10: 70 | C10: DATA 8 | F10: =34+59 -> 93 | G10: 8 | H10: 64 | I10: 67 | K10: =J10/F10 -> 0 | M10: =L10/F10 -> 0 | N10: 320 | O10: =N10/F10 -> 3.4408602 | P10: 320 | Q10: =P10/F10 -> 3.4408602 | R10: 320 | S10: =R10/F10 -> 3.4408602 | T10: 320 | U10: =T10/F10 -> 3.4408602 | V10: =+J10+L10+N10+P10+R10+T10 -> 1280 | W10: =+V10*G10 -> 10240
A11: L | B11: 82 | C11: DATA 9 | F11: 60 | G11: 8 | H11: 64 | I11: 82 | K11: 0 | M11: =L11/F11 -> 0 | N11: 256 | O11: =N11/F11 -> 4.2666667 | P11: 128 | Q11: =P11/F11 -> 2.1333333 | R11: 256 | S11: =R11/F11 -> 4.2666667 | T11: 128 | U11: =T11/F11 -> 2.1333333 | V11: =+J11+L11+N11+P11+R11+T11 -> 768 | W11: =+V11*G11 -> 6144
A12: M | B12: 34 | C12: DATA 10 | F12: 59 | G12: 8 | H12: 64 | I12: 34 | K12: =J12/F12 -> 0 | M12: =L12/F12 -> 0 | N12: 192 | O12: =N12/F12 -> 3.2542373 | P12: 64 | Q12: =P12/F12 -> 1.0847458 | R12: 192 | S12: =R12/F12 -> 3.2542373 | T12: 128 | U12: =T12/F12 -> 2.1694915 | V12: =+J12+L12+N12+P12+R12+T12 -> 576 | W12: =+V12*G12 -> 4608
A13: N | B13: 11 | C13: DATA 11 | F13: 60 | G13: 8 | H13: 64 | I13: 11 | K13: =J13/F13 -> 0 | M13: =L13/F13 -> 0 | N13: 192 | O13: =N13/F13 -> 3.2 | P13: 128 | Q13: =P13/F13 -> 2.1333333 | R13: 192 | S13: =R13/F13 -> 3.2 | T13: 128 | U13: =T13/F13 -> 2.1333333 | V13: =+J13+L13+N13+P13+R13+T13 -> 640 | W13: =+V13*G13 -> 5120
A14: O | B14: 16 | C14: DATA 12 | F14: 78 | G14: 8 | H14: 64 | I14: 16 | K14: =J14/F14 -> 0 | M14: =L14/F14 -> 0 | N14: 320 | O14: =N14/F14 -> 4.1025641 | P14: 128 | Q14: =P14/F14 -> 1.6410256 | R14: 256 | S14: =R14/F14 -> 3.2820513 | T14: 128 | U14: =T14/F14 -> 1.6410256 | V14: =+J14+L14+N14+P14+R14+T14 -> 832 | W14: =+V14*G14 -> 6656
B15: TOTAL KORTRICHT | F15: =SUM(F2:F14) -> 879 | J15: =SUM(J3:J14) -> 0 | L15: =SUM(L3:L14) -> 0 | N15: =SUM(N3:N14) -> 3520 | O15: =N15/F15 -> 4.0045506 | P15: =SUM(P3:P14) -> 1792 | Q15: =P15/F15 -> 2.0386803 | R15: =SUM(R3:R14) -> 3072 | S15: =R15/F15 -> 3.4948805 | T15: =SUM(T3:T14) -> 2144 | U15: =T15/F15 -> 2.4391354 | V15: =SUM(V3:V14) -> 10528 | W15: =SUM(W3:W14) -> 84224
A16: P | B16: 74 | C16: DATA 13 | F16: 65 | G16: 8 | H16: 64 | I16: 74 | K16: =J16/F16 -> 0 | M16: =L16/F16 -> 0 | N16: 192 | O16: =N16/F16 -> 2.9538462 | P16: 64 | Q16: =P16/F16 -> 0.98461538 | R16: 192 | S16: =R16/F16 -> 2.9538462 | T16: 128 | U16: =T16/F16 -> 1.9692308 | V16: =+J16+L16+N16+P16+R16+T16 -> 576 | W16: =+V16*G16 -> 4608
A17: Q | B17: 59 | C17: DATA 14 | F17: 57 | G17: 8 | H17: 64 | I17: 59 | K17: =J17/F17 -> 0 | M17: =L17/F17 -> 0 | N17: 192 | O17: =N17/F17 -> 3.3684211 | P17: 0 | Q17: =P17/F17 -> 0 | R17: 128 | S17: =R17/F17 -> 2.245614 | T17: 64 | U17: =T17/F17 -> 1.122807 | V17: =+J17+L17+N17+P17+R17+T17 -> 384 | W17: =+V17*G17 -> 3072
A18: R | B18: 67 | C18: DATA 15 | F18: 57 | G18: 8 | H18: 64 | I18: 67 | K18: =J18/F18 -> 0 | M18: =L18/F18 -> 0 | N18: 256 | O18: =N18/F18 -> 4.4912281 | P18: 64 | Q18: =P18/F18 -> 1.122807 | R18: 128 | S18: =R18/F18 -> 2.245614 | T18: 128 | U18: =T18/F18 -> 2.245614 | V18: =+J18+L18+N18+P18+R18+T18 -> 576 | W18: =+V18*G18 -> 4608
A19: S | B19: 14 | C19: DATA 16 | F19: 66 | G19: 8 | H19: 64 | I19: 14 | K19: =J19/F19 -> 0 | M19: =L19/F19 -> 0 | N19: 256 | O19: =N19/F19 -> 3.8787879 | P19: 0 | Q19: =P19/F19 -> 0 | R19: 256 | S19: =R19/F19 -> 3.8787879 | T19: 128 | U19: =T19/F19 -> 1.9393939 | V19: =+J19+L19+N19+P19+R19+T19 -> 640 | W19: =+V19*G19 -> 5120
A20: T | B20: 29 | C20: DATA 17 | F20: 72 | G20: 8 | H20: 64 | I20: 29 | K20: =J20/F20 -> 0 | M20: =L20/F20 -> 0 | N20: 256 | O20: =N20/F20 -> 3.5555556 | P20: 64 | Q20: =P20/F20 -> 0.88888889 | R20: 256 | S20: =R20/F20 -> 3.5555556 | T20: 128 | U20: =T20/F20 -> 1.7777778 | V20: =+J20+L20+N20+P20+R20+T20 -> 704 | W20: =+V20*G20 -> 5632
A21: U | B21: 39 | C21: DATA 18 | F21: 77 | G21: 8 | H21: 64 | I21: 39 | K21: =J21/F21 -> 0 | M21: =L21/F21 -> 0 | N21: 256 | O21: =N21/F21 -> 3.3246753 | P21: 64 | Q21: =P21/F21 -> 0.83116883 | R21: 192 | S21: =R21/F21 -> 2.4935065 | T21: 256 | U21: =T21/F21 -> 3.3246753 | V21: =+J21+L21+N21+P21+R21+T21 -> 768 | W21: =+V21*G21 -> 6144
A22: V | B22: 66 | C22: DATA 19 | F22: 55 | G22: 8 | H22: 64 | I22: 66 | K22: =J22/F22 -> 0 | M22: =L22/F22 -> 0 | N22: 192 | O22: =N22/F22 -> 3.4909091 | P22: 64 | Q22: =P22/F22 -> 1.1636364 | R22: 192 | S22: =R22/F22 -> 3.4909091 | T22: 64 | U22: =T22/F22 -> 1.1636364 | V22: =+J22+L22+N22+P22+R22+T22 -> 512 | W22: =+V22*G22 -> 4096
A23: W | B23: 55 | C23: DATA 20 | F23: 61 | G23: 8 | H23: 64 | I23: 55 | K23: =J23/F23 -> 0 | M23: =L23/F23 -> 0 | N23: 192 | O23: =N23/F23 -> 3.147541 | P23: 64 | Q23: =P23/F23 -> 1.0491803 | R23: 192 | S23: =R23/F23 -> 3.147541 | T23: 64 | U23: =T23/F23 -> 1.0491803 | V23: =+J23+L23+N23+P23+R23+T23 -> 512 | W23: =+V23*G23 -> 4096
A24: X | B24: 44 | C24: DATA 21 | F24: 51 | G24: 8 | H24: 64 | I24: 44 | K24: =J24/F24 -> 0 | M24: =L24/F24 -> 0 | N24: 128 | O24: =N24/F24 -> 2.5098039 | P24: 64 | Q24: =P24/F24 -> 1.254902 | R24: 128 | S24: =R24/F24 -> 2.5098039 | T24: 224 | U24: =T24/F24 -> 4.3921569 | V24: =+J24+L24+N24+P24+R24+T24 -> 544 | W24: =+V24*G24 -> 4352
A25: Y | B25: 98 | C25: DATA 22 | F25: 37 | G25: 8 | H25: 64 | I25: 98 | K25: =J25/F25 -> 0 | M25: =L25/F25 -> 0 | N25: 192 | O25: =N25/F25 -> 5.1891892 | P25: 64 | Q25: =P25/F25 -> 1.7297297 | R25: 192 | S25: =R25/F25 -> 5.1891892 | T25: 64 | U25: =T25/F25 -> 1.7297297 | V25: =+J25+L25+N25+P25+R25+T25 -> 512 | W25: =+V25*G25 -> 4096
B26: TOTAL MONTPELLIER | F26: =SUM(F16:F25) -> 598 | J26: =SUM(J16:J25) -> 0 | L26: =SUM(L16:L25) -> 0 | N26: =SUM(N16:N25) -> 2112 | O26: =N26/F26 -> 3.5317726 | P26: =SUM(P16:P25) -> 512 | Q26: =P26/F26 -> 0.85618729 | R26: =SUM(R16:R25) -> 1856 | S26: =R26/F26 -> 3.1036789 | T26: =SUM(T16:T25) -> 1248 | U26: =T26/F26 -> 2.0869565 | V26: =SUM(V16:V25) -> 5728 | W26: =SUM(W16:W25) -> 45824
B27: TOTAL France | F27: =SUM(F26,F15) -> 1477 | J27: =J15+J26 -> 0 | L27: =L15+L26 -> 0 | N27: =N26+N15 -> 5632 | O27: =N27/F27 -> 3.8131347 | P27: =P26+P15 -> 2304 | Q27: =P27/F27 -> 1.5599188 | R27: =R15+R26 -> 4928 | S27: =S15+S26 -> 6.5985595 | T27: =T15+T26 -> 3392 | U27: =T27/F27 -> 2.2965471 | V27: =V15+V26 -> 16256 | W27: =W15+W26 -> 130048
A28: VEUILLEZ ATTRIBUER QUOTIDIENNEMENT TOUT LE STOCK ET TOUTES LES QUANTITES RECEPTIONNEES
B29: 1 | C29: 2 | G29: 6 | H29: 7 | J29: 9 | L29: 11 | N29: 13 | P29: 15 | R29: 17 | T29: 19 | V29: 21 | W29: 22
A35: S40 | C35: 46996-Ananas 300g | F35: 25 | G35: MEA Mer-Dim | J35: Qtés pour livraison entrepôt en COLIS | V35: Total | W35: UVC
A36: GEO | B36: DR | C36: Nom DR | D36: CA DR / CA FR TOTAL | E36: CA FL / CA | F36: Nombre magasins | G36: UVC / Colis | H36: Colis/Pal. | I36: DR | J36: samedi | K36: Colis /mag | L36: Lundi | M36: Colis /mag | N36: Mardi | O36: Colis /mag | P36: Mercredi | Q36: Colis /mag | R36: Jeudi | S36: Colis /mag | T36: Vendredi | U36: Colis /mag
A37: B | B37: 50 | C37: DATA 1 | F37: =53+53 -> 106 | G37: 56 | H37: 145 | I37: 50 | K37: =J37/F37 -> 0 | M37: =L37/F37 -> 0 | N37: 870 | O37: =N37/F37 -> 8.2075472 | P37: 0 | Q37: =P37/F37 -> 0 | R37: 435 | S37: =R37/F37 -> 4.1037736 | T37: 290 | U37: =T37/F37 -> 2.7358491 | V37: =+J37+L37+N37+P37+R37+T37 -> 1595 | W37: =+V37*G37 -> 89320
A38: C | B38: 25 | C38: DATA 2 | F38: 70 | G38: 56 | H38: 145 | I38: 25 | K38: =J38/F38 -> 0 | M38: =L38/F38 -> 0 | N38: 580 | O38: =N38/F38 -> 8.2857143 | P38: 0 | Q38: =P38/F38 -> 0 | R38: 290 | S38: =R38/F38 -> 4.1428571 | T38: 145 | U38: =T38/F38 -> 2.0714286 | V38: =+J38+L38+N38+P38+R38+T38 -> 1015 | W38: =+V38*G38 -> 56840
A39: D | B39: 64 | C39: DATA 3 | F39: =61+58 -> 119 | G39: 56 | H39: 145 | I39: 64 | K39: =J39/F39 -> 0 | M39: =L39/F39 -> 0 | N39: 1015 | O39: =N39/F39 -> 8.5294118 | P39: 0 | Q39: =P39/F39 -> 0 | R39: 435 | S39: =R39/F39 -> 3.6554622 | T39: 290 | U39: =T39/F39 -> 2.4369748 | V39: =+J39+L39+N39+P39+R39+T39 -> 1740 | W39: =+V39*G39 -> 97440
A40: F | B40: 78 | C40: DATA 4 | F40: 69 | G40: 56 | H40: 145 | I40: 78 | K40: =J40/F40 -> 0 | M40: =L40/F40 -> 0 | N40: 580 | O40: =N40/F40 -> 8.4057971 | P40: 0 | Q40: =P40/F40 -> 0 | R40: 290 | S40: =R40/F40 -> 4.2028986 | T40: 145 | U40: =T40/F40 -> 2.1014493 | V40: =+J40+L40+N40+P40+R40+T40 -> 1015 | W40: =+V40*G40 -> 56840
A41: G | B41: 94 | C41: DATA 5 | F41: 63 | G41: 56 | H41: 145 | I41: 94 | K41: =J41/F41 -> 0 | M41: =L41/F41 -> 0 | N41: 580 | O41: =N41/F41 -> 9.2063492 | P41: 0 | Q41: =P41/F41 -> 0 | R41: 290 | S41: =R41/F41 -> 4.6031746 | T41: 145 | U41: =T41/F41 -> 2.3015873 | V41: =+J41+L41+N41+P41+R41+T41 -> 1015 | W41: =+V41*G41 -> 56840
A42: H | B42: 21 | C42: DATA 6 | F42: 50 | G42: 56 | H42: 145 | I42: 21 | K42: =J42/F42 -> 0 | M42: =L42/F42 -> 0 | N42: 580 | O42: =N42/F42 -> 11.6 | P42: 0 | Q42: =P42/F42 -> 0 | R42: 290 | S42: =R42/F42 -> 5.8 | T42: 145 | U42: =T42/F42 -> 2.9 | V42: =+J42+L42+N42+P42+R42+T42 -> 1015 | W42: =+V42*G42 -> 56840
A43: J | B43: 45 | C43: DATA 7 | F43: 52 | G43: 56 | H43: 145 | I43: 45 | K43: =J43/F43 -> 0 | M43: =L43/F43 -> 0 | N43: 580 | O43: =N43/F43 -> 11.153846 | P43: 0 | Q43: =P43/F43 -> 0 | R43: 290 | S43: =R43/F43 -> 5.5769231 | T43: 145 | U43: =T43/F43 -> 2.7884615 | V43: =+J43+L43+N43+P43+R43+T43 -> 1015 | W43: =+V43*G43 -> 56840
A44: K | B44: 70 | C44: DATA 8 | F44: =34+59 -> 93 | G44: 56 | H44: 145 | I44: 67 | K44: =J44/F44 -> 0 | M44: =L44/F44 -> 0 | N44: 870 | O44: =N44/F44 -> 9.3548387 | P44: 0 | Q44: =P44/F44 -> 0 | R44: 435 | S44: =R44/F44 -> 4.6774194 | T44: 290 | U44: =T44/F44 -> 3.1182796 | V44: =+J44+L44+N44+P44+R44+T44 -> 1595 | W44: =+V44*G44 -> 89320
A45: L | B45: 82 | C45: DATA 9 | F45: 60 | G45: 56 | H45: 145 | I45: 82 | K45: =J45/F45 -> 0 | M45: =L45/F45 -> 0 | N45: 580 | O45: =N45/F45 -> 9.6666667 | P45: 0 | Q45: =P45/F45 -> 0 | R45: 290 | S45: =R45/F45 -> 4.8333333 | T45: 145 | U45: =T45/F45 -> 2.4166667 | V45: =+J45+L45+N45+P45+R45+T45 -> 1015 | W45: =+V45*G45 -> 56840
A46: M | B46: 34 | C46: DATA 10 | F46: 59 | G46: 56 | H46: 145 | I46: 34 | K46: =J46/F46 -> 0 | M46: =L46/F46 -> 0 | N46: 580 | O46: =N46/F46 -> 9.8305085 | P46: 0 | Q46: =P46/F46 -> 0 | R46: 290 | S46: =R46/F46 -> 4.9152542 | T46: 145 | U46: =T46/F46 -> 2.4576271 | V46: =+J46+L46+N46+P46+R46+T46 -> 1015 | W46: =+V46*G46 -> 56840
A47: N | B47: 11 | C47: DATA 11 | F47: 60 | G47: 56 | H47: 145 | I47: 11 | K47: =J47/F47 -> 0 | M47: =L47/F47 -> 0 | N47: 580 | O47: =N47/F47 -> 9.6666667 | P47: 0 | Q47: =P47/F47 -> 0 | R47: 290 | S47: =R47/F47 -> 4.8333333 | T47: 145 | U47: =T47/F47 -> 2.4166667 | V47: =+J47+L47+N47+P47+R47+T47 -> 1015 | W47: =+V47*G47 -> 56840
A48: O | B48: 16 | C48: DATA 12 | F48: 78 | G48: 56 | H48: 145 | I48: 16 | K48: =J48/F48 -> 0 | M48: =L48/F48 -> 0 | N48: 725 | O48: =N48/F48 -> 9.2948718 | P48: 0 | Q48: =P48/F48 -> 0 | R48: 290 | S48: =R48/F48 -> 3.7179487 | T48: 290 | U48: =T48/F48 -> 3.7179487 | V48: =+J48+L48+N48+P48+R48+T48 -> 1305 | W48: =+V48*G48 -> 73080
B49: TOTAL KORTRICHT | F49: =SUM(F36:F48) -> 879 | J49: =SUM(J37:J48) -> 0 | L49: =SUM(L37:L48) -> 0 | N49: =SUM(N37:N48) -> 8120 | O49: =N49/F49 -> 9.2377702 | P49: =SUM(P37:P48) -> 0 | Q49: =P49/F49 -> 0 | R49: =SUM(R37:R48) -> 3915 | S49: =R49/F49 -> 4.4539249 | T49: =SUM(T37:T48) -> 2320 | U49: =T49/F49 -> 2.6393629 | V49: =SUM(V37:V48) -> 14355 | W49: =SUM(W37:W48) -> 803880
A50: P | B50: 74 | C50: DATA 13 | F50: 65 | G50: 56 | H50: 145 | I50: 74 | K50: =J50/F50 -> 0 | M50: =L50/F50 -> 0 | N50: 580 | O50: =N50/F50 -> 8.9230769 | P50: 0 | Q50: =P50/F50 -> 0 | R50: 290 | S50: =R50/F50 -> 4.4615385 | T50: 145 | U50: =T50/F50 -> 2.2307692 | V50: =+J50+L50+N50+P50+R50+T50 -> 1015 | W50: =+V50*G50 -> 56840
A51: Q | B51: 59 | C51: DATA 14 | F51: 57 | G51: 56 | H51: 145 | I51: 59 | K51: =J51/F51 -> 0 | M51: =L51/F51 -> 0 | N51: 580 | O51: =N51/F51 -> 10.175439 | P51: 0 | Q51: =P51/F51 -> 0 | R51: 290 | S51: =R51/F51 -> 5.0877193 | T51: 145 | U51: =T51/F51 -> 2.5438596 | V51: =+J51+L51+N51+P51+R51+T51 -> 1015 | W51: =+V51*G51 -> 56840
A52: R | B52: 67 | C52: DATA 15 | F52: 57 | G52: 56 | H52: 145 | I52: 67 | K52: =J52/F52 -> 0 | M52: =L52/F52 -> 0 | N52: 580 | O52: =N52/F52 -> 10.175439 | P52: 0 | Q52: =P52/F52 -> 0 | R52: 290 | S52: =R52/F52 -> 5.0877193 | T52: 145 | U52: =T52/F52 -> 2.5438596 | V52: =+J52+L52+N52+P52+R52+T52 -> 1015 | W52: =+V52*G52 -> 56840
A53: S | B53: 14 | C53: DATA 16 | F53: 66 | G53: 56 | H53: 145 | I53: 14 | K53: =J53/F53 -> 0 | M53: =L53/F53 -> 0 | N53: 580 | O53: =N53/F53 -> 8.7878788 | P53: 0 | Q53: =P53/F53 -> 0 | R53: 290 | S53: =R53/F53 -> 4.3939394 | T53: 290 | U53: =T53/F53 -> 4.3939394 | V53: =+J53+L53+N53+P53+R53+T53 -> 1160 | W53: =+V53*G53 -> 64960
A54: T | B54: 29 | C54: DATA 17 | F54: 72 | G54: 56 | H54: 145 | I54: 29 | K54: =J54/F54 -> 0 | M54: =L54/F54 -> 0 | N54: 725 | O54: =N54/F54 -> 10.069444 | P54: 0 | Q54: =P54/F54 -> 0 | R54: 435 | S54: =R54/F54 -> 6.0416667 | T54: 290 | U54: =T54/F54 -> 4.0277778 | V54: =+J54+L54+N54+P54+R54+T54 -> 1450 | W54: =+V54*G54 -> 81200
A55: U | B55: 39 | C55: DATA 18 | F55: 77 | G55: 56 | H55: 145 | I55: 39 | K55: =J55/F55 -> 0 | M55: =L55/F55 -> 0 | N55: 725 | O55: =N55/F55 -> 9.4155844 | P55: 0 | Q55: =P55/F55 -> 0 | R55: 435 | S55: =R55/F55 -> 5.6493506 | T55: 290 | U55: =T55/F55 -> 3.7662338 | V55: =+J55+L55+N55+P55+R55+T55 -> 1450 | W55: =+V55*G55 -> 81200
A56: V | B56: 66 | C56: DATA 19 | F56: 55 | G56: 56 | H56: 145 | I56: 66 | K56: =J56/F56 -> 0 | M56: =L56/F56 -> 0 | N56: 435 | O56: =N56/F56 -> 7.9090909 | P56: 0 | Q56: =P56/F56 -> 0 | R56: 290 | S56: =R56/F56 -> 5.2727273 | T56: 145 | U56: =T56/F56 -> 2.6363636 | V56: =+J56+L56+N56+P56+R56+T56 -> 870 | W56: =+V56*G56 -> 48720
A57: W | B57: 55 | C57: DATA 20 | F57: 61 | G57: 56 | H57: 145 | I57: 55 | K57: =J57/F57 -> 0 | M57: =L57/F57 -> 0 | N57: 580 | O57: =N57/F57 -> 9.5081967 | P57: 0 | Q57: =P57/F57 -> 0 | R57: 290 | S57: =R57/F57 -> 4.7540984 | T57: 145 | U57: =T57/F57 -> 2.3770492 | V57: =+J57+L57+N57+P57+R57+T57 -> 1015 | W57: =+V57*G57 -> 56840
A58: X | B58: 44 | C58: DATA 21 | F58: 51 | G58: 56 | H58: 145 | I58: 44 | K58: =J58/F58 -> 0 | M58: =L58/F58 -> 0 | N58: 435 | O58: =N58/F58 -> 8.5294118 | P58: 0 | Q58: =P58/F58 -> 0 | R58: 290 | S58: =R58/F58 -> 5.6862745 | T58: 145 | U58: =T58/F58 -> 2.8431373 | V58: =+J58+L58+N58+P58+R58+T58 -> 870 | W58: =+V58*G58 -> 48720
A59: Y | B59: 98 | C59: DATA 22 | F59: 37 | G59: 56 | H59: 145 | I59: 98 | K59: =J59/F59 -> 0 | M59: =L59/F59 -> 0 | N59: 435 | O59: =N59/F59 -> 11.756757 | P59: 0 | Q59: =P59/F59 -> 0 | R59: 290 | S59: =R59/F59 -> 7.8378378 | T59: 145 | U59: =T59/F59 -> 3.9189189 | V59: =+J59+L59+N59+P59+R59+T59 -> 870 | W59: =+V59*G59 -> 48720
B60: TOTAL MONTPELLIER | F60: =SUM(F50:F59) -> 598 | J60: =SUM(J50:J59) -> 0 | L60: =SUM(L50:L59) -> 0 | N60: =SUM(N50:N59) -> 5655 | O60: =N60/F60 -> 9.4565217 | P60: =SUM(P50:P59) -> 0 | Q60: =P60/F60 -> 0 | R60: =SUM(R50:R59) -> 3190 | S60: =R60/F60 -> 5.3344482 | T60: =SUM(T50:T59) -> 1885 | U60: =T60/F60 -> 3.1521739 | V60: =SUM(V50:V59) -> 10730 | W60: =SUM(W50:W59) -> 600880
B61: TOTAL France | F61: =SUM(F60,F49) -> 1477 | J61: =J49+J60 -> 0 | L61: =L49+L60 -> 0 | N61: =N60+N49 -> 13775 | O61: =N61/F61 -> 9.3263372 | P61: =P60+P49 -> 0 | Q61: =P61/F61 -> 0 | R61: =R49+R60 -> 7105 | S61: =S49+S60 -> 9.7883731 | T61: =T49+T60 -> 4205 | U61: =T61/F61 -> 2.8469871 | V61: =V49+V60 -> 25085 | W61: =W49+W60 -> 1404760
A62: VEUILLEZ ATTRIBUER QUOTIDIENNEMENT TOUT LE STOCK ET TOUTES LES QUANTITES RECEPTIONNEES
A63: s 40 | C63: 90154-Orange 1kg | F63: 18 | G63: MEA Mer-Dim | J63: Qtés pour livraison entrepôt en COLIS | V63: Total | W63: UVC
A64: GEO | B64: DR | C64: Nom DR | D64: CA DR / CA FR TOTAL | E64: CA FL / CA | F64: Nombre magasins | G64: UVC / Colis | H64: Colis/Pal. | I64: DR | J64: samedi | K64: Colis /mag | L64: Lundi | M64: Colis /mag | N64: Mardi | O64: Colis /mag | P64: Mercredi | Q64: Colis /mag | R64: Jeudi | S64: Colis /mag | T64: Vendredi | U64: Colis /mag
A65: B | B65: 50 | C65: DATA 1 | F65: =53+53 -> 106 | G65: 6 | H65: 80 | I65: 50 | K65: =J65/F65 -> 0 | M65: =L65/F65 -> 0 | N65: 960 | O65: =N65/$F65 -> 9.0566038 | P65: 160 | Q65: =P65/F65 -> 1.509434 | R65: 800 | S65: =R65/F65 -> 7.5471698 | T65: 240 | U65: =T65/F65 -> 2.2641509 | V65: =+J65+L65+N65+P65+R65+T65 -> 2160 | W65: =+V65*G65 -> 12960
A66: C | B66: 25 | C66: DATA 2 | F66: 70 | G66: 6 | H66: 80 | I66: 25 | K66: =J66/F66 -> 0 | M66: =L66/F66 -> 0 | N66: 400 | O66: =N66/$F66 -> 5.7142857 | P66: 80 | Q66: =P66/F66 -> 1.1428571 | R66: 400 | S66: =R66/F66 -> 5.7142857 | T66: 160 | U66: =T66/F66 -> 2.2857143 | V66: =+J66+L66+N66+P66+R66+T66 -> 1040 | W66: =+V66*G66 -> 6240
A67: D | B67: 64 | C67: DATA 3 | F67: =61+58 -> 119 | G67: 6 | H67: 80 | I67: 64 | K67: =J67/F67 -> 0 | M67: =L67/F67 -> 0 | N67: 800 | O67: =N67/$F67 -> 6.7226891 | P67: 160 | Q67: =P67/F67 -> 1.3445378 | R67: 800 | S67: =R67/F67 -> 6.7226891 | T67: 160 | U67: =T67/F67 -> 1.3445378 | V67: =+J67+L67+N67+P67+R67+T67 -> 1920 | W67: =+V67*G67 -> 11520
A68: F | B68: 78 | C68: DATA 4 | F68: 69 | G68: 6 | H68: 80 | I68: 78 | K68: =J68/F68 -> 0 | M68: =L68/F68 -> 0 | N68: 800 | O68: =N68/$F68 -> 11.594203 | P68: 160 | Q68: =P68/F68 -> 2.3188406 | R68: 480 | S68: =R68/F68 -> 6.9565217 | T68: 480 | U68: =T68/F68 -> 6.9565217 | V68: =+J68+L68+N68+P68+R68+T68 -> 1920 | W68: =+V68*G68 -> 11520
A69: G | B69: 94 | C69: DATA 5 | F69: 63 | G69: 6 | H69: 80 | I69: 94 | K69: =J69/F69 -> 0 | M69: =L69/F69 -> 0 | N69: 480 | O69: =N69/$F69 -> 7.6190476 | P69: 240 | Q69: =P69/F69 -> 3.8095238 | R69: 480 | S69: =R69/F69 -> 7.6190476 | T69: 240 | U69: =T69/F69 -> 3.8095238 | V69: =+J69+L69+N69+P69+R69+T69 -> 1440 | W69: =+V69*G69 -> 8640
A70: H | B70: 21 | C70: DATA 6 | F70: 50 | G70: 6 | H70: 80 | I70: 21 | K70: =J70/F70 -> 0 | M70: =L70/F70 -> 0 | N70: 480 | O70: =N70/$F70 -> 9.6 | P70: 240 | Q70: =P70/F70 -> 4.8 | R70: 480 | S70: =R70/F70 -> 9.6 | T70: 320 | U70: =T70/F70 -> 6.4 | V70: =+J70+L70+N70+P70+R70+T70 -> 1520 | W70: =+V70*G70 -> 9120
A71: J | B71: 45 | C71: DATA 7 | F71: 52 | G71: 6 | H71: 80 | I71: 45 | K71: =J71/F71 -> 0 | M71: =L71/F71 -> 0 | N71: 560 | O71: =N71/$F71 -> 10.769231 | P71: 160 | Q71: =P71/F71 -> 3.0769231 | R71: 560 | S71: =R71/F71 -> 10.769231 | T71: 240 | U71: =T71/F71 -> 4.6153846 | V71: =+J71+L71+N71+P71+R71+T71 -> 1520 | W71: =+V71*G71 -> 9120
A72: K | B72: 70 | C72: DATA 8 | F72: =34+59 -> 93 | G72: 6 | H72: 80 | I72: 67 | K72: =J72/F72 -> 0 | M72: =L72/F72 -> 0 | N72: 880 | O72: =N72/$F72 -> 9.4623656 | P72: 320 | Q72: =P72/F72 -> 3.4408602 | R72: 560 | S72: =R72/F72 -> 6.0215054 | T72: 640 | U72: =T72/F72 -> 6.8817204 | V72: =+J72+L72+N72+P72+R72+T72 -> 2400 | W72: =+V72*G72 -> 14400
A73: L | B73: 82 | C73: DATA 9 | F73: 60 | G73: 6 | H73: 80 | I73: 82 | K73: =J73/F73 -> 0 | M73: =L73/F73 -> 0 | N73: 480 | O73: =N73/$F73 -> 8 | P73: 80 | Q73: =P73/F73 -> 1.3333333 | R73: 480 | S73: =R73/F73 -> 8 | T73: 240 | U73: =T73/F73 -> 4 | V73: =+J73+L73+N73+P73+R73+T73 -> 1280 | W73: =+V73*G73 -> 7680
A74: M | B74: 34 | C74: DATA 10 | F74: 59 | G74: 6 | H74: 80 | I74: 34 | K74: =J74/F74 -> 0 | M74: =L74/F74 -> 0 | N74: 480 | O74: =N74/$F74 -> 8.1355932 | P74: 80 | Q74: =P74/F74 -> 1.3559322 | R74: 480 | S74: =R74/F74 -> 8.1355932 | T74: 160 | U74: =T74/F74 -> 2.7118644 | V74: =+J74+L74+N74+P74+R74+T74 -> 1200 | W74: =+V74*G74 -> 7200
A75: N | B75: 11 | C75: DATA 11 | F75: 60 | G75: 6 | H75: 80 | I75: 11 | K75: =J75/F75 -> 0 | M75: =L75/F75 -> 0 | N75: 560 | O75: 8 | P75: 240 | Q75: =P75/F75 -> 4 | R75: 400 | S75: =R75/F75 -> 6.6666667 | T75: 400 | U75: =T75/F75 -> 6.6666667 | V75: =+J75+L75+N75+P75+R75+T75 -> 1600 | W75: =+V75*G75 -> 9600
A76: O | B76: 16 | C76: DATA 12 | F76: 78 | G76: 6 | H76: 80 | I76: 16 | K76: =J76/F76 -> 0 | M76: =L76/F76 -> 0 | N76: 480 | O76: =N76/$F76 -> 6.1538462 | P76: 240 | Q76: =P76/F76 -> 3.0769231 | R76: 400 | S76: =R76/F76 -> 5.1282051 | T76: 240 | U76: =T76/F76 -> 3.0769231 | V76: =+J76+L76+N76+P76+R76+T76 -> 1360 | W76: =+V76*G76 -> 8160
B77: TOTAL KORTRICHT | F77: =SUM(F64:F76) -> 879 | J77: =SUM(J65:J76) -> 0 | K77: =J77/F77 -> 0 | L77: =SUM(L65:L76) -> 0 | M77: =L77/F77 -> 0 | N77: =SUM(N65:N76) -> 7360 | O77: =N77/F77 -> 8.3731513 | P77: =SUM(P65:P76) -> 2160 | R77: =SUM(R65:R76) -> 6320 | S77: =R77/F77 -> 7.1899886 | T77: =SUM(T65:T76) -> 3520 | U77: =T77/F77 -> 4.0045506 | V77: =SUM(V65:V76) -> 19360 | W77: =SUM(W65:W76) -> 116160
A78: P | B78: 74 | C78: DATA 13 | F78: 65 | G78: 6 | H78: 80 | I78: 74 | K78: =J78/F78 -> 0 | M78: =L78/F78 -> 0 | N78: 480 | O78: =N78/$F78 -> 7.3846154 | P78: 160 | Q78: =P78/F78 -> 2.4615385 | R78: 480 | S78: =R78/F78 -> 7.3846154 | T78: 160 | U78: =T78/F78 -> 2.4615385 | V78: =+J78+L78+N78+P78+R78+T78 -> 1280 | W78: =+V78*G78 -> 7680
A79: Q | B79: 59 | C79: DATA 14 | F79: 57 | G79: 6 | H79: 80 | I79: 59 | K79: =J79/F79 -> 0 | M79: =L79/F79 -> 0 | N79: 480 | O79: =N79/$F79 -> 8.4210526 | P79: 80 | Q79: =P79/F79 -> 1.4035088 | R79: 480 | S79: =R79/F79 -> 8.4210526 | T79: 160 | U79: =T79/F79 -> 2.8070175 | V79: =+J79+L79+N79+P79+R79+T79 -> 1200 | W79: =+V79*G79 -> 7200
A80: R | B80: 67 | C80: DATA 15 | F80: 57 | G80: 6 | H80: 80 | I80: 67 | K80: =J80/F80 -> 0 | M80: =L80/F80 -> 0 | N80: 480 | O80: =N80/$F80 -> 8.4210526 | P80: 160 | Q80: =P80/F80 -> 2.8070175 | R80: 480 | S80: =R80/F80 -> 8.4210526 | T80: 160 | U80: =T80/F80 -> 2.8070175 | V80: =+J80+L80+N80+P80+R80+T80 -> 1280 | W80: =+V80*G80 -> 7680
A81: S | B81: 14 | C81: DATA 16 | F81: 66 | G81: 6 | H81: 80 | I81: 14 | K81: =J81/F81 -> 0 | M81: =L81/F81 -> 0 | N81: 480 | O81: =N81/$F81 -> 7.2727273 | P81: 160 | Q81: =P81/F81 -> 2.4242424 | R81: 480 | S81: =R81/F81 -> 7.2727273 | T81: 240 | U81: =T81/F81 -> 3.6363636 | V81: =+J81+L81+N81+P81+R81+T81 -> 1360 | W81: =+V81*G81 -> 8160
A82: T | B82: 29 | C82: DATA 17 | F82: 72 | G82: 6 | H82: 80 | I82: 29 | K82: =J82/F82 -> 0 | M82: =L82/F82 -> 0 | N82: 720 | O82: =N82/$F82 -> 10 | P82: 240 | Q82: =P82/F82 -> 3.3333333 | R82: 720 | S82: =R82/F82 -> 10 | T82: 320 | U82: =T82/F82 -> 4.4444444 | V82: =+J82+L82+N82+P82+R82+T82 -> 2000 | W82: =+V82*G82 -> 12000
A83: U | B83: 39 | C83: DATA 18 | F83: 77 | G83: 6 | H83: 80 | I83: 39 | K83: =J83/F83 -> 0 | M83: =L83/F83 -> 0 | N83: 720 | O83: =N83/$F83 -> 9.3506494 | P83: 160 | Q83: =P83/F83 -> 2.0779221 | R83: 720 | S83: =R83/F83 -> 9.3506494 | T83: 240 | U83: =T83/F83 -> 3.1168831 | V83: =+J83+L83+N83+P83+R83+T83 -> 1840 | W83: =+V83*G83 -> 11040
A84: V | B84: 66 | C84: DATA 19 | F84: 55 | G84: 6 | H84: 80 | I84: 66 | K84: =J84/F84 -> 0 | M84: =L84/F84 -> 0 | N84: 480 | O84: =N84/$F84 -> 8.7272727 | P84: 160 | Q84: =P84/F84 -> 2.9090909 | R84: 480 | S84: =R84/F84 -> 8.7272727 | T84: 240 | U84: =T84/F84 -> 4.3636364 | V84: =+J84+L84+N84+P84+R84+T84 -> 1360 | W84: =+V84*G84 -> 8160
A85: W | B85: 55 | C85: DATA 20 | F85: 61 | G85: 6 | H85: 80 | I85: 55 | K85: =J85/F85 -> 0 | M85: =L85/F85 -> 0 | N85: 640 | O85: =N85/$F85 -> 10.491803 | P85: 240 | Q85: =P85/F85 -> 3.9344262 | R85: 400 | S85: =R85/F85 -> 6.557377 | T85: 560 | U85: =T85/F85 -> 9.1803279 | V85: =+J85+L85+N85+P85+R85+T85 -> 1840 | W85: =+V85*G85 -> 11040
A86: X | B86: 44 | C86: DATA 21 | F86: 51 | G86: 6 | H86: 80 | I86: 44 | K86: =J86/F86 -> 0 | M86: =L86/F86 -> 0 | N86: 400 | O86: =N86/$F86 -> 7.8431373 | P86: 80 | Q86: =P86/F86 -> 1.5686275 | R86: 400 | S86: =R86/F86 -> 7.8431373 | T86: 240 | U86: =T86/F86 -> 4.7058824 | V86: =+J86+L86+N86+P86+R86+T86 -> 1120 | W86: =+V86*G86 -> 6720
A87: Y | B87: 98 | C87: DATA 22 | F87: 37 | G87: 6 | H87: 80 | I87: 98 | K87: =J87/F87 -> 0 | M87: =L87/F87 -> 0 | N87: 560 | O87: =N87/$F87 -> 15.135135 | P87: 240 | Q87: =P87/F87 -> 6.4864865 | R87: 400 | S87: =R87/F87 -> 10.810811 | T87: 400 | U87: =T87/F87 -> 10.810811 | V87: =+J87+L87+N87+P87+R87+T87 -> 1600 | W87: =+V87*G87 -> 9600
B88: TOTAL MONTPELLIER | F88: =SUM(F78:F87) -> 598 | J88: =SUM(J78:J87) -> 0 | K88: =J88/F88 -> 0 | L88: =SUM(L78:L87) -> 0 | M88: =L88/F88 -> 0 | N88: =SUM(N78:N87) -> 5440 | O88: =N88/F88 -> 9.09699 | P88: =SUM(P78:P87) -> 1680 | R88: =SUM(R78:R87) -> 5040 | S88: =R88/F88 -> 8.4280936 | T88: =SUM(T78:T87) -> 2720 | U88: =T88/F88 -> 4.548495 | V88: =SUM(V78:V87) -> 14880 | W88: =SUM(W78:W87) -> 89280
B89: TOTAL France | F89: =SUM(F88,F77) -> 1477 | J89: =J77+J88 -> 0 | K89: =J89/F89 -> 0 | L89: =L77+L88 -> 0 | M89: =L89/F89 -> 0 | N89: =N77+N88 -> 12800 | O89: =N89/F89 -> 8.6662153 | P89: =P88+P77 -> 3840 | R89: =R77+R88 -> 11360 | T89: =T77+T88 -> 6240 | V89: =V77+V88 -> 34240 | W89: =W77+W88 -> 205440
A90: VEUILLEZ ATTRIBUER QUOTIDIENNEMENT TOUT LE STOCK ET TOUTES LES QUANTITES RECEPTIONNEES
A96: S40 | C96: 45985-Herbes aromatiques 25g | F96: 15 | G96: MEA Mer-Dim | J96: Qtés pour livraison entrepôt en COLIS | V96: Total | W96: UVC
A97: GEO | B97: DR | C97: Nom DR | D97: CA DR / CA FR TOTAL | E97: CA FL / CA | F97: Nombre magasins | G97: UVC / Colis | H97: Colis/Pal. | I97: DR | J97: samedi | K97: Colis /mag | L97: Lundi | M97: Colis /mag | N97: Mardi | O97: Colis /mag | P97: Mercredi | Q97: Colis /mag | R97: Jeudi | S97: Colis /mag | T97: Vendredi | U97: Colis /mag
A98: B | B98: 50 | C98: DATA 1 | F98: =53+53 -> 106 | G98: 6 | H98: 80 | I98: 50 | K98: =J98/F98 -> 0 | M98: =L98/F98 -> 0 | N98: 240 | O98: =N98/F98 -> 2.2641509 | P98: 0 | Q98: =P98/F98 -> 0 | R98: 80 | S98: =R98/F98 -> 0.75471698 | T98: 80 | U98: =T98/F98 -> 0.75471698 | V98: =+J98+L98+N98+P98+R98+T98 -> 400 | W98: =+V98*G98 -> 2400
A99: C | B99: 25 | C99: DATA 2 | F99: 70 | G99: 6 | H99: 80 | I99: 25 | K99: =J99/F99 -> 0 | M99: =L99/F99 -> 0 | N99: 160 | O99: =N99/F99 -> 2.2857143 | P99: 0 | Q99: =P99/F99 -> 0 | R99: 80 | S99: =R99/F99 -> 1.1428571 | T99: 0 | U99: =T99/F99 -> 0 | V99: =+J99+L99+N99+P99+R99+T99 -> 240 | W99: =+V99*G99 -> 1440
A100: D | B100: 64 | C100: DATA 3 | F100: =61+58 -> 119 | G100: 6 | H100: 80 | I100: 64 | K100: =J100/F100 -> 0 | M100: =L100/F100 -> 0 | N100: 240 | O100: =N100/F100 -> 2.0168067 | P100: 80 | Q100: =P100/F100 -> 0.67226891 | R100: 160 | S100: =R100/F100 -> 1.3445378 | T100: 160 | U100: =T100/F100 -> 1.3445378 | V100: =+J100+L100+N100+P100+R100+T100 -> 640 | W100: =+V100*G100 -> 3840
A101: F | B101: 78 | C101: DATA 4 | F101: 69 | G101: 6 | H101: 80 | I101: 78 | K101: =J101/F101 -> 0 | M101: =L101/F101 -> 0 | N101: 240 | O101: =N101/F101 -> 3.4782609 | P101: 0 | Q101: =P101/F101 -> 0 | R101: 160 | S101: =R101/F101 -> 2.3188406 | T101: 80 | U101: =T101/F101 -> 1.1594203 | V101: =+J101+L101+N101+P101+R101+T101 -> 480 | W101: =+V101*G101 -> 2880
A102: G | B102: 94 | C102: DATA 5 | F102: 63 | G102: 6 | H102: 80 | I102: 94 | K102: =J102/F102 -> 0 | M102: =L102/F102 -> 0 | N102: 160 | O102: =N102/F102 -> 2.5396825 | P102: 0 | Q102: =P102/F102 -> 0 | R102: 80 | S102: =R102/F102 -> 1.2698413 | T102: 80 | U102: =T102/F102 -> 1.2698413 | V102: =+J102+L102+N102+P102+R102+T102 -> 320 | W102: =+V102*G102 -> 1920
A103: H | B103: 21 | C103: DATA 6 | F103: 50 | G103: 6 | H103: 80 | I103: 21 | K103: =J103/F103 -> 0 | M103: =L103/F103 -> 0 | N103: 160 | O103: =N103/F103 -> 3.2 | P103: 0 | Q103: =P103/F103 -> 0 | R103: 160 | S103: =R103/F103 -> 3.2 | T103: 80 | U103: =T103/F103 -> 1.6 | V103: =+J103+L103+N103+P103+R103+T103 -> 400 | W103: =+V103*G103 -> 2400
A104: J | B104: 45 | C104: DATA 7 | F104: 52 | G104: 6 | H104: 80 | I104: 45 | K104: =J104/F104 -> 0 | M104: =L104/F104 -> 0 | N104: 240 | O104: =N104/F104 -> 4.6153846 | P104: 80 | Q104: =P104/F104 -> 1.5384615 | R104: 80 | S104: =R104/F104 -> 1.5384615 | T104: 160 | U104: =T104/F104 -> 3.0769231 | V104: =+J104+L104+N104+P104+R104+T104 -> 560 | W104: =+V104*G104 -> 3360
A105: K | B105: 70 | C105: DATA 8 | F105: =34+59 -> 93 | G105: 6 | H105: 80 | I105: 67 | K105: =J105/F105 -> 0 | M105: =L105/F105 -> 0 | N105: 480 | O105: =N105/F105 -> 5.1612903 | P105: 80 | Q105: =P105/F105 -> 0.86021505 | R105: 160 | S105: =R105/F105 -> 1.7204301 | T105: 400 | U105: =T105/F105 -> 4.3010753 | V105: =+J105+L105+N105+P105+R105+T105 -> 1120 | W105: =+V105*G105 -> 6720
A106: L | B106: 82 | C106: DATA 9 | F106: 60 | G106: 6 | H106: 80 | I106: 82 | K106: =J106/F106 -> 0 | M106: =L106/F106 -> 0 | N106: 240 | O106: =N106/F106 -> 4 | P106: 0 | Q106: =P106/F106 -> 0 | R106: 160 | S106: =R106/F106 -> 2.6666667 | T106: 80 | U106: =T106/F106 -> 1.3333333 | V106: =+J106+L106+N106+P106+R106+T106 -> 480 | W106: =+V106*G106 -> 2880
A107: M | B107: 34 | C107: DATA 10 | F107: 59 | G107: 6 | H107: 80 | I107: 34 | K107: =J107/F107 -> 0 | M107: =L107/F107 -> 0 | N107: 160 | O107: =N107/F107 -> 2.7118644 | P107: 80 | Q107: =P107/F107 -> 1.3559322 | R107: 80 | S107: =R107/F107 -> 1.3559322 | T107: 80 | U107: =T107/F107 -> 1.3559322 | V107: =+J107+L107+N107+P107+R107+T107 -> 400 | W107: =+V107*G107 -> 2400
A108: N | B108: 11 | C108: DATA 11 | F108: 60 | G108: 6 | H108: 80 | I108: 11 | K108: =J108/F108 -> 0 | M108: =L108/F108 -> 0 | N108: 160 | O108: =N108/F108 -> 2.6666667 | P108: 0 | Q108: =P108/F108 -> 0 | R108: 80 | S108: =R108/F108 -> 1.3333333 | T108: 80 | U108: =T108/F108 -> 1.3333333 | V108: =+J108+L108+N108+P108+R108+T108 -> 320 | W108: =+V108*G108 -> 1920
A109: O | B109: 16 | C109: DATA 12 | F109: 78 | G109: 6 | H109: 80 | I109: 16 | K109: =J109/F109 -> 0 | M109: =L109/F109 -> 0 | N109: 160 | O109: =N109/F109 -> 2.0512821 | P109: 0 | Q109: =P109/F109 -> 0 | R109: 80 | S109: =R109/F109 -> 1.025641 | T109: 80 | U109: =T109/F109 -> 1.025641 | V109: =+J109+L109+N109+P109+R109+T109 -> 320 | W109: =+V109*G109 -> 1920
B110: TOTAL KORTRICHT | F110: =SUM(F97:F109) -> 879 | H110: 0 | J110: =SUM(J98:J109) -> 0 | L110: =SUM(L98:L109) -> 0 | N110: =SUM(N98:N109) -> 2640 | O110: =N110/F110 -> 3.003413 | P110: =SUM(P98:P109) -> 320 | Q110: =P110/F110 -> 0.36405006 | R110: =SUM(R98:R109) -> 1360 | S110: =R110/F110 -> 1.5472127 | T110: =SUM(T98:T109) -> 1360 | U110: =T110/F110 -> 1.5472127 | V110: =SUM(V98:V109) -> 5680 | W110: =SUM(W98:W109) -> 34080
...

Sheet CALCUL PALETTES (À TRAVAILLER) 
A1: S40 | G1: QUANTITÉ PALETTES | M1: TOTAL PALETTES
A2: 67 | B2: ARTICLE | C2: PRIX | D2: UVC / COLIS | E2: COLIS / PAL. | G2: SAMEDI | H2: LUNDI | I2: MARDI | J2: MERCREDI | K2: JEUDI | L2: VENDREDI
A3: =A$2 -> 67 | B3: {=IFERROR(INDEX(article,SMALL(IF(ISNUMBER(SEARCH("MEA",colg)),ROW(article),""),ROW(A1))),"")} -> 45254 Courgette Bio 700g | C3: =VLOOKUP($B3,'REPORT DONNÉES'!$C1:$H178,4,0) -> 37 | D3: =VLOOKUP($A$2,OFFSET(bdd,MATCH($B3,article,0)-1,),6,0) -> 8 | E3: =VLOOKUP($A$2,OFFSET(bdd,MATCH($B3,article,0)-1,),7,0) -> 64 | G3: =VLOOKUP($A$2,OFFSET(bdd,MATCH($B3,article,0)-1,),9,0)/$E3 -> 0 | H3: =VLOOKUP($A$2,OFFSET(bdd,MATCH($B3,article,0)-1,),11,0)/$E3 -> 0 | I3: =VLOOKUP($A$2,OFFSET(bdd,MATCH($B3,article,0)-1,),13,0)/$E3 -> 4 | J3: =VLOOKUP($A$2,OFFSET(bdd,MATCH($B3,article,0)-1,),15,0)/$E3 -> 1 | K3: =VLOOKUP($A$2,OFFSET(bdd,MATCH($B3,article,0)-1,),17,0)/$E3 -> 2 | L3: =VLOOKUP($A$2,OFFSET(bdd,MATCH($B3,article,0)-1,),19,0)/$E3 -> 2 | M3: =SUM(G3:L3) -> 9
A4: =A$2 -> 67 | B4: {=IFERROR(INDEX(article,SMALL(IF(ISNUMBER(SEARCH("MEA",colg)),ROW(article),""),ROW(A2))),"")} -> 46996-Ananas 300g | C4: =VLOOKUP($B4,'REPORT DONNÉES'!$C2:$H179,4,0) -> 25 | D4: =VLOOKUP($A$2,OFFSET(bdd,MATCH($B4,article,0)-1,),6,0) -> 56 | E4: =VLOOKUP($A$2,OFFSET(bdd,MATCH($B4,article,0)-1,),7,0) -> 145 | G4: =VLOOKUP($A$2,OFFSET(bdd,MATCH($B4,article,0)-1,),9,0)/$E4 -> 0 | H4: =VLOOKUP($A$2,OFFSET(bdd,MATCH($B4,article,0)-1,),11,0)/$E4 -> 0 | I4: =VLOOKUP($A$2,OFFSET(bdd,MATCH($B4,article,0)-1,),13,0)/$E4 -> 4 | J4: =VLOOKUP($A$2,OFFSET(bdd,MATCH($B4,article,0)-1,),15,0)/$E4 -> 0 | K4: =VLOOKUP($A$2,OFFSET(bdd,MATCH($B4,article,0)-1,),17,0)/$E4 -> 2 | L4: =VLOOKUP($A$2,OFFSET(bdd,MATCH($B4,article,0)-1,),19,0)/$E4 -> 1 | M4: =SUM(G4:L4) -> 7
A5: =A$2 -> 67 | B5: {=IFERROR(INDEX(article,SMALL(IF(ISNUMBER(SEARCH("MEA",colg)),ROW(article),""),ROW(A3))),"")} -> 90154-Orange 1kg | C5: =VLOOKUP($B5,'REPORT DONNÉES'!$C3:$H180,4,0) -> 18 | D5: =VLOOKUP($A$2,OFFSET(bdd,MATCH($B5,article,0)-1,),6,0) -> 6 | E5: =VLOOKUP($A$2,OFFSET(bdd,MATCH($B5,article,0)-1,),7,0) -> 80 | G5: =VLOOKUP($A$2,OFFSET(bdd,MATCH($B5,article,0)-1,),9,0)/$E5 -> 0 | H5: =VLOOKUP($A$2,OFFSET(bdd,MATCH($B5,article,0)-1,),11,0)/$E5 -> 0 | I5: =VLOOKUP($A$2,OFFSET(bdd,MATCH($B5,article,0)-1,),13,0)/$E5 -> 6 | J5: =VLOOKUP($A$2,OFFSET(bdd,MATCH($B5,article,0)-1,),15,0)/$E5 -> 2 | K5: =VLOOKUP($A$2,OFFSET(bdd,MATCH($B5,article,0)-1,),17,0)/$E5 -> 6 | L5: =VLOOKUP($A$2,OFFSET(bdd,MATCH($B5,article,0)-1,),19,0)/$E5 -> 2 | M5: =SUM(G5:L5) -> 16
A6: =A$2 -> 67 | B6: {=IFERROR(INDEX(article,SMALL(IF(ISNUMBER(SEARCH("MEA",colg)),ROW(article),""),ROW(A4))),"")} -> 45985-Herbes aromatiques 25g | C6: =VLOOKUP($B6,'REPORT DONNÉES'!$C4:$H181,4,0) -> 15 | D6: =VLOOKUP($A$2,OFFSET(bdd,MATCH($B6,article,0)-1,),6,0) -> 6 | E6: =VLOOKUP($A$2,OFFSET(bdd,MATCH($B6,article,0)-1,),7,0) -> 80 | G6: =VLOOKUP($A$2,OFFSET(bdd,MATCH($B6,article,0)-1,),9,0)/$E6 -> 0 | H6: =VLOOKUP($A$2,OFFSET(bdd,MATCH($B6,article,0)-1,),11,0)/$E6 -> 0 | I6: =VLOOKUP($A$2,OFFSET(bdd,MATCH($B6,article,0)-1,),13,0)/$E6 -> 2 | J6: =VLOOKUP($A$2,OFFSET(bdd,MATCH($B6,article,0)-1,),15,0)/$E6 -> 0 | K6: =VLOOKUP($A$2,OFFSET(bdd,MATCH($B6,article,0)-1,),17,0)/$E6 -> 1 | L6: =VLOOKUP($A$2,OFFSET(bdd,MATCH($B6,article,0)-1,),19,0)/$E6 -> 1 | M6: =SUM(G6:L6) -> 4
A7: =A$2 -> 67 | B7: {=IFERROR(INDEX(article,SMALL(IF(ISNUMBER(SEARCH("MEA",colg)),ROW(article),""),ROW(A5))),"")} -> 125546 citron | C7: =VLOOKUP($B7,'REPORT DONNÉES'!$C5:$H182,4,0) -> 100 | D7: =VLOOKUP($A$2,OFFSET(bdd,MATCH($B7,article,0)-1,),6,0) -> 30 | E7: =VLOOKUP($A$2,OFFSET(bdd,MATCH($B7,article,0)-1,),7,0) -> 48 | G7: =VLOOKUP($A$2,OFFSET(bdd,MATCH($B7,article,0)-1,),9,0)/$E7 -> 0 | H7: =VLOOKUP($A$2,OFFSET(bdd,MATCH($B7,article,0)-1,),11,0)/$E7 -> 0 | I7: =VLOOKUP($A$2,OFFSET(bdd,MATCH($B7,article,0)-1,),13,0)/$E7 -> 6 | J7: =VLOOKUP($A$2,OFFSET(bdd,MATCH($B7,article,0)-1,),15,0)/$E7 -> 4 | K7: =VLOOKUP($A$2,OFFSET(bdd,MATCH($B7,article,0)-1,),17,0)/$E7 -> 4 | L7: =VLOOKUP($A$2,OFFSET(bdd,MATCH($B7,article,0)-1,),19,0)/$E7 -> 5 | M7: =SUM(G7:L7) -> 19
A8: =A$2 -> 67 | B8: {=IFERROR(INDEX(article,SMALL(IF(ISNUMBER(SEARCH("MEA",colg)),ROW(article),""),ROW(A6))),"")} -> 80611-Ananas | C8: =VLOOKUP($B8,'REPORT DONNÉES'!$C6:$H183,4,0) -> 2 | D8: =VLOOKUP($A$2,OFFSET(bdd,MATCH($B8,article,0)-1,),6,0) -> 8 | E8: =VLOOKUP($A$2,OFFSET(bdd,MATCH($B8,article,0)-1,),7,0) -> 80 | G8: =VLOOKUP($A$2,OFFSET(bdd,MATCH($B8,article,0)-1,),9,0)/$E8 -> 5 | H8: =VLOOKUP($A$2,OFFSET(bdd,MATCH($B8,article,0)-1,),11,0)/$E8 -> 0 | I8: =VLOOKUP($A$2,OFFSET(bdd,MATCH($B8,article,0)-1,),13,0)/$E8 -> 0 | J8: =VLOOKUP($A$2,OFFSET(bdd,MATCH($B8,article,0)-1,),15,0)/$E8 -> 0 | K8: =VLOOKUP($A$2,OFFSET(bdd,MATCH($B8,article,0)-1,),17,0)/$E8 -> 0 | L8: =VLOOKUP($A$2,OFFSET(bdd,MATCH($B8,article,0)-1,),19,0)/$E8 -> 0 | M8: =SUM(G8:L8) -> 5
B12: tu peux choisir le DR au cas ou
