Workbook
Name bdd: OFFSET('Planning Global'!$C$4:$J$4,,,COUNT('Planning Global'!$B$4:$B$320))
Name C1.1: #REF!
Name C1.2: #REF!
Name C1.3: #REF!
Name C1.4: #REF!
Name choix1: #REF!
Name dates: OFFSET('Planning Global'!$B$4,,,ROWS(bdd))
Name Employé0: OFFSET('Paramètres Planning Global'!$C$5,0,0,1,7)
Name Employé1: OFFSET('Paramètres Planning Global'!$C$6,0,0,1,7)
Name maga: Tableau2[[#Headers],[Magasin1]:[Magasin8]]

Sheet Planning Global
B3: Date | C3: Magasin1 | D3: Magasin2 | E3: Magasin3 | F3: Magasin4 | G3: Magasin5 | H3: Magasin6 | I3: Magasin7 | J3: Magasin8
B4: 42156 | D4: Employé 4 | E4: Employé 6 | F4: Employé 1 | H4: Employé 3 | J4: Employé 5
B5: 42157 | C5: Employé 1 | E5: Employé 2 | F5: Employé 5 | G5: Employé 4 | I5: Employé 3
B6: 42158 | D6: Employé 2 | E6: Employé 1 | F6: Employé 4 | G6: Employé 5 | H6: Employé 7 | J6: Employé 3
B7: 42159 | C7: Employé 1 | G7: Employé 6 | I7: Employé 2
B8: 42160 | D8: Employé 4 | F8: Employé 1 | G8: Employé 6 | H8: Employé 5 | J8: Employé 2

Sheet Paramètres Planning Global
C5: Employé 1 | D5: Employé 2 | E5: Employé 3 | F5: Employé 4 | G5: Employé 5 | H5: Employé 6 | I5: Employé 7
B6: 42156 | C6: {=IF(COLUMN(B$5:$I$5)>=COUNTA(Employé0)-COUNTA('Planning Global'!$C4:$J4)+2,"",INDEX(Employé0,SMALL(IF(COUNTIF('Planning Global'!$C4:$J4,Employé0)>0,"",COLUMN(Employé0)-2),COLUMN()-2)))} -> Employé 2 | D6: {=IF(COLUMN(C$5:$I$5)>=COUNTA(Employé0)-COUNTA('Planning Global'!$C4:$J4)+2,"",INDEX(Employé0,SMALL(IF(COUNTIF('Planning Global'!$C4:$J4,Employé0)>0,"",COLUMN(Employé0)-2),COLUMN()-2)))} -> Employé 7 | E6: {=IF(COLUMN(D$5:$I$5)>=COUNTA(Employé0)-COUNTA('Planning Global'!$C4:$J4)+2,"",INDEX(Employé0,SMALL(IF(COUNTIF('Planning Global'!$C4:$J4,Employé0)>0,"",COLUMN(Employé0)-2),COLUMN()-2)))} | F6: {=IF(COLUMN(E$5:$I$5)>=COUNTA(Employé0)-COUNTA('Planning Global'!$C4:$J4)+2,"",INDEX(Employé0,SMALL(IF(COUNTIF('Planning Global'!$C4:$J4,Employé0)>0,"",COLUMN(Employé0)-2),COLUMN()-2)))} | G6: {=IF(COLUMN(F$5:$I$5)>=COUNTA(Employé0)-COUNTA('Planning Global'!$C4:$J4)+2,"",INDEX(Employé0,SMALL(IF(COUNTIF('Planning Global'!$C4:$J4,Employé0)>0,"",COLUMN(Employé0)-2),COLUMN()-2)))} | H6: {=IF(COLUMN(G$5:$I$5)>=COUNTA(Employé0)-COUNTA('Planning Global'!$C4:$J4)+2,"",INDEX(Employé0,SMALL(IF(COUNTIF('Planning Global'!$C4:$J4,Employé0)>0,"",COLUMN(Employé0)-2),COLUMN()-2)))} | I6: {=IF(COLUMN(H$5:$I$5)>=COUNTA(Employé0)-COUNTA('Planning Global'!$C4:$J4)+2,"",INDEX(Employé0,SMALL(IF(COUNTIF('Planning Global'!$C4:$J4,Employé0)>0,"",COLUMN(Employé0)-2),COLUMN()-2)))}
B7: 42157 | C7: {=IF(COLUMN(B$5:$I$5)>=COUNTA(Employé0)-COUNTA('Planning Global'!$C5:$J5)+2,"",INDEX(Employé0,SMALL(IF(COUNTIF('Planning Global'!$C5:$J5,Employé0)>0,"",COLUMN(Employé0)-2),COLUMN()-2)))} -> Employé 6 | D7: {=IF(COLUMN(C$5:$I$5)>=COUNTA(Employé0)-COUNTA('Planning Global'!$C5:$J5)+2,"",INDEX(Employé0,SMALL(IF(COUNTIF('Planning Global'!$C5:$J5,Employé0)>0,"",COLUMN(Employé0)-2),COLUMN()-2)))} -> Employé 7 | E7: {=IF(COLUMN(D$5:$I$5)>=COUNTA(Employé0)-COUNTA('Planning Global'!$C5:$J5)+2,"",INDEX(Employé0,SMALL(IF(COUNTIF('Planning Global'!$C5:$J5,Employé0)>0,"",COLUMN(Employé0)-2),COLUMN()-2)))} | F7: {=IF(COLUMN(E$5:$I$5)>=COUNTA(Employé0)-COUNTA('Planning Global'!$C5:$J5)+2,"",INDEX(Employé0,SMALL(IF(COUNTIF('Planning Global'!$C5:$J5,Employé0)>0,"",COLUMN(Employé0)-2),COLUMN()-2)))} | G7: {=IF(COLUMN(F$5:$I$5)>=COUNTA(Employé0)-COUNTA('Planning Global'!$C5:$J5)+2,"",INDEX(Employé0,SMALL(IF(COUNTIF('Planning Global'!$C5:$J5,Employé0)>0,"",COLUMN(Employé0)-2),COLUMN()-2)))} | H7: {=IF(COLUMN(G$5:$I$5)>=COUNTA(Employé0)-COUNTA('Planning Global'!$C5:$J5)+2,"",INDEX(Employé0,SMALL(IF(COUNTIF('Planning Global'!$C5:$J5,Employé0)>0,"",COLUMN(Employé0)-2),COLUMN()-2)))} | I7: {=IF(COLUMN(H$5:$I$5)>=COUNTA(Employé0)-COUNTA('Planning Global'!$C5:$J5)+2,"",INDEX(Employé0,SMALL(IF(COUNTIF('Planning Global'!$C5:$J5,Employé0)>0,"",COLUMN(Employé0)-2),COLUMN()-2)))}
B8: 42158 | C8: {=IF(COLUMN(B$5:$I$5)>=COUNTA(Employé0)-COUNTA('Planning Global'!$C6:$J6)+2,"",INDEX(Employé0,SMALL(IF(COUNTIF('Planning Global'!$C6:$J6,Employé0)>0,"",COLUMN(Employé0)-2),COLUMN()-2)))} -> Employé 6 | D8: {=IF(COLUMN(C$5:$I$5)>=COUNTA(Employé0)-COUNTA('Planning Global'!$C6:$J6)+2,"",INDEX(Employé0,SMALL(IF(COUNTIF('Planning Global'!$C6:$J6,Employé0)>0,"",COLUMN(Employé0)-2),COLUMN()-2)))} | E8: {=IF(COLUMN(D$5:$I$5)>=COUNTA(Employé0)-COUNTA('Planning Global'!$C6:$J6)+2,"",INDEX(Employé0,SMALL(IF(COUNTIF('Planning Global'!$C6:$J6,Employé0)>0,"",COLUMN(Employé0)-2),COLUMN()-2)))} | F8: {=IF(COLUMN(E$5:$I$5)>=COUNTA(Employé0)-COUNTA('Planning Global'!$C6:$J6)+2,"",INDEX(Employé0,SMALL(IF(COUNTIF('Planning Global'!$C6:$J6,Employé0)>0,"",COLUMN(Employé0)-2),COLUMN()-2)))} | G8: {=IF(COLUMN(F$5:$I$5)>=COUNTA(Employé0)-COUNTA('Planning Global'!$C6:$J6)+2,"",INDEX(Employé0,SMALL(IF(COUNTIF('Planning Global'!$C6:$J6,Employé0)>0,"",COLUMN(Employé0)-2),COLUMN()-2)))} | H8: {=IF(COLUMN(G$5:$I$5)>=COUNTA(Employé0)-COUNTA('Planning Global'!$C6:$J6)+2,"",INDEX(Employé0,SMALL(IF(COUNTIF('Planning Global'!$C6:$J6,Employé0)>0,"",COLUMN(Employé0)-2),COLUMN()-2)))} | I8: {=IF(COLUMN(H$5:$I$5)>=COUNTA(Employé0)-COUNTA('Planning Global'!$C6:$J6)+2,"",INDEX(Employé0,SMALL(IF(COUNTIF('Planning Global'!$C6:$J6,Employé0)>0,"",COLUMN(Employé0)-2),COLUMN()-2)))}
B9: 42159 | C9: {=IF(COLUMN(B$5:$I$5)>=COUNTA(Employé0)-COUNTA('Planning Global'!$C7:$J7)+2,"",INDEX(Employé0,SMALL(IF(COUNTIF('Planning Global'!$C7:$J7,Employé0)>0,"",COLUMN(Employé0)-2),COLUMN()-2)))} -> Employé 3 | D9: {=IF(COLUMN(C$5:$I$5)>=COUNTA(Employé0)-COUNTA('Planning Global'!$C7:$J7)+2,"",INDEX(Employé0,SMALL(IF(COUNTIF('Planning Global'!$C7:$J7,Employé0)>0,"",COLUMN(Employé0)-2),COLUMN()-2)))} -> Employé 4 | E9: {=IF(COLUMN(D$5:$I$5)>=COUNTA(Employé0)-COUNTA('Planning Global'!$C7:$J7)+2,"",INDEX(Employé0,SMALL(IF(COUNTIF('Planning Global'!$C7:$J7,Employé0)>0,"",COLUMN(Employé0)-2),COLUMN()-2)))} -> Employé 5 | F9: {=IF(COLUMN(E$5:$I$5)>=COUNTA(Employé0)-COUNTA('Planning Global'!$C7:$J7)+2,"",INDEX(Employé0,SMALL(IF(COUNTIF('Planning Global'!$C7:$J7,Employé0)>0,"",COLUMN(Employé0)-2),COLUMN()-2)))} -> Employé 7 | G9: {=IF(COLUMN(F$5:$I$5)>=COUNTA(Employé0)-COUNTA('Planning Global'!$C7:$J7)+2,"",INDEX(Employé0,SMALL(IF(COUNTIF('Planning Global'!$C7:$J7,Employé0)>0,"",COLUMN(Employé0)-2),COLUMN()-2)))} | H9: {=IF(COLUMN(G$5:$I$5)>=COUNTA(Employé0)-COUNTA('Planning Global'!$C7:$J7)+2,"",INDEX(Employé0,SMALL(IF(COUNTIF('Planning Global'!$C7:$J7,Employé0)>0,"",COLUMN(Employé0)-2),COLUMN()-2)))} | I9: {=IF(COLUMN(H$5:$I$5)>=COUNTA(Employé0)-COUNTA('Planning Global'!$C7:$J7)+2,"",INDEX(Employé0,SMALL(IF(COUNTIF('Planning Global'!$C7:$J7,Employé0)>0,"",COLUMN(Employé0)-2),COLUMN()-2)))}
B10: 42160 | C10: {=IF(COLUMN(B$5:$I$5)>=COUNTA(Employé0)-COUNTA('Planning Global'!$C8:$J8)+2,"",INDEX(Employé0,SMALL(IF(COUNTIF('Planning Global'!$C8:$J8,Employé0)>0,"",COLUMN(Employé0)-2),COLUMN()-2)))} -> Employé 3 | D10: {=IF(COLUMN(C$5:$I$5)>=COUNTA(Employé0)-COUNTA('Planning Global'!$C8:$J8)+2,"",INDEX(Employé0,SMALL(IF(COUNTIF('Planning Global'!$C8:$J8,Employé0)>0,"",COLUMN(Employé0)-2),COLUMN()-2)))} -> Employé 7 | E10: {=IF(COLUMN(D$5:$I$5)>=COUNTA(Employé0)-COUNTA('Planning Global'!$C8:$J8)+2,"",INDEX(Employé0,SMALL(IF(COUNTIF('Planning Global'!$C8:$J8,Employé0)>0,"",COLUMN(Employé0)-2),COLUMN()-2)))} | F10: {=IF(COLUMN(E$5:$I$5)>=COUNTA(Employé0)-COUNTA('Planning Global'!$C8:$J8)+2,"",INDEX(Employé0,SMALL(IF(COUNTIF('Planning Global'!$C8:$J8,Employé0)>0,"",COLUMN(Employé0)-2),COLUMN()-2)))} | G10: {=IF(COLUMN(F$5:$I$5)>=COUNTA(Employé0)-COUNTA('Planning Global'!$C8:$J8)+2,"",INDEX(Employé0,SMALL(IF(COUNTIF('Planning Global'!$C8:$J8,Employé0)>0,"",COLUMN(Employé0)-2),COLUMN()-2)))} | H10: {=IF(COLUMN(G$5:$I$5)>=COUNTA(Employé0)-COUNTA('Planning Global'!$C8:$J8)+2,"",INDEX(Employé0,SMALL(IF(COUNTIF('Planning Global'!$C8:$J8,Employé0)>0,"",COLUMN(Employé0)-2),COLUMN()-2)))} | I10: {=IF(COLUMN(H$5:$I$5)>=COUNTA(Employé0)-COUNTA('Planning Global'!$C8:$J8)+2,"",INDEX(Employé0,SMALL(IF(COUNTIF('Planning Global'!$C8:$J8,Employé0)>0,"",COLUMN(Employé0)-2),COLUMN()-2)))}

Sheet Planning Employé
B4: Employé 1
C5: Magasin1 | D5: =SUMPRODUCT(LARGE((bdd=$B$4)*(maga=$C5)*dates,COLUMN(A:A))) -> 42159 | E5: =SUMPRODUCT(LARGE((bdd=$B$4)*(maga=$C5)*dates,COLUMN(B:B))) -> 42157 | F5: =SUMPRODUCT(LARGE((bdd=$B$4)*(maga=$C5)*dates,COLUMN(C:C))) -> 0 | G5: =SUMPRODUCT(LARGE((bdd=$B$4)*(maga=$C5)*dates,COLUMN(D:D))) -> 0 | H5: =SUMPRODUCT(LARGE((bdd=$B$4)*(maga=$C5)*dates,COLUMN(E:E))) -> 0 | I5: =SUMPRODUCT(LARGE((bdd=$B$4)*(maga=$C5)*dates,COLUMN(F:F))) -> 0
C6: Magasin2 | D6: =SUMPRODUCT(LARGE((bdd=$B$4)*(maga=$C6)*dates,COLUMN(A:A))) -> 0 | E6: =SUMPRODUCT(LARGE((bdd=$B$4)*(maga=$C6)*dates,COLUMN(B:B))) -> 0 | F6: =SUMPRODUCT(LARGE((bdd=$B$4)*(maga=$C6)*dates,COLUMN(C:C))) -> 0 | G6: =SUMPRODUCT(LARGE((bdd=$B$4)*(maga=$C6)*dates,COLUMN(D:D))) -> 0 | H6: =SUMPRODUCT(LARGE((bdd=$B$4)*(maga=$C6)*dates,COLUMN(E:E))) -> 0 | I6: =SUMPRODUCT(LARGE((bdd=$B$4)*(maga=$C6)*dates,COLUMN(F:F))) -> 0
C7: Magasin3 | D7: =SUMPRODUCT(LARGE((bdd=$B$4)*(maga=$C7)*dates,COLUMN(A:A))) -> 42158 | E7: =SUMPRODUCT(LARGE((bdd=$B$4)*(maga=$C7)*dates,COLUMN(B:B))) -> 0 | F7: =SUMPRODUCT(LARGE((bdd=$B$4)*(maga=$C7)*dates,COLUMN(C:C))) -> 0 | G7: =SUMPRODUCT(LARGE((bdd=$B$4)*(maga=$C7)*dates,COLUMN(D:D))) -> 0 | H7: =SUMPRODUCT(LARGE((bdd=$B$4)*(maga=$C7)*dates,COLUMN(E:E))) -> 0 | I7: =SUMPRODUCT(LARGE((bdd=$B$4)*(maga=$C7)*dates,COLUMN(F:F))) -> 0
C8: Magasin4 | D8: =SUMPRODUCT(LARGE((bdd=$B$4)*(maga=$C8)*dates,COLUMN(A:A))) -> 42160 | E8: =SUMPRODUCT(LARGE((bdd=$B$4)*(maga=$C8)*dates,COLUMN(B:B))) -> 42156 | F8: =SUMPRODUCT(LARGE((bdd=$B$4)*(maga=$C8)*dates,COLUMN(C:C))) -> 0 | G8: =SUMPRODUCT(LARGE((bdd=$B$4)*(maga=$C8)*dates,COLUMN(D:D))) -> 0 | H8: =SUMPRODUCT(LARGE((bdd=$B$4)*(maga=$C8)*dates,COLUMN(E:E))) -> 0 | I8: =SUMPRODUCT(LARGE((bdd=$B$4)*(maga=$C8)*dates,COLUMN(F:F))) -> 0
C9: Magasin5 | D9: =SUMPRODUCT(LARGE((bdd=$B$4)*(maga=$C9)*dates,COLUMN(A:A))) -> 0 | E9: =SUMPRODUCT(LARGE((bdd=$B$4)*(maga=$C9)*dates,COLUMN(B:B))) -> 0 | F9: =SUMPRODUCT(LARGE((bdd=$B$4)*(maga=$C9)*dates,COLUMN(C:C))) -> 0 | G9: =SUMPRODUCT(LARGE((bdd=$B$4)*(maga=$C9)*dates,COLUMN(D:D))) -> 0 | H9: =SUMPRODUCT(LARGE((bdd=$B$4)*(maga=$C9)*dates,COLUMN(E:E))) -> 0 | I9: =SUMPRODUCT(LARGE((bdd=$B$4)*(maga=$C9)*dates,COLUMN(F:F))) -> 0
C10: Magasin6 | D10: =SUMPRODUCT(LARGE((bdd=$B$4)*(maga=$C10)*dates,COLUMN(A:A))) -> 0 | E10: =SUMPRODUCT(LARGE((bdd=$B$4)*(maga=$C10)*dates,COLUMN(B:B))) -> 0 | F10: =SUMPRODUCT(LARGE((bdd=$B$4)*(maga=$C10)*dates,COLUMN(C:C))) -> 0 | G10: =SUMPRODUCT(LARGE((bdd=$B$4)*(maga=$C10)*dates,COLUMN(D:D))) -> 0 | H10: =SUMPRODUCT(LARGE((bdd=$B$4)*(maga=$C10)*dates,COLUMN(E:E))) -> 0 | I10: =SUMPRODUCT(LARGE((bdd=$B$4)*(maga=$C10)*dates,COLUMN(F:F))) -> 0
C11: Magasin7 | D11: =SUMPRODUCT(LARGE((bdd=$B$4)*(maga=$C11)*dates,COLUMN(A:A))) -> 0 | E11: =SUMPRODUCT(LARGE((bdd=$B$4)*(maga=$C11)*dates,COLUMN(B:B))) -> 0 | F11: =SUMPRODUCT(LARGE((bdd=$B$4)*(maga=$C11)*dates,COLUMN(C:C))) -> 0 | G11: =SUMPRODUCT(LARGE((bdd=$B$4)*(maga=$C11)*dates,COLUMN(D:D))) -> 0 | H11: =SUMPRODUCT(LARGE((bdd=$B$4)*(maga=$C11)*dates,COLUMN(E:E))) -> 0 | I11: =SUMPRODUCT(LARGE((bdd=$B$4)*(maga=$C11)*dates,COLUMN(F:F))) -> 0
C12: Magasin8 | D12: =SUMPRODUCT(LARGE((bdd=$B$4)*(maga=$C12)*dates,COLUMN(A:A))) -> 0 | E12: =SUMPRODUCT(LARGE((bdd=$B$4)*(maga=$C12)*dates,COLUMN(B:B))) -> 0 | F12: =SUMPRODUCT(LARGE((bdd=$B$4)*(maga=$C12)*dates,COLUMN(C:C))) -> 0 | G12: =SUMPRODUCT(LARGE((bdd=$B$4)*(maga=$C12)*dates,COLUMN(D:D))) -> 0 | H12: =SUMPRODUCT(LARGE((bdd=$B$4)*(maga=$C12)*dates,COLUMN(E:E))) -> 0 | I12: =SUMPRODUCT(LARGE((bdd=$B$4)*(maga=$C12)*dates,COLUMN(F:F))) -> 0
B13: Employé 2
C14: Magasin1 | D14: =SUMPRODUCT(LARGE((bdd=$B$13)*(maga=$C14)*dates,COLUMN(A:A))) -> 0 | E14: =SUMPRODUCT(LARGE((bdd=$B$13)*(maga=$C14)*dates,COLUMN(B:B))) -> 0 | F14: =SUMPRODUCT(LARGE((bdd=$B$13)*(maga=$C14)*dates,COLUMN(C:C))) -> 0 | G14: =SUMPRODUCT(LARGE((bdd=$B$13)*(maga=$C14)*dates,COLUMN(D:D))) -> 0 | H14: =SUMPRODUCT(LARGE((bdd=$B$13)*(maga=$C14)*dates,COLUMN(E:E))) -> 0 | I14: =SUMPRODUCT(LARGE((bdd=$B$13)*(maga=$C14)*dates,COLUMN(F:F))) -> 0 | J14: =SUMPRODUCT(LARGE((bdd=$B$13)*(maga=$C14)*dates,COLUMN(G:G))) -> 0
C15: Magasin2 | D15: =SUMPRODUCT(LARGE((bdd=$B$13)*(maga=$C15)*dates,COLUMN(A:A))) -> 42158 | E15: =SUMPRODUCT(LARGE((bdd=$B$13)*(maga=$C15)*dates,COLUMN(B:B))) -> 0 | F15: =SUMPRODUCT(LARGE((bdd=$B$13)*(maga=$C15)*dates,COLUMN(C:C))) -> 0 | G15: =SUMPRODUCT(LARGE((bdd=$B$13)*(maga=$C15)*dates,COLUMN(D:D))) -> 0 | H15: =SUMPRODUCT(LARGE((bdd=$B$13)*(maga=$C15)*dates,COLUMN(E:E))) -> 0 | I15: =SUMPRODUCT(LARGE((bdd=$B$13)*(maga=$C15)*dates,COLUMN(F:F))) -> 0 | J15: =SUMPRODUCT(LARGE((bdd=$B$13)*(maga=$C15)*dates,COLUMN(G:G))) -> 0
C16: Magasin3 | D16: =SUMPRODUCT(LARGE((bdd=$B$13)*(maga=$C16)*dates,COLUMN(A:A))) -> 42157 | E16: =SUMPRODUCT(LARGE((bdd=$B$13)*(maga=$C16)*dates,COLUMN(B:B))) -> 0 | F16: =SUMPRODUCT(LARGE((bdd=$B$13)*(maga=$C16)*dates,COLUMN(C:C))) -> 0 | G16: =SUMPRODUCT(LARGE((bdd=$B$13)*(maga=$C16)*dates,COLUMN(D:D))) -> 0 | H16: =SUMPRODUCT(LARGE((bdd=$B$13)*(maga=$C16)*dates,COLUMN(E:E))) -> 0 | I16: =SUMPRODUCT(LARGE((bdd=$B$13)*(maga=$C16)*dates,COLUMN(F:F))) -> 0 | J16: =SUMPRODUCT(LARGE((bdd=$B$13)*(maga=$C16)*dates,COLUMN(G:G))) -> 0
C17: Magasin4 | D17: =SUMPRODUCT(LARGE((bdd=$B$13)*(maga=$C17)*dates,COLUMN(A:A))) -> 0 | E17: =SUMPRODUCT(LARGE((bdd=$B$13)*(maga=$C17)*dates,COLUMN(B:B))) -> 0 | F17: =SUMPRODUCT(LARGE((bdd=$B$13)*(maga=$C17)*dates,COLUMN(C:C))) -> 0 | G17: =SUMPRODUCT(LARGE((bdd=$B$13)*(maga=$C17)*dates,COLUMN(D:D))) -> 0 | H17: =SUMPRODUCT(LARGE((bdd=$B$13)*(maga=$C17)*dates,COLUMN(E:E))) -> 0 | I17: =SUMPRODUCT(LARGE((bdd=$B$13)*(maga=$C17)*dates,COLUMN(F:F))) -> 0 | J17: =SUMPRODUCT(LARGE((bdd=$B$13)*(maga=$C17)*dates,COLUMN(G:G))) -> 0
C18: Magasin5 | D18: =SUMPRODUCT(LARGE((bdd=$B$13)*(maga=$C18)*dates,COLUMN(A:A))) -> 0 | E18: =SUMPRODUCT(LARGE((bdd=$B$13)*(maga=$C18)*dates,COLUMN(B:B))) -> 0 | F18: =SUMPRODUCT(LARGE((bdd=$B$13)*(maga=$C18)*dates,COLUMN(C:C))) -> 0 | G18: =SUMPRODUCT(LARGE((bdd=$B$13)*(maga=$C18)*dates,COLUMN(D:D))) -> 0 | H18: =SUMPRODUCT(LARGE((bdd=$B$13)*(maga=$C18)*dates,COLUMN(E:E))) -> 0 | I18: =SUMPRODUCT(LARGE((bdd=$B$13)*(maga=$C18)*dates,COLUMN(F:F))) -> 0 | J18: =SUMPRODUCT(LARGE((bdd=$B$13)*(maga=$C18)*dates,COLUMN(G:G))) -> 0
C19: Magasin6 | D19: =SUMPRODUCT(LARGE((bdd=$B$13)*(maga=$C19)*dates,COLUMN(A:A))) -> 0 | E19: =SUMPRODUCT(LARGE((bdd=$B$13)*(maga=$C19)*dates,COLUMN(B:B))) -> 0 | F19: =SUMPRODUCT(LARGE((bdd=$B$13)*(maga=$C19)*dates,COLUMN(C:C))) -> 0 | G19: =SUMPRODUCT(LARGE((bdd=$B$13)*(maga=$C19)*dates,COLUMN(D:D))) -> 0 | H19: =SUMPRODUCT(LARGE((bdd=$B$13)*(maga=$C19)*dates,COLUMN(E:E))) -> 0 | I19: =SUMPRODUCT(LARGE((bdd=$B$13)*(maga=$C19)*dates,COLUMN(F:F))) -> 0 | J19: =SUMPRODUCT(LARGE((bdd=$B$13)*(maga=$C19)*dates,COLUMN(G:G))) -> 0
C20: Magasin7 | D20: =SUMPRODUCT(LARGE((bdd=$B$13)*(maga=$C20)*dates,COLUMN(A:A))) -> 42159 | E20: =SUMPRODUCT(LARGE((bdd=$B$13)*(maga=$C20)*dates,COLUMN(B:B))) -> 0 | F20: =SUMPRODUCT(LARGE((bdd=$B$13)*(maga=$C20)*dates,COLUMN(C:C))) -> 0 | G20: =SUMPRODUCT(LARGE((bdd=$B$13)*(maga=$C20)*dates,COLUMN(D:D))) -> 0 | H20: =SUMPRODUCT(LARGE((bdd=$B$13)*(maga=$C20)*dates,COLUMN(E:E))) -> 0 | I20: =SUMPRODUCT(LARGE((bdd=$B$13)*(maga=$C20)*dates,COLUMN(F:F))) -> 0 | J20: =SUMPRODUCT(LARGE((bdd=$B$13)*(maga=$C20)*dates,COLUMN(G:G))) -> 0
C21: Magasin8 | D21: =SUMPRODUCT(LARGE((bdd=$B$13)*(maga=$C21)*dates,COLUMN(A:A))) -> 42160 | E21: =SUMPRODUCT(LARGE((bdd=$B$13)*(maga=$C21)*dates,COLUMN(B:B))) -> 0 | F21: =SUMPRODUCT(LARGE((bdd=$B$13)*(maga=$C21)*dates,COLUMN(C:C))) -> 0 | G21: =SUMPRODUCT(LARGE((bdd=$B$13)*(maga=$C21)*dates,COLUMN(D:D))) -> 0 | H21: =SUMPRODUCT(LARGE((bdd=$B$13)*(maga=$C21)*dates,COLUMN(E:E))) -> 0 | I21: =SUMPRODUCT(LARGE((bdd=$B$13)*(maga=$C21)*dates,COLUMN(F:F))) -> 0 | J21: =SUMPRODUCT(LARGE((bdd=$B$13)*(maga=$C21)*dates,COLUMN(G:G))) -> 0
B22: Employé 3
C23: Magasin1 | D23: =SUMPRODUCT(LARGE((bdd=$B$22)*(maga=$C23)*dates,COLUMN(A:A))) -> 0 | E23: =SUMPRODUCT(LARGE((bdd=$B$13)*(maga=$C23)*dates,COLUMN(B:B))) -> 0 | F23: =SUMPRODUCT(LARGE((bdd=$B$13)*(maga=$C23)*dates,COLUMN(C:C))) -> 0 | G23: =SUMPRODUCT(LARGE((bdd=$B$13)*(maga=$C23)*dates,COLUMN(D:D))) -> 0 | H23: =SUMPRODUCT(LARGE((bdd=$B$13)*(maga=$C23)*dates,COLUMN(E:E))) -> 0 | I23: =SUMPRODUCT(LARGE((bdd=$B$13)*(maga=$C23)*dates,COLUMN(F:F))) -> 0 | J23: =SUMPRODUCT(LARGE((bdd=$B$13)*(maga=$C23)*dates,COLUMN(G:G))) -> 0
C24: Magasin2 | D24: =SUMPRODUCT(LARGE((bdd=$B$22)*(maga=$C24)*dates,COLUMN(A:A))) -> 0 | E24: =SUMPRODUCT(LARGE((bdd=$B$13)*(maga=$C24)*dates,COLUMN(B:B))) -> 0 | F24: =SUMPRODUCT(LARGE((bdd=$B$13)*(maga=$C24)*dates,COLUMN(C:C))) -> 0 | G24: =SUMPRODUCT(LARGE((bdd=$B$13)*(maga=$C24)*dates,COLUMN(D:D))) -> 0 | H24: =SUMPRODUCT(LARGE((bdd=$B$13)*(maga=$C24)*dates,COLUMN(E:E))) -> 0 | I24: =SUMPRODUCT(LARGE((bdd=$B$13)*(maga=$C24)*dates,COLUMN(F:F))) -> 0 | J24: =SUMPRODUCT(LARGE((bdd=$B$13)*(maga=$C24)*dates,COLUMN(G:G))) -> 0
C25: Magasin3 | D25: =SUMPRODUCT(LARGE((bdd=$B$22)*(maga=$C25)*dates,COLUMN(A:A))) -> 0 | E25: =SUMPRODUCT(LARGE((bdd=$B$13)*(maga=$C25)*dates,COLUMN(B:B))) -> 0 | F25: =SUMPRODUCT(LARGE((bdd=$B$13)*(maga=$C25)*dates,COLUMN(C:C))) -> 0 | G25: =SUMPRODUCT(LARGE((bdd=$B$13)*(maga=$C25)*dates,COLUMN(D:D))) -> 0 | H25: =SUMPRODUCT(LARGE((bdd=$B$13)*(maga=$C25)*dates,COLUMN(E:E))) -> 0 | I25: =SUMPRODUCT(LARGE((bdd=$B$13)*(maga=$C25)*dates,COLUMN(F:F))) -> 0 | J25: =SUMPRODUCT(LARGE((bdd=$B$13)*(maga=$C25)*dates,COLUMN(G:G))) -> 0
C26: Magasin4 | D26: =SUMPRODUCT(LARGE((bdd=$B$22)*(maga=$C26)*dates,COLUMN(A:A))) -> 0 | E26: =SUMPRODUCT(LARGE((bdd=$B$13)*(maga=$C26)*dates,COLUMN(B:B))) -> 0 | F26: =SUMPRODUCT(LARGE((bdd=$B$13)*(maga=$C26)*dates,COLUMN(C:C))) -> 0 | G26: =SUMPRODUCT(LARGE((bdd=$B$13)*(maga=$C26)*dates,COLUMN(D:D))) -> 0 | H26: =SUMPRODUCT(LARGE((bdd=$B$13)*(maga=$C26)*dates,COLUMN(E:E))) -> 0 | I26: =SUMPRODUCT(LARGE((bdd=$B$13)*(maga=$C26)*dates,COLUMN(F:F))) -> 0 | J26: =SUMPRODUCT(LARGE((bdd=$B$13)*(maga=$C26)*dates,COLUMN(G:G))) -> 0
C27: Magasin5 | D27: =SUMPRODUCT(LARGE((bdd=$B$22)*(maga=$C27)*dates,COLUMN(A:A))) -> 0 | E27: =SUMPRODUCT(LARGE((bdd=$B$13)*(maga=$C27)*dates,COLUMN(B:B))) -> 0 | F27: =SUMPRODUCT(LARGE((bdd=$B$13)*(maga=$C27)*dates,COLUMN(C:C))) -> 0 | G27: =SUMPRODUCT(LARGE((bdd=$B$13)*(maga=$C27)*dates,COLUMN(D:D))) -> 0 | H27: =SUMPRODUCT(LARGE((bdd=$B$13)*(maga=$C27)*dates,COLUMN(E:E))) -> 0 | I27: =SUMPRODUCT(LARGE((bdd=$B$13)*(maga=$C27)*dates,COLUMN(F:F))) -> 0 | J27: =SUMPRODUCT(LARGE((bdd=$B$13)*(maga=$C27)*dates,COLUMN(G:G))) -> 0
C28: Magasin6 | D28: =SUMPRODUCT(LARGE((bdd=$B$22)*(maga=$C28)*dates,COLUMN(A:A))) -> 42156 | E28: =SUMPRODUCT(LARGE((bdd=$B$13)*(maga=$C28)*dates,COLUMN(B:B))) -> 0 | F28: =SUMPRODUCT(LARGE((bdd=$B$13)*(maga=$C28)*dates,COLUMN(C:C))) -> 0 | G28: =SUMPRODUCT(LARGE((bdd=$B$13)*(maga=$C28)*dates,COLUMN(D:D))) -> 0 | H28: =SUMPRODUCT(LARGE((bdd=$B$13)*(maga=$C28)*dates,COLUMN(E:E))) -> 0 | I28: =SUMPRODUCT(LARGE((bdd=$B$13)*(maga=$C28)*dates,COLUMN(F:F))) -> 0 | J28: =SUMPRODUCT(LARGE((bdd=$B$13)*(maga=$C28)*dates,COLUMN(G:G))) -> 0
C29: Magasin7 | D29: =SUMPRODUCT(LARGE((bdd=$B$22)*(maga=$C29)*dates,COLUMN(A:A))) -> 42157 | E29: =SUMPRODUCT(LARGE((bdd=$B$13)*(maga=$C29)*dates,COLUMN(B:B))) -> 0 | F29: =SUMPRODUCT(LARGE((bdd=$B$13)*(maga=$C29)*dates,COLUMN(C:C))) -> 0 | G29: =SUMPRODUCT(LARGE((bdd=$B$13)*(maga=$C29)*dates,COLUMN(D:D))) -> 0 | H29: =SUMPRODUCT(LARGE((bdd=$B$13)*(maga=$C29)*dates,COLUMN(E:E))) -> 0 | I29: =SUMPRODUCT(LARGE((bdd=$B$13)*(maga=$C29)*dates,COLUMN(F:F))) -> 0 | J29: =SUMPRODUCT(LARGE((bdd=$B$13)*(maga=$C29)*dates,COLUMN(G:G))) -> 0
C30: Magasin8 | D30: =SUMPRODUCT(LARGE((bdd=$B$22)*(maga=$C30)*dates,COLUMN(A:A))) -> 42158 | E30: =SUMPRODUCT(LARGE((bdd=$B$13)*(maga=$C30)*dates,COLUMN(B:B))) -> 0 | F30: =SUMPRODUCT(LARGE((bdd=$B$13)*(maga=$C30)*dates,COLUMN(C:C))) -> 0 | G30: =SUMPRODUCT(LARGE((bdd=$B$13)*(maga=$C30)*dates,COLUMN(D:D))) -> 0 | H30: =SUMPRODUCT(LARGE((bdd=$B$13)*(maga=$C30)*dates,COLUMN(E:E))) -> 0 | I30: =SUMPRODUCT(LARGE((bdd=$B$13)*(maga=$C30)*dates,COLUMN(F:F))) -> 0 | J30: =SUMPRODUCT(LARGE((bdd=$B$13)*(maga=$C30)*dates,COLUMN(G:G))) -> 0
B31: Employé 4
C32: Magasin1 | D32: =SUMPRODUCT(LARGE((bdd=$B$31)*(maga=$C32)*dates,COLUMN(A:A))) -> 0 | E32: =SUMPRODUCT(LARGE((bdd=$B$31)*(maga=$C32)*dates,COLUMN(B:B))) -> 0 | F32: =SUMPRODUCT(LARGE((bdd=$B$31)*(maga=$C32)*dates,COLUMN(C:C))) -> 0 | G32: =SUMPRODUCT(LARGE((bdd=$B$31)*(maga=$C32)*dates,COLUMN(D:D))) -> 0 | H32: =SUMPRODUCT(LARGE((bdd=$B$31)*(maga=$C32)*dates,COLUMN(E:E))) -> 0 | I32: =SUMPRODUCT(LARGE((bdd=$B$31)*(maga=$C32)*dates,COLUMN(F:F))) -> 0 | J32: =SUMPRODUCT(LARGE((bdd=$B$31)*(maga=$C32)*dates,COLUMN(G:G))) -> 0
C33: Magasin2 | D33: =SUMPRODUCT(LARGE((bdd=$B$31)*(maga=$C33)*dates,COLUMN(A:A))) -> 42160 | E33: =SUMPRODUCT(LARGE((bdd=$B$31)*(maga=$C33)*dates,COLUMN(B:B))) -> 42156 | F33: =SUMPRODUCT(LARGE((bdd=$B$31)*(maga=$C33)*dates,COLUMN(C:C))) -> 0 | G33: =SUMPRODUCT(LARGE((bdd=$B$31)*(maga=$C33)*dates,COLUMN(D:D))) -> 0 | H33: =SUMPRODUCT(LARGE((bdd=$B$31)*(maga=$C33)*dates,COLUMN(E:E))) -> 0 | I33: =SUMPRODUCT(LARGE((bdd=$B$31)*(maga=$C33)*dates,COLUMN(F:F))) -> 0 | J33: =SUMPRODUCT(LARGE((bdd=$B$31)*(maga=$C33)*dates,COLUMN(G:G))) -> 0
C34: Magasin3 | D34: =SUMPRODUCT(LARGE((bdd=$B$31)*(maga=$C34)*dates,COLUMN(A:A))) -> 0 | E34: =SUMPRODUCT(LARGE((bdd=$B$31)*(maga=$C34)*dates,COLUMN(B:B))) -> 0 | F34: =SUMPRODUCT(LARGE((bdd=$B$31)*(maga=$C34)*dates,COLUMN(C:C))) -> 0 | G34: =SUMPRODUCT(LARGE((bdd=$B$31)*(maga=$C34)*dates,COLUMN(D:D))) -> 0 | H34: =SUMPRODUCT(LARGE((bdd=$B$31)*(maga=$C34)*dates,COLUMN(E:E))) -> 0 | I34: =SUMPRODUCT(LARGE((bdd=$B$31)*(maga=$C34)*dates,COLUMN(F:F))) -> 0 | J34: =SUMPRODUCT(LARGE((bdd=$B$31)*(maga=$C34)*dates,COLUMN(G:G))) -> 0
C35: Magasin4 | D35: =SUMPRODUCT(LARGE((bdd=$B$31)*(maga=$C35)*dates,COLUMN(A:A))) -> 42158 | E35: =SUMPRODUCT(LARGE((bdd=$B$31)*(maga=$C35)*dates,COLUMN(B:B))) -> 0 | F35: =SUMPRODUCT(LARGE((bdd=$B$31)*(maga=$C35)*dates,COLUMN(C:C))) -> 0 | G35: =SUMPRODUCT(LARGE((bdd=$B$31)*(maga=$C35)*dates,COLUMN(D:D))) -> 0 | H35: =SUMPRODUCT(LARGE((bdd=$B$31)*(maga=$C35)*dates,COLUMN(E:E))) -> 0 | I35: =SUMPRODUCT(LARGE((bdd=$B$31)*(maga=$C35)*dates,COLUMN(F:F))) -> 0 | J35: =SUMPRODUCT(LARGE((bdd=$B$31)*(maga=$C35)*dates,COLUMN(G:G))) -> 0
C36: Magasin5 | D36: =SUMPRODUCT(LARGE((bdd=$B$31)*(maga=$C36)*dates,COLUMN(A:A))) -> 42157 | E36: =SUMPRODUCT(LARGE((bdd=$B$31)*(maga=$C36)*dates,COLUMN(B:B))) -> 0 | F36: =SUMPRODUCT(LARGE((bdd=$B$31)*(maga=$C36)*dates,COLUMN(C:C))) -> 0 | G36: =SUMPRODUCT(LARGE((bdd=$B$31)*(maga=$C36)*dates,COLUMN(D:D))) -> 0 | H36: =SUMPRODUCT(LARGE((bdd=$B$31)*(maga=$C36)*dates,COLUMN(E:E))) -> 0 | I36: =SUMPRODUCT(LARGE((bdd=$B$31)*(maga=$C36)*dates,COLUMN(F:F))) -> 0 | J36: =SUMPRODUCT(LARGE((bdd=$B$31)*(maga=$C36)*dates,COLUMN(G:G))) -> 0
C37: Magasin6 | D37: =SUMPRODUCT(LARGE((bdd=$B$31)*(maga=$C37)*dates,COLUMN(A:A))) -> 0 | E37: =SUMPRODUCT(LARGE((bdd=$B$31)*(maga=$C37)*dates,COLUMN(B:B))) -> 0 | F37: =SUMPRODUCT(LARGE((bdd=$B$31)*(maga=$C37)*dates,COLUMN(C:C))) -> 0 | G37: =SUMPRODUCT(LARGE((bdd=$B$31)*(maga=$C37)*dates,COLUMN(D:D))) -> 0 | H37: =SUMPRODUCT(LARGE((bdd=$B$31)*(maga=$C37)*dates,COLUMN(E:E))) -> 0 | I37: =SUMPRODUCT(LARGE((bdd=$B$31)*(maga=$C37)*dates,COLUMN(F:F))) -> 0 | J37: =SUMPRODUCT(LARGE((bdd=$B$31)*(maga=$C37)*dates,COLUMN(G:G))) -> 0
C38: Magasin7 | D38: =SUMPRODUCT(LARGE((bdd=$B$31)*(maga=$C38)*dates,COLUMN(A:A))) -> 0 | E38: =SUMPRODUCT(LARGE((bdd=$B$31)*(maga=$C38)*dates,COLUMN(B:B))) -> 0 | F38: =SUMPRODUCT(LARGE((bdd=$B$31)*(maga=$C38)*dates,COLUMN(C:C))) -> 0 | G38: =SUMPRODUCT(LARGE((bdd=$B$31)*(maga=$C38)*dates,COLUMN(D:D))) -> 0 | H38: =SUMPRODUCT(LARGE((bdd=$B$31)*(maga=$C38)*dates,COLUMN(E:E))) -> 0 | I38: =SUMPRODUCT(LARGE((bdd=$B$31)*(maga=$C38)*dates,COLUMN(F:F))) -> 0 | J38: =SUMPRODUCT(LARGE((bdd=$B$31)*(maga=$C38)*dates,COLUMN(G:G))) -> 0
C39: Magasin8 | D39: =SUMPRODUCT(LARGE((bdd=$B$31)*(maga=$C39)*dates,COLUMN(A:A))) -> 0 | E39: =SUMPRODUCT(LARGE((bdd=$B$31)*(maga=$C39)*dates,COLUMN(B:B))) -> 0 | F39: =SUMPRODUCT(LARGE((bdd=$B$31)*(maga=$C39)*dates,COLUMN(C:C))) -> 0 | G39: =SUMPRODUCT(LARGE((bdd=$B$31)*(maga=$C39)*dates,COLUMN(D:D))) -> 0 | H39: =SUMPRODUCT(LARGE((bdd=$B$31)*(maga=$C39)*dates,COLUMN(E:E))) -> 0 | I39: =SUMPRODUCT(LARGE((bdd=$B$31)*(maga=$C39)*dates,COLUMN(F:F))) -> 0 | J39: =SUMPRODUCT(LARGE((bdd=$B$31)*(maga=$C39)*dates,COLUMN(G:G))) -> 0
B40: Employé 5
C41: Magasin1 | D41: =SUMPRODUCT(LARGE((bdd=$B$40)*(maga=$C41)*dates,COLUMN(A:A))) -> 0 | E41: =SUMPRODUCT(LARGE((bdd=$B$40)*(maga=$C41)*dates,COLUMN(B:B))) -> 0 | F41: =SUMPRODUCT(LARGE((bdd=$B$40)*(maga=$C41)*dates,COLUMN(C:C))) -> 0 | G41: =SUMPRODUCT(LARGE((bdd=$B$40)*(maga=$C41)*dates,COLUMN(D:D))) -> 0 | H41: =SUMPRODUCT(LARGE((bdd=$B$40)*(maga=$C41)*dates,COLUMN(E:E))) -> 0 | I41: =SUMPRODUCT(LARGE((bdd=$B$40)*(maga=$C41)*dates,COLUMN(F:F))) -> 0 | J41: =SUMPRODUCT(LARGE((bdd=$B$40)*(maga=$C41)*dates,COLUMN(G:G))) -> 0
C42: Magasin2 | D42: =SUMPRODUCT(LARGE((bdd=$B$40)*(maga=$C42)*dates,COLUMN(A:A))) -> 0 | E42: =SUMPRODUCT(LARGE((bdd=$B$40)*(maga=$C42)*dates,COLUMN(B:B))) -> 0 | F42: =SUMPRODUCT(LARGE((bdd=$B$40)*(maga=$C42)*dates,COLUMN(C:C))) -> 0 | G42: =SUMPRODUCT(LARGE((bdd=$B$40)*(maga=$C42)*dates,COLUMN(D:D))) -> 0 | H42: =SUMPRODUCT(LARGE((bdd=$B$40)*(maga=$C42)*dates,COLUMN(E:E))) -> 0 | I42: =SUMPRODUCT(LARGE((bdd=$B$40)*(maga=$C42)*dates,COLUMN(F:F))) -> 0 | J42: =SUMPRODUCT(LARGE((bdd=$B$40)*(maga=$C42)*dates,COLUMN(G:G))) -> 0
C43: Magasin3 | D43: =SUMPRODUCT(LARGE((bdd=$B$40)*(maga=$C43)*dates,COLUMN(A:A))) -> 0 | E43: =SUMPRODUCT(LARGE((bdd=$B$40)*(maga=$C43)*dates,COLUMN(B:B))) -> 0 | F43: =SUMPRODUCT(LARGE((bdd=$B$40)*(maga=$C43)*dates,COLUMN(C:C))) -> 0 | G43: =SUMPRODUCT(LARGE((bdd=$B$40)*(maga=$C43)*dates,COLUMN(D:D))) -> 0 | H43: =SUMPRODUCT(LARGE((bdd=$B$40)*(maga=$C43)*dates,COLUMN(E:E))) -> 0 | I43: =SUMPRODUCT(LARGE((bdd=$B$40)*(maga=$C43)*dates,COLUMN(F:F))) -> 0 | J43: =SUMPRODUCT(LARGE((bdd=$B$40)*(maga=$C43)*dates,COLUMN(G:G))) -> 0
...
