Workbook
Name code: OFFSET(puissance,,3,)
Name dept: Data!$C$13
Name dept2: Data!$B$2
Name liste1: Data!$A$2:$A$4
Name listetension: OFFSET(Data!$L$2,,,,COUNT(Data!$L$2:$Q$2))
Name puissance: OFFSET(dept,,MATCH(Inventaire!$D$8,transfo,0)-1,10)
Name tension: OFFSET(puissance,,1,)
Name tensionbt: OFFSET(puissance,,2,)
Name transfo: Data!$C$11:$N$11
Name Transformateur1: Data!$C$13:$F$15
Name Transformateur2: Data!$G$13:$J$15
Name Transformateur3: Data!$K$13:$N$15

Sheet Data
A1: Type | B1: Colonne1
A2: Transformateur1 | B2: {=IFERROR(OFFSET($C$12,MATCH(0,COUNTIF($A2:A2,$C$13:$C$17),0),),"")} -> 10 | C2: {=IFERROR(OFFSET($C$12,MATCH(0,COUNTIF($A2:B2,$C$13:$C$17),0),),"")} -> 20 | D2: {=IFERROR(OFFSET($C$12,MATCH(0,COUNTIF($A2:C2,$C$13:$C$17),0),),"")} -> 30 | E2: {=IFERROR(OFFSET($C$12,MATCH(0,COUNTIF($A2:D2,$C$13:$C$17),0),),"")} -> 38 | F2: {=IFERROR(OFFSET($C$12,MATCH(0,COUNTIF($A2:E2,$C$13:$C$17),0),),"")} | G2: {=IFERROR(OFFSET($C$12,MATCH(0,COUNTIF($A2:F2,$C$13:$C$17),0),),"")} | H2: {=IFERROR(OFFSET($C$12,MATCH(0,COUNTIF($A2:G2,$C$13:$C$17),0),),"")} | I2: {=IFERROR(OFFSET($C$12,MATCH(0,COUNTIF($A2:H2,$C$13:$C$17),0),),"")} | L2: {=INDEX(tension,SMALL(IF(puissance=Inventaire!$E$8,ROW(tension)-12,""),COLUMN(A:A)))} -> 120 | M2: {=INDEX(tension,SMALL(IF(puissance=Inventaire!$E$8,ROW(tension)-12,""),COLUMN(B:B)))} -> #NUM! | N2: {=INDEX(tension,SMALL(IF(puissance=Inventaire!$E$8,ROW(tension)-12,""),COLUMN(C:C)))} -> #NUM! | O2: {=INDEX(tension,SMALL(IF(puissance=Inventaire!$E$8,ROW(tension)-12,""),COLUMN(D:D)))} -> #NUM! | P2: {=INDEX(tension,SMALL(IF(puissance=Inventaire!$E$8,ROW(tension)-12,""),COLUMN(E:E)))} -> #NUM! | Q2: {=INDEX(tension,SMALL(IF(puissance=Inventaire!$E$8,ROW(tension)-12,""),COLUMN(F:F)))} -> #NUM!
A3: Transformateur2 | B3: {=IFERROR(OFFSET($G$12,MATCH(0,COUNTIF($A3:A3,$G$13:$G$17),0),),"")} -> 24 | C3: {=IFERROR(OFFSET($G$12,MATCH(0,COUNTIF($A3:B3,$G$13:$G$17),0),),"")} -> 32 | D3: {=IFERROR(OFFSET($G$12,MATCH(0,COUNTIF($A3:C3,$G$13:$G$17),0),),"")} -> 48 | E3: {=IFERROR(OFFSET($G$12,MATCH(0,COUNTIF($A3:D3,$G$13:$G$17),0),),"")} | F3: {=IFERROR(OFFSET($G$12,MATCH(0,COUNTIF($A3:E3,$G$13:$G$17),0),),"")} | G3: {=IFERROR(OFFSET($G$12,MATCH(0,COUNTIF($A3:F3,$G$13:$G$17),0),),"")} | H3: {=IFERROR(OFFSET($G$12,MATCH(0,COUNTIF($A3:G3,$G$13:$G$17),0),),"")} | I3: {=IFERROR(OFFSET($G$12,MATCH(0,COUNTIF($A3:H3,$G$13:$G$17),0),),"")}
A4: Transformateur3 | B4: {=IFERROR(OFFSET($K$12,MATCH(0,COUNTIF($A4:A4,$K$13:$K$17),0),),"")} -> 185 | C4: {=IFERROR(OFFSET($K$12,MATCH(0,COUNTIF($A4:B4,$K$13:$K$17),0),),"")} -> 156 | D4: {=IFERROR(OFFSET($K$12,MATCH(0,COUNTIF($A4:C4,$K$13:$K$17),0),),"")} -> 15 | E4: {=IFERROR(OFFSET($K$12,MATCH(0,COUNTIF($A4:D4,$K$13:$K$17),0),),"")} | F4: {=IFERROR(OFFSET($K$12,MATCH(0,COUNTIF($A4:E4,$K$13:$K$17),0),),"")} | G4: {=IFERROR(OFFSET($K$12,MATCH(0,COUNTIF($A4:F4,$K$13:$K$17),0),),"")} | H4: {=IFERROR(OFFSET($K$12,MATCH(0,COUNTIF($A4:G4,$K$13:$K$17),0),),"")} | I4: {=IFERROR(OFFSET($K$12,MATCH(0,COUNTIF($A4:H4,$K$13:$K$17),0),),"")}
C11: Transformateur1 | G11: Transformateur2 | K11: Transformateur3
C12: Puissance | D12: Tension HT | E12: Tension BT | F12: Code | G12: Puissance | H12: Tension HT | I12: Tension BT | J12: Code | K12: Puissance | L12: Tension HT | M12: Tension BT | N12: Code
C13: 10 | D13: 120 | E13: 100 | F13: B14535 | G13: 24 | H13: 54 | I13: 844 | J13: R10011 | K13: 185 | L13: 148 | M13: 54 | N13: D5465
C14: 20 | D14: 240 | E14: 200 | F14: B51854 | G14: 32 | H14: 16 | I14: 51 | J14: R16414 | K14: 156 | L14: 556 | M14: 21 | N14: D5464
C15: 30 | D15: 360 | E15: 300 | F15: B54645 | G15: 48 | H15: 29 | I15: 854 | J15: R15315 | K15: 15 | L15: 745 | M15: 12 | N15: D9416
C16: 30 | D16: 400 | E16: 200 | F16: B84654 | G16: 48 | H16: 30 | I16: 543 | J16: R485641 | K16: 156 | L16: 569 | M16: 55 | N16: D951
C17: 38 | D17: 240 | E17: 200 | F17: B15444 | G17: 32 | H17: 52 | I17: 59 | J17: R121331 | K17: 185 | L17: 154 | M17: 44 | N17: D952

Sheet Inventaire
D7: Choix de transformateur | E7: Puissance | F7: HT | G7: BT | H7: Code
D8: Transformateur1 | E8: 10 | F8: 120 | G8: =SUMPRODUCT((puissance=E8)*(tension=F8)*(tensionbt)) -> 100 | H8: =INDEX(code,SUMPRODUCT(MAX((puissance=E8)*(tension=F8)*(tensionbt=G8)*ROW(code)-12))) -> B14535 | J8: j'ai volontairement laisser les NA#
J9: afin d'obliger le choix de puissance
