Workbook

Sheet SUIVI
A1: Liste des Act | B1: Machine | C1: OME | D1: Fin | I1: N°activité
A2: G737860 | B2: MACHINE01 | C2: =INDEX(PLANNING!E$2:E$23,SUMPRODUCT(MAX((--ISNUMBER(SEARCH($A2,PLANNING!$C$2:$C$23))*(--ISNUMBER(SEARCH($B2,PLANNING!$B$2:$B$23))*(ROW(PLANNING!$A$2:$A$23)-1)))))) -> OME21 | D2: {=INDEX(PLANNING!G$2:G$23,SUMPRODUCT(MAX((--ISNUMBER(SEARCH($A2,PLANNING!$C$2:$C$23))*(--ISNUMBER(SEARCH($B2,PLANNING!$B$2:$B$23))*(ROW(PLANNING!$A$2:$A$23)-1))))))} -> 42454.917 | I2: {=INDEX(PLANNING!A$2:A$23,SUMPRODUCT(MAX((--ISNUMBER(SEARCH($A2,PLANNING!$C$2:$C$23))*(--ISNUMBER(SEARCH($B2,PLANNING!$B$2:$B$23))*(ROW(PLANNING!$A$2:$A$23)-1))))))} -> 10000
A3: G741496 | B3: MACHINE08 | C3: {=INDEX(PLANNING!E$2:E$23,SUMPRODUCT(MAX((--ISNUMBER(SEARCH(A3,PLANNING!C$2:C$23))*(--ISNUMBER(SEARCH(B3,PLANNING!B$2:B$23))*(ROW(PLANNING!A$2:A$23)-1))))))} -> OME21 | D3: {=INDEX(PLANNING!G$2:G$23,SUMPRODUCT(MAX((--ISNUMBER(SEARCH($A3,PLANNING!$C$2:$C$23))*(--ISNUMBER(SEARCH($B3,PLANNING!$B$2:$B$23))*(ROW(PLANNING!$A$2:$A$23)-1))))))} -> 42435.375 | I3: {=INDEX(PLANNING!A$2:A$23,SUMPRODUCT(MAX((--ISNUMBER(SEARCH($A3,PLANNING!$C$2:$C$23))*(--ISNUMBER(SEARCH($B3,PLANNING!$B$2:$B$23))*(ROW(PLANNING!$A$2:$A$23)-1))))))} -> 10007
A4: G741496 | B4: MACHINE09 | C4: {=INDEX(PLANNING!E$2:E$23,SUMPRODUCT(MAX((--ISNUMBER(SEARCH(A4,PLANNING!C$2:C$23))*(--ISNUMBER(SEARCH(B4,PLANNING!B$2:B$23))*(ROW(PLANNING!A$2:A$23)-1))))))} -> OME21 | D4: {=INDEX(PLANNING!G$2:G$23,SUMPRODUCT(MAX((--ISNUMBER(SEARCH($A4,PLANNING!$C$2:$C$23))*(--ISNUMBER(SEARCH($B4,PLANNING!$B$2:$B$23))*(ROW(PLANNING!$A$2:$A$23)-1))))))} -> 42435.167 | I4: {=INDEX(PLANNING!A$2:A$23,SUMPRODUCT(MAX((--ISNUMBER(SEARCH($A4,PLANNING!$C$2:$C$23))*(--ISNUMBER(SEARCH($B4,PLANNING!$B$2:$B$23))*(ROW(PLANNING!$A$2:$A$23)-1))))))} -> 10008
A5: G738446 | B5: MACHINE10 | C5: {=INDEX(PLANNING!E$2:E$23,SUMPRODUCT(MAX((--ISNUMBER(SEARCH(A5,PLANNING!C$2:C$23))*(--ISNUMBER(SEARCH(B5,PLANNING!B$2:B$23))*(ROW(PLANNING!A$2:A$23)-1))))))} -> OME21 | D5: {=INDEX(PLANNING!G$2:G$23,SUMPRODUCT(MAX((--ISNUMBER(SEARCH($A5,PLANNING!$C$2:$C$23))*(--ISNUMBER(SEARCH($B5,PLANNING!$B$2:$B$23))*(ROW(PLANNING!$A$2:$A$23)-1))))))} -> 42435.375 | I5: {=INDEX(PLANNING!A$2:A$23,SUMPRODUCT(MAX((--ISNUMBER(SEARCH($A5,PLANNING!$C$2:$C$23))*(--ISNUMBER(SEARCH($B5,PLANNING!$B$2:$B$23))*(ROW(PLANNING!$A$2:$A$23)-1))))))} -> 10009
A6: G738447 | B6: MACHINE11 | C6: {=INDEX(PLANNING!E$2:E$23,SUMPRODUCT(MAX((--ISNUMBER(SEARCH(A6,PLANNING!C$2:C$23))*(--ISNUMBER(SEARCH(B6,PLANNING!B$2:B$23))*(ROW(PLANNING!A$2:A$23)-1))))))} -> OME21 | D6: {=INDEX(PLANNING!G$2:G$23,SUMPRODUCT(MAX((--ISNUMBER(SEARCH($A6,PLANNING!$C$2:$C$23))*(--ISNUMBER(SEARCH($B6,PLANNING!$B$2:$B$23))*(ROW(PLANNING!$A$2:$A$23)-1))))))} -> 42435.417 | I6: {=INDEX(PLANNING!A$2:A$23,SUMPRODUCT(MAX((--ISNUMBER(SEARCH($A6,PLANNING!$C$2:$C$23))*(--ISNUMBER(SEARCH($B6,PLANNING!$B$2:$B$23))*(ROW(PLANNING!$A$2:$A$23)-1))))))} -> 10011
A7: G738774 | B7: MACHINE12 | C7: {=INDEX(PLANNING!E$2:E$23,SUMPRODUCT(MAX((--ISNUMBER(SEARCH(A7,PLANNING!C$2:C$23))*(--ISNUMBER(SEARCH(B7,PLANNING!B$2:B$23))*(ROW(PLANNING!A$2:A$23)-1))))))} -> OME21 | D7: {=INDEX(PLANNING!G$2:G$23,SUMPRODUCT(MAX((--ISNUMBER(SEARCH($A7,PLANNING!$C$2:$C$23))*(--ISNUMBER(SEARCH($B7,PLANNING!$B$2:$B$23))*(ROW(PLANNING!$A$2:$A$23)-1))))))} -> 42432.917 | I7: {=INDEX(PLANNING!A$2:A$23,SUMPRODUCT(MAX((--ISNUMBER(SEARCH($A7,PLANNING!$C$2:$C$23))*(--ISNUMBER(SEARCH($B7,PLANNING!$B$2:$B$23))*(ROW(PLANNING!$A$2:$A$23)-1))))))} -> 10012
A8: G738632 | B8: MACHINE14 | C8: {=INDEX(PLANNING!E$2:E$23,SUMPRODUCT(MAX((--ISNUMBER(SEARCH(A8,PLANNING!C$2:C$23))*(--ISNUMBER(SEARCH(B8,PLANNING!B$2:B$23))*(ROW(PLANNING!A$2:A$23)-1))))))} -> OME21 | D8: {=INDEX(PLANNING!G$2:G$23,SUMPRODUCT(MAX((--ISNUMBER(SEARCH($A8,PLANNING!$C$2:$C$23))*(--ISNUMBER(SEARCH($B8,PLANNING!$B$2:$B$23))*(ROW(PLANNING!$A$2:$A$23)-1))))))} -> 42432.875 | I8: {=INDEX(PLANNING!A$2:A$23,SUMPRODUCT(MAX((--ISNUMBER(SEARCH($A8,PLANNING!$C$2:$C$23))*(--ISNUMBER(SEARCH($B8,PLANNING!$B$2:$B$23))*(ROW(PLANNING!$A$2:$A$23)-1))))))} -> 10014
A9: G738438 | B9: MACHINE18 | C9: {=INDEX(PLANNING!E$2:E$23,SUMPRODUCT(MAX((--ISNUMBER(SEARCH(A9,PLANNING!C$2:C$23))*(--ISNUMBER(SEARCH(B9,PLANNING!B$2:B$23))*(ROW(PLANNING!A$2:A$23)-1))))))} -> OME21 | D9: {=INDEX(PLANNING!G$2:G$23,SUMPRODUCT(MAX((--ISNUMBER(SEARCH($A9,PLANNING!$C$2:$C$23))*(--ISNUMBER(SEARCH($B9,PLANNING!$B$2:$B$23))*(ROW(PLANNING!$A$2:$A$23)-1))))))} -> 42432.875 | I9: {=INDEX(PLANNING!A$2:A$23,SUMPRODUCT(MAX((--ISNUMBER(SEARCH($A9,PLANNING!$C$2:$C$23))*(--ISNUMBER(SEARCH($B9,PLANNING!$B$2:$B$23))*(ROW(PLANNING!$A$2:$A$23)-1))))))} -> 50003
A10: G738451 | B10: MACHINE20 | C10: {=INDEX(PLANNING!E$2:E$23,SUMPRODUCT(MAX((--ISNUMBER(SEARCH(A10,PLANNING!C$2:C$23))*(--ISNUMBER(SEARCH(B10,PLANNING!B$2:B$23))*(ROW(PLANNING!A$2:A$23)-1))))))} -> OME21 | D10: {=INDEX(PLANNING!G$2:G$23,SUMPRODUCT(MAX((--ISNUMBER(SEARCH($A10,PLANNING!$C$2:$C$23))*(--ISNUMBER(SEARCH($B10,PLANNING!$B$2:$B$23))*(ROW(PLANNING!$A$2:$A$23)-1))))))} -> 42433.375 | I10: {=INDEX(PLANNING!A$2:A$23,SUMPRODUCT(MAX((--ISNUMBER(SEARCH($A10,PLANNING!$C$2:$C$23))*(--ISNUMBER(SEARCH($B10,PLANNING!$B$2:$B$23))*(ROW(PLANNING!$A$2:$A$23)-1))))))} -> 50005
A11: G738448 | B11: MACHINE22 | C11: {=INDEX(PLANNING!E$2:E$23,SUMPRODUCT(MAX((--ISNUMBER(SEARCH(A11,PLANNING!C$2:C$23))*(--ISNUMBER(SEARCH(B11,PLANNING!B$2:B$23))*(ROW(PLANNING!A$2:A$23)-1))))))} -> OME21 | D11: {=INDEX(PLANNING!G$2:G$23,SUMPRODUCT(MAX((--ISNUMBER(SEARCH($A11,PLANNING!$C$2:$C$23))*(--ISNUMBER(SEARCH($B11,PLANNING!$B$2:$B$23))*(ROW(PLANNING!$A$2:$A$23)-1))))))} -> 42433.375 | I11: {=INDEX(PLANNING!A$2:A$23,SUMPRODUCT(MAX((--ISNUMBER(SEARCH($A11,PLANNING!$C$2:$C$23))*(--ISNUMBER(SEARCH($B11,PLANNING!$B$2:$B$23))*(ROW(PLANNING!$A$2:$A$23)-1))))))} -> 50007
A12: G737128 | B12: MACHINE23 | C12: {=INDEX(PLANNING!E$2:E$23,SUMPRODUCT(MAX((--ISNUMBER(SEARCH(A12,PLANNING!C$2:C$23))*(--ISNUMBER(SEARCH(B12,PLANNING!B$2:B$23))*(ROW(PLANNING!A$2:A$23)-1))))))} -> OME21 | D12: {=INDEX(PLANNING!G$2:G$23,SUMPRODUCT(MAX((--ISNUMBER(SEARCH($A12,PLANNING!$C$2:$C$23))*(--ISNUMBER(SEARCH($B12,PLANNING!$B$2:$B$23))*(ROW(PLANNING!$A$2:$A$23)-1))))))} -> 42432.875 | I12: {=INDEX(PLANNING!A$2:A$23,SUMPRODUCT(MAX((--ISNUMBER(SEARCH($A12,PLANNING!$C$2:$C$23))*(--ISNUMBER(SEARCH($B12,PLANNING!$B$2:$B$23))*(ROW(PLANNING!$A$2:$A$23)-1))))))} -> 50008
A13: G737128 | B13: MACHINE24 | C13: {=INDEX(PLANNING!E$2:E$23,SUMPRODUCT(MAX((--ISNUMBER(SEARCH(A13,PLANNING!C$2:C$23))*(--ISNUMBER(SEARCH(B13,PLANNING!B$2:B$23))*(ROW(PLANNING!A$2:A$23)-1))))))} -> OME21 | D13: {=INDEX(PLANNING!G$2:G$23,SUMPRODUCT(MAX((--ISNUMBER(SEARCH($A13,PLANNING!$C$2:$C$23))*(--ISNUMBER(SEARCH($B13,PLANNING!$B$2:$B$23))*(ROW(PLANNING!$A$2:$A$23)-1))))))} -> 42435.458 | I13: {=INDEX(PLANNING!A$2:A$23,SUMPRODUCT(MAX((--ISNUMBER(SEARCH($A13,PLANNING!$C$2:$C$23))*(--ISNUMBER(SEARCH($B13,PLANNING!$B$2:$B$23))*(ROW(PLANNING!$A$2:$A$23)-1))))))} -> 50009
A14: G737226 | B14: MACHINE06 | C14: {=INDEX(PLANNING!E$2:E$23,SUMPRODUCT(MAX((--ISNUMBER(SEARCH(A14,PLANNING!C$2:C$23))*(--ISNUMBER(SEARCH(B14,PLANNING!B$2:B$23))*(ROW(PLANNING!A$2:A$23)-1))))))} -> OME21 | D14: {=INDEX(PLANNING!G$2:G$23,SUMPRODUCT(MAX((--ISNUMBER(SEARCH($A14,PLANNING!$C$2:$C$23))*(--ISNUMBER(SEARCH($B14,PLANNING!$B$2:$B$23))*(ROW(PLANNING!$A$2:$A$23)-1))))))} -> 42432.875 | I14: {=INDEX(PLANNING!A$2:A$23,SUMPRODUCT(MAX((--ISNUMBER(SEARCH($A14,PLANNING!$C$2:$C$23))*(--ISNUMBER(SEARCH($B14,PLANNING!$B$2:$B$23))*(ROW(PLANNING!$A$2:$A$23)-1))))))} -> 10005
A15: G737225 | B15: MACHINE06 | C15: {=INDEX(PLANNING!E$2:E$23,SUMPRODUCT(MAX((--ISNUMBER(SEARCH(A15,PLANNING!C$2:C$23))*(--ISNUMBER(SEARCH(B15,PLANNING!B$2:B$23))*(ROW(PLANNING!A$2:A$23)-1))))))} -> OME21 | D15: {=INDEX(PLANNING!G$2:G$23,SUMPRODUCT(MAX((--ISNUMBER(SEARCH($A15,PLANNING!$C$2:$C$23))*(--ISNUMBER(SEARCH($B15,PLANNING!$B$2:$B$23))*(ROW(PLANNING!$A$2:$A$23)-1))))))} -> 42432.875 | I15: {=INDEX(PLANNING!A$2:A$23,SUMPRODUCT(MAX((--ISNUMBER(SEARCH($A15,PLANNING!$C$2:$C$23))*(--ISNUMBER(SEARCH($B15,PLANNING!$B$2:$B$23))*(ROW(PLANNING!$A$2:$A$23)-1))))))} -> 10005

Sheet PLANNING
A1: N° Activité | B1: Machine | C1: Liste des Act | D1: Descriptif | E1: OME | F1: Début calculé | G1: Fin
A2: 10000 | B2: MACHINE01 | C2: G737860 | D2: PREVENTIF | E2: OME99 | F2: 42454.896 | G2: 42454.917
A3: 10001 | B3: MACHINE02 | C3: G738397 | D3: PREVENTIF | E3: OME21 | F3: 42432.875 | G3: 42432.917
A4: 10002 | B4: MACHINE03 | C4: G738397 | D4: PREVENTIF | E4: OME21 | F4: 42432.875 | G4: 42432.917
A5: 10003 | B5: MACHINE04 | C5: G738631 | D5: PREVENTIF | E5: OME21 | F5: 42433.333 | G5: 42433.375
A6: 10004 | B6: MACHINE05 | C6: G738774 | D6: PREVENTIF | E6: OME21 | F6: 42432.833 | G6: 42433
A7: 10005 | B7: MACHINE06 | C7: G737226,G737225 | D7: CONDITIONNEL | E7: OME21 | F7: 42432.833 | G7: 42432.875
A8: 10006 | B8: MACHINE07 | C8: G741496 | D8: CONDITIONNEL | E8: OME21 | F8: 42435.167 | G8: 42435.208
A9: 10007 | B9: MACHINE08 | C9: G741496 | D9: CONDITIONNEL | E9: OME21 | F9: 42435.208 | G9: 42435.375
A10: 10008 | B10: MACHINE09 | C10: G741496 | D10: CONDITIONNEL | E10: OME21 | F10: 42435.042 | G10: 42435.167
A11: 10009 | B11: MACHINE10 | C11: G738446 | D11: CONDITIONNEL | E11: OME21 | F11: 42435.333 | G11: 42435.375
A12: 10011 | B12: MACHINE11 | C12: G738447 | D12: CONDITIONNEL | E12: OME21 | F12: 42435.333 | G12: 42435.417
A13: 10012 | B13: MACHINE12 | C13: G738774 | D13: CONDITIONNEL | E13: OME21 | F13: 42432.833 | G13: 42432.917
A14: 10013 | B14: MACHINE13 | D14: SYSTEMATIQUE | E14: OME21 | F14: 42441.25 | G14: 42441.417
A15: 10014 | B15: MACHINE14 | C15: G738632 | D15: SYSTEMATIQUE | E15: OME21 | F15: 42432.833 | G15: 42432.875
A16: 50002 | B16: MACHINE15,MACHINE16 | D16: SYSTEMATIQUE | E16: OME21 | F16: 42432.833 | G16: 42433.333
A17: 50003 | B17: MACHINE18 | C17: G738438 | D17: SYSTEMATIQUE | E17: OME21 | F17: 42432.833 | G17: 42432.875
A18: 50004 | B18: MACHINE19 | D18: SYSTEMATIQUE | E18: OME21 | F18: 42441.417 | G18: 42441.583
A19: 50005 | B19: MACHINE20 | C19: G738451 | D19: SYSTEMATIQUE | E19: OME21 | F19: 42433.333 | G19: 42433.375
A20: 50006 | B20: MACHINE21 | D20: SYSTEMATIQUE | E20: OME21 | F20: 42443.333 | G20: 42444.5
A21: 50007 | B21: MACHINE22 | C21: G738448 | D21: SYSTEMATIQUE | E21: OME21 | F21: 42433.333 | G21: 42433.375
A22: 50008 | B22: MACHINE23 | C22: G737128 | D22: SYSTEMATIQUE | E22: OME21 | F22: 42432.833 | G22: 42432.875
A23: 50009 | B23: MACHINE24 | C23: G737128 | D23: SYSTEMATIQUE | E23: OME21 | F23: 42435.417 | G23: 42435.458
